{"text_format":"1","workbook":"xlsx","n_sheets":15,"sheets":["WP1","Sprache","Tabelle1","WP","JAZcalc","WP_BIN","Grafik","Spez","WP_Daten","Kosten","Hinweise","BIN","Berechnungen","log","Summendiagramm"],"not_rendered":{"charts":12,"images":51,"macros":0,"external_links":0,"defined_names":230,"comments":6,"pivot_tables":0},"unopened":[],"bounds":{"document_bytes":16777216,"sheet_cells":100000,"rows_first":2000,"rows_last":500,"rows_between":2000,"halvings":0,"cell_chars":16384,"cell_head_chars":4096},"cells_cut":0,"cells_raw":0,"read":"whole","date_system":"1900"}

{"sheet":"WP1","index":0,"n_rows":185,"n_cols":61,"rows_kept":185,"cut":false,"hidden":true,"merged":[[29,26,29,27],[29,30,29,31],[29,28,29,29],[29,24,29,25],[23,5,23,7],[21,5,21,7],[22,5,22,7],[47,5,47,7],[39,5,39,7],[29,22,29,23],[29,20,29,21],[19,5,19,7],[20,5,20,7],[17,2,17,3],[17,6,17,7],[15,32,15,33],[15,24,15,25],[15,26,15,27],[15,20,15,21],[15,22,15,23],[15,30,15,31],[18,6,18,7],[2,1,2,7],[13,16,13,18],[2,19,2,20],[1,6,1,7],[2,12,2,13],[3,19,3,21],[14,34,14,35],[14,30,14,31],[14,32,14,33],[14,28,14,29],[14,20,14,21],[14,22,14,23],[14,26,14,27],[14,24,14,25],[15,34,15,35],[15,28,15,29],[129,48,129,49],[55,48,55,50],[56,43,57,43],[56,29,57,29],[56,42,57,42],[56,30,57,30],[56,35,57,35],[128,48,128,49],[56,41,57,41],[29,34,29,35],[56,28,57,28],[29,32,29,33],[126,48,126,49],[56,47,57,47],[54,5,54,6],[56,39,57,39],[56,40,57,40],[56,23,57,23],[56,24,57,24],[56,37,57,37],[56,38,57,38],[56,26,57,26],[56,27,57,27],[55,15,55,16],[56,25,57,25]]}
[]
[null,{"$f":"Sprache!B9","v":"Projet:"},null,null,null,null,{"$f":"Sprache!B8","v":"WPesti / V 8.3.33 / 27.09.2024                valable jusqu'à 31.12.2025"},null,null,null,"Auswahl Klima",{"$f":"IF(JAZcalc,34,IF(H6=0,1,MATCH(H6,B72:B104,0)))","v":1},{"$f":"IF(AND(L2>1,L2<=34),TRUE,FALSE)","v":false},"Neu:",true]
[null,{"$f":"IF(JAZcalc,IF(JAZcalc!C4=\"\",\"\",JAZcalc!C4&\" \"&JAZcalc!C5&\" \"&JAZcalc!C6),IF(WP!B3<>\"\",WP!B3,\"\"))","v":""},null,null,null,null,null,null,null,null,"Kategorie:",{"$f":"IF(JAZcalc,JAZcalc!O3,IF(H7=0,1,MATCH(H7,K5:K17,0)))","v":1},{"$f":"H7","v":0},null,"muss leer sein, wenn keine extern Eingabe!","W/m²","Auswahl WP - Art:",{"$f":"J20","v":1},null,{"$f":"WP_Daten!E2","v":"2024-09-27"},null,null,"Methode SIA 384/3:  ",true]
[null,{"$f":"IF(Spez!$L$47,\"Weitere Angaben auf Zusatzblatt 'Spez'\",\"\")","v":""},null,null,null,null,null,null,null,5,"Grenzwerte","Hg0","DHg","Qww","Qww","Fg, ev","WPArt",{"$f":"INDEX(S133:S167,R3,1)","v":1},1,"Text für Eingabe der Anlagen - Kennwerte",null,null,null,"JAZh:",{"$f":"IF(WPArt>1,INDEX(V29:AJ29,1,1+2*(WPArt-2)),)","v":0},"JAZww:",{"$f":"IF(WPArt>1,INDEX(V37:AJ37,1,1+2*(WPArt-2)),)","v":0},null,null,null,null,null,null,null,null,{"$f":"INDEX(AJ5:AJ13,WPArt,1)","v":0}]
[null,{"$f":"Sprache!B10","v":"Données concernant le bâtiment"},null,null,null,null,null,null,null,null,{"$f":"\"\"","v":""},null,null," ",null,0," ",null,null," "," "," "," "," "," "," "," "," "," "," "," "," "," "," "," ",0]
[null,{"$f":"Sprache!B11","v":"Station climatique:    "},null,null,null,null,{"$f":"IF(JAZcalc,\"\",IF(Klima=1,Sprache!B24,\"\"))","v":"choisir ->"},{"$f":"IF(JAZcalc,JAZcalc!H9,WP!H6)","v":0},null,null,{"$f":"Sprache!B100","v":"Habitat collectif"},55,65,{"$f":"IF(O6>0,O6,75)*(1+EtaWW)","v":75},{"$f":"IF(JAZcalc,JAZcalc!O6,0)","v":0},3.1,{"$f":"Sprache!B61","v":"Pompe à chaleur air/eau"},null,null,{"$f":"IF(WW,Sprache!B65,\"\")","v":""},{"$f":"IF(WW,\"-\",\"\")","v":""},{"$f":"IF(OR(Heizung,WW),Sprache!B71,\"\")","v":""},{"$f":"IF(Heizung,\"-\",\"\")","v":""},{"$f":"IF(OR(Heizung,WW),Sprache!B76,\"\")","v":""},{"$f":"IF(Heizung,\"kW\",\"\")","v":""},{"$f":"IF(OR(Heizung,WW),Sprache!B81,\"\")","v":""},{"$f":"IF(Heizung,\"-\",\"\")","v":""},{"$f":"IF(OR(Heizung,WW),Sprache!B86,\"\")","v":""},{"$f":"IF(Heizung,\"kW\",\"\")","v":""},{"$f":"IF(OR(Heizung,WW),Sprache!B90,\"\")","v":""},{"$f":"IF(Heizung,\"-\",\"\")","v":""},{"$f":"IF(OR(Heizung,WW),Sprache!B94,\"\")","v":""},{"$f":"IF(Heizung,\"kW\",\"\")","v":""},{"$f":"IF(Heizung,IF(Heizspeicher,Sprache!B98,\"\"),\"\")","v":""},{"$f":"IF(Heizung,IF(Heizspeicher,Sprache!B99,\"\"),\"\")","v":""},{"$f":"IF(Heizung,7,IF(WW,7,0))+IF(AND(Heizung,Heizspeicher),1,0)","v":0}]
[null,{"$f":"Sprache!B13","v":"Catégorie d'ouvrage"},null,null,null,null,{"$f":"IF(Kategorie=1,Sprache!B24,\"\")","v":"choisir ->"},{"$f":"IF(JAZcalc,JAZcalc!H10,WP!H7)","v":0},null,null,{"$f":"Sprache!B101","v":"Habitat individuel"},65,65,{"$f":"IF(O7>0,O7,50)*(1+EtaWW)","v":50},{"$f":"IF(JAZcalc,JAZcalc!O7,0)","v":0},2.4,{"$f":"Sprache!B62","v":"Pompe à chaleur sol/eau"},null,null,{"$f":"Sprache!B67","v":"Puissance électrique soutirée par pompe de sonde:"},"W",{"$f":"Sprache!B72","v":"Nombre: "},"-",{"$f":"Sprache!B77","v":"Longueur: "},"m",{"$f":"Sprache!B82","v":"Température de dimensionnement des sondes (optionnel, calcul externe)"},"°C",{"$f":"IF(WW,Sprache!B87,\"\")","v":""},{"$f":"IF(WW,\"-\",\"\")","v":""},{"$f":"IF(OR(Heizung,WW),Sprache!B91,\"\")","v":""},{"$f":"IF(Heizung,\"-\",\"\")","v":""},{"$f":"IF(OR(Heizung,WW),Sprache!B95,\"\")","v":""},{"$f":"IF(Heizung,\"kW\",\"\")","v":""},{"$f":"IF(Heizung,IF(Heizspeicher,Sprache!B98,\"\"),\"\")","v":""},{"$f":"IF(Heizung,IF(Heizspeicher,Sprache!B99,\"\"),\"\")","v":""},{"$f":"7+IF(AND(Heizung,Heizspeicher),1,0)","v":7}]
[null,{"$f":"Sprache!B12","v":"Surface de référence énergétique SRE"},null,null,{"$f":"IF(OR(EBF=\"\",EBF=0),Sprache!B75,\"\")","v":"choisir ->"},"AE","m2",{"$f":"IF(JAZcalc,JAZcalc!I11,WP!H8)","v":0},null,null,{"$f":"Sprache!B102","v":"Administration"},65,85,{"$f":"IF(O8>0,O8,25)*(1+EtaWW)","v":25},{"$f":"IF(JAZcalc,JAZcalc!O8,0)","v":0},3.3,{"$f":"Sprache!B63","v":"Pompe à chaleur eau/eau"},null,null,{"$f":"IF(WW,Sprache!B68,\"\")","v":""},{"$f":"IF(WW,\"-\",\"\")","v":""},{"$f":"IF(OR(Heizung,WW),Sprache!B73,\"\")","v":""},{"$f":"IF(Heizung,\"-\",\"\")","v":""},{"$f":"IF(OR(Heizung,WW),Sprache!B78,\"\")","v":""},{"$f":"IF(Heizung,\"kW\",\"\")","v":""},{"$f":"Sprache!B83","v":"Température source de chaleur (si pas 10°C) "}," °C",{"$f":"Sprache!B88","v":"Puissance électrique soutirée par pompe de circulation:"},"W",{"$f":"Sprache!B92","v":"Type de pompe (données nécessaires si puissance < valeur proposée)"},{"$f":"\"\"","v":""},{"$f":"IF(Heizung,IF(Heizspeicher,Sprache!B96,\"\"),\"\")","v":""},{"$f":"IF(Heizung,IF(Heizspeicher,Sprache!B99,\"\"),\"\")","v":""}," "," ",{"$f":"6+IF(AND(Heizung,Heizspeicher),1,0)","v":6}]
[null,{"$f":"Sprache!B14","v":"Besoins de chaleur pour le chauffage selon SIA 380/1"},null,null,{"$f":"IF(OR(H9=\"\",H9=0),Sprache!B75,\"\")","v":"choisir ->"},"Qh,eff","MJ/m2a",{"$f":"IF(JAZcalc,JAZcalc!I12*3.6,WP!H9*Einheitenfaktor)","v":0},null,null,{"$f":"Sprache!B103","v":"Ecole"},70,70,{"$f":"IF(O9>0,O9,25)*(1+EtaWW)","v":25},{"$f":"IF(JAZcalc,JAZcalc!O9,0)","v":0},2.2999999999999998,{"$f":"Sprache!B64","v":"PAC avec collecteur terrestre"},null,null,{"$f":"Sprache!B70","v":"Puissance électrique soutirée par pompe saumure:"},"W",{"$f":"Sprache!B74","v":"Surface de collecteurs"},"m2",{"$f":"Sprache!B80","v":"Puissance spécifique soutirée"},"W/m2",{"$f":"Sprache!B84","v":"Température de dimensionnement des sondes (optionnel, calcul externe)"},"°C",{"$f":"Sprache!B89","v":"COP aux conditions normalisées (B0 / W50)"},{"$f":"IF(WW,\"-\",\"\")","v":""},{"$f":"IF(OR(Heizung,WW),Sprache!B93,\"\")","v":""},{"$f":"IF(Heizung,\"-\",\"\")","v":""},{"$f":"IF(OR(Heizung,WW),Sprache!B97,\"\")","v":""},{"$f":"IF(Heizung,\"kW\",\"\")","v":""},{"$f":"IF(Heizung,IF(Heizspeicher,Sprache!B98,\"\"),\"\")","v":""},{"$f":"IF(Heizung,IF(Heizspeicher,Sprache!B99,\"\"),\"\")","v":""},{"$f":"7+IF(AND(Heizung,Heizspeicher),1,0)","v":7}]
[null,{"$f":"Sprache!B15","v":"Déperditions par transmission selon SIA 380/1"},null,null,{"$f":"IF(OR(QT=\"\",QT=0),Sprache!B75,IF(H10,IF(H10<=0.5*$H$9,Sprache!B131,\"\"),\"\"))","v":"choisir ->"},"QT","MJ/m2a",{"$f":"IF(JAZcalc,JAZcalc!I13*3.6,WP!H10*Einheitenfaktor)","v":0},null,null,{"$f":"Sprache!B104","v":"Commerce"},50,65,{"$f":"IF(O10>0,O10,25)*(1+EtaWW)","v":25},{"$f":"IF(JAZcalc,JAZcalc!O10,0)","v":0},2.2999999999999998,"Abluft-Wärmepumpe ohne WRG",null,null,null,null,null,null,null,null,null,null,null,null,null,null,null,null,{"$f":"IF(Heizung,IF(Heizspeicher,Sprache!B98,\"\"),\"\")","v":""},{"$f":"IF(Heizung,IF(Heizspeicher,Sprache!B99,\"\"),\"\")","v":""}," "]
[null,{"$f":"Sprache!B16","v":"Déperditions par renouvellement d'air selon SIA 380/1"},null,null,{"$f":"IF(OR(QV=\"\",QV=0),Sprache!B75,IF(H11,IF((H11+QT)<$H$9,Sprache!B131,\"\"),\"\"))","v":"choisir ->"},"QV","MJ/m2a",{"$f":"IF(JAZcalc,JAZcalc!I14*3.6,WP!H11*Einheitenfaktor)","v":0},null,null,{"$f":"Sprache!B105","v":"Restauration"},95,75,{"$f":"IF(O11>0,O11,200)*(1+EtaWW)","v":200},{"$f":"IF(JAZcalc,JAZcalc!O11,0)","v":0},2.2999999999999998,null,null,null,null,null,null,null,null,null,null,null,null,null,null,null,null,null," "," "," "]
[null,{"$f":"Sprache!B17","v":"Chauffage: pertes supplémentaires de distribution de chaleur"},null,null,null,null,"%",{"$f":"IF(JAZcalc,JAZcalc!I15,WP!H12)","v":0},null,null,{"$f":"Sprache!B106","v":"Lieu de rassemblement"},95,75,{"$f":"IF(O12>0,O12,50)*(1+EtaWW)","v":50},{"$f":"IF(JAZcalc,JAZcalc!O12,0)","v":0},2.2999999999999998,null,null,null,null,null,null,null,null,null,null,null,null,null,null,null,null,null," "," "," "]
[null,{"$f":"Sprache!B18","v":"Durée de coupure d'alimentation de la PAC"},null,null,null,null,"h/d",{"$f":"IF(JAZcalc,JAZcalc!I16,WP!H13)","v":0},null,null,{"$f":"Sprache!B107","v":"Hôpitaux"},80,80,{"$f":"IF(O13>0,O13,100)*(1+EtaWW)","v":100},{"$f":"IF(JAZcalc,JAZcalc!O13,0)","v":0},4,null,null,null,null,null,null,null,null,null,null,null,null,null,null,null,null,null," "," "," "]
[null,{"$f":"Sprache!B19","v":"Puissance de chauffage nécessaire sans ECS à °C"},null,null,{"$f":"IF(Kategorie>1,IF(Leistung<>\"\",IF(Methode_384_3,Sprache!B140,IF(Leistung<M28,Sprache!B139,Sprache!B140)),Sprache!B140),\"\")","v":""},{"$f":"IF(AND(EBF>0,H9>0,L2>1),IF(Leistung>M31,M31,IF(Neu,IF(AND(Leistung<Berechnungen!B36*0.9,Leistung>0),Berechnungen!B36*0.9,MAX(Berechnungen!B36,Leistung)),IF(Kategorie>1,IF(Leistung<(M32/28*(20-TaMin)),(M32/28*(20-TaMin)),IF(Qtot>0,Qtot*(1+Verteilverluste)*EBF/3.6/(HGT*1.065)/24*(20-TaMin)-INDEX(P5:P17,Kategorie,1)*EBF/1000,IF(Qh,Qh*EBF/3.6/HGT/15*(20-TaMin)-INDEX(P5:P17,Kategorie,1)*EBF/1000,\"\"))),\"\"))),\"\")","v":""},"kW",{"$f":"IF(Methode_384_3,\"\",IF(JAZcalc,IF(JAZcalc!L17>0,JAZcalc!L17,\"\"),IF(WP!H14>0,WP!H14,\"\")))","v":""},null,{"$f":"IF(Leistung<(M32/28*(20-TaMin)),(M32/28*(20-TaMin)),IF(Qtot>0,Qtot*(1+Verteilverluste)*EBF/3.6/(HGT*1.065)/24*(20-TaMin),IF(Qh,Qh*EBF/3.6/HGT/15*(20-TaMin),\"\")))-INDEX(P5:P17,Kategorie,1)*EBF/1000","v":{"$error":"#VALUE!"}},{"$f":"Sprache!B108","v":"Industrie"},60,70,{"$f":"IF(O14>0,O14,25)*(1+EtaWW)","v":25},{"$f":"IF(JAZcalc,JAZcalc!O14,0)","v":0},2.2999999999999998,{"$f":"INDEX(Q5:Q13,WPArt,1)","v":" "}]
[null,{"$f":"Sprache!B20","v":"Besoins de chaleur pour l'ECS selon SIA 380/1"},null,null,null,"Qww","MJ/m2a",{"$f":"IF(R31<>\"\",R31,IF(J21=1,INDEX(N5:N17,Kategorie,1),IF(Kategorie>1,IF(WW,IF(M37>0,M37,IF(AND(EBF>0,Kategorie>1),IF(SUM(H8:H8)=0,\"\",INDEX($N$5:$N$17,$L$3,)),\"\")),0),0)))","v":" "},null,{"$f":"INDEX(N5:N17,Kategorie,1)","v":" "},{"$f":"Sprache!B109","v":"Dépôt"},60,70,{"$f":"IF(O15>0,O15,5)*(1+EtaWW)","v":5},{"$f":"IF(JAZcalc,JAZcalc!O15,0)","v":0},2.2999999999999998,{"$f":"INDEX(T5:T13,WPArt,1)","v":" "},null,{"$f":"INDEX(U5:U13,WPArt,1)","v":" "},null,"Luft - Wasser - WP",null,"Sole - Wasser - WP",null,"Wasser - Wasser - WP:",null,"Erdkollektor - WP",null,"Abluft-WP",null,"Luft - Wasser - WP",null,"Sole - Wasser - WP",null,"Wasser - Wasser - WP:"]
[null,{"$f":"Sprache!B21","v":"Eau chaude sanitaire: pertes supplémentaires d'accumulation et de distribution"},null,null,null,null,"%",{"$f":"IF(JAZcalc,JAZcalc!I19,WP!H16)","v":0},null,{"$f":"IF(H16<0,H16,MAX(IF(H16>0,H16,0),IF(J43=3,0.2,0)))","v":0},{"$f":"Sprache!B110","v":"Installation sportive"},75,70,{"$f":"IF(O16>0,O16,300)*(1+EtaWW)","v":300},{"$f":"IF(JAZcalc,JAZcalc!O16,0)","v":0},2.2999999999999998,{"$f":"INDEX(V5:V13,WPArt,1)","v":" "},null,{"$f":"INDEX(W5:W13,WPArt,1)","v":" "},null,"Heizung",null,"Heizung",null,"Heizung",null,"Heizung",null,"Heizung",null,"Heizung",null,"Heizung",null,"Heizung",null,null,"WP2"]
[null,{"$f":"IF(AND(Qh>0,$BH$57<>3),IF(AND(bivalent=FALSE,elZusatz=FALSE,F57>0.01),Sprache!B146,\"\"),\"\")","v":""},null,null,null,null,null,{"$f":"IF(OR(G19=0,G19=\"\",G19=\" \",F20=0,F20=\"\",F20=\" \"),\"\",IF(OR(AND(WP_Daten!AJ28=2,WPArt<>2),AND(OR(WP_Daten!AJ28=3,WP_Daten!AJ28=4),WPArt=2)),\"Wärmepumpentyp und Wärmequelle stimmen nicht überein\",\"\"))","v":""},null,null,{"$f":"Sprache!B111","v":"Piscine"},70,90,{"$f":"IF(O17>0,O17,300)*(1+EtaWW)","v":300},{"$f":"IF(JAZcalc,JAZcalc!O17,0)","v":0},2.2999999999999998,{"$f":"INDEX(X5:X13,WPArt,1)","v":" "},null,{"$f":"INDEX(Y5:Y13,WPArt,1)","v":" "},null,{"$f":"\"COP -7/\"&IF(M20,M20,35)&\":\"","v":"COP -7/33:"},{"$f":"E28*(35+7)/(IF(_TVL1,(_TVL1+7-DT__7),(35+7))/(_TVL1+273.15)*(35+273.15))*(1-(DeltaT_ref-DeltaT_eff)/2/(IF(_TVL1,_TVL1,35)-DeltaT_ref/2+4+7+15))","v":0},{"$f":"\"Q 0/35:\"","v":"Q 0/35:"},{"$f":"IF(OR(WPArt=3,WPArt=5,WPArt=6),W52,)","v":0},{"$f":"\"Q 10/35:\"","v":"Q 10/35:"},{"$f":"IF(WPArt=4,W52,)","v":0},{"$f":"\"Q 0/35:\"","v":"Q 0/35:"},{"$f":"IF(OR(WPArt=3,WPArt=5),W52,)","v":0},{"$f":"\"Q 20/35:\"","v":"Q 20/35:"},{"$f":"X17","v":0},null,null,{"$f":"\"Q 0/50:\"","v":"Q 0/50:"},{"$f":"IF(WPArt2=3,AN18,)","v":0},{"$f":"\"Q 10/50:\"","v":"Q 10/50:"},{"$f":"IF(WPArt2=4,AN19)","v":false},null,"Leistung bei -7°C"]
[null,{"$f":"Sprache!B22","v":"Installation de pompe à chaleur"},{"$f":"IF(JAZcalc,JAZcalc!D21,WP!C18)","v":0},null,{"$f":"IF(JAZcalc,JAZcalc!F21,WP!E18)","v":"WP-Liste"},{"$f":"IF(SpezWP,IF(Spez!E5<>\"\",Spez!E5,\"\"),\"Hersteller:  \")","v":"Hersteller:  "},{"$f":"IF(JAZcalc,JAZcalc!H21,WP!G18)","v":0},null,null,{"$f":"IF(OR(E18=0,E18=\"\",E18=P50,E18=P52),FALSE,TRUE)","v":true},"Nachtabsenk / Nachtladung WP",null,0,"°C",null,null,{"$f":"INDEX(Z5:Z13,WPArt,1)","v":" "},null,{"$f":"INDEX(AA5:AA13,WPArt,1)","v":" "},null,{"$f":"\"COP 2/\"&IF(M20,M20,35)&\":\"","v":"COP 2/33:"},{"$f":"F28*(35-2)/(IF(_TVL1,(_TVL1-2-DT_2),(35-2))/(_TVL1+273.15)*(35+273.15))*(1-(DeltaT_ref-DeltaT_eff)/2/(IF(_TVL1,_TVL1,35)-DeltaT_ref/2+4-2+15))","v":0},{"$f":"\"COP B0/W35:\"","v":"COP B0/W35:"},{"$f":"W50","v":0},{"$f":"\"COP 10/35:\"","v":"COP 10/35:"},{"$f":"W50","v":0},{"$f":"\"COP B0/W35:\"","v":"COP B0/W35:"},{"$f":"W50","v":0},{"$f":"\"COP 20/W35:\"","v":"COP 20/W35:"},{"$f":"W50","v":0},null,null,{"$f":"\"COP B0/W50:\"","v":"COP B0/W50:"},{"$f":"AN20","v":0},{"$f":"\"COP 10/50:\"","v":"COP 10/50:"},{"$f":"AN20","v":0},null,"Leistung bei -2°C"]
[null,{"$f":"Sprache!B23","v":"Nom et type de PAC"},null,null,null,{"$f":"IF(SpezWP,IF(Spez!E5<>\"\",Spez!E5,\"\"),\"Typ:  \")","v":"Typ:  "},{"$f":"IF(JAZcalc,JAZcalc!H22,WP!G19)","v":0},null,null,{"$f":"IF(OR(G18=WP_Daten!D10,G18=\"\",G18=0),FALSE,TRUE)","v":false},"Bivalenzpunkt (alternativ)",null,{"$f":"IF(H39=\"\",-30,H39)","v":-30},"°C",null,null,{"$f":"INDEX(AB5:AB13,WPArt,1)","v":" "},null,{"$f":"INDEX(AC5:AC13,WPArt,1)","v":" "},null,{"$f":"\"COP 7/\"&IF(M20,M20,35)&\":\"","v":"COP 7/33:"},{"$f":"G28*(35-7)/(IF(_TVL1,(_TVL1-7-DT_7),(35-7))/(_TVL1+273.15)*(35+273.15))*(1-(DeltaT_ref-DeltaT_eff)/2/(IF(_TVL1,_TVL1,35)-DeltaT_ref/2+4-7+15))","v":0},"Pel B0/W35:",{"$f":"IF(X18>0,X17/X18,0)","v":0},"Pel 10/35:",{"$f":"IF(Z18>0,Z17/Z18,0)","v":0},"Pel B0/W35:",{"$f":"IF(AB18>0,AB17/AB18,0)","v":0},"Pel 20/W35:",{"$f":"IF(AD18>0,AD17/AD18,0)","v":0},null,null,"Pel B0/W35:",{"$f":"IF(AH18>0,AH17/AH18,0)","v":0},"Pel 10/50:",{"$f":"IF(AJ18>0,AJ17/AJ18,0)","v":0},null,"Leistung bei 7°C"]
[null,{"$f":"Sprache!B26","v":"Source de chaleur:"},null,null,{"$f":"IF(WPArt=1,Sprache!B24,\"\")","v":"choisir ->"},{"$f":"IF(JAZcalc,JAZcalc!G23,WP!F20)","v":0},null,null,null,{"$f":"IF(OR(F20=\"\",F20=0),1,MATCH(F20,$T$133:$T$153,0))","v":1},"eff. Vorlauftemperatur WP :",null,{"$f":"MAX(TRL,H35+dTNutzer)+MAX(TVL-TRL,5)+H38+DTKombispeicher","v":33},"°C",null,null,{"$f":"INDEX(AD5:AD13,WPArt,1)","v":" "},null,{"$f":"INDEX(AE5:AE13,WPArt,1)","v":" "},null,{"$f":"\"Q -7/35:\"","v":"Q -7/35:"},{"$f":"IF(WPArt=2,E27,)","v":0},"PPumpe [W]",{"$f":"MAX(W49-0.04*X19*1000,0)","v":0},"PPumpe [W]",{"$f":"IF(W49,MAX(W49-0.04*Z19*1000,0),Z19*1000*0.06)","v":0},"PPumpe [W]",{"$f":"MAX(W49-0.04*AB19*1000,0)","v":0},null,null,null,null,"PPumpe [W]",{"$f":"MAX(AN26-0.04*AH19*1000,AH19*1000*0.04)","v":0},"PPumpe [W]",{"$f":"IF(AN26,MAX(AN26-0.04*AJ19*1000,AJ19*1000*0.04),AJ19*1000*0.06)","v":0},null,"COP bei 7°C / 50°C"]
[null,{"$f":"Sprache!B27","v":"Utilisation (chauffage ou eau chaude sanitaire)"},null,null,{"$f":"IF(BH58=1,Sprache!B24,\"\")","v":"choisir ->"},{"$f":"IF(JAZcalc,JAZcalc!G24,WP!F21)","v":0},null,null,null,{"$f":"IF(OR(F21=\"\",F21=0),1,MATCH(F21,$BG$59:$BG$63,0))","v":1},"Differenz Speicher-Vorlauf",null,{"$f":"H38","v":0},"K",null,null,{"$f":"INDEX(AF5:AF13,WPArt,1)","v":" "},null,{"$f":"INDEX(AG5:AG13,WPArt,1)","v":" "},null,{"$f":"\"Q 2/35:\"","v":"Q 2/35:"},{"$f":"IF(WPArt=2,F27,)","v":0},"Vollbetrieb-h",{"$f":"IF(X17=0,0,IF(AND(H33>0,H33<>\"\"),IF(Kategorie>1,AI128*(24-Sperrzeit)/24,),MIN((Qh+Qww)*EBF/3.6/(W52+W53)*2,4600/24*(24-Sperrzeit)+IF(WW,Qww*0.4*(1-Z51)*EBF/3.6/W53,0),8760/24*(24-Sperrzeit))))","v":0},null,null,"Vollbetrieb-h",{"$f":"IF(H33<>\"\",IF(Kategorie>1,AI128*(24-Sperrzeit)/24,),X21)","v":0},"Vollbetrieb-h",{"$f":"X21","v":0},null,null,"Vollbetrieb-h","Bezug WP2",null,null,null,"WW-Temperatur"]
[null,{"$f":"IF(Heizung=FALSE,\"\",Sprache!B29)","v":""},null,null,{"$f":"IF(AND(HeizungSolar,$AI$132=3),Sprache!B25,IF(AND(AI132=1,Heizung),Sprache!B24,\"\"))","v":""},{"$f":"IF(JAZcalc,JAZcalc!G25,WP!F22)","v":" "},null,null,null,{"$f":"IF(OR(F22=\"\",F22=0),1,IF(OR($J$21=3,$J$21=1,$J$20=18),1,MATCH(F22,$AH$133:$AH$139,0)))","v":1},"eff. Rüclauftemperatur WP :",null,{"$f":"MAX(TRL,MAX(20,H35)+dTNutzer)+M21","v":28},"°C",null,null,{"$f":"INDEX(AH5:AH13,WPArt,1)","v":" "},null,{"$f":"INDEX(AI5:AI13,WPArt,1)","v":" "},null,{"$f":"\"Q 7/35:\"","v":"Q 7/35:"},{"$f":"IF(WPArt=2,G27,)","v":0},"Sondenanzahl",{"$f":"E32","v":0},null,null,"Kollektorfläche",{"$f":"H32","v":0},null,null,null,null,"Sondenanzahl",{"$f":"AN24","v":0},null,null,null,"WW-Temperatur Zusatz"]
[null,{"$f":"Sprache!B28","v":"Mode de fonctionnement de la PAC"},null,null,{"$f":"IF(AD139=1,Sprache!B24,\"\")","v":"choisir ->"},{"$f":"IF(JAZcalc,JAZcalc!G26,WP!F23)","v":0},null,null,null,{"$f":"IF(OR(F23=\"\",F23=0),1,IF(MATCH(F23,$AD$133:$AD$137,0)=5,4,MATCH(F23,$AD$133:$AD$137,0)))","v":1},"DTSpr,Ref = dT Nutzer :",null,{"$f":"IF(dTNutzer>0,MIN(MAX(dTNutzer,DeltaT_eff),20),10)","v":5},"°C",null,null,{"$f":"IF(AND(H33<>0,H33<>\"\"),IF(OR(WPArt=3,WPArt=5),K41&\" \"&TEXT(M41,\"0.0\")&\" kW\",\"\"),\"\")","v":""},null,null,null,"Gew. -7°C",{"$f":"IF($AK$128>0,SUM(AK60:AK82)/$AK$128,0)","v":{"$error":"#REF!"}},"Sondenlänge",{"$f":"H32","v":0},null,null,"spez. Entzugsleistung",{"$f":"E32","v":0},null,null,null,null,"Sondenlänge",{"$f":"AN25","v":0},null,null,null,"Quellentemp WW-WP"]
[null,{"$f":"IF(elZusatz,Sprache!B30,\"\")","v":""},null,null,{"$f":"IF(AND(elZusatz,BH67=1),Sprache!B24,\"\")","v":""},{"$f":"IF(JAZcalc,IF(JAZcalc!G27<>0,JAZcalc!G27,\"\"),IF(WP!F24<>0,WP!F24,\"\"))","v":""},null,null,null,{"$f":"IF(OR(F24=\"\",F24=0,J23<>3),1,MATCH(F24,$BG$68:$BG$72,0))","v":1},"DTSpr,eff = T VL - T RL :",null,{"$f":"_TVL1-_TRL1","v":5},"°C",null,null,null,null,null,null,"COP mittel",{"$f":"IF(Neu,BB128,IF(OR(V17=0,V18=0,V19=0),0,IF(Neu,BB128,1/(V23/V17+V25/V18+(1-V23-V25)/V19))))","v":{"$error":"#DIV/0!"}},{"$f":"\"COP B\"&FIXED(X25,0)&\"/W\"&IF(M20,M20,35)&\":\"","v":"COP B2/W33:"},{"$f":"IF(X18=0,0,IF(X19,X18*1/(X20/1000/X19+1)*((IF(M20,M20,35)+273)*(35-0)/((35+273)*(IF(M20,M20,35)-X25))),)*(1-(DeltaT_ref-DeltaT_eff)/2/(IF(_TVL1,_TVL1,35)-DeltaT_ref/2+4-TQuelle+15)))","v":0},{"$f":"\"COP \"&IF(TQuelleH1<>\"\",TQuelleH1,10)&\"/\"&IF(M20,M20,35)&\":\"","v":"COP 10/33:"},{"$f":"IF(Z18=0,0,Z18*1/IF(Z19>0,(Z20/1000/Z19+1),1)*(IF(M20<>\"\",M20,35)+273)*(35-10)/((35+273)*(IF(M20<>\"\",M20,35)-(IF(TQuelleH1<>\"\",TQuelleH1,10))))*(1-(DeltaT_ref-DeltaT_eff)/2/(IF(_TVL1<>\"\",_TVL1,35)-DeltaT_ref/2+4-IF(TQuelleH1<>\"\",TQuelleH1,10)+15)))","v":0},{"$f":"\"COP B\"&FIXED(AB25,0)&\"/W\"&IF(M20,M20,35)&\":\"","v":"COP B2/W33:"},{"$f":"IF(AB19,AB18*1/(AB20/1000/AB19+1)*((IF(M20,M20,35)+273)*(35-0)/((35+273)*(IF(M20,M20,35)-AB25))),)*(1-(DeltaT_ref-DeltaT_eff)/2/(IF(_TVL1,_TVL1,35)-DeltaT_ref/2+4-TQuelle+15))","v":0},{"$f":"\"COP 20/W\"&IF(M20,M20,35)&\":\"","v":"COP 20/W33:"},{"$f":"IF(AD19,AD18*1/(AD20/1000/AD19+1)*((IF(M20,M20,35)+273)*(35-20)/((35+273)*(IF(M20,M20,35)-AD25))),)","v":0},null,null,{"$f":"\"COP B\"&FIXED(AH25,0)&\"/W\"&IF(AN21,AN21,50)&\":\"","v":"COP B2/W50:"},{"$f":"IF(AH19,AH18*1/(AH20/1000/AH19+1)*((IF(AN21,AN21,50)+273)*(50-0)/((50+273)*(IF(AN21,AN21,50)-AH25))),)*(1-(DeltaT_ref-DeltaT_eff)/2/(IF(AN21,AN21,50)-DeltaT_ref/2+4-AH25+15))","v":0},null,null,null,"Sondenzahl"]
[null,{"$f":"Sprache!B69","v":"Température de la source (entrée PAC)"},"°C",-15,-7,2,7,{"$f":"IF(WPArt=2,20,IF(WPArt=3,0,IF(WPArt=4,10,IF(WPArt=5,0,IF(WPArt=6,20,20)))))","v":20},null,{"$f":"IF(OR(F23=\"\",F23=0),1,MATCH(F23,$AD$133:$AD$137,0))","v":1},"Rücklauftempf bei Ta = -8°C",null,{"$f":"MAX(TRL,MAX(20,H35)+dTNutzer)+M21","v":28},"°C",null,"WP1: Sondentemp. Heizung",null,{"$f":"IF(H33<>\"\",MIN(H33,20),\"\")","v":""},"°C",null,"Gew. +2°C",{"$f":"IF($AK$128>0,MAX(MIN(SUM(AK83:AK89)/$AK$128,1-V23),0),)","v":{"$error":"#REF!"}},"Eff Tverd_ein:",{"$f":"IF(R25<>\"\",R25,IF(AND(X21>0,X19>0),MIN(6,-X22*0.1-IF(X22<6,0.25*X22,2)+(10-(0.055+MAX(2200,X21)*(0.4+0.6*2.5/lambda_Erde)/100*0.006)*(X19*1000*(X18-1)/(X22*X23)))),0))+Offset","v":2},"Eff Tverd_ein:",{"$f":"IF(H33<>\"\",H33,10)","v":10},"Eff Tverd_ein:",{"$f":"IF(R25<>\"\",R25,IF(AB17>0,MIN(-2-((AB17-AB19)*1000/(AB23*AB22)-1)*10,3),0))+Offset","v":2},"Eff Tverd_ein:",{"$f":"20","v":20},null,null,"Eff Tverd_ein:",{"$f":"IF(R27<>\"\",R27,IF(AND(AH21>0,AH19>0),MIN(6,10-(0.055+AH21*(0.4+0.6*2.5/lambda_Erde)/100*0.006)*(AH19*1000*(AH18-1)/(AH22*AH23))),0))+Offset","v":2},null,null,null,"Sondenlänge"]
[null,{"$f":"Sprache!B185&IF(SpezWP,Spez!C10,35)&\"°C  (Qh / COP):\"","v":"Valeurs de calcul pour Tdép35°C  (Qh / COP):"},"°C",{"$f":"IF(WPArt=2,IF(SpezWP,FIXED(WP_BIN!AD81,1)&\"kW / \"&FIXED(WP_BIN!AD82,1),FIXED(WP_Daten!G5,1)&\"kW / \"&FIXED(WP_Daten!H5,1)),\"\")","v":""},{"$f":"IF(WPArt=2,IF(SpezWP,FIXED(WP_BIN!AL81,1)&\"kW / \"&FIXED(WP_BIN!AL82,1),FIXED(WP_Daten!I5,1)&\"kW / \"&FIXED(WP_Daten!J5,1)),\"\")","v":""},{"$f":"IF(WPArt=2,IF(SpezWP,FIXED(WP_BIN!AU81,1)&\"kW / \"&FIXED(WP_BIN!AU82,1),FIXED(WP_Daten!K5,1)&\"kW / \"&FIXED(WP_Daten!L5,1)),\"\")","v":""},{"$f":"IF(WPArt=2,IF(SpezWP,FIXED(WP_BIN!AZ81,1)&\"kW / \"&FIXED(WP_BIN!AZ82,1),FIXED(WP_Daten!M5,1)&\"kW / \"&FIXED(WP_Daten!N5,1)),\"\")","v":""},{"$f":"IF(SpezWP,IF(WPArt=2,FIXED(WP_BIN!BM81,1)&\"kW / \"&FIXED(WP_BIN!BM82,1),IF(OR(WPArt=3,WPArt=5,WPArt=4),FIXED(Spez!L21,1)&\"kW / \"&FIXED(Spez!L20,1),)),IF(OR(WPArt=2,WPArt=6),FIXED(WP_Daten!O5,1)&\"kW / \"&FIXED(WP_Daten!P5,1),IF(OR(WPArt=3,WPArt=5),FIXED(WP_Daten!W5,1)&\"kW / \"&FIXED(WP_Daten!X5,1),IF(WPArt=4,FIXED(WP_Daten!AA5,1)&\"kW / \"&FIXED(WP_Daten!AB5,1),FIXED(WP_Daten!AA5,1)&\"kW / \"&FIXED(WP_Daten!AB5,1)))))","v":"0.0kW / 0.0"},null,{"$f":"IF(OR(WPArt=2,WPArt=6),IF(WP_Daten!O5>0,FIXED(WP_Daten!O5,1)&\"kW / \"&FIXED(WP_Daten!P5,1),\"\"),IF(OR(WPArt=3,WPArt=5),FIXED(WP_Daten!W5,1)&\"kW / \"&FIXED(WP_Daten!X5,1),IF(WPArt=4,FIXED(WP_Daten!AA5,1)&\"kW / \"&FIXED(WP_Daten!AB5,1),FIXED(WP_Daten!AA5,1)&\"kW / \"&FIXED(WP_Daten!AB5,1))))","v":"0.0kW / 0.0"},"Min. DT (Kondensator-TRL)",null,4,"K",null,"WP1: Sondentemp. WW",null,{"$f":"IF(H33<>\"\",MIN(H33,20),\"\")","v":""},"°C",{"$f":"Max_Zusatzheizung","v":{"$error":"#REF!"}},"COP eff",{"$f":"IF(Neu,BB128,IF(OR(V17=0,V18=0,V19=0),0,1/(V23/V17+V25/V18+(1-V23-V25)/V19)))","v":{"$error":"#DIV/0!"}},"COP eff",{"$f":"IF(X24>0,1/(X27/X24+X28),)","v":0},"COP eff",{"$f":"IF(Z24>0,1/(Z27/Z24+Z28),)","v":0},"COP eff",{"$f":"IF(AB24>0,1/(AB27/AB24+AB28),)","v":0},null,{"$f":"X26","v":0},null,null,null,null,null,null,null,"Leistungsaufnahme Pumpe"]
[null,{"$f":"Sprache!B197&\" 35°C\"","v":"Puissance de chauffe pour Tdép 35°C"},"kW",{"$f":"IF(JAZcalc,JAZcalc!E30,WP!D27)","v":0},{"$f":"IF(JAZcalc,JAZcalc!F30,WP!E27)","v":0},{"$f":"IF(JAZcalc,JAZcalc!G30,WP!F27)","v":0},{"$f":"IF(JAZcalc,JAZcalc!H30,WP!G27)","v":0},{"$f":"IF(JAZcalc,JAZcalc!I30,WP!H27)","v":0},null,{"$f":"IF(AND(WPArt=2,SpezWP=FALSE,WP_Daten!K5>0,WP_Daten!L5>0),TRUE,FALSE)","v":false},"Qh mit Verteilverlusten",null,{"$f":"(IF(H12<>\"\",H12,0)+1)*H9","v":0},"MJ/m2a",null,"WP2: Sondentemp. Heizung",null,null,"°C",{"$f":"Zusatzheizung_total","v":{"$error":"#REF!"}},"eWP :",{"$f":"IF(AND(EBF>0,Kategorie>1,(Bedarf-BedarfWW)>0),IF(ABS(AK128/(Bedarf-BedarfWW)+V28)>0.99,1-V28,AK128/(Bedarf-BedarfWW)),0)","v":{"$error":"#REF!"}},"eWP :",{"$f":"IF(AND(EBF>0,Kategorie>1,(Bedarf-BedarfWW)>0),IF(ABS(AK128/(Bedarf-BedarfWW)+V28)>0.99,1-V28,AK128/(Bedarf-BedarfWW)),0)","v":{"$error":"#REF!"}},"eWP :",{"$f":"IF(AND(EBF>0,Kategorie>1,(Bedarf-BedarfWW)>0),IF(ABS(AK128/(Bedarf-BedarfWW)+V28)>0.99,1-V28,AK128/(Bedarf-BedarfWW)),0)","v":{"$error":"#REF!"}},"eWP :",{"$f":"IF(AND(EBF>0,Kategorie>1,(Bedarf-BedarfWW)>0),IF(ABS(AK128/(Bedarf-BedarfWW)+V28)>0.99,1-V28,AK128/(Bedarf-BedarfWW)),0)","v":{"$error":"#REF!"}},"eWP :",{"$f":"X27","v":{"$error":"#REF!"}},"eWP :",null,"eWP :",null,"eWP :",null,null,"QWW [MJ/m2a]"]
[null,{"$f":"Sprache!B198&\" 35°C\"","v":"COP à la température de départ 35°C"},"-",{"$f":"IF(JAZcalc,JAZcalc!E31,WP!D28)","v":0},{"$f":"IF(JAZcalc,JAZcalc!F31,WP!E28)","v":0},{"$f":"IF(JAZcalc,JAZcalc!G31,WP!F28)","v":0},{"$f":"IF(JAZcalc,JAZcalc!H31,WP!G28)","v":0},{"$f":"IF(JAZcalc,JAZcalc!I31,WP!H28)","v":0},null,{"$f":"IF(AND(WPArt=2,SpezWP=TRUE,WP_BIN!AU81>0,WP_BIN!AU82>0),TRUE,FALSE)","v":false},"Leistung, Minimalwert",null,{"$f":"M31*0.9","v":0},"kW",null,"WP2: Sondentemp. WW",null,null,"°C",{"$f":"Bedarf","v":{"$error":"#REF!"}},"eEL :",{"$f":"IF(AND(EBF>0,Kategorie>1,(Bedarf-BedarfWW)>0),(Bedarf-BedarfWW-$AK$128-Zusatzheizung_total+Max_Zusatzheizung+$AO$128)/(Bedarf-BedarfWW),0)","v":{"$error":"#REF!"}},"eEL :",{"$f":"IF(AND(EBF>0,Kategorie>1,(Bedarf-BedarfWW)>0),(Bedarf-BedarfWW-$AK$128-Zusatzheizung_total+Max_Zusatzheizung+$AO$128)/(Bedarf-BedarfWW),0)","v":{"$error":"#REF!"}},"eEL :",{"$f":"IF(AND(EBF>0,Kategorie>1,(Bedarf-BedarfWW)>0),(Bedarf-BedarfWW-$AK$128-Zusatzheizung_total+Max_Zusatzheizung+$AO$128)/(Bedarf-BedarfWW),0)","v":{"$error":"#REF!"}},"eEL :",{"$f":"IF(AND(EBF>0,Kategorie>1,(Bedarf-BedarfWW)>0),(Bedarf-BedarfWW-$AK$128-Zusatzheizung_total+Max_Zusatzheizung+$AO$128)/(Bedarf-BedarfWW),0)","v":{"$error":"#REF!"}},"eEL :",{"$f":"X28","v":{"$error":"#REF!"}},"eEL :",null,"eEL :",null,"eEL :",null,null,"Bedarf WW [kWh]"]
[null,{"$f":"Sprache!B197&\" 55°C\"","v":"Puissance de chauffe pour Tdép 55°C"},"kW",null,{"$f":"IF(JAZcalc,JAZcalc!F32,WP!E29)","v":0},null,{"$f":"IF(JAZcalc,JAZcalc!H32,WP!G29)","v":0},{"$f":"IF(JAZcalc,JAZcalc!I32,WP!H29)","v":0},null,{"$f":"IF(OR(J27,J28,WPArt<>2),TRUE,FALSE)","v":true},"Wärmeverluste Qtot",null,{"$f":"(QT+QV)*(1+IF(Verteilverluste>0,Verteilverluste,0))","v":0},"MJ/m2a",null,"im mittel über Auslegung",null,2,"°C",{"$f":"BedarfWW","v":{"$error":"#REF!"}},"JAZh:",{"$f":"V24*Etah","v":{"$error":"#DIV/0!"}},"JAZh:",{"$f":"X24*Etah","v":0},"JAZh:",{"$f":"Z24*Etah","v":0},"JAZh:",{"$f":"AB24*Etah","v":0},"JAZh:",{"$f":"AD24*Etah","v":0},"JAZh:",null,"JAZh:",null,"JAZh:",null,null,"JAZ",null,{"$f":"IF(WPArt2=1,\"\",IF(WPArt2=2,AF37,IF(WPArt2=3,AH37,IF(WPArt2=4,AJ37,))))","v":""}]
[null,{"$f":"Sprache!B198&\" 55°C\"","v":"COP à la température de départ 55°C"},"-",null,{"$f":"IF(JAZcalc,JAZcalc!F33,WP!E30)","v":0},null,{"$f":"IF(JAZcalc,JAZcalc!H33,WP!G30)","v":0},{"$f":"IF(JAZcalc,JAZcalc!I33,WP!H30)","v":0},null,null,"Schätzung Wärmeverluste Qtot",null,{"$f":"IF(Qh,IF(Qtot>0,Qtot,H9/15*(20-TaMin)*(1+IF(Verteilverluste>0,Verteilverluste,0))),\"\")","v":""},"MJ/m2a",null,null,null,null,null,null,"Warmwasser",null,"Warmwasser",null,"Warmwasser",null,"Warmwasser",null,"Warmwasser",null,"Warmwasser",null,"Warmwasser",null,"Warmwasser",null,null,"EtaW2",null,{"$f":"1-Z141-Z148","v":0.94}]
[null,{"$f":"IF(WPArt=4,Sprache!B88,Sprache!B70)","v":"Puissance électrique soutirée par pompe saumure:"},null,null,null,null,"W",{"$f":"IF(JAZcalc,JAZcalc!I34,WP!H31)","v":0},null,{"$f":"IF(OR(Spez!L38,Spez!L46),TRUE,FALSE)","v":false},"Leistung, Vorschlagswert TaMin",null,{"$f":"IF(EBF>0,Berechnungen!B36,0)","v":0},"kW",null,"Externe Eingabe WW",null,null,"MJ/m2a",null,{"$f":"\"COP A7/W\"&IF(M48,M48,50)&\":\"","v":"COP A7/W60:"},{"$f":"WP_BIN!H23*((IF($M$48,$M$48,55)+273)*(55-7)/((55+273)*(IF($M$48,$M$48,55)-7-DT_7_50)))","v":0},{"$f":"\"COP B0/W55:\"","v":"COP B0/W55:"},{"$f":"W51","v":0},{"$f":"\"COP 10/55:\"","v":"COP 10/55:"},{"$f":"W51","v":0},{"$f":"\"COP B0/W55:\"","v":"COP B0/W55:"},{"$f":"W51","v":0},{"$f":"\"COP 20/55:\"","v":"COP 20/55:"},{"$f":"X31","v":0},{"$f":"\"COP A7/W\"&IF(AN21,AN21,50)&\":\"","v":"COP A7/W50:"},{"$f":"AN20*((IF(AN21,AN21,50)+273)*(50-7)/((50+273)*(IF(AN21,AN21,50)-7)))","v":0},{"$f":"\"COP B0/W50:\"","v":"COP B0/W50:"},{"$f":"AN20","v":0},{"$f":"\"COP 10/50:\"","v":"COP 10/50:"},{"$f":"AN20","v":0}]
[null,{"$f":"IF(WPArt=3,Sprache!B79,IF(WPArt=5,Sprache!B80,\"\"))","v":""},null,{"$f":"IF(WPArt=3,Sprache!B72,IF(WPArt=5,\"W/m2\",\"\"))","v":""},{"$f":"IF(JAZcalc,IF(WPArt=3,IF(JAZcalc!F35=\"\",1,JAZcalc!F35),JAZcalc!F35),IF(WPArt=3,IF(WP!E32=\"\",1,WP!E32),WP!E32))","v":0},{"$f":"IF(WPArt=3,Sprache!B77,IF(WPArt=5,Sprache!B188,\"\"))","v":""},{"$f":"IF(WPArt=3,\"m\",IF(WPArt=5,\"m2\",\"\"))","v":""},{"$f":"IF(JAZcalc,JAZcalc!I35,WP!H32)","v":0},null,null,"Leistung, Rechenwert -8°",null,{"$f":"MAX(Leistung,IF(AND(Leistung<>\"\",Leistung<M28),M28,IF(AND(Leistung<>\"\",Leistung>M28),Leistung,M31)))/(20-TaMin)*28","v":{"$error":"#VALUE!"}},"kW",null,"muss leer sein, wenn keine extern Eingabe!",null,null,null,null,{"$f":"\"COP 7/\"&IF(MAX(M48,H42),MAX(M48,H42),50)&\" eff\"","v":"COP 7/60 eff"},{"$f":"IF(V31>0,1/(V35/IF(V19>0,MIN(V31,V19),V31)+V36),)","v":0},"Eff Tverd_ein:",{"$f":"IF(R26<>\"\",R26,IF(AND(X22>0,X23>0,X21>0,X19>0,X31>0),MIN(6,-X22*0.1-IF(X22<6,0.25*X22,2)+(10-(0.055+MAX(2200,X21)*(0.4+0.6*2.5/lambda_Erde)/100*0.006)*(X19*1000*(X31-1)/(X22*X23)))),0))+Offset","v":2},"Eff Tverd_ein:",{"$f":"IF(H33<>\"\",H33,10)","v":10},"Eff Tverd_ein:",{"$f":"IF(R26<>\"\",R26,IF(AB17>0,MIN(-2-((AB19*AB31*1000)/(AB23*AB22)-1)*10,3),0))+Offset","v":2},"Eff Tverd_ein:",20,null,null,"Eff Tverd_ein:",{"$f":"IF(R28<>\"\",R28,IF(AND(AH22>0,AH23>0,AH21>0,AH19>0,AH31>0),MIN(6,10-(0.055+AH21*(0.4+0.6*2.5/lambda_Erde)/100*0.006)*(AH19*1000*(AH31-1)/(AH22*AH23))),0))+Offset","v":2},"Eff Tverd_ein:","Bezug WP2"]
[null,{"$f":"IF(EBF>0,IF(WPArt=5,Sprache!B82,IF(WPArt=4,Sprache!B83,Sprache!B82)),\"\")","v":""},null,null,null,{"$f":"IF(WPArt=5,ROUND(TQuelle_Koll-Offset,1),IF(WPArt=3,IF(R25<>\"\",R25,IF(H32>0,ROUND(TQuelle-Offset,1),\"\")),IF(WPArt=4,IF(AND(H33<4,H33<>\"\"),Sprache!B132,\"\"),\"\")))","v":""},{"$f":"IF(Heizung=FALSE,\"\",\"°C\")","v":""},{"$f":"IF(JAZcalc,IF(JAZcalc!L35<>\"\",JAZcalc!L35,\"\"),IF(WP!H33<>\"\",WP!H33,\"\"))","v":""},null,null,"Heizstunden",null,{"$f":"Y129","v":{"$error":"#VALUE!"}},"h/a",null,null,null,null,null,null,"COPmittel",{"$f":"IF(V31=0,0,BC130)","v":0},{"$f":"\"COP \"&FIXED(X32,0)&\"/W\"&IF(M48,M48,55)&\":\"","v":"COP 2/W60:"},{"$f":"IF(X38,X40,X31*1/IF(X19>0,(X20/1000/X19+1),1)*((IF(M48,M48,55)+273)*(55-0)/((55+273)*(IF(M48,M48,55)-X32))))","v":0},{"$f":"\"COP \"&IF(TQuelleW1<>\"\",TQuelleW1,10)&\"/\"&IF(M48<>\"\",M48,50)&\":\"","v":"COP 10/60:"},{"$f":"IF(Z38,Z40,Z31*1/IF(Z19>0,(Z20/1000/Z19+1),1)*((IF(_Tww1<>0,_Tww1,55)+273)*(55-10)/((55+273)*(IF(_Tww1<>0,_Tww1,55)-IF(TQuelleW1<>\"\",TQuelleW1,10)))))","v":0},{"$f":"\"COP \"&FIXED(AB32,0)&\"/W\"&IF(M48,M48,50)&\":\"","v":"COP 2/W60:"},{"$f":"IF(AB38,AB40,AB31*1/IF(AB19>0,(AB20/1000/AB19+1),1)*((IF(M48,M48,55)+273)*(55-0)/((55+273)*(IF(M48,M48,55)-AB32))))","v":0},{"$f":"\"COP 20/W\"&IF(M48,M48,55)&\":\"","v":"COP 20/W60:"},{"$f":"AD31*1/IF(AD19>0,(AD20/1000/AD19+1),1)*((IF(M48,M48,55)+273)*(55-20)/((55+273)*(IF(M48,M48,55)-AD32)))","v":0},null,null,{"$f":"\"COP \"&FIXED(AH32,0)&\"/W\"&IF(AN21,AN21,50)&\":\"","v":"COP 2/W50:"},{"$f":"AH31*1/IF(AH19>0,(AH20/1000/AH19+1),1)*((IF(AN21,AN21,50)+273)*(50-0)/((50+273)*(IF(AN21,AN21,50)-AH32)))","v":0},{"$f":"\"COP \"&IF(TQuelleW1<>\"\",TQuelleW1,10)&\"/\"&IF(AN21<>\"\",AN21,50)&\":\"","v":"COP 10/50:"},{"$f":"AJ31*1/IF(AJ19>0,(AJ20/1000/AJ19+1),1)*((IF(AN21<>\"\",AN21,50)+273)*(50-10)/((50+273)*(IF(AN21<>\"\",AN21,50)-IF(AN23<>\"\",AN23,10))))","v":0}]
[null,{"$f":"Q22","v":" "},null,null,null,null,{"$f":"S22","v":" "},{"$f":"IF(JAZcalc,JAZcalc!I37,WP!H34)","v":0},null,null,"Klimakorrektur",null,{"$f":"IF(TaMin<>\"\",TaMin+8,0)","v":0},"°C",null,"Rücklauftempf Ta = 20°C",null,{"$f":"MAX(H35+2,20+2)+M21","v":26},"°C",null,null,null,{"$f":"\"COP 0/\"&IF(MAX(M48,H42),MAX(M48,H42),50)&\" eff\"","v":"COP 0/60 eff"},{"$f":"IF(X33>0,1/(X35/IF(X24>0,MIN(X33,X24),X33)+X36),)","v":0},{"$f":"\"COP \"&IF(TQuelleW1<>\"\",TQuelleW1,10)&\"/\"&IF(MAX(M48,H42),MAX(M48,H42),50)&\"eff:\"","v":"COP 10/60eff:"},{"$f":"IF(Z33>0,1/(Z35/IF(Z24>0,MIN(Z33,Z24),Z33)+Z36),)","v":0},{"$f":"\"COP 0/\"&IF(MAX(M48,H42),MAX(M48,H42),50)&\" eff\"","v":"COP 0/60 eff"},{"$f":"IF(AB33>0,1/(AB35/IF(AB24>0,MIN(AB33,AB24),AB33)+AB36),)","v":0}]
[null,{"$f":"IF(Heizung=FALSE,\"\",Sprache!B149)","v":""},null,null,{"$f":"IF(AND(Heizung,H35=\"\"),\"ausfüllen ->\",\"\")","v":""},{"$f":"IF(Heizung=FALSE,\"\",\"Ti,soll\")","v":""},{"$f":"IF(Heizung=FALSE,\"\",\"°C\")","v":""},{"$f":"IF(JAZcalc,IF(JAZcalc!I38=\"\",24,JAZcalc!I38),IF(WP!H35=\"\",24,WP!H35))","v":24},null,null,"Nutzungsgrad",null,{"$f":"IF(H44=\"\",1,H44)","v":1},null,null,"Erhöhung Lufttemperatur bei Luft-Wasser-WP",null,null,null,null,"eWP :",{"$f":"IF(EBF>0,IF(AND(OR(BG83=1,BG83=2),OR(AD139=1,AD139=2)),1-M50,MAX((1-ZusatzWW/BedarfWW)*MIN(($M$48-10)/(M49-10),1)*BH83*(1-M50),0)),0)","v":0},"eWP :",{"$f":"IF(EBF>0,IF(AND(OR(BG83=1,BG83=2),OR(AD139=1,AD139=2)),1-M50,MAX((1-ZusatzWW/BedarfWW)*MIN(($M$48-10)/(M49-10),1)*BH83*(1-M50),0)),0)","v":0},"eWP :",{"$f":"IF(EBF>0,IF(AND(OR(BG83=1,BG83=2),OR(AD139=1,AD139=2)),1-M50,MAX((1-ZusatzWW/BedarfWW)*MIN(($M$48-10)/(M49-10),1)*BH83*(1-M50),0)),0)","v":0},"eWP :",{"$f":"IF(EBF>0,IF(AND(OR(BG83=1,BG83=2),OR(AD139=1,AD139=2)),1-M50,MAX((1-ZusatzWW/BedarfWW)*MIN(($M$48-10)/(M49-10),1)*BH83*(1-M50),0)),0)","v":0},"eWP :",{"$f":"X35","v":0},"eWP :",null,"eWP :",null,"eWP :"]
[null,{"$f":"IF(Heizung=FALSE,\"\",Sprache!B47&\" (Ta = -8°C)\")","v":""},null,null,{"$f":"IF(AND(Heizung,H36=\"\"),\"ausfüllen ->\",\"\")","v":""},{"$f":"IF(Heizung=FALSE,\"\",Sprache!B134)","v":""},{"$f":"IF(Heizung=FALSE,\"\",\"°C\")","v":""},{"$f":"IF(JAZcalc,JAZcalc!G39,WP!H36)","v":0},null,null,"Qww Standard",null,{"$f":"Qww/(1+EtaWW)","v":{"$error":"#VALUE!"}},"MJ/m2a",-7,"DT bei -7°C   (A-7/W35)",null,{"$f":"Spez!J56","v":0},"K",null,"eEL :",{"$f":"IF(AND(EBF>0,EBF<>\"\"),1-V35-$AO$128/BedarfWW,0)","v":0},"eEL :",{"$f":"IF(EBF>0,1-V35-$AO$128/BedarfWW,0)","v":0},"eEL :",{"$f":"IF(EBF>0,1-V35-$AO$128/BedarfWW,0)","v":0},"eEL :",{"$f":"IF(EBF>0,1-V35-$AO$128/BedarfWW,0)","v":0},"eEL :",{"$f":"X36","v":0},"eEL :",null,"eEL :",null,"eEL :"]
[null,{"$f":"IF(Heizung=FALSE,\"\",Sprache!B48&\" (Ta = -8°C)\")","v":""},null,null,{"$f":"IF(AND(Heizung,H37=\"\"),\"ausfüllen ->\",\"\")","v":""},{"$f":"IF(Heizung=FALSE,\"\",Sprache!B135)","v":""},{"$f":"IF(Heizung=FALSE,\"\",\"°C\")","v":""},{"$f":"IF(JAZcalc,JAZcalc!G40,WP!H37)","v":0},null,null,"Qww effektiv",null,null,"MJ/m2a",2,"DT bei 2°C   (A2/W35)",null,{"$f":"Spez!J57","v":0},"K",null,"JAZww:",{"$f":"IF(AND(OR(V31=0,V35=0),SpezWP=FALSE),0,MAX(MIN(Etaw*IF(Neu,IF(V38,V40,BC130),V31),Max_JAZww),0.5))","v":0},"JAZww:",{"$f":"IF(X33=0,0,MAX(MIN(Etaw*X33,Max_JAZww),0.5))","v":0},"JAZww:",{"$f":"IF(Z33=0,0,MAX(MIN(Etaw*Z33,Max_JAZww),0.5))","v":0},"JAZww:",{"$f":"IF(AB33=0,0,MAX(MIN(Etaw*AB33,Max_JAZww),0.5))","v":0},"JAZww:",{"$f":"IF(AD33=0,0,MAX(MIN(Etaw*AD33,Max_JAZww),0.5))","v":0},"JAZww:",{"$f":"IF(AF31=0,0,MAX(MIN(EtaW2*AF31,Max_JAZww),0.5))","v":0},"JAZww:",{"$f":"IF(AH33=0,0,MAX(MIN(EtaW2*AH33,Max_JAZww),0.5))","v":0},"JAZww:",{"$f":"IF(AJ33=0,0,MAX(MIN(EtaW2*AJ33,Max_JAZww),0.5))","v":0}]
[null,{"$f":"IF(Heizung=FALSE,\"\",IF(Heizspeicher,Sprache!B49,\"\"))","v":""},null,null,null,{"$f":"IF(Heizung=FALSE,\"\",IF(Heizspeicher,Sprache!B136,\"\"))","v":""},{"$f":"IF(Heizung=FALSE,\"\",IF(Heizspeicher,\"°C\",\"\"))","v":""},{"$f":"IF(JAZcalc,JAZcalc!I41,WP!H38)","v":0},null,null,"Wärmeleitfähigkeit Erde",null,2.5,"W/mK",7,"DT bei 7°C   (A7/W35)",null,{"$f":"Spez!J58","v":0},"K",null,"dez. WW-WP",{"$f":"IF(J21=5,TRUE,FALSE)","v":false},"dez. WW-WP",{"$f":"IF(J21=5,TRUE,FALSE)","v":false},"dez. WW-WP",{"$f":"IF(J21=5,TRUE,FALSE)","v":false},"dez. WW-WP",{"$f":"IF(J21=5,TRUE,FALSE)","v":false}]
[null,{"$f":"IF(J25=5,Sprache!B50,\"\")","v":""},null,null,null,null,{"$f":"IF(J25=5,\"°C\",\"\")","v":""},{"$f":"IF(J25=4,\"\",IF(J23=4,IF(JAZcalc,JAZcalc!I42,WP!H39),\"\"))","v":""},null,null,"EBFo",null,{"$f":"EBF","v":0},"m2",7,"DT bei 7°C   (A7/W50)",null,0,"K",null,{"$f":"\"COP \"&MIN(45,TVL)&\"/W\"&IF(M48,M48,55)&\":\"","v":"COP 0/W60:"},{"$f":"WP_BIN!I23*((IF($M$48,$M$48,55)+273)*(55-20)/((55+273)*(IF($M$48,$M$48,55)-MIN(45,TVL))))","v":0},{"$f":"\"COP \"&MIN(45,TVL)&\"/W\"&IF(M48,M48,55)&\":\"","v":"COP 0/W60:"},{"$f":"X31*1/IF(X19>0,(X20/1000/X19+1),1)*((IF(M48,M48,55)+273)*(55-0)/((55+273)*(IF(M48,M48,55)-MIN(45,TVL))))","v":0},{"$f":"\"COP \"&MIN(45,TVL)&\"/W\"&IF(M48,M48,55)&\":\"","v":"COP 0/W60:"},{"$f":"Z31*1/IF(Z19>0,(Z20/1000/Z19+1),1)*((IF(_Tww1<>0,_Tww1,55)+273)*(55-10)/((55+273)*(IF(_Tww1<>0,_Tww1,55)-IF(MIN(45,TVL)<>\"\",MIN(45,TVL),10))))","v":0},{"$f":"\"COP \"&MIN(45,TVL)&\"/W\"&IF(M48,M48,55)&\":\"","v":"COP 0/W60:"},{"$f":"AB31*1/IF(AB19>0,(AB20/1000/AB19+1),1)*((IF(M48,M48,55)+273)*(55-0)/((55+273)*(IF(M48,M48,55)-MIN(45,TVL))))","v":0}]
[null,{"$f":"IF(WW,Sprache!B51,\"\")","v":""},null,null,{"$f":"IF(AND(WW,BG83=1),Sprache!B24,\"\")","v":""},{"$f":"IF(JAZcalc,JAZcalc!G43,WP!F40)","v":0},null,null,null,{"$f":"IF(BH57<3,1,IF(OR(F40=\"\",F40=0),1,MATCH(F40,BG77:BG82,0)))","v":1},"Leistungskorrektur WP Erdsonden / Erdkollektor:",null,null,null,null,null,null,null,null,null,"COPww",{"$f":"V24*V39/(V39+V26-1)*0.9","v":{"$error":"#DIV/0!"}},"COPww",{"$f":"X24*X39/(X39+X26-1)*0.9","v":0},"COPww",{"$f":"Z24*Z39/(Z39+Z26-1)*0.9","v":0},"COPww",{"$f":"AB24*AB39/(AB39+AB26-1)*0.9","v":0}]
[null,{"$f":"IF(WW,Sprache!B52,\"\")","v":""},null,null,{"$f":"IF(AND(H41=\"\",WW),Sprache!$B$24,\"\")","v":""},null,{"$f":"IF(WW,\"°C\",\"\")","v":""},{"$f":"IF(JAZcalc,JAZcalc!I44,WP!H41)","v":0},null,{"$f":"OR($BG$83=2,$BG$83>4)","v":false},{"$f":"\"B\"&FIXED(X25-Offset,0)&\"/W\"&35&\":\"","v":"B0/W35:"},null,{"$f":"IF(W50>0,W52/W50*M42,W52)","v":0},"kW",null,"Maximale JAZww",null,6]
[null,{"$f":"IF(WW,Sprache!B53,\"\")","v":""},null,null,{"$f":"IF(AND(WW,OR($H$41<=$H$42,$H$42=\"\"),H42=\"\"),Sprache!$B$24,IF(AND(H42<H41,H42<>\"\",WW),Sprache!B131,\"\"))","v":""},{"$f":"IF(WW,IF(AND(H42>_Tww1,BG83=2),Sprache!B131,\"\"),\"\")","v":""},{"$f":"IF(WW,\"°C\",\"\")","v":""},{"$f":"IF(JAZcalc,JAZcalc!I45,WP!H42)","v":0},null,{"$f":"OR($BG$83=2,$BG$83>4,WW=FALSE)","v":true},{"$f":"\"COP B\"&FIXED(X25-Offset,0)&\"/W\"&35&\":\"","v":"COP B0/W35:"},null,{"$f":"IF(X19,X18*((35+273)*35/((35+273)*(35-TQuelle+Offset))),)","v":0}]
[null,{"$f":"IF(AND(WW),Sprache!B199,\"\")","v":""},null,{"$f":"IF(AND(WW,J43=1),Sprache!B24,\"\")","v":""},{"$f":"IF(JAZcalc,JAZcalc!F46,WP!E43)","v":0},"Länge:","m",{"$f":"IF(JAZcalc,JAZcalc!I46,WP!H43)","v":0},null,{"$f":"IF(BH57<3,1,IF(OR(E43=\"\",E43=0),1,MATCH(E43,R49:R52,0)))","v":1},"Strombedarf el. Zusatzheizung:"]
[null,{"$f":"IF(AD139=4,\"Wirkungsgrad Zussatzheizung (Kesselwirkungsgrad)\",\"\")","v":""},null,null,null,null,{"$f":"IF(AD139=4,\"%\",\"\")","v":""}]
[null,{"$f":"IF(AD139=4,\"Bereitschaftsverluste Zussatzheizung\",\"\")","v":""},null,null,null,null,{"$f":"IF(AD139=4,\"%\",\"\")","v":""}]
[null,{"$f":"IF(AD139=4,\"Heizleistung Zussatzheizung\",\"\")","v":""},null,null,null,null,{"$f":"IF(AD139=4,\"kW\",\"\")","v":""},2000,1]
[null,{"$f":"IF(AD139=4,\"Bereitschaftszeit Zusatzheizung\",\"\")","v":""},null,null,null,null,{"$f":"IF(AD139=4,\"h/a\",\"\")","v":""},8760]
[null,{"$f":"Sprache!B31","v":"Installation solaire"},null,null,{"$f":"IF(AND(F48=\"\"),Sprache!B24,\"\")","v":""},{"$f":"IF(JAZcalc,JAZcalc!G47,WP!F44)","v":0},null,null,null,{"$f":"IF(OR(F48=\"\",F48=0),1,MATCH(F48,M58:M64,0))","v":1},"WW-Temperatur",null,{"$f":"MAX(IF(H41>0,H41,60),11)","v":60},"°C",null,"WP Typ:",null,"Begleitheizband",null,null,"WP Typ:",null,"Umwälzpumpen",null,null,"MINERGIE-Solarformeln:"]
[null,{"$f":"Sprache!B55","v":"Surface des absorbeurs"},null,null,null,null,"m2",{"$f":"IF(JAZcalc,IF(JAZcalc!I48>0,JAZcalc!I48,\"\"),IF(WP!H45>0,WP!H45,\"\"))","v":""},null,null,"WW-Temperatur inkl. Legionellenschaltung",null,{"$f":"IF(OR(AND(H42<>0,H42<>\"\"),J40>4,J40=2),IF(J40=2,H41,IF(J40>4,(60-_Tww1)/IF(BG83=6,7,1)+_Tww1,MAX(H42,H41))),60)","v":60},"°C",null,null,null,null,null,null,{"$f":"IF(J31,\"Quellen-Pumpe auf Blatt Spez\",\"Pumpe auf Blatt WP\")","v":"Pumpe auf Blatt WP"},null,{"$f":"IF($J$31,Spez!H32,H31)","v":0},"W",null,{"$f":"IF(KollFlaeche>0,490/((1/KollFlaeche)+610/(EBF*(Qww/3.6+Qh/3.6))),0)","v":0}]
[null,{"$f":"Sprache!B56","v":"orientation / inclinaison des collecteurs"},null,null,{"$f":"IF(AND(OR(Azimut>90,Azimut<-90),Azimut<>\"\"),Sprache!B131,Sprache!B128)","v":"Azimut [°]:  "},{"$f":"IF(JAZcalc,IF(JAZcalc!G49<>\"\",JAZcalc!G49,0),IF(WP!F46<>\"\",WP!F46,0))","v":0},{"$f":"IF(AND(OR(Neigung>90,Neigung<-90),Neigung<>\"\"),Sprache!B131,Sprache!B129)","v":"Pente [°]:"},{"$f":"IF(JAZcalc,IF(JAZcalc!I49<>\"\",JAZcalc!I49,0),IF(WP!H46<>\"\",WP!H46,0))","v":0},null,null,"Begleitheizband:","Stromanteil:",{"$f":"IF(AND(Qww>0,EBF>0,J43=4),5*7*H43/(Qww*EBF/3.6+5*7*H43),0)","v":0},null,null,"Angaben unten",null,{"$f":"Sprache!B274","v":"Non disponibles"},null,null,{"$f":"Spez!S20","v":"COP B0/35 "},null,{"$f":"IF(SpezWP,Spez!T20,IF(WPDatenbank,IF(WPArt=6,WP_Daten!P5,IF(WPArt=4,WP_Daten!AB5,WP_Daten!X5)),H28))","v":0},null,null,{"$f":"Qww*EBF/3.6","v":{"$error":"#VALUE!"}}]
[null,{"$f":"Sprache!B57","v":"Apport net par m2 d'absorbeur"},null,null,{"$f":"IF(_SIA384,Sprache!B269,Sprache!B140)","v":"valeur proposée:"},{"$f":"IF(H49<>\"\",IF(OR(MinSol,solarExtern),K66*WinkelKorr,Berechnungen!B188),)","v":0},"kWh/m2a",{"$f":"IF(JAZcalc,IF(JAZcalc!I50<>\"\",JAZcalc!I50,\"\"),IF(WP!H47<>\"\",WP!H47,\"\"))","v":""},null,null,"Kombispeicherzuschlag",null,{"$f":"IF(J22=6,MAX((H41-(MAX(TRL,H35+dTNutzer)+MAX(TVL-TRL,6)+H38))*0.2),IF(J22=4,MAX((H41-(MAX(TRL,H35+dTNutzer)+MAX(TVL-TRL,6)+H38))*0.1),IF(J22=5,MAX((H41-(MAX(TRL,H35+dTNutzer)+MAX(TVL-TRL,6)+H38))/2,0),0)))","v":0},"°C",null,"WP-Liste",null,{"$f":"Sprache!B208","v":"Circulation d'ECS"},null,null,{"$f":"Spez!S22","v":"COP B0/55 "},null,{"$f":"IF(SpezWP,Spez!T22,IF(WPDatenbank,IF(WPArt=6,WP_Daten!V5,IF(WPArt=4,WP_Daten!AD5,WP_Daten!Z5)),H30))","v":0},null,null,{"$f":"Z49/Z50","v":{"$error":"#VALUE!"}}]
[null,{"$f":"IF(OR(MinSol,solarExtern),Sprache!B58,Sprache!B275)","v":"Spécifications du collecteur"},{"$f":"IF(OR(MinSol,solarExtern),\"\",\" ho = \")","v":" ho = "},{"$f":"IF(JAZcalc,JAZcalc!E51,WP!D48)","v":0},{"$f":"IF(OR(MinSol,solarExtern),\"\",\"              a1 = \")","v":"              a1 = "},{"$f":"IF(JAZcalc,JAZcalc!G51,WP!F48)","v":0},{"$f":"IF(OR(MinSol,solarExtern),Sprache!B130,\"           a2 = \")","v":"           a2 = "},{"$f":"IF(JAZcalc,JAZcalc!I51,WP!H48)","v":0},null,{"$f":"IF(OR(H52=\"\",H52=0),0.00001,H52)","v":1.0000000000000001E-5},"Wärmepumpentyp:",null,{"$f":"IF(OR($J$20=3,$J$20=7,$J$20=11,$J$20=15),2,IF(OR($J$20=4,$J$20=8,$J$20=12,$J$20=16),3,IF(OR($J$20=5,$J$20=9,$J$20=13,$J$20=17),4,1)))","v":1},null,null,"Eingabe in \"Spez\"",null,{"$f":"Sprache!B209","v":"Câble chauffant"},null,null,{"$f":"Spez!S21","v":"Qh B0/35 "},null,{"$f":"IF(SpezWP,Spez!T21,IF(WPDatenbank,IF(WPArt=6,WP_Daten!O5,IF(WPArt=4,WP_Daten!AA5,WP_Daten!W5)),H27))","v":0},"kW"]
[null,{"$f":"Sprache!B59","v":"Taux de couverture solaire pour l'ECS"},null,null,null,"e = ","%",{"$f":"IF(HeizungSolar,Q60,P60)","v":0},null,null,"1=einstufig / 2=2stufig / 3=mehrstufig / 4=stufenlos",null,null,null,null,null,null,null,null,null,{"$f":"Spez!S23","v":"Qh B0/55 "},null,{"$f":"IF(SpezWP,Spez!T23,IF(WPDatenbank,IF(WPArt=6,WP_Daten!U5,IF(WPArt=4,WP_Daten!AC5,WP_Daten!Y5)),H29))","v":0},"kW"]
[null,{"$f":"Sprache!B60","v":"Taux de couverture solaire pour le chauffage"},null,null,null,"e = ","%",{"$f":"IF(H49<>\"\",MIN(IF(HeizungSolar,Q61,P61),Q65),)","v":0},null,null,null,null,null,null,null,null,null,null,null,null,null,null,null,null,null,null,null,null,null,null,null,null,null,null,null,null,null,null,null,null,null,null,null,null,null,null,null,null,"Neue BIN-Methode nach SIA 384/3:"]
[null,null,null,null,null,null,null,null,null,null,null,null,"WW solar","Heizung solar",null,null,null,null,null,null,null,null,null,null,true]
[null,{"$f":"Sprache!B32","v":"Résultats"},null,null,null,null,null,null,null,null,"Berechnung für Solaranlagen:",null,{"$f":"IF(OR(N57=2,N57=4,N57=6),TRUE,FALSE)","v":false},{"$f":"IF(OR(N57=3,N57=5,N57=7),TRUE,FALSE)","v":false},null,"Solare Deckung",null,null,null,null,null,"max ","BIN","Berechnung des Strombedarfs für einen Elektro-Heizstab:",null,null,null,null,null,null,null,null,null,null,null,null,null,"inkl. Bereitschaftsverl.",null,null,null,null,null,null,null,null,null,null,"Heizkurve WP",null,null,"WP","WP",null,null,null,null,null,"Handauswahl:",null,"<-muss leer sein, wenn keine extern Eingabe!"]
[null,{"$f":"IF(OR(J29=FALSE,EBF=0),\"\",IF(bivalent,Sprache!B33,IF(AND(Heizung,elZusatz),Sprache!B34,IF(F57>0,Sprache!B35,\"\"))))","v":""},null,null,{"$f":"IF(OR(J29=FALSE,EBF=0),\"\",IF(AND(Heizung,OR(bivalent,elZusatz,F57>0)),\"e = \",\"\"))","v":""},{"$f":"IF(OR(J29=FALSE,EBF=0),\"\",IF(AND(Heizung,WPArt>1),INDEX(U28:AJ28,1,2*(WPArt-1))*(1-IF(HeizungSolar,H54,0)),\"\"))","v":""},{"$f":"IF(AND(Heizung,OR(bivalent,elZusatz)),\"kWh = \",\"\")","v":""},{"$f":"IF(Kategorie>1,IF(AND(Heizung,OR(bivalent,elZusatz)),Zusatzheizung/Etah,\"\"),)","v":0},null,{"$f":"IF(AND(J29=TRUE,bivalent=FALSE,F57>0.005,F57<>\"\"),TRUE,FALSE)","v":false},"Rechenwert",null,"Pulldowns:",{"$f":"J48","v":1},null,"nur WW","Heiz+WW",null,null,null,"Bin-Verteilung","mögliches","Jahres-","Aussen-Temperatur","Summen-häufigkeit","Heizleistung Gebäude","Heizleistung für WW","Heizleistung WP","Nötige Leistung Elektrostab","Zusatzenergie Heizung","Zusatzenergie WW","Bedarf","Bedarf","WP","WP","max. mögli-cher Heizener-giebedarf","WP","benötigte Zu-satzenergie total","maximale Zu-satzheizung","Heizleistung WP","Ungedeckt WW",0,"Heizleistung WP 2","Summen-häufigkeit ohne Kollektoren","WP Laufzeit","WP Laufzeit","WP Laufzeit","Heizleistung nach 384/3","Ta","TRL","TVL","Leistung","Leistung","COP","COP",null,null,null,"Auswahl:",{"$f":"J21","v":1}]
[null,{"$f":"IF(AND(WW,elWW),Sprache!B36,IF(bivalent,Sprache!B37,IF(J43=4,Sprache!B36,\"\")))","v":""},null,null,{"$f":"IF(AND(WW,OR(bivalent,elWW,J43=4)),\"e = \",\"\")","v":""},{"$f":"IF(AND(OR(bivalent,elWW,J43=4),WW,WPArt>1),INDEX(U36:AJ36,1,2*(WPArt-1))*(1-IF(N57>1,H53,0)),\"\")","v":""},{"$f":"IF(AND(WW,OR(bivalent,elWW,J43=4)),\"kWh = \",\"\")","v":""},{"$f":"IF(Kategorie>1,IF(AND(WW,OR(bivalent,elWW,J43=4)),Qww*EBF/3.6*F58/Etaw,\"\"),)","v":0},null,{"$f":"IF(AND(OR(BG83=1,BG83=2),OR(AD139=1,AD139=2)),1,MAX((1-ZusatzWW/BedarfWW)*MIN(($M$48-10)/(M49-10),1)*BH83*(1-M50),0))","v":1},{"$f":"IF(N57>1,H49,0)*WinkelKorr","v":0},"korr. Fläche Koll.",{"$f":"Sprache!B270","v":"pas d'installation solaire"},null,null,{"$f":"IF(KollFlaeche>0,IF(Qww>0,IF(muM<800,(640/((1/KollFlaeche)+380/(EBF*Qww/3.6))/KollFlaeche),(700/((1/KollFlaeche)+380/(EBF*Qww/3.6))/KollFlaeche)),),)","v":0},{"$f":"IF(AND(Qww>0,KollFlaeche>0),IF(muM<800,(440/((1/KollFlaeche)+610/(EBF*(Qww/3.6+Qh/3.6)))/KollFlaeche),(490/((1/KollFlaeche)+610/(EBF*(Qww/3.6+Qh/3.6)))/KollFlaeche)),)","v":0},"Solarertrag kWh/m2",null,"QV+QL","Heizperiode","Qh","Stunden",null,null,null,null,null,null,null,null,"Heizenergie","Energie WW","Energie","Laufzeit",null,"nur Heizung",null,null,null,null,null,null,null,"nur Heizung","nur WW","nur WW",null,null,"(geregelt)","(effektiv)","Heizung","WW","Heizung","WW",null,null,null,"Einsatz:",{"$f":"IF(BH57=1,IF(BH56>0,BH56,BH57),BH57)","v":1}]
[null,{"$f":"Sprache!B38","v":"Pertes en mode chauffage (démarrage, accumulateur, etc.)"},null,null,null,{"$f":"IF(Heizung,Z147+AJ146+BH74,0)","v":0},"Etah = ",{"$f":"1-F59","v":1},null,{"$f":"AND(OR(BG83=1,BG83=2),OR(AD139=1,AD139=2))","v":true},{"$f":"IF(H51>0,IF(solarExtern,H51,K64),K64)","v":{"$error":"#VALUE!"}},"Nettoertrag, kWh/m2",{"$f":"IF(O107,Sprache!B271&\" (SIA 384/3)\",\"\")","v":""},null,null,null,{"$f":"IF(muM<800,(440-Q58)/610,(490-Q58)/610)","v":0.72131147540983609},null,null,"kWh",null,"kWh","h","°C","Stunden","kW","kW","kW","kW","kWh","kWh","kWh","kWh","kWh","h","kWh","kWh","kWh","kWh","kW","kWh",null,"kW","Stunden","h","h","h","kW","°C","°C","°C","kW","kW",null,null,null,null,null," "]
[null,{"$f":"Sprache!B39","v":"Pertes en mode préparation d'ECS (démarrage, accumulateur, etc.)"},null,null,null,{"$f":"IF(WW,Z141+Z148,0)","v":0},"Etaw = ",{"$f":"1-F60","v":1},null,{"$f":"BG83","v":1},{"$f":"IF(OR(AND(OR(Azimut>90,Azimut<-90),Azimut<>\"\"),AND(OR(Neigung>90,Neigung<-90),Neigung<>\"\")),0,IF(MinSol,IF(OR(AND(H51>0,solarExtern),_SIA384),1,IF(wwSolar,AD170,IF(HeizungSolar,AD152,1))),1))","v":1},"Winkelkorr WW",{"$f":"IF(O107,Sprache!B272&\" (SIA 384/3)\",\"\")","v":""},null,null,{"$f":"IF(AND(EBF>0,H49<>\"\"),IF(_SIA384,P66,IF(KollFlaeche>0,IF(Qww>0,IF(AND(H51>0,solarExtern),MIN(1/Qww*3.6*K59*KollFlaeche/EBF,P64),MIN(IF(muM<800,((640-P58)/380),((700-P58)/380)),P64)),0),)*IF($BH$57>2,1,0)),)","v":0},{"$f":"IF(AND(Qww>0,H49<>\"\"),IF(_SIA384,Q66,IF(EBF>0,IF((Qh+Qww)=0,,IF(AND(KollFlaeche>0,H51>0,solarExtern),MIN(1/Qww*3.6*K59*KollFlaeche/EBF,Q64),IF(KollFlaeche>0,MIN(Q64,Q59*(Qww/3.6+Qh/3.6)/Qww*3.6),))),)),0)","v":0},"Deckung WW",1,{"$f":"W60*Z60","v":0},null,{"$f":"Z60*W60","v":0},{"$f":"IF(BIN,INDEX(BIN!$B$3:$BO$364,4+(Klima-2)*11,S60),0)","v":0},-25,{"$f":"IF(BINkorr,INDEX(Berechnungen!$E$81:$BR$81,1,S60)*IF(OR(Methode_384_3,Z60=0),1,AV60/Z60)/Leistungskorr*(1-Kollektor),W60*$T$130*(1-Kollektor))","v":{"$error":"#REF!"}},{"$f":"IF(Heizung,IF(Methode_384_3,INDEX(Berechnungen!$E$79:$BR$79,1,S60),IF(X60<IF(JAZcalc,TaMinVorarlberg,TaMin),Z61,Z61+$Z$77/28)),0)","v":0},{"$f":"IF(AG60>1,$AA$77,0)","v":{"$error":"#REF!"}},{"$f":"IF(Bivalenzpunkt<X60,AN60,0)","v":0},{"$f":"MAX(Z60+AA60-AB60,0)/Nutzungsgrad","v":{"$error":"#REF!"}},{"$f":"MAX(IF(AE60>0,Z60*Y60/Etah/Nutzungsgrad,(Z60*Y60/Etah+AA60*Y60/Etaw-AB60*Y60)/Nutzungsgrad),0)","v":{"$error":"#REF!"}},{"$f":"MAX(AA60-AB60,0)*W60/Nutzungsgrad/Etaw","v":{"$error":"#REF!"}},{"$f":"Z60*Y60/Etah","v":{"$error":"#REF!"}},{"$f":"IF($AA$77*Y60/Etaw*(1-KollektorWW)>0,$AA$77*Y60/Etaw*(1-KollektorWW),0.1)","v":{"$error":"#REF!"}},{"$f":"MAX(AF60+AG60-AD60*Nutzungsgrad-AE60*Nutzungsgrad,0)","v":{"$error":"#REF!"}},{"$f":"MIN(IF(AB60>0,AH60/AB60,0),W60)","v":0},{"$f":"Z60*W60","v":0},{"$f":"MAX(AF60-AD60*Nutzungsgrad,0)","v":{"$error":"#REF!"}},{"$f":"AE60+AD60+IF(Laufzeit_Zusatzheizung>=SUM($Y60:$Y$77),Kesselleistung*$H$45*Y60,0)","v":{"$error":"#REF!"}},{"$f":"MIN(AL60,W60*Kesselleistung)","v":{"$error":"#REF!"}},{"$f":"IF(Neu,INDEX(WP_BIN!$T$80:$CG$80,1,S60),AZ60)","v":0},{"$f":"IF(AE60>AM60,AE60-AM60,0)","v":{"$error":"#REF!"}},{"$f":"AL60-AM60-AO60","v":{"$error":"#REF!"}},{"$f":"MAX(AQ61-(AQ$87-AQ$78)/9,0)","v":0},{"$f":"W60*$T$130","v":{"$error":"#VALUE!"}},{"$f":"MIN(IF(AB60>0,AK60/AB60,0),W60)","v":0},{"$f":"IF(WW=TRUE,AI60-AS60,0)","v":0},{"$f":"IF(WW=TRUE,W60*$AT$128/8760,0)","v":0},{"$f":"INDEX(Berechnungen!$E$79:$BR$79,1,S60)","v":{"$error":"#REF!"}},{"$f":"X60","v":-25},{"$f":"INDEX(WP_BIN!$T$78:$CG$78,1,$S60)","v":29.21428571428574},{"$f":"INDEX(WP_BIN!$T$43:$CG$43,1,$S60)","v":{"$error":"#DIV/0!"}},{"$f":"INDEX(WP_BIN!$T$79:$CG$79,1,$S60)","v":0},{"$f":"INDEX(WP_BIN!$T$86:$CG$86,1,$S60)","v":0},{"$f":"INDEX(WP_BIN!$T$47:$CG$47,1,$S60)","v":{"$error":"#DIV/0!"}},{"$f":"INDEX(WP_BIN!$T$54:$CG$54,1,$S60)","v":0},null,null,null,{"$f":"Sprache!B112","v":"Chauffage"}]
[null,{"$f":"Sprache!B40","v":"Durée de fonctionnement de la pompe à chaleur"},null,null,null,null,"h / a",{"$f":"IF(J29=FALSE,\"\",IF(Kategorie>1,MAX(0,AI128)*(24-Sperrzeit)/24,))","v":0},null,{"$f":"AD139","v":1},null,null,{"$f":"Sprache!B271&IF(O107,\" (MINERGIE)\",\"\")","v":"Chauffage solaire de l'ECS"},null,null,0,{"$f":"IF(EBF>0,IF(_SIA384,Q67,IF(AND(K58>0,H51>0,solarExtern),MIN(1/Qh*3.6*(K59*K58/EBF-KollektorWW*Qww/3.6),Q65),IF(H53<Q64,0,IF(AND(K58>0,H51>0,solarExtern),K58*K59/EBF,((Qww/3.6+Qh/3.6)*Q59-Qww/3.6*0.7)/(Qh/3.6))))),)","v":0},"Deckung Heizung",2,0,null,0,{"$f":"IF(BIN,INDEX(BIN!$B$3:$BO$364,4+(Klima-2)*11,S61),0)","v":0},-24,{"$f":"IF(BINkorr,INDEX(Berechnungen!$E$81:$BR$81,1,S61)*IF(OR(Methode_384_3,Z61=0),1,AV61/Z61)/Leistungskorr*(1-Kollektor),W61*$T$130*(1-Kollektor))","v":{"$error":"#REF!"}},{"$f":"IF(Heizung,IF(Methode_384_3,INDEX(Berechnungen!$E$79:$BR$79,1,S61),IF(X61<IF(JAZcalc,TaMinVorarlberg,TaMin),Z62,Z62+$Z$77/28)),0)","v":0},{"$f":"IF(AG61>0,$AA$77,0)","v":{"$error":"#REF!"}},0,{"$error":"#REF!"},{"$f":"MAX(IF(AE61>0,Z61*Y61/Etah/Nutzungsgrad,(Z61*Y61/Etah+AA61*Y61/Etaw-AB61*Y61)/Nutzungsgrad),0)","v":{"$error":"#REF!"}},{"$f":"MAX(AA61-AB61,0)*W61/Nutzungsgrad/Etaw","v":{"$error":"#REF!"}},{"$f":"Z61*Y61/Etah","v":{"$error":"#REF!"}},{"$f":"IF($AA$77*SUM($W60:$W$60)/Etaw=BedarfWW,0,MAX(MIN($AA$77*W61/Etaw,BedarfWW-$AA$77*SUM($W60:$W$60)/Etaw),0))","v":{"$error":"#REF!"}},{"$error":"#REF!"},0,0,{"$error":"#REF!"},{"$f":"AE61+AD61+IF(Laufzeit_Zusatzheizung>=SUM($Y61:$Y$77),Kesselleistung*$H$45*Y61,0)","v":{"$error":"#REF!"}},{"$f":"MIN(AL61,W61*Kesselleistung)","v":{"$error":"#REF!"}},{"$f":"IF(Neu,INDEX(WP_BIN!$T$80:$CG$80,1,S61),AZ61)","v":0},{"$error":"#REF!"},{"$error":"#REF!"},0,{"$error":"#VALUE!"},{"$f":"MIN(IF(AB61>0,AK61/AB61,0),W61)","v":0},{"$f":"IF(WW=TRUE,AI61-AS61,0)","v":0},{"$f":"IF(WW=TRUE,W61*$AT$128/8760,0)","v":0},{"$f":"INDEX(Berechnungen!$E$79:$BR$79,1,S61)","v":{"$error":"#REF!"}},{"$f":"X61","v":-24},{"$f":"INDEX(WP_BIN!$T$78:$CG$78,1,$S61)","v":29.142857142857167},{"$f":"INDEX(WP_BIN!$T$43:$CG$43,1,$S61)","v":{"$error":"#DIV/0!"}},{"$f":"INDEX(WP_BIN!$T$79:$CG$79,1,$S61)","v":0},{"$f":"INDEX(WP_BIN!$T$86:$CG$86,1,$S61)","v":0},{"$f":"INDEX(WP_BIN!$T$47:$CG$47,1,$S61)","v":{"$error":"#DIV/0!"}},{"$f":"INDEX(WP_BIN!$T$54:$CG$54,1,$S61)","v":0},null,null,null,{"$f":"Sprache!B113","v":"ECS eau chaude sanitaire"}]
[null,{"$f":"Sprache!B41","v":"Part et COP annuel de la pompe à chaleur pour le chauffage"},null,null,{"$f":"IF(AND(Heizung),\"e = \",\"\")","v":""},{"$f":"IF(J29=FALSE,\"\",IF(AND(Heizung,WPArt>1),INDEX(U27:AJ27,1,2*(WPArt-1))*(1-IF(HeizungSolar,H54,0)),\"\"))","v":""},"JAZh =  ",{"$f":"IF(J29=FALSE,\"\",IF(Heizung,Y4,0))","v":0},null,null,{"$f":"IF(N57>1,H53,0)","v":0},"Deckung WW",{"$f":"Sprache!B272&IF(O107,\" (MINERGIE)\",\"\")","v":"Eau chaude sanitaire ECS + chauffage"},null,null,{"$f":"8760*KollektorWW","v":0},"h","Stunden Solar WW",3,0,null,0,{"$f":"IF(BIN,INDEX(BIN!$B$3:$BO$364,4+(Klima-2)*11,S62),0)","v":0},-23,{"$f":"IF(BINkorr,INDEX(Berechnungen!$E$81:$BR$81,1,S62)*IF(OR(Methode_384_3,Z62=0),1,AV62/Z62)/Leistungskorr*(1-Kollektor),W62*$T$130*(1-Kollektor))","v":{"$error":"#REF!"}},{"$f":"IF(Heizung,IF(Methode_384_3,INDEX(Berechnungen!$E$79:$BR$79,1,S62),IF(X62<IF(JAZcalc,TaMinVorarlberg,TaMin),Z63,Z63+$Z$77/28)),0)","v":0},{"$error":"#REF!"},0,{"$error":"#REF!"},{"$error":"#REF!"},{"$error":"#REF!"},{"$error":"#REF!"},{"$f":"IF($AA$77*SUM($W$60:$W61)/Etaw=BedarfWW,0,MAX(MIN($AA$77*W62/Etaw,BedarfWW-$AA$77*SUM($W$60:$W61)/Etaw),0))","v":{"$error":"#REF!"}},{"$error":"#REF!"},0,0,{"$error":"#REF!"},{"$f":"AE62+AD62+IF(Laufzeit_Zusatzheizung>=SUM($Y62:$Y$77),Kesselleistung*$H$45*Y62,0)","v":{"$error":"#REF!"}},{"$error":"#REF!"},{"$f":"IF(Neu,INDEX(WP_BIN!$T$80:$CG$80,1,S62),AZ62)","v":0},{"$error":"#REF!"},{"$error":"#REF!"},0,{"$error":"#VALUE!"},0,0,{"$f":"IF(WW=TRUE,W62*$AT$128/8760,0)","v":0},{"$f":"INDEX(Berechnungen!$E$79:$BR$79,1,S62)","v":{"$error":"#REF!"}},-23,{"$f":"INDEX(WP_BIN!$T$78:$CG$78,1,$S62)","v":29.071428571428594},{"$f":"INDEX(WP_BIN!$T$43:$CG$43,1,$S62)","v":{"$error":"#DIV/0!"}},{"$f":"INDEX(WP_BIN!$T$79:$CG$79,1,$S62)","v":0},{"$f":"INDEX(WP_BIN!$T$86:$CG$86,1,$S62)","v":0},{"$f":"INDEX(WP_BIN!$T$47:$CG$47,1,$S62)","v":{"$error":"#DIV/0!"}},{"$f":"INDEX(WP_BIN!$T$54:$CG$54,1,$S62)","v":0},null,null,null,{"$f":"Sprache!B114","v":"Chauffage+ECS"}]
[null,{"$f":"Sprache!B42","v":"Part et COP annuel de la pompe à chaleur pour l'ECS"},null,null,{"$f":"IF(AND(WW),\"e = \",\"\")","v":""},{"$f":"IF(AND(WW,WPArt>1),INDEX(U35:AJ35,1,2*(WPArt-1))*(1-IF(N57>1,H53,0)),\"\")","v":""},"JAZww =  ",{"$f":"IF(WW,AA4,0)","v":0},null,null,{"$f":"IF(HeizungSolar,H54,0)","v":0},"Deckung Heizung",{"$f":"Sprache!B271&\" \"&Sprache!B273","v":"Chauffage solaire de l'ECS (calcul externe)"},null,null,{"$f":"8760-P62","v":8760},"h","Stunden WW ohne Solar",4,0,null,0,{"$f":"IF(BIN,INDEX(BIN!$B$3:$BO$364,4+(Klima-2)*11,S63),0)","v":0},-22,{"$f":"IF(BINkorr,INDEX(Berechnungen!$E$81:$BR$81,1,S63)*IF(OR(Methode_384_3,Z63=0),1,AV63/Z63)/Leistungskorr*(1-Kollektor),W63*$T$130*(1-Kollektor))","v":{"$error":"#REF!"}},{"$f":"IF(Heizung,IF(Methode_384_3,INDEX(Berechnungen!$E$79:$BR$79,1,S63),IF(X63<IF(JAZcalc,TaMinVorarlberg,TaMin),Z64,Z64+$Z$77/28)),0)","v":0},{"$error":"#REF!"},0,{"$error":"#REF!"},{"$error":"#REF!"},{"$error":"#REF!"},{"$error":"#REF!"},{"$f":"IF($AA$77*SUM($W$60:$W62)/Etaw=BedarfWW,0,MAX(MIN($AA$77*W63/Etaw,BedarfWW-$AA$77*SUM($W$60:$W62)/Etaw),0))","v":{"$error":"#REF!"}},{"$error":"#REF!"},0,0,{"$error":"#REF!"},{"$f":"AE63+AD63+IF(Laufzeit_Zusatzheizung>=SUM($Y63:$Y$77),Kesselleistung*$H$45*Y63,0)","v":{"$error":"#REF!"}},{"$error":"#REF!"},{"$f":"IF(Neu,INDEX(WP_BIN!$T$80:$CG$80,1,S63),AZ63)","v":0},{"$error":"#REF!"},{"$error":"#REF!"},0,{"$error":"#VALUE!"},0,0,0,{"$f":"INDEX(Berechnungen!$E$79:$BR$79,1,S63)","v":{"$error":"#REF!"}},-22,{"$f":"INDEX(WP_BIN!$T$78:$CG$78,1,$S63)","v":29.000000000000021},{"$f":"INDEX(WP_BIN!$T$43:$CG$43,1,$S63)","v":{"$error":"#DIV/0!"}},{"$f":"INDEX(WP_BIN!$T$79:$CG$79,1,$S63)","v":0},{"$f":"INDEX(WP_BIN!$T$86:$CG$86,1,$S63)","v":0},{"$f":"INDEX(WP_BIN!$T$47:$CG$47,1,$S63)","v":{"$error":"#DIV/0!"}},{"$f":"INDEX(WP_BIN!$T$54:$CG$54,1,$S63)","v":0},null,null,null,{"$f":"Sprache!B141","v":"Chauffage + production d'ECS décentralisée par PAC"}]
[null,{"$f":"Sprache!B43","v":"Facteur de pondération pour le chauffage: "},null,null,null,null,"-",{"$f":"IF(AND(WW,Heizung),IF((Qww+Qh)>0,Qh/(Qww+Qh),0),IF(Heizung,1,0))","v":0},null,null,{"$f":"IF(Qh+Qww=0,,IF(wwSolar,P58,IF(HeizungSolar,Q58,0)))","v":{"$error":"#VALUE!"}},"Solarertrag",{"$f":"Sprache!B272&\" \"&Sprache!B273","v":"Eau chaude sanitaire ECS + chauffage (calcul externe)"},null,null,{"$f":"IF(OR(MinSol,solarExtern),0.7,1)","v":1},{"$f":"IF(OR(MinSol,solarExtern),0.7,1)","v":1},"Max. Deckung WW",5,0,null,0,{"$f":"IF(BIN,INDEX(BIN!$B$3:$BO$364,4+(Klima-2)*11,S64),0)","v":0},-21,{"$f":"IF(BINkorr,INDEX(Berechnungen!$E$81:$BR$81,1,S64)*IF(OR(Methode_384_3,Z64=0),1,AV64/Z64)/Leistungskorr*(1-Kollektor),W64*$T$130*(1-Kollektor))","v":{"$error":"#REF!"}},{"$f":"IF(Heizung,IF(Methode_384_3,INDEX(Berechnungen!$E$79:$BR$79,1,S64),IF(X64<IF(JAZcalc,TaMinVorarlberg,TaMin),Z65,Z65+$Z$77/28)),0)","v":0},{"$error":"#REF!"},0,{"$error":"#REF!"},{"$error":"#REF!"},{"$error":"#REF!"},{"$error":"#REF!"},{"$f":"IF($AA$77*SUM($W$60:$W63)/Etaw=BedarfWW,0,MAX(MIN($AA$77*W64/Etaw,BedarfWW-$AA$77*SUM($W$60:$W63)/Etaw),0))","v":{"$error":"#REF!"}},{"$error":"#REF!"},0,0,{"$error":"#REF!"},{"$f":"AE64+AD64+IF(Laufzeit_Zusatzheizung>=SUM($Y64:$Y$77),Kesselleistung*$H$45*Y64,0)","v":{"$error":"#REF!"}},{"$error":"#REF!"},{"$f":"IF(Neu,INDEX(WP_BIN!$T$80:$CG$80,1,S64),AZ64)","v":0},{"$error":"#REF!"},{"$error":"#REF!"},0,{"$error":"#VALUE!"},0,0,0,{"$f":"INDEX(Berechnungen!$E$79:$BR$79,1,S64)","v":{"$error":"#REF!"}},-21,{"$f":"INDEX(WP_BIN!$T$78:$CG$78,1,$S64)","v":28.928571428571448},{"$f":"INDEX(WP_BIN!$T$43:$CG$43,1,$S64)","v":{"$error":"#DIV/0!"}},{"$f":"INDEX(WP_BIN!$T$79:$CG$79,1,$S64)","v":0},{"$f":"INDEX(WP_BIN!$T$86:$CG$86,1,$S64)","v":0},{"$f":"INDEX(WP_BIN!$T$47:$CG$47,1,$S64)","v":{"$error":"#DIV/0!"}},{"$f":"INDEX(WP_BIN!$T$54:$CG$54,1,$S64)","v":0},null,null,null,"Warmwasser?",{"$f":"IF(OR(BH58>2),TRUE,FALSE)","v":false}]
[null,{"$f":"Sprache!B44","v":"Facteur de pondération pour l'ECS"},null,null,null,null,"-",{"$f":"IF(AND(WW,Heizung),IF((Qww+Qh)>0,Qww/(Qww+Qh),0),IF(WW,1,0))","v":0},null,null,"Vorschlag Minergie:",null,"Berechnung nach MINERGIE",null,{"$f":"IF(OR(N57=4,N57=5),TRUE,FALSE)","v":false},0,{"$f":"IF(OR(MinSol,solarExtern),0.5,1)","v":1},"Max. Deckung Heizung",6,0,null,0,{"$f":"IF(BIN,INDEX(BIN!$B$3:$BO$364,4+(Klima-2)*11,S65),0)","v":0},-20,{"$f":"IF(BINkorr,INDEX(Berechnungen!$E$81:$BR$81,1,S65)*IF(OR(Methode_384_3,Z65=0),1,AV65/Z65)/Leistungskorr*(1-Kollektor),W65*$T$130*(1-Kollektor))","v":{"$error":"#REF!"}},{"$f":"IF(Heizung,IF(Methode_384_3,INDEX(Berechnungen!$E$79:$BR$79,1,S65),IF(X65<IF(JAZcalc,TaMinVorarlberg,TaMin),Z66,Z66+$Z$77/28)),0)","v":0},{"$error":"#REF!"},0,{"$error":"#REF!"},{"$error":"#REF!"},{"$error":"#REF!"},{"$error":"#REF!"},{"$f":"IF($AA$77*SUM($W$60:$W64)/Etaw=BedarfWW,0,MAX(MIN($AA$77*W65/Etaw,BedarfWW-$AA$77*SUM($W$60:$W64)/Etaw),0))","v":{"$error":"#REF!"}},{"$error":"#REF!"},0,0,{"$error":"#REF!"},{"$f":"AE65+AD65+IF(Laufzeit_Zusatzheizung>=SUM($Y65:$Y$77),Kesselleistung*$H$45*Y65,0)","v":{"$error":"#REF!"}},{"$error":"#REF!"},{"$f":"IF(Neu,INDEX(WP_BIN!$T$80:$CG$80,1,S65),AZ65)","v":0},{"$error":"#REF!"},{"$error":"#REF!"},0,{"$error":"#VALUE!"},0,0,0,{"$f":"INDEX(Berechnungen!$E$79:$BR$79,1,S65)","v":{"$error":"#REF!"}},-20,{"$f":"INDEX(WP_BIN!$T$78:$CG$78,1,$S65)","v":28.857142857142875},{"$f":"INDEX(WP_BIN!$T$43:$CG$43,1,$S65)","v":{"$error":"#DIV/0!"}},{"$f":"INDEX(WP_BIN!$T$79:$CG$79,1,$S65)","v":0},{"$f":"INDEX(WP_BIN!$T$86:$CG$86,1,$S65)","v":0},{"$f":"INDEX(WP_BIN!$T$47:$CG$47,1,$S65)","v":{"$error":"#DIV/0!"}},{"$f":"INDEX(WP_BIN!$T$54:$CG$54,1,$S65)","v":0},null,null,null,"Heizung?",{"$f":"IF(OR(BH58=2,BH58>3),TRUE,FALSE)","v":false}]
[null,{"$f":"IF(bivalent,\"\",Sprache!B45)","v":"COP annuel pour chauffage et ECS (COPa [ch+ECS])"},null,null,null,null,{"$f":"IF(bivalent,\"\",\"-\")","v":"-"},{"$f":"IF(bivalent,\"\",IF(AND(WW=FALSE,Heizung=FALSE),\"\",IF(Heizung=FALSE,jazh,IF(WW=FALSE,jazww,IF(OR(EBF=\"\",AND(WPArt=3,H32=\"\")),\"\",IF(AND(F62>0,F63>0),(wh/www*F62+F63)/(wh/www*F62/jazh+F63/jazww)))))))","v":""},null,null,{"$f":"IF(Qh+Qww=0,,IF(wwSolar,P58,IF(HeizungSolar,Q58,0)))","v":{"$error":"#VALUE!"}},"Solarertrag","Berechnung nach SIA 384/3",null,{"$f":"IF(OR(N57=2,N57=3),TRUE,FALSE)","v":false},{"$f":"Berechnungen!B148","v":{"$error":"#VALUE!"}},{"$f":"Berechnungen!B190","v":{"$error":"#VALUE!"}},"Deckung WW SIA 384/3",7,0,null,0,{"$f":"IF(BIN,INDEX(BIN!$B$3:$BO$364,4+(Klima-2)*11,S66),0)","v":0},-19,{"$f":"IF(BINkorr,INDEX(Berechnungen!$E$81:$BR$81,1,S66)*IF(OR(Methode_384_3,Z66=0),1,AV66/Z66)/Leistungskorr*(1-Kollektor),W66*$T$130*(1-Kollektor))","v":{"$error":"#REF!"}},{"$f":"IF(Heizung,IF(Methode_384_3,INDEX(Berechnungen!$E$79:$BR$79,1,S66),IF(X66<IF(JAZcalc,TaMinVorarlberg,TaMin),Z67,Z67+$Z$77/28)),0)","v":0},{"$error":"#REF!"},0,{"$error":"#REF!"},{"$error":"#REF!"},{"$error":"#REF!"},{"$error":"#REF!"},{"$f":"IF($AA$77*SUM($W$60:$W65)/Etaw=BedarfWW,0,MAX(MIN($AA$77*W66/Etaw,BedarfWW-$AA$77*SUM($W$60:$W65)/Etaw),0))","v":{"$error":"#REF!"}},{"$error":"#REF!"},0,0,{"$error":"#REF!"},{"$f":"AE66+AD66+IF(Laufzeit_Zusatzheizung>=SUM($Y66:$Y$77),Kesselleistung*$H$45*Y66,0)","v":{"$error":"#REF!"}},{"$error":"#REF!"},{"$f":"IF(Neu,INDEX(WP_BIN!$T$80:$CG$80,1,S66),AZ66)","v":0},{"$error":"#REF!"},{"$error":"#REF!"},0,{"$error":"#VALUE!"},0,0,0,{"$f":"INDEX(Berechnungen!$E$79:$BR$79,1,S66)","v":{"$error":"#REF!"}},-19,{"$f":"INDEX(WP_BIN!$T$78:$CG$78,1,$S66)","v":28.785714285714302},{"$f":"INDEX(WP_BIN!$T$43:$CG$43,1,$S66)","v":{"$error":"#DIV/0!"}},{"$f":"INDEX(WP_BIN!$T$79:$CG$79,1,$S66)","v":0},{"$f":"INDEX(WP_BIN!$T$86:$CG$86,1,$S66)","v":0},{"$f":"INDEX(WP_BIN!$T$47:$CG$47,1,$S66)","v":{"$error":"#DIV/0!"}},{"$f":"INDEX(WP_BIN!$T$54:$CG$54,1,$S66)","v":0},null,null,null,"HeizSpeicher?",{"$f":"IF(AND(Speicher,Heizung),TRUE,FALSE)","v":false}]
[null,null,null,null,null,null,null,null,null,null,"kWh/m2a",null,"externe Berechnung:",null,{"$f":"IF(OR(N57=6,N57=7),TRUE,FALSE)","v":false},0,{"$f":"Berechnungen!B191","v":{"$error":"#VALUE!"}},"Deckung Heizung SIA 384/3",8,0,null,0,{"$f":"IF(BIN,INDEX(BIN!$B$3:$BO$364,4+(Klima-2)*11,S67),0)","v":0},-18,{"$f":"IF(BINkorr,INDEX(Berechnungen!$E$81:$BR$81,1,S67)*IF(OR(Methode_384_3,Z67=0),1,AV67/Z67)/Leistungskorr*(1-Kollektor),W67*$T$130*(1-Kollektor))","v":{"$error":"#REF!"}},{"$f":"IF(Heizung,IF(Methode_384_3,INDEX(Berechnungen!$E$79:$BR$79,1,S67),IF(X67<IF(JAZcalc,TaMinVorarlberg,TaMin),Z68,Z68+$Z$77/28)),0)","v":0},{"$error":"#REF!"},0,{"$error":"#REF!"},{"$error":"#REF!"},{"$error":"#REF!"},{"$error":"#REF!"},{"$f":"IF($AA$77*SUM($W$60:$W66)/Etaw=BedarfWW,0,MAX(MIN($AA$77*W67/Etaw,BedarfWW-$AA$77*SUM($W$60:$W66)/Etaw),0))","v":{"$error":"#REF!"}},{"$error":"#REF!"},0,0,{"$error":"#REF!"},{"$f":"AE67+AD67+IF(Laufzeit_Zusatzheizung>=SUM($Y67:$Y$77),Kesselleistung*$H$45*Y67,0)","v":{"$error":"#REF!"}},{"$error":"#REF!"},{"$f":"IF(Neu,INDEX(WP_BIN!$T$80:$CG$80,1,S67),AZ67)","v":0},{"$error":"#REF!"},{"$error":"#REF!"},0,{"$error":"#VALUE!"},0,0,0,{"$f":"INDEX(Berechnungen!$E$79:$BR$79,1,S67)","v":{"$error":"#REF!"}},-18,{"$f":"INDEX(WP_BIN!$T$78:$CG$78,1,$S67)","v":28.71428571428573},{"$f":"INDEX(WP_BIN!$T$43:$CG$43,1,$S67)","v":{"$error":"#DIV/0!"}},{"$f":"INDEX(WP_BIN!$T$79:$CG$79,1,$S67)","v":0},{"$f":"INDEX(WP_BIN!$T$86:$CG$86,1,$S67)","v":0},{"$f":"INDEX(WP_BIN!$T$47:$CG$47,1,$S67)","v":{"$error":"#DIV/0!"}},{"$f":"INDEX(WP_BIN!$T$54:$CG$54,1,$S67)","v":0},null,null,null,"Speicherladung",{"$f":"J24","v":1}]
[null,"Zuschlagstemperatur Auslegung Oesterreich:",null,0,"      Zuschlagstemperatur Auslegung CH:",null,null,2,null,null,null,null,null,null,null,null,null,null,9,0,null,0,{"$f":"IF(BIN,INDEX(BIN!$B$3:$BO$364,4+(Klima-2)*11,S68),0)","v":0},-17,{"$f":"IF(BINkorr,INDEX(Berechnungen!$E$81:$BR$81,1,S68)*IF(OR(Methode_384_3,Z68=0),1,AV68/Z68)/Leistungskorr*(1-Kollektor),W68*$T$130*(1-Kollektor))","v":{"$error":"#REF!"}},{"$f":"IF(Heizung,IF(Methode_384_3,INDEX(Berechnungen!$E$79:$BR$79,1,S68),IF(X68<IF(JAZcalc,TaMinVorarlberg,TaMin),Z69,Z69+$Z$77/28)),0)","v":0},{"$error":"#REF!"},0,{"$error":"#REF!"},{"$error":"#REF!"},{"$error":"#REF!"},{"$error":"#REF!"},{"$f":"IF($AA$77*SUM($W$60:$W67)/Etaw=BedarfWW,0,MAX(MIN($AA$77*W68/Etaw,BedarfWW-$AA$77*SUM($W$60:$W67)/Etaw),0))","v":{"$error":"#REF!"}},{"$error":"#REF!"},0,0,{"$error":"#REF!"},{"$f":"AE68+AD68+IF(Laufzeit_Zusatzheizung>=SUM($Y68:$Y$77),Kesselleistung*$H$45*Y68,0)","v":{"$error":"#REF!"}},{"$error":"#REF!"},{"$f":"IF(Neu,INDEX(WP_BIN!$T$80:$CG$80,1,S68),AZ68)","v":0},{"$error":"#REF!"},{"$error":"#REF!"},0,{"$error":"#VALUE!"},0,0,0,{"$f":"INDEX(Berechnungen!$E$79:$BR$79,1,S68)","v":{"$error":"#REF!"}},-17,{"$f":"INDEX(WP_BIN!$T$78:$CG$78,1,$S68)","v":28.642857142857157},{"$f":"INDEX(WP_BIN!$T$43:$CG$43,1,$S68)","v":{"$error":"#DIV/0!"}},{"$f":"INDEX(WP_BIN!$T$79:$CG$79,1,$S68)","v":0},{"$f":"INDEX(WP_BIN!$T$86:$CG$86,1,$S68)","v":0},{"$f":"INDEX(WP_BIN!$T$47:$CG$47,1,$S68)","v":{"$error":"#DIV/0!"}},{"$f":"INDEX(WP_BIN!$T$54:$CG$54,1,$S68)","v":0},null,null,null," ",0]
[null,null,null,null,null,null,null,null,null,null,null,null,null,null,null,null,null,null,10,0,null,0,{"$f":"IF(BIN,INDEX(BIN!$B$3:$BO$364,4+(Klima-2)*11,S69),0)","v":0},-16,{"$f":"IF(BINkorr,INDEX(Berechnungen!$E$81:$BR$81,1,S69)*IF(OR(Methode_384_3,Z69=0),1,AV69/Z69)/Leistungskorr*(1-Kollektor),W69*$T$130*(1-Kollektor))","v":{"$error":"#REF!"}},{"$f":"IF(Heizung,IF(Methode_384_3,INDEX(Berechnungen!$E$79:$BR$79,1,S69),IF(X69<IF(JAZcalc,TaMinVorarlberg,TaMin),Z70,Z70+$Z$77/28)),0)","v":0},{"$error":"#REF!"},0,{"$error":"#REF!"},{"$error":"#REF!"},{"$error":"#REF!"},{"$error":"#REF!"},{"$f":"IF($AA$77*SUM($W$60:$W68)/Etaw=BedarfWW,0,MAX(MIN($AA$77*W69/Etaw,BedarfWW-$AA$77*SUM($W$60:$W68)/Etaw),0))","v":{"$error":"#REF!"}},{"$error":"#REF!"},0,0,{"$error":"#REF!"},{"$f":"AE69+AD69+IF(Laufzeit_Zusatzheizung>=SUM($Y69:$Y$77),Kesselleistung*$H$45*Y69,0)","v":{"$error":"#REF!"}},{"$error":"#REF!"},{"$f":"IF(Neu,INDEX(WP_BIN!$T$80:$CG$80,1,S69),AZ69)","v":0},{"$error":"#REF!"},{"$error":"#REF!"},0,{"$error":"#VALUE!"},0,0,0,{"$f":"INDEX(Berechnungen!$E$79:$BR$79,1,S69)","v":{"$error":"#REF!"}},-16,{"$f":"INDEX(WP_BIN!$T$78:$CG$78,1,$S69)","v":28.571428571428584},{"$f":"INDEX(WP_BIN!$T$43:$CG$43,1,$S69)","v":{"$error":"#DIV/0!"}},{"$f":"INDEX(WP_BIN!$T$79:$CG$79,1,$S69)","v":0},{"$f":"INDEX(WP_BIN!$T$86:$CG$86,1,$S69)","v":0},{"$f":"INDEX(WP_BIN!$T$47:$CG$47,1,$S69)","v":{"$error":"#DIV/0!"}},{"$f":"INDEX(WP_BIN!$T$54:$CG$54,1,$S69)","v":0},null,null,null,{"$f":"IF(elZusatz,Sprache!B120,\"\")","v":""},{"$f":"IF(elZusatz,Z142,0)","v":0}]
[null,"Klimastationen SIA 2028","Höhe","Ta,Ausleg.","GH Jahr","mittl. Heizp.","Ta,min","HGT",null,null,null,null,null,null,null,null,null,null,11,0,null,0,{"$f":"IF(BIN,INDEX(BIN!$B$3:$BO$364,4+(Klima-2)*11,S70),0)","v":0},-15,{"$f":"IF(BINkorr,INDEX(Berechnungen!$E$81:$BR$81,1,S70)*IF(OR(Methode_384_3,Z70=0),1,AV70/Z70)/Leistungskorr*(1-Kollektor),W70*$T$130*(1-Kollektor))","v":{"$error":"#REF!"}},{"$f":"IF(Heizung,IF(Methode_384_3,INDEX(Berechnungen!$E$79:$BR$79,1,S70),IF(X70<IF(JAZcalc,TaMinVorarlberg,TaMin),Z71,Z71+$Z$77/28)),0)","v":0},{"$error":"#REF!"},0,{"$error":"#REF!"},{"$error":"#REF!"},{"$error":"#REF!"},{"$error":"#REF!"},{"$f":"IF($AA$77*SUM($W$60:$W69)/Etaw=BedarfWW,0,MAX(MIN($AA$77*W70/Etaw,BedarfWW-$AA$77*SUM($W$60:$W69)/Etaw),0))","v":{"$error":"#REF!"}},{"$error":"#REF!"},0,0,{"$error":"#REF!"},{"$f":"AE70+AD70+IF(Laufzeit_Zusatzheizung>=SUM($Y70:$Y$77),Kesselleistung*$H$45*Y70,0)","v":{"$error":"#REF!"}},{"$error":"#REF!"},{"$f":"IF(Neu,INDEX(WP_BIN!$T$80:$CG$80,1,S70),AZ70)","v":0},{"$error":"#REF!"},{"$error":"#REF!"},0,{"$error":"#VALUE!"},0,0,0,{"$f":"INDEX(Berechnungen!$E$79:$BR$79,1,S70)","v":{"$error":"#REF!"}},-15,{"$f":"INDEX(WP_BIN!$T$78:$CG$78,1,$S70)","v":28.500000000000011},{"$f":"INDEX(WP_BIN!$T$43:$CG$43,1,$S70)","v":{"$error":"#DIV/0!"}},{"$f":"INDEX(WP_BIN!$T$79:$CG$79,1,$S70)","v":0},{"$f":"INDEX(WP_BIN!$T$86:$CG$86,1,$S70)","v":0},{"$f":"INDEX(WP_BIN!$T$47:$CG$47,1,$S70)","v":{"$error":"#DIV/0!"}},{"$f":"INDEX(WP_BIN!$T$54:$CG$54,1,$S70)","v":0},null,null,null,{"$f":"IF(AND(elZusatz,Speicher),Sprache!B121,\"\")","v":""},{"$f":"IF(AND(elZusatz,Speicher),Z143,0)","v":0}]
[null,{"$f":"IF(JAZcalc,34,IF($H$6=\"\",1,INDEX(B72:I104,L2,8)))","v":1},"m.ü.M.","°C","MJ/m2a","°C","°C","nur HT 20/12",null,null,null,null,null,null,null,null,null,null,12,0,null,0,{"$f":"IF(BIN,INDEX(BIN!$B$3:$BO$364,4+(Klima-2)*11,S71),0)","v":0},-14,{"$f":"IF(BINkorr,INDEX(Berechnungen!$E$81:$BR$81,1,S71)*IF(OR(Methode_384_3,Z71=0),1,AV71/Z71)/Leistungskorr*(1-Kollektor),W71*$T$130*(1-Kollektor))","v":{"$error":"#REF!"}},{"$f":"IF(Heizung,IF(Methode_384_3,INDEX(Berechnungen!$E$79:$BR$79,1,S71),IF(X71<IF(JAZcalc,TaMinVorarlberg,TaMin),Z72,Z72+$Z$77/28)),0)","v":0},{"$error":"#REF!"},0,{"$error":"#REF!"},{"$f":"MAX(IF(AE71>0,Z71*Y71/Etah/Nutzungsgrad,(Z71*Y71/Etah+AA71*Y71/Etaw-AB71*Y71)/Nutzungsgrad),0)","v":{"$error":"#REF!"}},{"$error":"#REF!"},{"$f":"Z71*Y71/Etah","v":{"$error":"#REF!"}},{"$f":"IF($AA$77*SUM($W$60:$W70)/Etaw=BedarfWW,0,MAX(MIN($AA$77*W71/Etaw,BedarfWW-$AA$77*SUM($W$60:$W70)/Etaw),0))","v":{"$error":"#REF!"}},{"$f":"MAX(AF71+AG71-AD71*Nutzungsgrad-AE71*Nutzungsgrad,0)","v":{"$error":"#REF!"}},0,0,{"$error":"#REF!"},{"$f":"AE71+AD71+IF(Laufzeit_Zusatzheizung>=SUM($Y71:$Y$77),Kesselleistung*$H$45*Y71,0)","v":{"$error":"#REF!"}},{"$error":"#REF!"},{"$f":"IF(Neu,INDEX(WP_BIN!$T$80:$CG$80,1,S71),AZ71)","v":0},{"$error":"#REF!"},{"$error":"#REF!"},0,{"$error":"#VALUE!"},0,0,0,{"$f":"INDEX(Berechnungen!$E$79:$BR$79,1,S71)","v":{"$error":"#REF!"}},-14,{"$f":"INDEX(WP_BIN!$T$78:$CG$78,1,$S71)","v":28.428571428571438},{"$f":"INDEX(WP_BIN!$T$43:$CG$43,1,$S71)","v":{"$error":"#DIV/0!"}},{"$f":"INDEX(WP_BIN!$T$79:$CG$79,1,$S71)","v":0},{"$f":"INDEX(WP_BIN!$T$86:$CG$86,1,$S71)","v":0},{"$f":"INDEX(WP_BIN!$T$47:$CG$47,1,$S71)","v":{"$error":"#DIV/0!"}},{"$f":"INDEX(WP_BIN!$T$54:$CG$54,1,$S71)","v":0},null,null,null,{"$f":"IF(AND(elZusatz,Speicher),Sprache!B122,\"\")","v":""},{"$f":"IF(AND(elZusatz,Speicher),Z144,0)","v":0}]
[null,{"$f":"IF(JAZcalc,JAZcalc!N723,\"\")","v":""},{"$f":"IF(JAZcalc,JAZcalc!O723,\"\")","v":""},{"$f":"IF(JAZcalc,JAZcalc!Q723,\"\")","v":""},null,{"$f":"IF(JAZcalc,JAZcalc!P723,\"\")","v":""},{"$f":"IF(JAZcalc,JAZcalc!S723,\"\")","v":""},{"$f":"IF(JAZcalc,JAZcalc!R723,\"\")","v":""},1,null,null,null,null,null,null,null,null,null,13,0,null,0,{"$f":"IF(BIN,INDEX(BIN!$B$3:$BO$364,4+(Klima-2)*11,S72),0)","v":0},-13,{"$f":"IF(BINkorr,INDEX(Berechnungen!$E$81:$BR$81,1,S72)*IF(OR(Methode_384_3,Z72=0),1,AV72/Z72)/Leistungskorr*(1-Kollektor),W72*$T$130*(1-Kollektor))","v":{"$error":"#REF!"}},{"$f":"IF(Heizung,IF(Methode_384_3,INDEX(Berechnungen!$E$79:$BR$79,1,S72),IF(X72<IF(JAZcalc,TaMinVorarlberg,TaMin),Z73,Z73+$Z$77/28)),0)","v":0},{"$error":"#REF!"},0,{"$error":"#REF!"},{"$error":"#REF!"},{"$error":"#REF!"},{"$error":"#REF!"},{"$f":"IF($AA$77*SUM($W$60:$W71)/Etaw=BedarfWW,0,MAX(MIN($AA$77*W72/Etaw,BedarfWW-$AA$77*SUM($W$60:$W71)/Etaw),0))","v":{"$error":"#REF!"}},{"$error":"#REF!"},0,0,{"$error":"#REF!"},{"$f":"AE72+AD72+IF(Laufzeit_Zusatzheizung>=SUM($Y72:$Y$77),Kesselleistung*$H$45*Y72,0)","v":{"$error":"#REF!"}},{"$error":"#REF!"},{"$f":"IF(Neu,INDEX(WP_BIN!$T$80:$CG$80,1,S72),AZ72)","v":0},{"$error":"#REF!"},{"$error":"#REF!"},0,{"$error":"#VALUE!"},0,0,0,{"$f":"INDEX(Berechnungen!$E$79:$BR$79,1,S72)","v":{"$error":"#REF!"}},-13,{"$f":"INDEX(WP_BIN!$T$78:$CG$78,1,$S72)","v":28.357142857142865},{"$f":"INDEX(WP_BIN!$T$43:$CG$43,1,$S72)","v":{"$error":"#DIV/0!"}},{"$f":"INDEX(WP_BIN!$T$79:$CG$79,1,$S72)","v":0},{"$f":"INDEX(WP_BIN!$T$86:$CG$86,1,$S72)","v":0},{"$f":"INDEX(WP_BIN!$T$47:$CG$47,1,$S72)","v":{"$error":"#DIV/0!"}},{"$f":"INDEX(WP_BIN!$T$54:$CG$54,1,$S72)","v":0}]
[null,"Adelboden",null,-10,4186,2.9,-10,4186,2,null,null,null,null,null,null,null,null,null,14,0,null,0,{"$f":"IF(BIN,INDEX(BIN!$B$3:$BO$364,4+(Klima-2)*11,S73),0)","v":0},-12,{"$f":"IF(BINkorr,INDEX(Berechnungen!$E$81:$BR$81,1,S73)*IF(OR(Methode_384_3,Z73=0),1,AV73/Z73)/Leistungskorr*(1-Kollektor),W73*$T$130*(1-Kollektor))","v":{"$error":"#REF!"}},{"$f":"IF(Heizung,IF(Methode_384_3,INDEX(Berechnungen!$E$79:$BR$79,1,S73),IF(X73<IF(JAZcalc,TaMinVorarlberg,TaMin),Z74,Z74+$Z$77/28)),0)","v":0},{"$error":"#REF!"},0,{"$error":"#REF!"},{"$error":"#REF!"},{"$error":"#REF!"},{"$error":"#REF!"},{"$f":"IF($AA$77*SUM($W$60:$W72)/Etaw=BedarfWW,0,MAX(MIN($AA$77*W73/Etaw,BedarfWW-$AA$77*SUM($W$60:$W72)/Etaw),0))","v":{"$error":"#REF!"}},{"$error":"#REF!"},0,0,{"$error":"#REF!"},{"$f":"AE73+AD73+IF(Laufzeit_Zusatzheizung>=SUM($Y73:$Y$77),Kesselleistung*$H$45*Y73,0)","v":{"$error":"#REF!"}},{"$error":"#REF!"},{"$f":"IF(Neu,INDEX(WP_BIN!$T$80:$CG$80,1,S73),AZ73)","v":0},{"$error":"#REF!"},{"$error":"#REF!"},0,{"$error":"#VALUE!"},0,0,0,{"$f":"INDEX(Berechnungen!$E$79:$BR$79,1,S73)","v":{"$error":"#REF!"}},-12,{"$f":"INDEX(WP_BIN!$T$78:$CG$78,1,$S73)","v":28.285714285714292},{"$f":"INDEX(WP_BIN!$T$43:$CG$43,1,$S73)","v":{"$error":"#DIV/0!"}},{"$f":"INDEX(WP_BIN!$T$79:$CG$79,1,$S73)","v":0},{"$f":"INDEX(WP_BIN!$T$86:$CG$86,1,$S73)","v":0},{"$f":"INDEX(WP_BIN!$T$47:$CG$47,1,$S73)","v":{"$error":"#DIV/0!"}},{"$f":"INDEX(WP_BIN!$T$54:$CG$54,1,$S73)","v":0}]
[null,"Altdorf",null,-6,4422,4.5999999999999996,-6,2836,3,null,null,null,null,null,null,null,null,null,15,0,null,0,{"$f":"IF(BIN,INDEX(BIN!$B$3:$BO$364,4+(Klima-2)*11,S74),0)","v":0},-11,{"$f":"IF(BINkorr,INDEX(Berechnungen!$E$81:$BR$81,1,S74)*IF(OR(Methode_384_3,Z74=0),1,AV74/Z74)/Leistungskorr*(1-Kollektor),W74*$T$130*(1-Kollektor))","v":{"$error":"#REF!"}},{"$f":"IF(Heizung,IF(Methode_384_3,INDEX(Berechnungen!$E$79:$BR$79,1,S74),IF(X74<IF(JAZcalc,TaMinVorarlberg,TaMin),Z75,Z75+$Z$77/28)),0)","v":0},{"$error":"#REF!"},0,{"$error":"#REF!"},{"$error":"#REF!"},{"$error":"#REF!"},{"$error":"#REF!"},{"$f":"IF($AA$77*SUM($W$60:$W73)/Etaw=BedarfWW,0,MAX(MIN($AA$77*W74/Etaw,BedarfWW-$AA$77*SUM($W$60:$W73)/Etaw),0))","v":{"$error":"#REF!"}},{"$error":"#REF!"},0,0,{"$error":"#REF!"},{"$f":"AE74+AD74+IF(Laufzeit_Zusatzheizung>=SUM($Y74:$Y$77),Kesselleistung*$H$45*Y74,0)","v":{"$error":"#REF!"}},{"$error":"#REF!"},{"$f":"IF(Neu,INDEX(WP_BIN!$T$80:$CG$80,1,S74),AZ74)","v":0},{"$error":"#REF!"},{"$error":"#REF!"},0,{"$error":"#VALUE!"},0,0,0,{"$f":"INDEX(Berechnungen!$E$79:$BR$79,1,S74)","v":{"$error":"#REF!"}},-11,{"$f":"INDEX(WP_BIN!$T$78:$CG$78,1,$S74)","v":28.214285714285719},{"$f":"INDEX(WP_BIN!$T$43:$CG$43,1,$S74)","v":{"$error":"#DIV/0!"}},{"$f":"INDEX(WP_BIN!$T$79:$CG$79,1,$S74)","v":0},{"$f":"INDEX(WP_BIN!$T$86:$CG$86,1,$S74)","v":0},{"$f":"INDEX(WP_BIN!$T$47:$CG$47,1,$S74)","v":{"$error":"#DIV/0!"}},{"$f":"INDEX(WP_BIN!$T$54:$CG$54,1,$S74)","v":0},null,null,null,{"$f":"INDEX(BG68:BG73,BH67,1)","v":" "},{"$f":"INDEX(BH68:BH73,BH67,1)","v":0}]
[null,"Basel-Binningen",null,-7,3940,4.7,-7,2733,4,null,null,null,null,null,null,null,null,null,16,0,null,0,{"$f":"IF(BIN,INDEX(BIN!$B$3:$BO$364,4+(Klima-2)*11,S75),0)","v":0},-10,{"$f":"IF(BINkorr,INDEX(Berechnungen!$E$81:$BR$81,1,S75)*IF(OR(Methode_384_3,Z75=0),1,AV75/Z75)/Leistungskorr*(1-Kollektor),W75*$T$130*(1-Kollektor))","v":{"$error":"#REF!"}},{"$f":"IF(Heizung,IF(Methode_384_3,INDEX(Berechnungen!$E$79:$BR$79,1,S75),IF(X75<IF(JAZcalc,TaMinVorarlberg,TaMin),Z76,Z76+$Z$77/28)),0)","v":0},{"$error":"#REF!"},0,{"$error":"#REF!"},{"$error":"#REF!"},{"$error":"#REF!"},{"$error":"#REF!"},{"$f":"IF($AA$77*SUM($W$60:$W74)/Etaw=BedarfWW,0,MAX(MIN($AA$77*W75/Etaw,BedarfWW-$AA$77*SUM($W$60:$W74)/Etaw),0))","v":{"$error":"#REF!"}},{"$error":"#REF!"},0,0,{"$error":"#REF!"},{"$f":"AE75+AD75+IF(Laufzeit_Zusatzheizung>=SUM($Y75:$Y$77),Kesselleistung*$H$45*Y75,0)","v":{"$error":"#REF!"}},{"$error":"#REF!"},{"$f":"IF(Neu,INDEX(WP_BIN!$T$80:$CG$80,1,S75),AZ75)","v":0},{"$error":"#REF!"},{"$error":"#REF!"},0,{"$error":"#VALUE!"},0,0,0,{"$f":"INDEX(Berechnungen!$E$79:$BR$79,1,S75)","v":{"$error":"#REF!"}},-10,{"$f":"INDEX(WP_BIN!$T$78:$CG$78,1,$S75)","v":28.142857142857146},{"$f":"INDEX(WP_BIN!$T$43:$CG$43,1,$S75)","v":{"$error":"#DIV/0!"}},{"$f":"INDEX(WP_BIN!$T$79:$CG$79,1,$S75)","v":0},{"$f":"INDEX(WP_BIN!$T$86:$CG$86,1,$S75)","v":0},{"$f":"INDEX(WP_BIN!$T$47:$CG$47,1,$S75)","v":{"$error":"#DIV/0!"}},{"$f":"INDEX(WP_BIN!$T$54:$CG$54,1,$S75)","v":0}]
[null,"Bern-Liebefeld",null,-7,4026,4.0999999999999996,-7,3353,5,null,null,null,null,null,null,null,null,null,17,{"$f":"W76*Z76","v":0},null,{"$f":"Z76*W76","v":0},{"$f":"IF(BIN,INDEX(BIN!$B$3:$BO$364,4+(Klima-2)*11,S76),0)","v":0},-9,{"$f":"IF(BINkorr,INDEX(Berechnungen!$E$81:$BR$81,1,S76)*IF(OR(Methode_384_3,Z76=0),1,AV76/Z76)/Leistungskorr*(1-Kollektor),W76*$T$130*(1-Kollektor))","v":{"$error":"#REF!"}},{"$f":"IF(Heizung,IF(Methode_384_3,INDEX(Berechnungen!$E$79:$BR$79,1,S76),IF(X76<IF(JAZcalc,TaMinVorarlberg,TaMin),Z77,Z77+$Z$77/28)),0)","v":0},{"$f":"IF(AG76>0,$AA$77,0)","v":{"$error":"#REF!"}},{"$f":"IF(Bivalenzpunkt<X76,AN76,0)","v":0},{"$f":"MAX(Z76+AA76-AB76,0)/Nutzungsgrad","v":{"$error":"#REF!"}},{"$error":"#REF!"},{"$error":"#REF!"},{"$error":"#REF!"},{"$f":"IF($AA$77*SUM($W$60:$W75)/Etaw=BedarfWW,0,MAX(MIN($AA$77*W76/Etaw,BedarfWW-$AA$77*SUM($W$60:$W75)/Etaw),0))","v":{"$error":"#REF!"}},{"$f":"MAX(AF76+AG76-AD76*Nutzungsgrad-AE76*Nutzungsgrad,0)","v":{"$error":"#REF!"}},{"$f":"MIN(IF(AB76>0,AH76/AB76,0),W76)","v":0},{"$f":"Z76*W76","v":0},{"$f":"MAX(AF76-AD76*Nutzungsgrad,0)","v":{"$error":"#REF!"}},{"$f":"AE76+AD76+IF(Laufzeit_Zusatzheizung>=SUM($Y76:$Y$77),Kesselleistung*$H$45*Y76,0)","v":{"$error":"#REF!"}},{"$error":"#REF!"},{"$f":"IF(Neu,INDEX(WP_BIN!$T$80:$CG$80,1,S76),AZ76)","v":0},{"$f":"IF(AE76>AM76,AE76-AM76,0)","v":{"$error":"#REF!"}},{"$f":"AL76-AM76-AO76","v":{"$error":"#REF!"}},{"$f":"MAX(AQ77-(AQ$87-AQ$78)/9,0)","v":0},{"$f":"W76*$T$130","v":{"$error":"#VALUE!"}},0,0,0,{"$f":"INDEX(Berechnungen!$E$79:$BR$79,1,S76)","v":{"$error":"#REF!"}},-9,{"$f":"INDEX(WP_BIN!$T$78:$CG$78,1,$S76)","v":28.071428571428573},{"$f":"INDEX(WP_BIN!$T$43:$CG$43,1,$S76)","v":{"$error":"#DIV/0!"}},{"$f":"INDEX(WP_BIN!$T$79:$CG$79,1,$S76)","v":0},{"$f":"INDEX(WP_BIN!$T$86:$CG$86,1,$S76)","v":0},{"$f":"INDEX(WP_BIN!$T$47:$CG$47,1,$S76)","v":{"$error":"#DIV/0!"}},{"$f":"INDEX(WP_BIN!$T$54:$CG$54,1,$S76)","v":0},null,null,null,"WW-Zusatzheiz","WP-Anteil (von max):"]
[null,"Buchs-Aarau",null,-7,4178,4.2,-7,2917,6,null,null,null,null,null,null,null,null,null,18,{"$error":"#VALUE!"},{"$f":"MAX(0.0304-0.01*Klimakorr,0)","v":3.04E-2},{"$error":"#VALUE!"},{"$f":"IF(BIN,INDEX(BIN!$B$3:$BO$364,4+(Klima-2)*11,S77),IF($M$32>0,ROUND(U77*Heizperiode*$M$31/$M$32,0),ROUND(U77*Heizperiode,0)))","v":{"$error":"#VALUE!"}},-8,{"$f":"IF(BINkorr,INDEX(Berechnungen!$E$81:$BR$81,1,S77)*IF(OR(Methode_384_3,Z77=0),1,AV77/Z77)/Leistungskorr*(1-Kollektor),W77*$T$130*(1-Kollektor))","v":{"$error":"#REF!"}},{"$f":"IF(Heizung,IF(Methode_384_3,INDEX(Berechnungen!$E$79:$BR$79,1,S77),M32),0)","v":0},{"$f":"IF(WW,Qww*EBF/3.6/8760,0)","v":0},{"$f":"IF(Bivalenzpunkt<-8,AN77,0)","v":0},0,{"$error":"#VALUE!"},{"$error":"#VALUE!"},{"$error":"#REF!"},{"$f":"IF($AA$77*SUM($W$60:$W76)/Etaw=BedarfWW,0,MAX(MIN($AA$77*W77/Etaw,BedarfWW-$AA$77*SUM($W$60:$W76)/Etaw),0))","v":{"$error":"#REF!"}},{"$f":"MAX(AF77+AG77-AD77*Nutzungsgrad-AE77*Nutzungsgrad,0)","v":{"$error":"#REF!"}},{"$f":"MIN(IF(AB77>0,AH77/AB77,0),W77)","v":{"$error":"#VALUE!"}},{"$f":"Z77*W77","v":{"$error":"#VALUE!"}},{"$error":"#REF!"},{"$f":"AE77+AD77+IF(Laufzeit_Zusatzheizung>=$Y77,Kesselleistung*$H$45*Y77,0)","v":{"$error":"#VALUE!"}},{"$error":"#VALUE!"},{"$f":"IF(Neu,INDEX(WP_BIN!$T$80:$CG$80,1,S77),AN78-(AN$87-AN$78)/9)","v":0},{"$error":"#VALUE!"},{"$error":"#VALUE!"},{"$f":"AQ78-(AQ$87-AQ$78)/9","v":0},{"$error":"#VALUE!"},{"$error":"#VALUE!"},0,0,{"$f":"INDEX(Berechnungen!$E$79:$BR$79,1,S77)","v":{"$error":"#REF!"}},-8,{"$f":"INDEX(WP_BIN!$T$78:$CG$78,1,$S77)","v":28},{"$f":"INDEX(WP_BIN!$T$43:$CG$43,1,$S77)","v":33},{"$f":"INDEX(WP_BIN!$T$79:$CG$79,1,$S77)","v":0},{"$f":"INDEX(WP_BIN!$T$86:$CG$86,1,$S77)","v":0},{"$f":"INDEX(WP_BIN!$T$47:$CG$47,1,$S77)","v":0},{"$f":"INDEX(WP_BIN!$T$54:$CG$54,1,$S77)","v":0},null,null,null,null,1]
[null,"Chur",null,-7,3752,4.0999999999999996,-7,2917,7,null,null,null,null,null,null,null,null,null,19,{"$error":"#VALUE!"},{"$f":"MAX(0.0076-Klimakorr*0.003*(X78/-7),0)","v":7.6E-3},{"$error":"#VALUE!"},{"$f":"IF(BIN,INDEX(BIN!$B$3:$BO$364,4+(Klima-2)*11,S78),IF($M$32>0,ROUND(U78*Heizperiode*$M$31/$M$32,0),ROUND(U78*Heizperiode,0)))","v":{"$error":"#VALUE!"}},-7,{"$f":"IF(BINkorr,INDEX(Berechnungen!$E$81:$BR$81,1,S78)*IF(OR(Methode_384_3,Z78=0),1,AV78/Z78)/Leistungskorr*(1-Kollektor),W78*$T$130*(1-Kollektor))","v":{"$error":"#REF!"}},{"$f":"IF(Heizung,IF(Methode_384_3,INDEX(Berechnungen!$E$79:$BR$79,1,S78),Z77-$Z$77/28),0)","v":0},{"$f":"IF(AG78>0,$AA$77,0)","v":{"$error":"#VALUE!"}},{"$f":"IF(Bivalenzpunkt<X78,AN78,0)","v":0},{"$error":"#VALUE!"},{"$f":"MAX(IF(AE78>0,Z78*Y78/Etah/Nutzungsgrad,(Z78*Y78/Etah+AA78*Y78/Etaw-AB78*Y78)/Nutzungsgrad),0)","v":{"$error":"#VALUE!"}},{"$error":"#VALUE!"},{"$error":"#REF!"},{"$f":"IF($AA$77*SUM($W$60:$W77)/Etaw=BedarfWW,0,MAX(MIN($AA$77*W78/Etaw,BedarfWW-$AA$77*SUM($W$60:$W77)/Etaw),0))","v":{"$error":"#VALUE!"}},{"$f":"MAX(AF78+AG78-AD78*Nutzungsgrad-AE78*Nutzungsgrad,0)","v":{"$error":"#REF!"}},{"$f":"MIN(IF(AB78>0,AH78/AB78,0),W78)","v":{"$error":"#VALUE!"}},{"$f":"Z78*W78","v":{"$error":"#VALUE!"}},{"$error":"#REF!"},{"$f":"AE78+AD78+IF(Laufzeit_Zusatzheizung>=SUM($Y$60:$Y78),Kesselleistung*$H$45*Y78,0)","v":{"$error":"#VALUE!"}},{"$error":"#VALUE!"},{"$f":"IF(Neu,INDEX(WP_BIN!$T$80:$CG$80,1,S78),IF(WPArt=2,IF(V20>0,V20,0),IF(OR(WPArt=3,WPArt=5),IF(W52>0,IF(H33<>0,M41,I32),0),IF(WPArt=4,IF(W52>0,W52,0),)))*(Etah*Verteilverluste20wh+Etaw*www)*(24-IF(Sperrzeit<>\"\",Sperrzeit,0))/24)","v":0},{"$error":"#VALUE!"},{"$error":"#VALUE!"},{"$f":"AN17*(24-IF(Sperrzeit<>\"\",Sperrzeit,0))/24*(Etah*wh+Etaw*www)","v":0},{"$error":"#VALUE!"},{"$error":"#VALUE!"},0,0,{"$f":"INDEX(Berechnungen!$E$79:$BR$79,1,S78)","v":{"$error":"#REF!"}},-7,{"$f":"INDEX(WP_BIN!$T$78:$CG$78,1,$S78)","v":27.92857142857147},{"$f":"INDEX(WP_BIN!$T$43:$CG$43,1,$S78)","v":{"$error":"#DIV/0!"}},{"$f":"INDEX(WP_BIN!$T$79:$CG$79,1,$S78)","v":0},{"$f":"INDEX(WP_BIN!$T$86:$CG$86,1,$S78)","v":0},{"$f":"INDEX(WP_BIN!$T$47:$CG$47,1,$S78)","v":{"$error":"#DIV/0!"}},{"$f":"INDEX(WP_BIN!$T$54:$CG$54,1,$S78)","v":0},null,null,null,{"$f":"IF(WW,Sprache!B123,\"\")","v":""},1]
[null,"Davos",null,-13,4324,1.7,-13,5205,8,null,null,null,null,null,null,null,null,null,20,{"$error":"#VALUE!"},{"$f":"MAX(0.0124-Klimakorr*0.003*(X79/-7),0)","v":1.24E-2},{"$error":"#VALUE!"},{"$f":"IF(BIN,INDEX(BIN!$B$3:$BO$364,4+(Klima-2)*11,S79),IF($M$32>0,ROUND(U79*Heizperiode*$M$31/$M$32,0),ROUND(U79*Heizperiode,0)))","v":{"$error":"#VALUE!"}},-6,{"$f":"IF(BINkorr,INDEX(Berechnungen!$E$81:$BR$81,1,S79)*IF(OR(Methode_384_3,Z79=0),1,AV79/Z79)/Leistungskorr*(1-Kollektor),W79*$T$130*(1-Kollektor))","v":{"$error":"#REF!"}},{"$f":"IF(Heizung,IF(Methode_384_3,INDEX(Berechnungen!$E$79:$BR$79,1,S79),Z78-$Z$77/28),0)","v":0},{"$error":"#VALUE!"},0,{"$error":"#VALUE!"},{"$error":"#VALUE!"},{"$error":"#VALUE!"},{"$error":"#REF!"},{"$f":"IF($AA$77*SUM($W$60:$W78)/Etaw=BedarfWW,0,MAX(MIN($AA$77*W79/Etaw,BedarfWW-$AA$77*SUM($W$60:$W78)/Etaw),0))","v":{"$error":"#VALUE!"}},{"$f":"MAX(AF79+AG79-AD79*Nutzungsgrad-AE79*Nutzungsgrad,0)","v":{"$error":"#REF!"}},{"$f":"MIN(IF(AB79>0,AH79/AB79,0),W79)","v":{"$error":"#VALUE!"}},{"$error":"#VALUE!"},{"$error":"#REF!"},{"$f":"AE79+AD79+IF(Laufzeit_Zusatzheizung>=SUM($Y$60:$Y79),Kesselleistung*$H$45*Y79,0)","v":{"$error":"#VALUE!"}},{"$error":"#VALUE!"},{"$f":"IF(Neu,INDEX(WP_BIN!$T$80:$CG$80,1,S79),AN78+(AN$87-AN$78)/9)","v":0},{"$error":"#VALUE!"},{"$error":"#VALUE!"},{"$f":"AQ78+(AQ$87-AQ$78)/9","v":0},{"$error":"#VALUE!"},{"$error":"#VALUE!"},0,0,{"$f":"INDEX(Berechnungen!$E$79:$BR$79,1,S79)","v":{"$error":"#REF!"}},-6,{"$f":"INDEX(WP_BIN!$T$78:$CG$78,1,$S79)","v":27.857142857142897},{"$f":"INDEX(WP_BIN!$T$43:$CG$43,1,$S79)","v":{"$error":"#DIV/0!"}},{"$f":"INDEX(WP_BIN!$T$79:$CG$79,1,$S79)","v":0},{"$f":"INDEX(WP_BIN!$T$86:$CG$86,1,$S79)","v":0},{"$f":"INDEX(WP_BIN!$T$47:$CG$47,1,$S79)","v":{"$error":"#DIV/0!"}},{"$f":"INDEX(WP_BIN!$T$54:$CG$54,1,$S79)","v":0},null,null,null,{"$f":"IF(WW,Sprache!B124,\"\")","v":""},{"$f":"1-Z145","v":0.95}]
[null,"Disentis",null,-10,4793,3.7,-10,3774,9,null,null,null,null,null,null,null,null,null,21,{"$error":"#VALUE!"},{"$f":"MAX(0.0162-Klimakorr*0.003*(X80/-7),0)","v":1.6199999999999999E-2},{"$error":"#VALUE!"},{"$f":"IF(BIN,INDEX(BIN!$B$3:$BO$364,4+(Klima-2)*11,S80),IF($M$32>0,ROUND(U80*Heizperiode*$M$31/$M$32,0),ROUND(U80*Heizperiode,0)))","v":{"$error":"#VALUE!"}},-5,{"$f":"IF(BINkorr,INDEX(Berechnungen!$E$81:$BR$81,1,S80)*IF(OR(Methode_384_3,Z80=0),1,AV80/Z80)/Leistungskorr*(1-Kollektor),W80*$T$130*(1-Kollektor))","v":{"$error":"#REF!"}},{"$f":"IF(Heizung,IF(Methode_384_3,INDEX(Berechnungen!$E$79:$BR$79,1,S80),Z79-$Z$77/28),0)","v":0},{"$error":"#VALUE!"},0,{"$error":"#VALUE!"},{"$error":"#VALUE!"},{"$error":"#VALUE!"},{"$error":"#REF!"},{"$f":"IF($AA$77*SUM($W$60:$W79)/Etaw=BedarfWW,0,MAX(MIN($AA$77*W80/Etaw,BedarfWW-$AA$77*SUM($W$60:$W79)/Etaw),0))","v":{"$error":"#VALUE!"}},{"$error":"#REF!"},{"$error":"#VALUE!"},{"$error":"#VALUE!"},{"$error":"#REF!"},{"$f":"AE80+AD80+IF(Laufzeit_Zusatzheizung>=SUM($Y$60:$Y80),Kesselleistung*$H$45*Y80,0)","v":{"$error":"#VALUE!"}},{"$error":"#VALUE!"},{"$f":"IF(Neu,INDEX(WP_BIN!$T$80:$CG$80,1,S80),AN79+(AN$87-AN$78)/9)","v":0},{"$error":"#VALUE!"},{"$error":"#VALUE!"},0,{"$error":"#VALUE!"},{"$error":"#VALUE!"},0,0,{"$f":"INDEX(Berechnungen!$E$79:$BR$79,1,S80)","v":{"$error":"#REF!"}},-5,{"$f":"INDEX(WP_BIN!$T$78:$CG$78,1,$S80)","v":27.785714285714324},{"$f":"INDEX(WP_BIN!$T$43:$CG$43,1,$S80)","v":{"$error":"#DIV/0!"}},{"$f":"INDEX(WP_BIN!$T$79:$CG$79,1,$S80)","v":0},{"$f":"INDEX(WP_BIN!$T$86:$CG$86,1,$S80)","v":0},{"$f":"INDEX(WP_BIN!$T$47:$CG$47,1,$S80)","v":{"$error":"#DIV/0!"}},{"$f":"INDEX(WP_BIN!$T$54:$CG$54,1,$S80)","v":0},null,null,null,{"$f":"IF(WW,Sprache!B125,\"\")","v":""},{"$f":"1-Z146","v":1}]
[null,"Engelberg",null,-11,4496,3.1,-11,3852,10,null,null,null,null,null,null,null,null,null,22,{"$error":"#VALUE!"},{"$f":"0.019-Klimakorr*0.003*(X81/-7)","v":1.9E-2},{"$error":"#VALUE!"},{"$f":"IF(BIN,INDEX(BIN!$B$3:$BO$364,4+(Klima-2)*11,S81),IF($M$32>0,ROUND(U81*Heizperiode*$M$31/$M$32,0),ROUND(U81*Heizperiode,0)))","v":{"$error":"#VALUE!"}},-4,{"$f":"IF(BINkorr,INDEX(Berechnungen!$E$81:$BR$81,1,S81)*IF(OR(Methode_384_3,Z81=0),1,AV81/Z81)/Leistungskorr*(1-Kollektor),W81*$T$130*(1-Kollektor))","v":{"$error":"#REF!"}},{"$f":"IF(Heizung,IF(Methode_384_3,INDEX(Berechnungen!$E$79:$BR$79,1,S81),Z80-$Z$77/28),0)","v":0},{"$error":"#VALUE!"},0,{"$error":"#VALUE!"},{"$error":"#VALUE!"},{"$error":"#VALUE!"},{"$error":"#REF!"},{"$f":"IF($AA$77*SUM($W$60:$W80)/Etaw=BedarfWW,0,MAX(MIN($AA$77*W81/Etaw,BedarfWW-$AA$77*SUM($W$60:$W80)/Etaw),0))","v":{"$error":"#VALUE!"}},{"$error":"#REF!"},{"$error":"#VALUE!"},{"$error":"#VALUE!"},{"$error":"#REF!"},{"$f":"AE81+AD81+IF(Laufzeit_Zusatzheizung>=SUM($Y$60:$Y81),Kesselleistung*$H$45*Y81,0)","v":{"$error":"#VALUE!"}},{"$error":"#VALUE!"},{"$f":"IF(Neu,INDEX(WP_BIN!$T$80:$CG$80,1,S81),AN80+(AN$87-AN$78)/9)","v":0},{"$error":"#VALUE!"},{"$error":"#VALUE!"},0,{"$error":"#VALUE!"},{"$error":"#VALUE!"},0,0,{"$f":"INDEX(Berechnungen!$E$79:$BR$79,1,S81)","v":{"$error":"#REF!"}},-4,{"$f":"INDEX(WP_BIN!$T$78:$CG$78,1,$S81)","v":27.714285714285751},{"$f":"INDEX(WP_BIN!$T$43:$CG$43,1,$S81)","v":{"$error":"#DIV/0!"}},{"$f":"INDEX(WP_BIN!$T$79:$CG$79,1,$S81)","v":0},{"$f":"INDEX(WP_BIN!$T$86:$CG$86,1,$S81)","v":0},{"$f":"INDEX(WP_BIN!$T$47:$CG$47,1,$S81)","v":{"$error":"#DIV/0!"}},{"$f":"INDEX(WP_BIN!$T$54:$CG$54,1,$S81)","v":0},null,null,null,{"$f":"IF(WW,Sprache!B152,\"\")","v":""},1]
[null,"Genève-Cointrin",null,-4,3998,5.0999999999999996,-4,2739,11,null,null,null,null,null,null,null,null,null,23,{"$error":"#VALUE!"},{"$f":"0.0285-Klimakorr*0.003*(X82/-7)","v":2.8500000000000001E-2},{"$error":"#VALUE!"},{"$f":"IF(BIN,INDEX(BIN!$B$3:$BO$364,4+(Klima-2)*11,S82),IF($M$32>0,ROUND(U82*Heizperiode*$M$31/$M$32,0),ROUND(U82*Heizperiode,0)))","v":{"$error":"#VALUE!"}},-3,{"$f":"IF(BINkorr,INDEX(Berechnungen!$E$81:$BR$81,1,S82)*IF(OR(Methode_384_3,Z82=0),1,AV82/Z82)/Leistungskorr*(1-Kollektor),W82*$T$130*(1-Kollektor))","v":{"$error":"#REF!"}},{"$f":"IF(Heizung,IF(Methode_384_3,INDEX(Berechnungen!$E$79:$BR$79,1,S82),Z81-$Z$77/28),0)","v":0},{"$error":"#VALUE!"},0,{"$error":"#VALUE!"},{"$error":"#VALUE!"},{"$error":"#VALUE!"},{"$error":"#REF!"},{"$f":"IF($AA$77*SUM($W$60:$W81)/Etaw=BedarfWW,0,MAX(MIN($AA$77*W82/Etaw,BedarfWW-$AA$77*SUM($W$60:$W81)/Etaw),0))","v":{"$error":"#VALUE!"}},{"$error":"#REF!"},{"$error":"#VALUE!"},{"$error":"#VALUE!"},{"$error":"#REF!"},{"$f":"AE82+AD82+IF(Laufzeit_Zusatzheizung>=SUM($Y$60:$Y82),Kesselleistung*$H$45*Y82,0)","v":{"$error":"#VALUE!"}},{"$error":"#VALUE!"},{"$f":"IF(Neu,INDEX(WP_BIN!$T$80:$CG$80,1,S82),AN81+(AN$87-AN$78)/9)","v":0},{"$error":"#VALUE!"},{"$error":"#VALUE!"},0,{"$error":"#VALUE!"},{"$error":"#VALUE!"},0,0,{"$f":"INDEX(Berechnungen!$E$79:$BR$79,1,S82)","v":{"$error":"#REF!"}},-3,{"$f":"INDEX(WP_BIN!$T$78:$CG$78,1,$S82)","v":27.642857142857178},{"$f":"INDEX(WP_BIN!$T$43:$CG$43,1,$S82)","v":{"$error":"#DIV/0!"}},{"$f":"INDEX(WP_BIN!$T$79:$CG$79,1,$S82)","v":0},{"$f":"INDEX(WP_BIN!$T$86:$CG$86,1,$S82)","v":0},{"$f":"INDEX(WP_BIN!$T$47:$CG$47,1,$S82)","v":{"$error":"#DIV/0!"}},{"$f":"INDEX(WP_BIN!$T$54:$CG$54,1,$S82)","v":0},null,null,null,{"$f":"IF(WW,Sprache!B153,\"\")","v":""},1]
[null,"Glarus",null,-8,4453,3.7,-8,3410,12,null,null,null,null,null,null,null,null,null,24,{"$error":"#VALUE!"},{"$f":"0.0342-Klimakorr*0.003*(X83/-7)","v":3.4200000000000001E-2},{"$error":"#VALUE!"},{"$f":"IF(BIN,INDEX(BIN!$B$3:$BO$364,4+(Klima-2)*11,S83),IF($M$32>0,ROUND(U83*Heizperiode*$M$31/$M$32,0),ROUND(U83*Heizperiode,0)))","v":{"$error":"#VALUE!"}},-2,{"$f":"IF(BINkorr,INDEX(Berechnungen!$E$81:$BR$81,1,S83)*IF(OR(Methode_384_3,Z83=0),1,AV83/Z83)/Leistungskorr*(1-Kollektor),W83*$T$130*(1-Kollektor))","v":{"$error":"#REF!"}},{"$f":"IF(Heizung,IF(Methode_384_3,INDEX(Berechnungen!$E$79:$BR$79,1,S83),Z82-$Z$77/28),0)","v":0},{"$error":"#VALUE!"},0,{"$error":"#VALUE!"},{"$error":"#VALUE!"},{"$error":"#VALUE!"},{"$error":"#REF!"},{"$f":"IF($AA$77*SUM($W$60:$W82)/Etaw=BedarfWW,0,MAX(MIN($AA$77*W83/Etaw,BedarfWW-$AA$77*SUM($W$60:$W82)/Etaw),0))","v":{"$error":"#VALUE!"}},{"$error":"#REF!"},{"$error":"#VALUE!"},{"$error":"#VALUE!"},{"$error":"#REF!"},{"$f":"AE83+AD83+IF(Laufzeit_Zusatzheizung>=SUM($Y$60:$Y83),Kesselleistung*$H$45*Y83,0)","v":{"$error":"#VALUE!"}},{"$error":"#VALUE!"},{"$f":"IF(Neu,INDEX(WP_BIN!$T$80:$CG$80,1,S83),AN82+(AN$87-AN$78)/9)","v":0},{"$error":"#VALUE!"},{"$error":"#VALUE!"},0,{"$error":"#VALUE!"},{"$error":"#VALUE!"},0,0,{"$f":"INDEX(Berechnungen!$E$79:$BR$79,1,S83)","v":{"$error":"#REF!"}},-2,{"$f":"INDEX(WP_BIN!$T$78:$CG$78,1,$S83)","v":27.571428571428605},{"$f":"INDEX(WP_BIN!$T$43:$CG$43,1,$S83)","v":{"$error":"#DIV/0!"}},{"$f":"INDEX(WP_BIN!$T$79:$CG$79,1,$S83)","v":0},{"$f":"INDEX(WP_BIN!$T$86:$CG$86,1,$S83)","v":0},{"$f":"INDEX(WP_BIN!$T$47:$CG$47,1,$S83)","v":{"$error":"#DIV/0!"}},{"$f":"INDEX(WP_BIN!$T$54:$CG$54,1,$S83)","v":0},null,null,null,{"$f":"J40","v":1},{"$f":"INDEX($BH77:$BH82,BG83,1)","v":1}]
[null,"Grosser St. Bernhard",null,-15,3809,-1.1000000000000001,-15,7473,13,null,null,null,null,null,null,null,null,null,25,{"$error":"#VALUE!"},{"$f":"0.0437-Klimakorr*0.003*(X84/-7)","v":4.3700000000000003E-2},{"$error":"#VALUE!"},{"$f":"IF(BIN,INDEX(BIN!$B$3:$BO$364,4+(Klima-2)*11,S84),IF($M$32>0,ROUND(U84*Heizperiode*$M$31/$M$32,0),ROUND(U84*Heizperiode,0)))","v":{"$error":"#VALUE!"}},-1,{"$f":"IF(BINkorr,INDEX(Berechnungen!$E$81:$BR$81,1,S84)*IF(OR(Methode_384_3,Z84=0),1,AV84/Z84)/Leistungskorr*(1-Kollektor),W84*$T$130*(1-Kollektor))","v":{"$error":"#REF!"}},{"$f":"IF(Heizung,IF(Methode_384_3,INDEX(Berechnungen!$E$79:$BR$79,1,S84),Z83-$Z$77/28),0)","v":0},{"$error":"#VALUE!"},0,{"$error":"#VALUE!"},{"$error":"#VALUE!"},{"$error":"#VALUE!"},{"$error":"#REF!"},{"$f":"IF($AA$77*SUM($W$60:$W83)/Etaw=BedarfWW,0,MAX(MIN($AA$77*W84/Etaw,BedarfWW-$AA$77*SUM($W$60:$W83)/Etaw),0))","v":{"$error":"#VALUE!"}},{"$error":"#REF!"},{"$error":"#VALUE!"},{"$error":"#VALUE!"},{"$error":"#REF!"},{"$f":"AE84+AD84+IF(Laufzeit_Zusatzheizung>=SUM($Y$60:$Y84),Kesselleistung*$H$45*Y84,0)","v":{"$error":"#VALUE!"}},{"$error":"#VALUE!"},{"$f":"IF(Neu,INDEX(WP_BIN!$T$80:$CG$80,1,S84),AN83+(AN$87-AN$78)/9)","v":0},{"$error":"#VALUE!"},{"$error":"#VALUE!"},0,{"$error":"#VALUE!"},{"$error":"#VALUE!"},0,0,{"$f":"INDEX(Berechnungen!$E$79:$BR$79,1,S84)","v":{"$error":"#REF!"}},-1,{"$f":"INDEX(WP_BIN!$T$78:$CG$78,1,$S84)","v":27.500000000000032},{"$f":"INDEX(WP_BIN!$T$43:$CG$43,1,$S84)","v":{"$error":"#DIV/0!"}},{"$f":"INDEX(WP_BIN!$T$79:$CG$79,1,$S84)","v":0},{"$f":"INDEX(WP_BIN!$T$86:$CG$86,1,$S84)","v":0},{"$f":"INDEX(WP_BIN!$T$47:$CG$47,1,$S84)","v":{"$error":"#DIV/0!"}},{"$f":"INDEX(WP_BIN!$T$54:$CG$54,1,$S84)","v":0},null,null,null,{"$f":"INDEX(BG77:BG82,BG83,1)","v":0}]
[null,"Güttingen",null,-7,4868,4.2,-7,3316,14,null,null,null,null,null,null,null,null,null,26,{"$error":"#VALUE!"},{"$f":"0.0532-Klimakorr*0.003*(X85/-7)","v":5.3199999999999997E-2},{"$error":"#VALUE!"},{"$f":"IF(BIN,INDEX(BIN!$B$3:$BO$364,4+(Klima-2)*11,S85),IF($M$32>0,ROUND(U85*Heizperiode*$M$31/$M$32,0),ROUND(U85*Heizperiode,0)))","v":{"$error":"#VALUE!"}},0,{"$f":"IF(BINkorr,INDEX(Berechnungen!$E$81:$BR$81,1,S85)*IF(OR(Methode_384_3,Z85=0),1,AV85/Z85)/Leistungskorr*(1-Kollektor),W85*$T$130*(1-Kollektor))","v":{"$error":"#REF!"}},{"$f":"IF(Heizung,IF(Methode_384_3,INDEX(Berechnungen!$E$79:$BR$79,1,S85),Z84-$Z$77/28),0)","v":0},{"$error":"#VALUE!"},0,{"$error":"#VALUE!"},{"$error":"#VALUE!"},{"$error":"#VALUE!"},{"$error":"#REF!"},{"$f":"IF($AA$77*SUM($W$60:$W84)/Etaw=BedarfWW,0,MAX(MIN($AA$77*W85/Etaw,BedarfWW-$AA$77*SUM($W$60:$W84)/Etaw),0))","v":{"$error":"#VALUE!"}},{"$error":"#REF!"},{"$error":"#VALUE!"},{"$error":"#VALUE!"},{"$error":"#REF!"},{"$f":"AE85+AD85+IF(Laufzeit_Zusatzheizung>=SUM($Y$60:$Y85),Kesselleistung*$H$45*Y85,0)","v":{"$error":"#VALUE!"}},{"$error":"#VALUE!"},{"$f":"IF(Neu,INDEX(WP_BIN!$T$80:$CG$80,1,S85),AN84+(AN$87-AN$78)/9)","v":0},{"$error":"#VALUE!"},{"$error":"#VALUE!"},0,{"$error":"#VALUE!"},{"$error":"#VALUE!"},0,0,{"$f":"INDEX(Berechnungen!$E$79:$BR$79,1,S85)","v":{"$error":"#REF!"}},0,{"$f":"INDEX(WP_BIN!$T$78:$CG$78,1,$S85)","v":27.428571428571459},{"$f":"INDEX(WP_BIN!$T$43:$CG$43,1,$S85)","v":{"$error":"#DIV/0!"}},{"$f":"INDEX(WP_BIN!$T$79:$CG$79,1,$S85)","v":0},{"$f":"INDEX(WP_BIN!$T$86:$CG$86,1,$S85)","v":0},{"$f":"INDEX(WP_BIN!$T$47:$CG$47,1,$S85)","v":{"$error":"#DIV/0!"}},{"$f":"INDEX(WP_BIN!$T$54:$CG$54,1,$S85)","v":0},null,null,null,{"$f":"IF(BG83>2,TRUE,FALSE)","v":false}]
[null,"La Chaux-de-Fonds",null,-10,3981,4.0999999999999996,-10,3786,15,null,null,null,null,null,null,null,null,null,27,{"$error":"#VALUE!"},{"$f":"0.0627-Klimakorr*0.003*(X86/-7)","v":6.2700000000000006E-2},{"$error":"#VALUE!"},{"$f":"IF(BIN,INDEX(BIN!$B$3:$BO$364,4+(Klima-2)*11,S86),IF($M$32>0,ROUND(U86*Heizperiode*$M$31/$M$32,0),ROUND(U86*Heizperiode,0)))","v":{"$error":"#VALUE!"}},1,{"$f":"IF(BINkorr,INDEX(Berechnungen!$E$81:$BR$81,1,S86)*IF(OR(Methode_384_3,Z86=0),1,AV86/Z86)/Leistungskorr*(1-Kollektor),W86*$T$130*(1-Kollektor))","v":{"$error":"#REF!"}},{"$f":"IF(Heizung,IF(Methode_384_3,INDEX(Berechnungen!$E$79:$BR$79,1,S86),Z85-$Z$77/28),0)","v":0},{"$error":"#VALUE!"},0,{"$error":"#VALUE!"},{"$error":"#VALUE!"},{"$error":"#VALUE!"},{"$error":"#REF!"},{"$f":"IF($AA$77*SUM($W$60:$W85)/Etaw=BedarfWW,0,MAX(MIN($AA$77*W86/Etaw,BedarfWW-$AA$77*SUM($W$60:$W85)/Etaw),0))","v":{"$error":"#VALUE!"}},{"$error":"#REF!"},{"$error":"#VALUE!"},{"$error":"#VALUE!"},{"$error":"#REF!"},{"$f":"AE86+AD86+IF(Laufzeit_Zusatzheizung>=SUM($Y$60:$Y86),Kesselleistung*$H$45*Y86,0)","v":{"$error":"#VALUE!"}},{"$error":"#VALUE!"},{"$f":"IF(Neu,INDEX(WP_BIN!$T$80:$CG$80,1,S86),AN85+(AN$87-AN$78)/9)","v":0},{"$error":"#VALUE!"},{"$error":"#VALUE!"},0,{"$error":"#VALUE!"},{"$error":"#VALUE!"},0,0,{"$f":"INDEX(Berechnungen!$E$79:$BR$79,1,S86)","v":{"$error":"#REF!"}},1,{"$f":"INDEX(WP_BIN!$T$78:$CG$78,1,$S86)","v":27.357142857142886},{"$f":"INDEX(WP_BIN!$T$43:$CG$43,1,$S86)","v":{"$error":"#DIV/0!"}},{"$f":"INDEX(WP_BIN!$T$79:$CG$79,1,$S86)","v":0},{"$f":"INDEX(WP_BIN!$T$86:$CG$86,1,$S86)","v":0},{"$f":"INDEX(WP_BIN!$T$47:$CG$47,1,$S86)","v":{"$error":"#DIV/0!"}},{"$f":"INDEX(WP_BIN!$T$54:$CG$54,1,$S86)","v":0}]
[null,"Locarno-Monti",null,-1,4101,5.5,-1,2147,16,null,null,null,null,null,null,null,null,null,28,{"$error":"#VALUE!"},{"$f":"0.0665-Klimakorr*0.003*(X87/-7)","v":6.6500000000000004E-2},{"$error":"#VALUE!"},{"$f":"IF(BIN,INDEX(BIN!$B$3:$BO$364,4+(Klima-2)*11,S87),IF($M$32>0,ROUND(U87*Heizperiode*$M$31/$M$32,0),ROUND(U87*Heizperiode,0)))","v":{"$error":"#VALUE!"}},2,{"$f":"IF(BINkorr,INDEX(Berechnungen!$E$81:$BR$81,1,S87)*IF(OR(Methode_384_3,Z87=0),1,AV87/Z87)/Leistungskorr*(1-Kollektor),W87*$T$130*(1-Kollektor))","v":{"$error":"#REF!"}},{"$f":"IF(Heizung,IF(Methode_384_3,INDEX(Berechnungen!$E$79:$BR$79,1,S87),Z86-$Z$77/28),0)","v":0},{"$error":"#VALUE!"},0,{"$error":"#VALUE!"},{"$error":"#VALUE!"},{"$error":"#VALUE!"},{"$error":"#REF!"},{"$f":"IF($AA$77*SUM($W$60:$W86)/Etaw=BedarfWW,0,MAX(MIN($AA$77*W87/Etaw,BedarfWW-$AA$77*SUM($W$60:$W86)/Etaw),0))","v":{"$error":"#VALUE!"}},{"$error":"#REF!"},{"$error":"#VALUE!"},{"$error":"#VALUE!"},{"$error":"#REF!"},{"$f":"AE87+AD87+IF(Laufzeit_Zusatzheizung>=SUM($Y$60:$Y87),Kesselleistung*$H$45*Y87,0)","v":{"$error":"#VALUE!"}},{"$error":"#VALUE!"},{"$f":"IF(Neu,INDEX(WP_BIN!$T$80:$CG$80,1,S87),IF(WPArt=2,IF(V21>0,V21,0),IF(OR(WPArt=3,WPArt=5),IF(W52>0,IF(H33<>0,M41,I32),0),IF(WPArt=4,IF(I27>0,I27,0),)))*(Etah*wh+Etaw*www)*(24-IF(Sperrzeit<>\"\",Sperrzeit,0))/24)","v":0},{"$error":"#VALUE!"},{"$error":"#VALUE!"},{"$f":"AN18*(24-IF(Sperrzeit<>\"\",Sperrzeit,0))/24*(Etah*wh+Etaw*www)","v":0},{"$error":"#VALUE!"},{"$error":"#VALUE!"},0,0,{"$f":"INDEX(Berechnungen!$E$79:$BR$79,1,S87)","v":{"$error":"#REF!"}},2,{"$f":"INDEX(WP_BIN!$T$78:$CG$78,1,$S87)","v":27.285714285714313},{"$f":"INDEX(WP_BIN!$T$43:$CG$43,1,$S87)","v":{"$error":"#DIV/0!"}},{"$f":"INDEX(WP_BIN!$T$79:$CG$79,1,$S87)","v":0},{"$f":"INDEX(WP_BIN!$T$86:$CG$86,1,$S87)","v":0},{"$f":"INDEX(WP_BIN!$T$47:$CG$47,1,$S87)","v":{"$error":"#DIV/0!"}},{"$f":"INDEX(WP_BIN!$T$54:$CG$54,1,$S87)","v":0}]
[null,"Lugano",null,-1,2644,5.8,-1,2144,17,null,null,null,null,null,null,null,null,null,29,{"$error":"#VALUE!"},{"$f":"0.0745-Klimakorr*0.003*(X88/-7)","v":7.4499999999999997E-2},{"$error":"#VALUE!"},{"$f":"IF(BIN,INDEX(BIN!$B$3:$BO$364,4+(Klima-2)*11,S88),IF($M$32>0,ROUND(U88*Heizperiode*$M$31/$M$32,0),ROUND(U88*Heizperiode,0)))","v":{"$error":"#VALUE!"}},3,{"$f":"IF(BINkorr,INDEX(Berechnungen!$E$81:$BR$81,1,S88)*IF(OR(Methode_384_3,Z88=0),1,AV88/Z88)/Leistungskorr*(1-Kollektor),W88*$T$130*(1-Kollektor))","v":{"$error":"#REF!"}},{"$f":"IF(Heizung,IF(Methode_384_3,INDEX(Berechnungen!$E$79:$BR$79,1,S88),Z87-$Z$77/28),0)","v":0},{"$error":"#VALUE!"},0,{"$error":"#VALUE!"},{"$error":"#VALUE!"},{"$error":"#VALUE!"},{"$error":"#REF!"},{"$f":"IF($AA$77*SUM($W$60:$W87)/Etaw=BedarfWW,0,MAX(MIN($AA$77*W88/Etaw,BedarfWW-$AA$77*SUM($W$60:$W87)/Etaw),0))","v":{"$error":"#VALUE!"}},{"$error":"#REF!"},{"$error":"#VALUE!"},{"$error":"#VALUE!"},{"$error":"#REF!"},{"$f":"AE88+AD88+IF(Laufzeit_Zusatzheizung>=SUM($Y$60:$Y88),Kesselleistung*$H$45*Y88,0)","v":{"$error":"#VALUE!"}},{"$error":"#VALUE!"},{"$f":"IF(Neu,INDEX(WP_BIN!$T$80:$CG$80,1,S88),AN87+(AN$92-AN$87)/5)","v":0},{"$error":"#VALUE!"},{"$error":"#VALUE!"},{"$f":"AQ87+(AQ$92-AQ$87)/5","v":0},{"$error":"#VALUE!"},{"$error":"#VALUE!"},0,0,{"$f":"INDEX(Berechnungen!$E$79:$BR$79,1,S88)","v":{"$error":"#REF!"}},3,{"$f":"INDEX(WP_BIN!$T$78:$CG$78,1,$S88)","v":27.21428571428574},{"$f":"INDEX(WP_BIN!$T$43:$CG$43,1,$S88)","v":{"$error":"#DIV/0!"}},{"$f":"INDEX(WP_BIN!$T$79:$CG$79,1,$S88)","v":0},{"$f":"INDEX(WP_BIN!$T$86:$CG$86,1,$S88)","v":0},{"$f":"INDEX(WP_BIN!$T$47:$CG$47,1,$S88)","v":{"$error":"#DIV/0!"}},{"$f":"INDEX(WP_BIN!$T$54:$CG$54,1,$S88)","v":0}]
[null,"Luzern",null,-6,4158,4.3,-6,2917,18,null,null,null,null,null,null,null,null,null,30,{"$error":"#VALUE!"},{"$f":"0.0778-Klimakorr*0.003*(X89/-7)","v":7.7799999999999994E-2},{"$error":"#VALUE!"},{"$f":"IF(BIN,INDEX(BIN!$B$3:$BO$364,4+(Klima-2)*11,S89),IF($M$32>0,ROUND(U89*Heizperiode*$M$31/$M$32,0),ROUND(U89*Heizperiode,0)))","v":{"$error":"#VALUE!"}},4,{"$f":"IF(BINkorr,INDEX(Berechnungen!$E$81:$BR$81,1,S89)*IF(OR(Methode_384_3,Z89=0),1,AV89/Z89)/Leistungskorr*(1-Kollektor),W89*$T$130*(1-Kollektor))","v":{"$error":"#REF!"}},{"$f":"IF(Heizung,IF(Methode_384_3,INDEX(Berechnungen!$E$79:$BR$79,1,S89),Z88-$Z$77/28),0)","v":0},{"$error":"#VALUE!"},0,{"$error":"#VALUE!"},{"$error":"#VALUE!"},{"$error":"#VALUE!"},{"$error":"#REF!"},{"$f":"IF($AA$77*SUM($W$60:$W88)/Etaw=BedarfWW,0,MAX(MIN($AA$77*W89/Etaw,BedarfWW-$AA$77*SUM($W$60:$W88)/Etaw),0))","v":{"$error":"#VALUE!"}},{"$error":"#REF!"},{"$error":"#VALUE!"},{"$error":"#VALUE!"},{"$error":"#REF!"},{"$f":"AE89+AD89+IF(Laufzeit_Zusatzheizung>=SUM($Y$60:$Y89),Kesselleistung*$H$45*Y89,0)","v":{"$error":"#VALUE!"}},{"$error":"#VALUE!"},{"$f":"IF(Neu,INDEX(WP_BIN!$T$80:$CG$80,1,S89),AN88+(AN$92-AN$87)/5)","v":0},{"$error":"#VALUE!"},{"$error":"#VALUE!"},{"$f":"AQ88+(AQ$92-AQ$87)/5","v":0},{"$error":"#VALUE!"},{"$error":"#VALUE!"},0,0,{"$f":"INDEX(Berechnungen!$E$79:$BR$79,1,S89)","v":{"$error":"#REF!"}},4,{"$f":"INDEX(WP_BIN!$T$78:$CG$78,1,$S89)","v":27.142857142857167},{"$f":"INDEX(WP_BIN!$T$43:$CG$43,1,$S89)","v":{"$error":"#DIV/0!"}},{"$f":"INDEX(WP_BIN!$T$79:$CG$79,1,$S89)","v":0},{"$f":"INDEX(WP_BIN!$T$86:$CG$86,1,$S89)","v":0},{"$f":"INDEX(WP_BIN!$T$47:$CG$47,1,$S89)","v":{"$error":"#DIV/0!"}},{"$f":"INDEX(WP_BIN!$T$54:$CG$54,1,$S89)","v":0}]
[null,"Magadino",null,-3,4513,5.8,-3,2377,19,null,null,null,null,null,null,null,null,null,31,{"$error":"#VALUE!"},{"$f":"0.0709-Klimakorr*0.003*(X90/-7)","v":7.0900000000000005E-2},{"$error":"#VALUE!"},{"$f":"IF(BIN,INDEX(BIN!$B$3:$BO$364,4+(Klima-2)*11,S90),IF($M$32>0,ROUND(U90*Heizperiode*$M$31/$M$32,0),ROUND(U90*Heizperiode,0)))","v":{"$error":"#VALUE!"}},5,{"$f":"IF(BINkorr,INDEX(Berechnungen!$E$81:$BR$81,1,S90)*IF(OR(Methode_384_3,Z90=0),1,AV90/Z90)/Leistungskorr*(1-Kollektor),W90*$T$130*(1-Kollektor))","v":{"$error":"#REF!"}},{"$f":"IF(Heizung,IF(Methode_384_3,INDEX(Berechnungen!$E$79:$BR$79,1,S90),Z89-$Z$77/28),0)","v":0},{"$error":"#VALUE!"},0,{"$error":"#VALUE!"},{"$error":"#VALUE!"},{"$error":"#VALUE!"},{"$error":"#REF!"},{"$f":"IF($AA$77*SUM($W$60:$W89)/Etaw=BedarfWW,0,MAX(MIN($AA$77*W90/Etaw,BedarfWW-$AA$77*SUM($W$60:$W89)/Etaw),0))","v":{"$error":"#VALUE!"}},{"$error":"#REF!"},{"$error":"#VALUE!"},{"$error":"#VALUE!"},{"$error":"#REF!"},{"$f":"AE90+AD90+IF(Laufzeit_Zusatzheizung>=SUM($Y$60:$Y90),Kesselleistung*$H$45*Y90,0)","v":{"$error":"#VALUE!"}},{"$error":"#VALUE!"},{"$f":"IF(Neu,INDEX(WP_BIN!$T$80:$CG$80,1,S90),AN89+(AN$92-AN$87)/5)","v":0},{"$error":"#VALUE!"},{"$error":"#VALUE!"},{"$f":"AQ89+(AQ$92-AQ$87)/5","v":0},{"$error":"#VALUE!"},{"$error":"#VALUE!"},0,0,{"$f":"INDEX(Berechnungen!$E$79:$BR$79,1,S90)","v":{"$error":"#REF!"}},5,{"$f":"INDEX(WP_BIN!$T$78:$CG$78,1,$S90)","v":27.071428571428594},{"$f":"INDEX(WP_BIN!$T$43:$CG$43,1,$S90)","v":{"$error":"#DIV/0!"}},{"$f":"INDEX(WP_BIN!$T$79:$CG$79,1,$S90)","v":0},{"$f":"INDEX(WP_BIN!$T$86:$CG$86,1,$S90)","v":0},{"$f":"INDEX(WP_BIN!$T$47:$CG$47,1,$S90)","v":{"$error":"#DIV/0!"}},{"$f":"INDEX(WP_BIN!$T$54:$CG$54,1,$S90)","v":0}]
[null,"Montana",null,-10,4429,3.4,-10,4274,20,null,null,null,null,null,null,null,null,null,32,{"$error":"#VALUE!"},{"$f":"0.0741-Klimakorr*0.003*(X91/-7)","v":7.4099999999999999E-2},{"$error":"#VALUE!"},{"$f":"IF(BIN,INDEX(BIN!$B$3:$BO$364,4+(Klima-2)*11,S91),IF($M$32>0,ROUND(U91*Heizperiode*$M$31/$M$32,0),ROUND(U91*Heizperiode,0)))","v":{"$error":"#VALUE!"}},6,{"$f":"IF(BINkorr,INDEX(Berechnungen!$E$81:$BR$81,1,S91)*IF(OR(Methode_384_3,Z91=0),1,AV91/Z91)/Leistungskorr*(1-Kollektor),W91*$T$130*(1-Kollektor))","v":{"$error":"#REF!"}},{"$f":"IF(Heizung,IF(Methode_384_3,INDEX(Berechnungen!$E$79:$BR$79,1,S91),Z90-$Z$77/28),0)","v":0},{"$error":"#VALUE!"},0,{"$error":"#VALUE!"},{"$error":"#VALUE!"},{"$error":"#VALUE!"},{"$error":"#REF!"},{"$f":"IF($AA$77*SUM($W$60:$W90)/Etaw=BedarfWW,0,MAX(MIN($AA$77*W91/Etaw,BedarfWW-$AA$77*SUM($W$60:$W90)/Etaw),0))","v":{"$error":"#VALUE!"}},{"$error":"#REF!"},{"$error":"#VALUE!"},{"$error":"#VALUE!"},{"$error":"#REF!"},{"$f":"AE91+AD91+IF(Laufzeit_Zusatzheizung>=SUM($Y$60:$Y91),Kesselleistung*$H$45*Y91,0)","v":{"$error":"#VALUE!"}},{"$error":"#VALUE!"},{"$f":"IF(Neu,INDEX(WP_BIN!$T$80:$CG$80,1,S91),AN90+(AN$92-AN$87)/5)","v":0},{"$error":"#VALUE!"},{"$error":"#VALUE!"},{"$f":"AQ90+(AQ$92-AQ$87)/5","v":0},{"$error":"#VALUE!"},{"$error":"#VALUE!"},0,0,{"$f":"INDEX(Berechnungen!$E$79:$BR$79,1,S91)","v":{"$error":"#REF!"}},6,{"$f":"INDEX(WP_BIN!$T$78:$CG$78,1,$S91)","v":27.000000000000021},{"$f":"INDEX(WP_BIN!$T$43:$CG$43,1,$S91)","v":{"$error":"#DIV/0!"}},{"$f":"INDEX(WP_BIN!$T$79:$CG$79,1,$S91)","v":0},{"$f":"INDEX(WP_BIN!$T$86:$CG$86,1,$S91)","v":0},{"$f":"INDEX(WP_BIN!$T$47:$CG$47,1,$S91)","v":{"$error":"#DIV/0!"}},{"$f":"INDEX(WP_BIN!$T$54:$CG$54,1,$S91)","v":0}]
[null,"Neuchâtel",null,-5,3767,4.5,-5,2799,21,null,null,null,null,null,null,null,null,null,33,{"$error":"#VALUE!"},{"$f":"0.0688-Klimakorr*0.003*(X92/-7)","v":6.88E-2},{"$error":"#VALUE!"},{"$f":"IF(BIN,INDEX(BIN!$B$3:$BO$364,4+(Klima-2)*11,S92),IF($M$32>0,ROUND(U92*Heizperiode*$M$31/$M$32,0),ROUND(U92*Heizperiode,0)))","v":{"$error":"#VALUE!"}},7,{"$f":"IF(BINkorr,INDEX(Berechnungen!$E$81:$BR$81,1,S92)*IF(OR(Methode_384_3,Z92=0),1,AV92/Z92)/Leistungskorr*(1-Kollektor),W92*$T$130*(1-Kollektor))","v":{"$error":"#REF!"}},{"$f":"IF(Heizung,IF(Methode_384_3,INDEX(Berechnungen!$E$79:$BR$79,1,S92),Z91-$Z$77/28),0)","v":0},{"$error":"#VALUE!"},0,{"$error":"#VALUE!"},{"$error":"#VALUE!"},{"$error":"#VALUE!"},{"$error":"#REF!"},{"$f":"IF($AA$77*SUM($W$60:$W91)/Etaw=BedarfWW,0,MAX(MIN($AA$77*W92/Etaw,BedarfWW-$AA$77*SUM($W$60:$W91)/Etaw),0))","v":{"$error":"#VALUE!"}},{"$error":"#REF!"},{"$error":"#VALUE!"},{"$error":"#VALUE!"},{"$error":"#REF!"},{"$f":"AE92+AD92+IF(Laufzeit_Zusatzheizung>=SUM($Y$60:$Y125),Kesselleistung*$H$45*Y92,0)","v":{"$error":"#VALUE!"}},{"$error":"#VALUE!"},{"$f":"IF(Neu,INDEX(WP_BIN!$T$80:$CG$80,1,S92),IF(WPArt=2,IF(V22>0,V22,1),IF(OR(WPArt=3,WPArt=5),IF(W52>0,IF(H33<>0,M41,I32),1),IF(WPArt=4,IF(I27>0,I27,1),)))*(Etah*wh+Etaw*www)*(24-IF(Sperrzeit<>\"\",Sperrzeit,0))/24)","v":0},{"$error":"#VALUE!"},{"$error":"#VALUE!"},{"$f":"AN19*(24-IF(Sperrzeit<>\"\",Sperrzeit,0))/24*(Etah*wh+Etaw*www)","v":0},{"$error":"#VALUE!"},{"$error":"#VALUE!"},0,0,{"$f":"INDEX(Berechnungen!$E$79:$BR$79,1,S92)","v":{"$error":"#REF!"}},7,{"$f":"INDEX(WP_BIN!$T$78:$CG$78,1,$S92)","v":26.928571428571448},{"$f":"INDEX(WP_BIN!$T$43:$CG$43,1,$S92)","v":{"$error":"#DIV/0!"}},{"$f":"INDEX(WP_BIN!$T$79:$CG$79,1,$S92)","v":0},{"$f":"INDEX(WP_BIN!$T$86:$CG$86,1,$S92)","v":0},{"$f":"INDEX(WP_BIN!$T$47:$CG$47,1,$S92)","v":{"$error":"#DIV/0!"}},{"$f":"INDEX(WP_BIN!$T$54:$CG$54,1,$S92)","v":0}]
[null,"Payerne",null,-7,4321,4.0999999999999996,-7,2968,22,null,null,null,null,null,null,null,null,null,34,0,null,0,{"$f":"IF(BIN,INDEX(BIN!$B$3:$BO$364,4+(Klima-2)*11,S93),0)","v":0},8,{"$f":"IF(BINkorr,INDEX(Berechnungen!$E$81:$BR$81,1,S93)*IF(OR(Methode_384_3,Z93=0),1,AV93/Z93)/Leistungskorr*(1-Kollektor),W93*$T$130*(1-Kollektor))","v":{"$error":"#REF!"}},{"$f":"IF(Heizung,IF(Methode_384_3,INDEX(Berechnungen!$E$79:$BR$79,1,S93),IF(IF(Heizung,Z92-$Z$77/28,0)>0,IF(Heizung,Z92-$Z$77/28,0),0)),0)","v":0},{"$error":"#VALUE!"},{"$f":"IF(Bivalenzpunkt<X93,AN93,0)","v":0},{"$error":"#VALUE!"},{"$error":"#VALUE!"},{"$error":"#VALUE!"},{"$error":"#REF!"},{"$f":"IF($AA$77*SUM($W$60:$W92)/Etaw=BedarfWW,0,MAX(MIN($AA$77*W93/Etaw,BedarfWW-$AA$77*SUM($W$60:$W92)/Etaw),0))","v":{"$error":"#VALUE!"}},{"$error":"#REF!"},0,0,{"$error":"#REF!"},{"$f":"AE93+AD93+IF(Laufzeit_Zusatzheizung>=SUM($Y$60:$Y126),Kesselleistung*$H$45*Y93,0)","v":{"$error":"#VALUE!"}},{"$error":"#VALUE!"},{"$f":"IF(Neu,INDEX(WP_BIN!$T$80:$CG$80,1,S93),AZ93)","v":0},{"$error":"#VALUE!"},{"$error":"#VALUE!"},{"$f":"AQ92+(AQ$92-AQ$87)/5","v":0},{"$error":"#VALUE!"},0,0,0,{"$f":"INDEX(Berechnungen!$E$79:$BR$79,1,S93)","v":{"$error":"#REF!"}},8,{"$f":"INDEX(WP_BIN!$T$78:$CG$78,1,$S93)","v":26.857142857142875},{"$f":"INDEX(WP_BIN!$T$43:$CG$43,1,$S93)","v":{"$error":"#DIV/0!"}},{"$f":"INDEX(WP_BIN!$T$79:$CG$79,1,$S93)","v":0},{"$f":"INDEX(WP_BIN!$T$86:$CG$86,1,$S93)","v":0},{"$f":"INDEX(WP_BIN!$T$47:$CG$47,1,$S93)","v":{"$error":"#DIV/0!"}},{"$f":"INDEX(WP_BIN!$T$54:$CG$54,1,$S93)","v":0}]
[null,"Robbia",null,-8,5040,3.7,-8,3740,23,null,null,null,null,null,null,null,null,null,35,0,null,0,{"$f":"IF(BIN,INDEX(BIN!$B$3:$BO$364,4+(Klima-2)*11,S94),0)","v":0},9,{"$f":"IF(BINkorr,INDEX(Berechnungen!$E$81:$BR$81,1,S94)*IF(OR(Methode_384_3,Z94=0),1,AV94/Z94)/Leistungskorr*(1-Kollektor),W94*$T$130*(1-Kollektor))","v":{"$error":"#REF!"}},{"$f":"IF(Heizung,IF(Methode_384_3,INDEX(Berechnungen!$E$79:$BR$79,1,S94),IF(IF(Heizung,Z93-$Z$77/28,0)>0,IF(Heizung,Z93-$Z$77/28,0),0)),0)","v":0},{"$f":"IF(AG94>0,$AA$77,0)","v":{"$error":"#VALUE!"}},0,{"$f":"MAX(Z94+AA94-AB94,0)/Nutzungsgrad","v":{"$error":"#VALUE!"}},{"$error":"#VALUE!"},{"$error":"#VALUE!"},{"$error":"#REF!"},{"$f":"IF($AA$77*SUM($W$60:$W93)/Etaw=BedarfWW,0,MAX(MIN($AA$77*W94/Etaw,BedarfWW-$AA$77*SUM($W$60:$W93)/Etaw),0))","v":{"$error":"#VALUE!"}},{"$f":"MAX(AF94+AG94-AD94*Nutzungsgrad-AE94*Nutzungsgrad,0)","v":{"$error":"#REF!"}},{"$f":"MIN(IF(AB94>0,AH94/AB94,0),W94)","v":0},{"$f":"Z94*W94","v":0},{"$f":"MAX(AF94-AD94*Nutzungsgrad,0)","v":{"$error":"#REF!"}},{"$f":"AE94+AD94+IF(Laufzeit_Zusatzheizung>=SUM($Y$60:$Y127),Kesselleistung*$H$45*Y94,0)","v":{"$error":"#VALUE!"}},{"$error":"#VALUE!"},{"$f":"IF(Neu,INDEX(WP_BIN!$T$80:$CG$80,1,S94),AZ94)","v":0},{"$f":"IF(AE94>AM94,AE94-AM94,0)","v":{"$error":"#VALUE!"}},{"$f":"AL94-AM94-AO94","v":{"$error":"#VALUE!"}},{"$f":"AQ93+(AQ$92-AQ$87)/5","v":0},{"$f":"W94*$T$130","v":{"$error":"#VALUE!"}},0,0,0,{"$f":"INDEX(Berechnungen!$E$79:$BR$79,1,S94)","v":{"$error":"#REF!"}},9,{"$f":"INDEX(WP_BIN!$T$78:$CG$78,1,$S94)","v":26.785714285714302},{"$f":"INDEX(WP_BIN!$T$43:$CG$43,1,$S94)","v":{"$error":"#DIV/0!"}},{"$f":"INDEX(WP_BIN!$T$79:$CG$79,1,$S94)","v":0},{"$f":"INDEX(WP_BIN!$T$86:$CG$86,1,$S94)","v":0},{"$f":"INDEX(WP_BIN!$T$47:$CG$47,1,$S94)","v":{"$error":"#DIV/0!"}},{"$f":"INDEX(WP_BIN!$T$54:$CG$54,1,$S94)","v":0}]
[null,"Samedan",null,-18,4018,1.2,-18,6121,24,null,null,null,null,null,null,null,null,null,36,0,null,0,{"$f":"IF(BIN,INDEX(BIN!$B$3:$BO$364,4+(Klima-2)*11,S95),0)","v":0},10,{"$f":"IF(BINkorr,INDEX(Berechnungen!$E$81:$BR$81,1,S95)*IF(OR(Methode_384_3,Z95=0),1,AV95/Z95)/Leistungskorr*(1-Kollektor),W95*$T$130*(1-Kollektor))","v":{"$error":"#REF!"}},{"$f":"IF(Heizung,IF(Methode_384_3,INDEX(Berechnungen!$E$79:$BR$79,1,S95),IF(IF(Heizung,Z94-$Z$77/28,0)>0,IF(Heizung,Z94-$Z$77/28,0),0)),0)","v":0},{"$error":"#VALUE!"},0,{"$error":"#VALUE!"},{"$error":"#VALUE!"},{"$error":"#VALUE!"},{"$error":"#REF!"},{"$f":"IF($AA$77*SUM($W$60:$W94)/Etaw=BedarfWW,0,MAX(MIN($AA$77*W95/Etaw,BedarfWW-$AA$77*SUM($W$60:$W94)/Etaw),0))","v":{"$error":"#VALUE!"}},{"$f":"MAX(AF95+AG95-AD95*Nutzungsgrad-AE95*Nutzungsgrad,0)","v":{"$error":"#REF!"}},{"$f":"MIN(IF(AB95>0,AH95/AB95,0),W95)","v":0},0,{"$error":"#REF!"},{"$f":"AE95+AD95+IF(Laufzeit_Zusatzheizung>=SUM($Y$60:$Y128),Kesselleistung*$H$45*Y95,0)","v":{"$error":"#VALUE!"}},{"$error":"#VALUE!"},{"$f":"IF(Neu,INDEX(WP_BIN!$T$80:$CG$80,1,S95),AZ95)","v":0},{"$error":"#VALUE!"},{"$error":"#VALUE!"},0,{"$error":"#VALUE!"},0,0,0,{"$f":"INDEX(Berechnungen!$E$79:$BR$79,1,S95)","v":{"$error":"#REF!"}},10,{"$f":"INDEX(WP_BIN!$T$78:$CG$78,1,$S95)","v":26.71428571428573},{"$f":"INDEX(WP_BIN!$T$43:$CG$43,1,$S95)","v":{"$error":"#DIV/0!"}},{"$f":"INDEX(WP_BIN!$T$79:$CG$79,1,$S95)","v":0},{"$f":"INDEX(WP_BIN!$T$86:$CG$86,1,$S95)","v":0},{"$f":"INDEX(WP_BIN!$T$47:$CG$47,1,$S95)","v":{"$error":"#DIV/0!"}},{"$f":"INDEX(WP_BIN!$T$54:$CG$54,1,$S95)","v":0}]
[null,"San Bernardino",null,-11,4223,3.3,-11,5132,25,null,null,null,null,null,null,null,null,null,37,{"$f":"W96*Z96","v":0},null,{"$f":"Z96*W96","v":0},{"$f":"IF(BIN,INDEX(BIN!$B$3:$BO$364,4+(Klima-2)*11,S96),0)","v":0},11,{"$f":"IF(BINkorr,INDEX(Berechnungen!$E$81:$BR$81,1,S96)*IF(OR(Methode_384_3,Z96=0),1,AV96/Z96)/Leistungskorr*(1-Kollektor),W96*$T$130*(1-Kollektor))","v":{"$error":"#REF!"}},{"$f":"IF(Heizung,IF(Methode_384_3,INDEX(Berechnungen!$E$79:$BR$79,1,S96),IF(IF(Heizung,Z95-$Z$77/28,0)>0,IF(Heizung,Z95-$Z$77/28,0),0)),0)","v":0},{"$error":"#VALUE!"},0,{"$error":"#VALUE!"},{"$error":"#VALUE!"},{"$error":"#VALUE!"},{"$error":"#REF!"},{"$f":"IF($AA$77*SUM($W$60:$W95)/Etaw=BedarfWW,0,MAX(MIN($AA$77*W96/Etaw,BedarfWW-$AA$77*SUM($W$60:$W95)/Etaw),0))","v":{"$error":"#VALUE!"}},{"$error":"#REF!"},0,0,{"$error":"#REF!"},{"$f":"AE96+AD96+IF(Laufzeit_Zusatzheizung>=SUM($Y$60:$Y129),Kesselleistung*$H$45*Y96,0)","v":{"$error":"#VALUE!"}},{"$error":"#VALUE!"},{"$f":"IF(Neu,INDEX(WP_BIN!$T$80:$CG$80,1,S96),AZ96)","v":0},{"$error":"#VALUE!"},{"$error":"#VALUE!"},0,{"$error":"#VALUE!"},0,0,0,{"$f":"INDEX(Berechnungen!$E$79:$BR$79,1,S96)","v":{"$error":"#REF!"}},11,{"$f":"INDEX(WP_BIN!$T$78:$CG$78,1,$S96)","v":26.642857142857157},{"$f":"INDEX(WP_BIN!$T$43:$CG$43,1,$S96)","v":{"$error":"#DIV/0!"}},{"$f":"INDEX(WP_BIN!$T$79:$CG$79,1,$S96)","v":0},{"$f":"INDEX(WP_BIN!$T$86:$CG$86,1,$S96)","v":0},{"$f":"INDEX(WP_BIN!$T$47:$CG$47,1,$S96)","v":{"$error":"#DIV/0!"}},{"$f":"INDEX(WP_BIN!$T$54:$CG$54,1,$S96)","v":0}]
[null,"St. Gallen",null,-9,4017,3.9,-9,3483,26,null,null,null,null,null,null,null,null,null,38,0,null,0,{"$f":"IF(BIN,INDEX(BIN!$B$3:$BO$364,4+(Klima-2)*11,S97),0)","v":0},12,{"$f":"IF(BINkorr,INDEX(Berechnungen!$E$81:$BR$81,1,S97)*IF(OR(Methode_384_3,Z97=0),1,AV97/Z97)/Leistungskorr*(1-Kollektor),W97*$T$130*(1-Kollektor))","v":{"$error":"#REF!"}},{"$f":"IF(Heizung,IF(Methode_384_3,INDEX(Berechnungen!$E$79:$BR$79,1,S97),IF(IF(Heizung,Z96-$Z$77/28,0)>0,IF(Heizung,Z96-$Z$77/28,0),0)),0)","v":0},{"$error":"#VALUE!"},0,{"$error":"#VALUE!"},{"$error":"#VALUE!"},{"$error":"#VALUE!"},{"$error":"#REF!"},{"$f":"IF($AA$77*SUM($W$60:$W96)/Etaw=BedarfWW,0,MAX(MIN($AA$77*W97/Etaw,BedarfWW-$AA$77*SUM($W$60:$W96)/Etaw),0))","v":{"$error":"#VALUE!"}},{"$error":"#REF!"},0,0,{"$error":"#REF!"},{"$f":"AE97+AD97+IF(Laufzeit_Zusatzheizung>=SUM($Y$60:$Y130),Kesselleistung*$H$45*Y97,0)","v":{"$error":"#VALUE!"}},{"$error":"#VALUE!"},{"$f":"IF(Neu,INDEX(WP_BIN!$T$80:$CG$80,1,S97),AZ97)","v":0},{"$error":"#VALUE!"},{"$error":"#VALUE!"},0,{"$error":"#VALUE!"},0,0,0,{"$f":"INDEX(Berechnungen!$E$79:$BR$79,1,S97)","v":{"$error":"#REF!"}},12,{"$f":"INDEX(WP_BIN!$T$78:$CG$78,1,$S97)","v":26.571428571428584},{"$f":"INDEX(WP_BIN!$T$43:$CG$43,1,$S97)","v":{"$error":"#DIV/0!"}},{"$f":"INDEX(WP_BIN!$T$79:$CG$79,1,$S97)","v":0},{"$f":"INDEX(WP_BIN!$T$86:$CG$86,1,$S97)","v":0},{"$f":"INDEX(WP_BIN!$T$47:$CG$47,1,$S97)","v":{"$error":"#DIV/0!"}},{"$f":"INDEX(WP_BIN!$T$54:$CG$54,1,$S97)","v":0}]
[null,"Schaffhausen",null,-8,4468,4,-8,3310,27,null,null,null,null,null,null,null,null,null,39,0,null,0,{"$f":"IF(BIN,INDEX(BIN!$B$3:$BO$364,4+(Klima-2)*11,S98),0)","v":0},13,{"$f":"IF(BINkorr,INDEX(Berechnungen!$E$81:$BR$81,1,S98)*IF(OR(Methode_384_3,Z98=0),1,AV98/Z98)/Leistungskorr*(1-Kollektor),W98*$T$130*(1-Kollektor))","v":{"$error":"#REF!"}},{"$f":"IF(Heizung,IF(Methode_384_3,INDEX(Berechnungen!$E$79:$BR$79,1,S98),IF(IF(Heizung,Z97-$Z$77/28,0)>0,IF(Heizung,Z97-$Z$77/28,0),0)),0)","v":0},{"$error":"#VALUE!"},0,{"$error":"#VALUE!"},{"$error":"#VALUE!"},{"$error":"#VALUE!"},{"$error":"#REF!"},{"$f":"IF($AA$77*SUM($W$60:$W97)/Etaw=BedarfWW,0,MAX(MIN($AA$77*W98/Etaw,BedarfWW-$AA$77*SUM($W$60:$W97)/Etaw),0))","v":{"$error":"#VALUE!"}},{"$error":"#REF!"},0,0,{"$error":"#REF!"},{"$f":"AE98+AD98+IF(Laufzeit_Zusatzheizung>=SUM($Y$60:$Y131),Kesselleistung*$H$45*Y98,0)","v":{"$error":"#VALUE!"}},{"$error":"#VALUE!"},{"$f":"IF(Neu,INDEX(WP_BIN!$T$80:$CG$80,1,S98),AZ98)","v":0},{"$error":"#VALUE!"},{"$error":"#VALUE!"},0,{"$error":"#VALUE!"},0,0,0,{"$f":"INDEX(Berechnungen!$E$79:$BR$79,1,S98)","v":{"$error":"#REF!"}},13,{"$f":"INDEX(WP_BIN!$T$78:$CG$78,1,$S98)","v":26.500000000000011},{"$f":"INDEX(WP_BIN!$T$43:$CG$43,1,$S98)","v":{"$error":"#DIV/0!"}},{"$f":"INDEX(WP_BIN!$T$79:$CG$79,1,$S98)","v":0},{"$f":"INDEX(WP_BIN!$T$86:$CG$86,1,$S98)","v":0},{"$f":"INDEX(WP_BIN!$T$47:$CG$47,1,$S98)","v":{"$error":"#DIV/0!"}},{"$f":"INDEX(WP_BIN!$T$54:$CG$54,1,$S98)","v":0}]
[null,"Scuol",null,-12,4317,2,-12,4158,28,null,null,null,null,null,null,null,null,null,40,0,null,0,{"$f":"IF(BIN,INDEX(BIN!$B$3:$BO$364,4+(Klima-2)*11,S99),0)","v":0},14,{"$f":"IF(BINkorr,INDEX(Berechnungen!$E$81:$BR$81,1,S99)*IF(OR(Methode_384_3,Z99=0),1,AV99/Z99)/Leistungskorr*(1-Kollektor),W99*$T$130*(1-Kollektor))","v":{"$error":"#REF!"}},{"$f":"IF(Heizung,IF(Methode_384_3,INDEX(Berechnungen!$E$79:$BR$79,1,S99),IF(IF(Heizung,Z98-$Z$77/28,0)>0,IF(Heizung,Z98-$Z$77/28,0),0)),0)","v":0},{"$error":"#VALUE!"},0,{"$error":"#VALUE!"},{"$error":"#VALUE!"},{"$error":"#VALUE!"},{"$error":"#REF!"},{"$f":"IF($AA$77*SUM($W$60:$W98)/Etaw=BedarfWW,0,MAX(MIN($AA$77*W99/Etaw,BedarfWW-$AA$77*SUM($W$60:$W98)/Etaw),0))","v":{"$error":"#VALUE!"}},{"$error":"#REF!"},0,0,{"$error":"#REF!"},{"$f":"AE99+AD99+IF(Laufzeit_Zusatzheizung>=SUM($Y$60:$Y132),Kesselleistung*$H$45*Y99,0)","v":{"$error":"#VALUE!"}},{"$error":"#VALUE!"},{"$f":"IF(Neu,INDEX(WP_BIN!$T$80:$CG$80,1,S99),AZ99)","v":0},{"$error":"#VALUE!"},{"$error":"#VALUE!"},0,{"$error":"#VALUE!"},0,0,0,{"$f":"INDEX(Berechnungen!$E$79:$BR$79,1,S99)","v":{"$error":"#REF!"}},14,{"$f":"INDEX(WP_BIN!$T$78:$CG$78,1,$S99)","v":26.428571428571438},{"$f":"INDEX(WP_BIN!$T$43:$CG$43,1,$S99)","v":{"$error":"#DIV/0!"}},{"$f":"INDEX(WP_BIN!$T$79:$CG$79,1,$S99)","v":0},{"$f":"INDEX(WP_BIN!$T$86:$CG$86,1,$S99)","v":0},{"$f":"INDEX(WP_BIN!$T$47:$CG$47,1,$S99)","v":{"$error":"#DIV/0!"}},{"$f":"INDEX(WP_BIN!$T$54:$CG$54,1,$S99)","v":0}]
[null,"Sion",null,-6,4038,4.3,-6,2606,29,null,null,null,null,null,null,null,null,null,41,0,null,0,{"$f":"IF(BIN,INDEX(BIN!$B$3:$BO$364,4+(Klima-2)*11,S100),0)","v":0},15,{"$f":"IF(BINkorr,INDEX(Berechnungen!$E$81:$BR$81,1,S100)*IF(OR(Methode_384_3,Z100=0),1,AV100/Z100)/Leistungskorr*(1-Kollektor),W100*$T$130*(1-Kollektor))","v":{"$error":"#REF!"}},{"$f":"IF(Heizung,IF(Methode_384_3,INDEX(Berechnungen!$E$79:$BR$79,1,S100),IF(IF(Heizung,Z99-$Z$77/28,0)>0,IF(Heizung,Z99-$Z$77/28,0),0)),0)","v":0},{"$error":"#VALUE!"},0,{"$error":"#VALUE!"},{"$error":"#VALUE!"},{"$error":"#VALUE!"},{"$error":"#REF!"},{"$f":"IF($AA$77*SUM($W$60:$W99)/Etaw=BedarfWW,0,MAX(MIN($AA$77*W100/Etaw,BedarfWW-$AA$77*SUM($W$60:$W99)/Etaw),0))","v":{"$error":"#VALUE!"}},{"$error":"#REF!"},0,0,{"$error":"#REF!"},{"$f":"AE100+AD100+IF(Laufzeit_Zusatzheizung>=SUM($Y$60:$Y133),Kesselleistung*$H$45*Y100,0)","v":{"$error":"#VALUE!"}},{"$error":"#VALUE!"},{"$f":"IF(Neu,INDEX(WP_BIN!$T$80:$CG$80,1,S100),AZ100)","v":0},{"$error":"#VALUE!"},{"$error":"#VALUE!"},0,{"$error":"#VALUE!"},0,0,0,{"$f":"INDEX(Berechnungen!$E$79:$BR$79,1,S100)","v":{"$error":"#REF!"}},15,{"$f":"INDEX(WP_BIN!$T$78:$CG$78,1,$S100)","v":26.357142857142865},{"$f":"INDEX(WP_BIN!$T$43:$CG$43,1,$S100)","v":{"$error":"#DIV/0!"}},{"$f":"INDEX(WP_BIN!$T$79:$CG$79,1,$S100)","v":0},{"$f":"INDEX(WP_BIN!$T$86:$CG$86,1,$S100)","v":0},{"$f":"INDEX(WP_BIN!$T$47:$CG$47,1,$S100)","v":{"$error":"#DIV/0!"}},{"$f":"INDEX(WP_BIN!$T$54:$CG$54,1,$S100)","v":0}]
[null,"Vaduz",null,-8,4988,4.0999999999999996,-8,2851,30,null,null,null,null,null,null,null,null,null,42,0,null,0,{"$f":"IF(BIN,INDEX(BIN!$B$3:$BO$364,4+(Klima-2)*11,S101),0)","v":0},16,{"$f":"IF(BINkorr,INDEX(Berechnungen!$E$81:$BR$81,1,S101)*IF(OR(Methode_384_3,Z101=0),1,AV101/Z101)/Leistungskorr*(1-Kollektor),W101*$T$130*(1-Kollektor))","v":{"$error":"#REF!"}},{"$f":"IF(Heizung,IF(Methode_384_3,INDEX(Berechnungen!$E$79:$BR$79,1,S101),IF(IF(Heizung,Z100-$Z$77/28,0)>0,IF(Heizung,Z100-$Z$77/28,0),0)),0)","v":0},{"$error":"#VALUE!"},0,{"$error":"#VALUE!"},{"$error":"#VALUE!"},{"$error":"#VALUE!"},{"$error":"#REF!"},{"$f":"IF($AA$77*SUM($W$60:$W100)/Etaw=BedarfWW,0,MAX(MIN($AA$77*W101/Etaw,BedarfWW-$AA$77*SUM($W$60:$W100)/Etaw),0))","v":{"$error":"#VALUE!"}},{"$error":"#REF!"},{"$f":"MIN(IF(AB101>0,AH101/AB101,0),W101)","v":0},0,{"$error":"#REF!"},{"$f":"AE101+AD101+IF(Laufzeit_Zusatzheizung>=SUM($Y$60:$Y134),Kesselleistung*$H$45*Y101,0)","v":{"$error":"#VALUE!"}},{"$error":"#VALUE!"},{"$f":"IF(Neu,INDEX(WP_BIN!$T$80:$CG$80,1,S101),AZ101)","v":0},{"$error":"#VALUE!"},{"$error":"#VALUE!"},0,{"$error":"#VALUE!"},0,0,0,{"$f":"INDEX(Berechnungen!$E$79:$BR$79,1,S101)","v":{"$error":"#REF!"}},16,{"$f":"INDEX(WP_BIN!$T$78:$CG$78,1,$S101)","v":26.285714285714292},{"$f":"INDEX(WP_BIN!$T$43:$CG$43,1,$S101)","v":{"$error":"#DIV/0!"}},{"$f":"INDEX(WP_BIN!$T$79:$CG$79,1,$S101)","v":0},{"$f":"INDEX(WP_BIN!$T$86:$CG$86,1,$S101)","v":0},{"$f":"INDEX(WP_BIN!$T$47:$CG$47,1,$S101)","v":{"$error":"#DIV/0!"}},{"$f":"INDEX(WP_BIN!$T$54:$CG$54,1,$S101)","v":0}]
[null,"Wynau",null,-7,4405,4,-7,3371,31,null,null,null,null,null,null,null,null,null,43,0,null,0,{"$f":"IF(BIN,INDEX(BIN!$B$3:$BO$364,4+(Klima-2)*11,S102),0)","v":0},17,{"$f":"IF(BINkorr,INDEX(Berechnungen!$E$81:$BR$81,1,S102)*IF(OR(Methode_384_3,Z102=0),1,AV102/Z102)/Leistungskorr*(1-Kollektor),W102*$T$130*(1-Kollektor))","v":{"$error":"#REF!"}},{"$f":"IF(Heizung,IF(Methode_384_3,INDEX(Berechnungen!$E$79:$BR$79,1,S102),IF(IF(Heizung,Z101-$Z$77/28,0)>0,IF(Heizung,Z101-$Z$77/28,0),0)),0)","v":0},{"$error":"#VALUE!"},0,{"$error":"#VALUE!"},{"$error":"#VALUE!"},{"$error":"#VALUE!"},{"$error":"#REF!"},{"$f":"IF($AA$77*SUM($W$60:$W101)/Etaw=BedarfWW,0,MAX(MIN($AA$77*W102/Etaw,BedarfWW-$AA$77*SUM($W$60:$W101)/Etaw),0))","v":{"$error":"#VALUE!"}},{"$error":"#REF!"},0,0,{"$error":"#REF!"},{"$f":"AE102+AD102+IF(Laufzeit_Zusatzheizung>=SUM($Y$60:$Y135),Kesselleistung*$H$45*Y102,0)","v":{"$error":"#VALUE!"}},{"$error":"#VALUE!"},{"$f":"IF(Neu,INDEX(WP_BIN!$T$80:$CG$80,1,S102),AZ102)","v":0},{"$error":"#VALUE!"},{"$error":"#VALUE!"},0,{"$error":"#VALUE!"},0,0,0,{"$f":"INDEX(Berechnungen!$E$79:$BR$79,1,S102)","v":{"$error":"#REF!"}},17,{"$f":"INDEX(WP_BIN!$T$78:$CG$78,1,$S102)","v":26.214285714285719},{"$f":"INDEX(WP_BIN!$T$43:$CG$43,1,$S102)","v":{"$error":"#DIV/0!"}},{"$f":"INDEX(WP_BIN!$T$79:$CG$79,1,$S102)","v":0},{"$f":"INDEX(WP_BIN!$T$86:$CG$86,1,$S102)","v":0},{"$f":"INDEX(WP_BIN!$T$47:$CG$47,1,$S102)","v":{"$error":"#DIV/0!"}},{"$f":"INDEX(WP_BIN!$T$54:$CG$54,1,$S102)","v":0}]
[null,"Zermatt",null,-11,3894,2.5,-11,5017,32,null,null,null,null,null,null,null,null,null,44,0,null,0,{"$f":"IF(BIN,INDEX(BIN!$B$3:$BO$364,4+(Klima-2)*11,S103),0)","v":0},18,{"$f":"IF(BINkorr,INDEX(Berechnungen!$E$81:$BR$81,1,S103)*IF(OR(Methode_384_3,Z103=0),1,AV103/Z103)/Leistungskorr*(1-Kollektor),W103*$T$130*(1-Kollektor))","v":{"$error":"#REF!"}},{"$f":"IF(Heizung,IF(Methode_384_3,INDEX(Berechnungen!$E$79:$BR$79,1,S103),IF(IF(Heizung,Z102-$Z$77/28,0)>0,IF(Heizung,Z102-$Z$77/28,0),0)),0)","v":0},{"$error":"#VALUE!"},0,{"$error":"#VALUE!"},{"$error":"#VALUE!"},{"$error":"#VALUE!"},{"$error":"#REF!"},{"$f":"IF($AA$77*SUM($W$60:$W102)/Etaw=BedarfWW,0,MAX(MIN($AA$77*W103/Etaw,BedarfWW-$AA$77*SUM($W$60:$W102)/Etaw),0))","v":{"$error":"#VALUE!"}},{"$error":"#REF!"},0,0,{"$error":"#REF!"},{"$f":"AE103+AD103+IF(Laufzeit_Zusatzheizung>=SUM($Y$60:$Y136),Kesselleistung*$H$45*Y103,0)","v":{"$error":"#VALUE!"}},{"$error":"#VALUE!"},{"$f":"IF(Neu,INDEX(WP_BIN!$T$80:$CG$80,1,S103),AZ103)","v":0},{"$error":"#VALUE!"},{"$error":"#VALUE!"},0,{"$error":"#VALUE!"},0,0,0,{"$f":"INDEX(Berechnungen!$E$79:$BR$79,1,S103)","v":{"$error":"#REF!"}},18,{"$f":"INDEX(WP_BIN!$T$78:$CG$78,1,$S103)","v":26.142857142857146},{"$f":"INDEX(WP_BIN!$T$43:$CG$43,1,$S103)","v":{"$error":"#DIV/0!"}},{"$f":"INDEX(WP_BIN!$T$79:$CG$79,1,$S103)","v":0},{"$f":"INDEX(WP_BIN!$T$86:$CG$86,1,$S103)","v":0},{"$f":"INDEX(WP_BIN!$T$47:$CG$47,1,$S103)","v":{"$error":"#DIV/0!"}},{"$f":"INDEX(WP_BIN!$T$54:$CG$54,1,$S103)","v":0}]
[null,"Zürich SMA",null,-8,4010,4.0999999999999996,-8,2959,33,null,null,null,null,null,null,null,null,null,45,0,null,0,{"$f":"IF(BIN,INDEX(BIN!$B$3:$BO$364,4+(Klima-2)*11,S104),0)","v":0},19,{"$f":"IF(BINkorr,INDEX(Berechnungen!$E$81:$BR$81,1,S104)*IF(OR(Methode_384_3,Z104=0),1,AV104/Z104)/Leistungskorr*(1-Kollektor),W104*$T$130*(1-Kollektor))","v":{"$error":"#REF!"}},{"$f":"IF(Heizung,IF(Methode_384_3,INDEX(Berechnungen!$E$79:$BR$79,1,S104),IF(IF(Heizung,Z103-$Z$77/28,0)>0,IF(Heizung,Z103-$Z$77/28,0),0)),0)","v":0},{"$error":"#VALUE!"},0,{"$error":"#VALUE!"},{"$error":"#VALUE!"},{"$error":"#VALUE!"},{"$error":"#REF!"},{"$f":"IF($AA$77*SUM($W$60:$W103)/Etaw=BedarfWW,0,MAX(MIN($AA$77*W104/Etaw,BedarfWW-$AA$77*SUM($W$60:$W103)/Etaw),0))","v":{"$error":"#VALUE!"}},{"$error":"#REF!"},0,0,{"$error":"#REF!"},{"$f":"AE104+AD104+IF(Laufzeit_Zusatzheizung>=SUM($Y$60:$Y137),Kesselleistung*$H$45*Y104,0)","v":{"$error":"#VALUE!"}},{"$error":"#VALUE!"},{"$f":"IF(Neu,INDEX(WP_BIN!$T$80:$CG$80,1,S104),AZ104)","v":0},{"$error":"#VALUE!"},{"$error":"#VALUE!"},0,{"$error":"#VALUE!"},0,0,0,{"$f":"INDEX(Berechnungen!$E$79:$BR$79,1,S104)","v":{"$error":"#REF!"}},19,{"$f":"INDEX(WP_BIN!$T$78:$CG$78,1,$S104)","v":26.071428571428573},{"$f":"INDEX(WP_BIN!$T$43:$CG$43,1,$S104)","v":{"$error":"#DIV/0!"}},{"$f":"INDEX(WP_BIN!$T$79:$CG$79,1,$S104)","v":0},{"$f":"INDEX(WP_BIN!$T$86:$CG$86,1,$S104)","v":0},{"$f":"INDEX(WP_BIN!$T$47:$CG$47,1,$S104)","v":{"$error":"#DIV/0!"}},{"$f":"INDEX(WP_BIN!$T$54:$CG$54,1,$S104)","v":0}]
[null,{"$f":"IF(JAZcalc,B72,INDEX(B72:B104,Klima,1))","v":""},{"$f":"IF(JAZcalc,C72,INDEX(C72:C104,Klima,1))","v":""},"",0,"","","",null,null,null,null,null,null,null,null,null,null,46,0,null,0,{"$f":"IF(BIN,INDEX(BIN!$B$3:$BO$364,4+(Klima-2)*11,S105),0)","v":0},20,{"$f":"IF(BINkorr,INDEX(Berechnungen!$E$81:$BR$81,1,S105)*IF(OR(Methode_384_3,Z105=0),1,AV105/Z105)/Leistungskorr*(1-Kollektor),W105*$T$130*(1-Kollektor))","v":{"$error":"#REF!"}},{"$f":"IF(Heizung,IF(Methode_384_3,INDEX(Berechnungen!$E$79:$BR$79,1,S105),IF(IF(Heizung,Z104-$Z$77/28,0)>0,IF(Heizung,Z104-$Z$77/28,0),0)),0)","v":0},{"$error":"#VALUE!"},0,{"$error":"#VALUE!"},{"$error":"#VALUE!"},{"$error":"#VALUE!"},{"$error":"#REF!"},{"$f":"IF($AA$77*SUM($W$60:$W104)/Etaw=BedarfWW,0,MAX(MIN($AA$77*W105/Etaw,BedarfWW-$AA$77*SUM($W$60:$W104)/Etaw),0))","v":{"$error":"#VALUE!"}},{"$error":"#REF!"},0,0,{"$error":"#REF!"},{"$f":"AE105+AD105+IF(Laufzeit_Zusatzheizung>=SUM($Y$60:$Y138),Kesselleistung*$H$45*Y105,0)","v":{"$error":"#VALUE!"}},{"$error":"#VALUE!"},{"$f":"IF(Neu,INDEX(WP_BIN!$T$80:$CG$80,1,S105),AZ105)","v":0},{"$error":"#VALUE!"},{"$error":"#VALUE!"},0,{"$error":"#VALUE!"},0,0,0,{"$f":"INDEX(Berechnungen!$E$79:$BR$79,1,S105)","v":{"$error":"#REF!"}},20,{"$f":"INDEX(WP_BIN!$T$78:$CG$78,1,$S105)","v":26},{"$f":"INDEX(WP_BIN!$T$43:$CG$43,1,$S105)","v":{"$error":"#DIV/0!"}},{"$f":"INDEX(WP_BIN!$T$79:$CG$79,1,$S105)","v":0},{"$f":"INDEX(WP_BIN!$T$86:$CG$86,1,$S105)","v":0},{"$f":"INDEX(WP_BIN!$T$47:$CG$47,1,$S105)","v":{"$error":"#DIV/0!"}},{"$f":"INDEX(WP_BIN!$T$54:$CG$54,1,$S105)","v":0}]
[null,null,null,null,null,null,null,null,null,null,null,null,null,null,null,null,null,null,47,0,null,0,{"$f":"IF(BIN,INDEX(BIN!$B$3:$BO$364,4+(Klima-2)*11,S106),0)","v":0},21,{"$f":"IF(BINkorr,INDEX(Berechnungen!$E$81:$BR$81,1,S106)*IF(OR(Methode_384_3,Z106=0),1,AV106/Z106)/Leistungskorr*(1-Kollektor),W106*$T$130*(1-Kollektor))","v":{"$error":"#REF!"}},{"$f":"IF(Heizung,IF(Methode_384_3,INDEX(Berechnungen!$E$79:$BR$79,1,S106),IF(IF(Heizung,Z105-$Z$77/28,0)>0,IF(Heizung,Z105-$Z$77/28,0),0)),0)","v":0},{"$error":"#VALUE!"},0,{"$error":"#VALUE!"},{"$error":"#VALUE!"},{"$error":"#VALUE!"},{"$error":"#REF!"},{"$f":"IF($AA$77*SUM($W$60:$W105)/Etaw=BedarfWW,0,MAX(MIN($AA$77*W106/Etaw,BedarfWW-$AA$77*SUM($W$60:$W105)/Etaw),0))","v":{"$error":"#VALUE!"}},{"$error":"#REF!"},0,0,{"$error":"#REF!"},{"$f":"AE106+AD106+IF(Laufzeit_Zusatzheizung>=SUM($Y$60:$Y139),Kesselleistung*$H$45*Y106,0)","v":{"$error":"#VALUE!"}},{"$error":"#VALUE!"},{"$f":"IF(Neu,INDEX(WP_BIN!$T$80:$CG$80,1,S106),AZ106)","v":0},{"$error":"#VALUE!"},{"$error":"#VALUE!"},0,{"$error":"#VALUE!"},0,0,0,{"$f":"INDEX(Berechnungen!$E$79:$BR$79,1,S106)","v":{"$error":"#REF!"}},21,{"$f":"INDEX(WP_BIN!$T$78:$CG$78,1,$S106)","v":26},{"$f":"INDEX(WP_BIN!$T$43:$CG$43,1,$S106)","v":{"$error":"#DIV/0!"}},{"$f":"INDEX(WP_BIN!$T$79:$CG$79,1,$S106)","v":0},{"$f":"INDEX(WP_BIN!$T$86:$CG$86,1,$S106)","v":0},{"$f":"INDEX(WP_BIN!$T$47:$CG$47,1,$S106)","v":{"$error":"#DIV/0!"}},{"$f":"INDEX(WP_BIN!$T$54:$CG$54,1,$S106)","v":0}]
[null,null,null,null,null,null,null,null,null,null,null,null,"SIA 384/3-Modell freigeben?",null,false,null,null,null,48,0,null,0,{"$f":"IF(BIN,INDEX(BIN!$B$3:$BO$364,4+(Klima-2)*11,S107),0)","v":0},22,{"$f":"IF(BINkorr,INDEX(Berechnungen!$E$81:$BR$81,1,S107)*IF(OR(Methode_384_3,Z107=0),1,AV107/Z107)/Leistungskorr*(1-Kollektor),W107*$T$130*(1-Kollektor))","v":{"$error":"#REF!"}},{"$f":"IF(Heizung,IF(Methode_384_3,INDEX(Berechnungen!$E$79:$BR$79,1,S107),IF(IF(Heizung,Z106-$Z$77/28,0)>0,IF(Heizung,Z106-$Z$77/28,0),0)),0)","v":0},{"$error":"#VALUE!"},0,{"$error":"#VALUE!"},{"$error":"#VALUE!"},{"$error":"#VALUE!"},{"$error":"#REF!"},{"$f":"IF($AA$77*SUM($W$60:$W106)/Etaw=BedarfWW,0,MAX(MIN($AA$77*W107/Etaw,BedarfWW-$AA$77*SUM($W$60:$W106)/Etaw),0))","v":{"$error":"#VALUE!"}},{"$error":"#REF!"},0,0,{"$error":"#REF!"},{"$f":"AE107+AD107+IF(Laufzeit_Zusatzheizung>=SUM($Y$60:$Y140),Kesselleistung*$H$45*Y107,0)","v":{"$error":"#VALUE!"}},{"$error":"#VALUE!"},{"$f":"IF(Neu,INDEX(WP_BIN!$T$80:$CG$80,1,S107),AZ107)","v":0},{"$error":"#VALUE!"},{"$error":"#VALUE!"},0,{"$error":"#VALUE!"},0,0,0,{"$f":"INDEX(Berechnungen!$E$79:$BR$79,1,S107)","v":{"$error":"#REF!"}},22,{"$f":"INDEX(WP_BIN!$T$78:$CG$78,1,$S107)","v":26},{"$f":"INDEX(WP_BIN!$T$43:$CG$43,1,$S107)","v":{"$error":"#DIV/0!"}},{"$f":"INDEX(WP_BIN!$T$79:$CG$79,1,$S107)","v":0},{"$f":"INDEX(WP_BIN!$T$86:$CG$86,1,$S107)","v":0},{"$f":"INDEX(WP_BIN!$T$47:$CG$47,1,$S107)","v":{"$error":"#DIV/0!"}},{"$f":"INDEX(WP_BIN!$T$54:$CG$54,1,$S107)","v":0}]
[null,null,null,null,null,null,null,null,null,null,null,null,null,null,null,null,null,null,49,0,null,0,{"$f":"IF(BIN,INDEX(BIN!$B$3:$BO$364,4+(Klima-2)*11,S108),0)","v":0},23,{"$f":"IF(BINkorr,INDEX(Berechnungen!$E$81:$BR$81,1,S108)*IF(OR(Methode_384_3,Z108=0),1,AV108/Z108)/Leistungskorr*(1-Kollektor),W108*$T$130*(1-Kollektor))","v":{"$error":"#REF!"}},{"$f":"IF(Heizung,IF(Methode_384_3,INDEX(Berechnungen!$E$79:$BR$79,1,S108),IF(IF(Heizung,Z107-$Z$77/28,0)>0,IF(Heizung,Z107-$Z$77/28,0),0)),0)","v":0},{"$error":"#VALUE!"},0,{"$error":"#VALUE!"},{"$error":"#VALUE!"},{"$error":"#VALUE!"},{"$error":"#REF!"},{"$f":"IF($AA$77*SUM($W$60:$W107)/Etaw=BedarfWW,0,MAX(MIN($AA$77*W108/Etaw,BedarfWW-$AA$77*SUM($W$60:$W107)/Etaw),0))","v":{"$error":"#VALUE!"}},{"$error":"#REF!"},0,0,{"$error":"#REF!"},{"$f":"AE108+AD108+IF(Laufzeit_Zusatzheizung>=SUM($Y$60:$Y141),Kesselleistung*$H$45*Y108,0)","v":{"$error":"#VALUE!"}},{"$error":"#VALUE!"},{"$f":"IF(Neu,INDEX(WP_BIN!$T$80:$CG$80,1,S108),AZ108)","v":0},{"$error":"#VALUE!"},{"$error":"#VALUE!"},0,{"$error":"#VALUE!"},0,0,0,{"$f":"INDEX(Berechnungen!$E$79:$BR$79,1,S108)","v":{"$error":"#REF!"}},23,{"$f":"INDEX(WP_BIN!$T$78:$CG$78,1,$S108)","v":26},{"$f":"INDEX(WP_BIN!$T$43:$CG$43,1,$S108)","v":{"$error":"#DIV/0!"}},{"$f":"INDEX(WP_BIN!$T$79:$CG$79,1,$S108)","v":0},{"$f":"INDEX(WP_BIN!$T$86:$CG$86,1,$S108)","v":0},{"$f":"INDEX(WP_BIN!$T$47:$CG$47,1,$S108)","v":{"$error":"#DIV/0!"}},{"$f":"INDEX(WP_BIN!$T$54:$CG$54,1,$S108)","v":0}]
[null,null,null,null,null,null,null,null,null,null,null,null,null,null,null,null,null,null,50,0,null,0,{"$f":"IF(BIN,INDEX(BIN!$B$3:$BO$364,4+(Klima-2)*11,S109),0)","v":0},24,{"$f":"IF(BINkorr,INDEX(Berechnungen!$E$81:$BR$81,1,S109)*IF(OR(Methode_384_3,Z109=0),1,AV109/Z109)/Leistungskorr*(1-Kollektor),W109*$T$130*(1-Kollektor))","v":{"$error":"#REF!"}},{"$f":"IF(Heizung,IF(Methode_384_3,INDEX(Berechnungen!$E$79:$BR$79,1,S109),IF(IF(Heizung,Z108-$Z$77/28,0)>0,IF(Heizung,Z108-$Z$77/28,0),0)),0)","v":0},{"$error":"#VALUE!"},0,{"$error":"#VALUE!"},{"$error":"#VALUE!"},{"$error":"#VALUE!"},{"$error":"#REF!"},{"$f":"IF($AA$77*SUM($W$60:$W108)/Etaw=BedarfWW,0,MAX(MIN($AA$77*W109/Etaw,BedarfWW-$AA$77*SUM($W$60:$W108)/Etaw),0))","v":{"$error":"#VALUE!"}},{"$error":"#REF!"},0,0,{"$error":"#REF!"},{"$f":"AE109+AD109+IF(Laufzeit_Zusatzheizung>=SUM($Y$60:$Y142),Kesselleistung*$H$45*Y109,0)","v":{"$error":"#VALUE!"}},{"$error":"#VALUE!"},{"$f":"IF(Neu,INDEX(WP_BIN!$T$80:$CG$80,1,S109),AZ109)","v":0},{"$error":"#VALUE!"},{"$error":"#VALUE!"},0,{"$error":"#VALUE!"},0,0,0,{"$f":"INDEX(Berechnungen!$E$79:$BR$79,1,S109)","v":{"$error":"#REF!"}},24,{"$f":"INDEX(WP_BIN!$T$78:$CG$78,1,$S109)","v":26},{"$f":"INDEX(WP_BIN!$T$43:$CG$43,1,$S109)","v":{"$error":"#DIV/0!"}},{"$f":"INDEX(WP_BIN!$T$79:$CG$79,1,$S109)","v":0},{"$f":"INDEX(WP_BIN!$T$86:$CG$86,1,$S109)","v":0},{"$f":"INDEX(WP_BIN!$T$47:$CG$47,1,$S109)","v":{"$error":"#DIV/0!"}},{"$f":"INDEX(WP_BIN!$T$54:$CG$54,1,$S109)","v":0}]
[null,null,null,null,null,null,null,null,null,null,null,null,null,null,null,null,null,null,51,0,null,0,{"$f":"IF(BIN,INDEX(BIN!$B$3:$BO$364,4+(Klima-2)*11,S110),0)","v":0},25,{"$f":"IF(BINkorr,INDEX(Berechnungen!$E$81:$BR$81,1,S110)*IF(OR(Methode_384_3,Z110=0),1,AV110/Z110)/Leistungskorr*(1-Kollektor),W110*$T$130*(1-Kollektor))","v":{"$error":"#REF!"}},{"$f":"IF(Heizung,IF(Methode_384_3,INDEX(Berechnungen!$E$79:$BR$79,1,S110),IF(IF(Heizung,Z109-$Z$77/28,0)>0,IF(Heizung,Z109-$Z$77/28,0),0)),0)","v":0},{"$error":"#VALUE!"},0,{"$error":"#VALUE!"},{"$error":"#VALUE!"},{"$error":"#VALUE!"},{"$error":"#REF!"},{"$f":"IF($AA$77*SUM($W$60:$W109)/Etaw=BedarfWW,0,MAX(MIN($AA$77*W110/Etaw,BedarfWW-$AA$77*SUM($W$60:$W109)/Etaw),0))","v":{"$error":"#VALUE!"}},{"$error":"#REF!"},0,0,{"$error":"#REF!"},{"$f":"AE110+AD110+IF(Laufzeit_Zusatzheizung>=SUM($Y$60:$Y143),Kesselleistung*$H$45*Y110,0)","v":{"$error":"#VALUE!"}},{"$error":"#VALUE!"},{"$f":"IF(Neu,INDEX(WP_BIN!$T$80:$CG$80,1,S110),AZ110)","v":0},{"$error":"#VALUE!"},{"$error":"#VALUE!"},0,{"$error":"#VALUE!"},0,0,0,{"$f":"INDEX(Berechnungen!$E$79:$BR$79,1,S110)","v":{"$error":"#REF!"}},25,{"$f":"INDEX(WP_BIN!$T$78:$CG$78,1,$S110)","v":26},{"$f":"INDEX(WP_BIN!$T$43:$CG$43,1,$S110)","v":{"$error":"#DIV/0!"}},{"$f":"INDEX(WP_BIN!$T$79:$CG$79,1,$S110)","v":0},{"$f":"INDEX(WP_BIN!$T$86:$CG$86,1,$S110)","v":0},{"$f":"INDEX(WP_BIN!$T$47:$CG$47,1,$S110)","v":{"$error":"#DIV/0!"}},{"$f":"INDEX(WP_BIN!$T$54:$CG$54,1,$S110)","v":0}]
[null,null,null,null,null,null,null,null,null,null,null,null,null,null,null,null,null,null,52,0,null,0,{"$f":"IF(BIN,INDEX(BIN!$B$3:$BO$364,4+(Klima-2)*11,S111),0)","v":0},26,{"$f":"IF(BINkorr,INDEX(Berechnungen!$E$81:$BR$81,1,S111)*IF(OR(Methode_384_3,Z111=0),1,AV111/Z111)/Leistungskorr*(1-Kollektor),W111*$T$130*(1-Kollektor))","v":{"$error":"#REF!"}},{"$f":"IF(Heizung,IF(Methode_384_3,INDEX(Berechnungen!$E$79:$BR$79,1,S111),IF(IF(Heizung,Z110-$Z$77/28,0)>0,IF(Heizung,Z110-$Z$77/28,0),0)),0)","v":0},{"$error":"#VALUE!"},{"$f":"AB110","v":0},{"$error":"#VALUE!"},{"$error":"#VALUE!"},{"$error":"#VALUE!"},{"$error":"#REF!"},{"$f":"IF($AA$77*SUM($W$60:$W110)/Etaw=BedarfWW,0,MAX(MIN($AA$77*W111/Etaw,BedarfWW-$AA$77*SUM($W$60:$W110)/Etaw),0))","v":{"$error":"#VALUE!"}},{"$error":"#REF!"},0,0,{"$error":"#REF!"},{"$f":"AE111+AD111+IF(Laufzeit_Zusatzheizung>=SUM($Y$60:$Y144),Kesselleistung*$H$45*Y111,0)","v":{"$error":"#VALUE!"}},{"$error":"#VALUE!"},{"$f":"IF(Neu,INDEX(WP_BIN!$T$80:$CG$80,1,S111),AZ111)","v":0},{"$error":"#VALUE!"},{"$error":"#VALUE!"},0,{"$error":"#VALUE!"},0,0,0,{"$f":"INDEX(Berechnungen!$E$79:$BR$79,1,S111)","v":{"$error":"#REF!"}},26,{"$f":"INDEX(WP_BIN!$T$78:$CG$78,1,$S111)","v":26},{"$f":"INDEX(WP_BIN!$T$43:$CG$43,1,$S111)","v":{"$error":"#DIV/0!"}},{"$f":"INDEX(WP_BIN!$T$79:$CG$79,1,$S111)","v":0},{"$f":"INDEX(WP_BIN!$T$86:$CG$86,1,$S111)","v":0},{"$f":"INDEX(WP_BIN!$T$47:$CG$47,1,$S111)","v":{"$error":"#DIV/0!"}},{"$f":"INDEX(WP_BIN!$T$54:$CG$54,1,$S111)","v":0}]
[null,null,null,null,null,null,null,null,null,null,null,null,null,null,null,null,null,null,53,0,null,0,{"$f":"IF(BIN,INDEX(BIN!$B$3:$BO$364,4+(Klima-2)*11,S112),0)","v":0},27,{"$f":"IF(BINkorr,INDEX(Berechnungen!$E$81:$BR$81,1,S112)*IF(OR(Methode_384_3,Z112=0),1,AV112/Z112)/Leistungskorr*(1-Kollektor),W112*$T$130*(1-Kollektor))","v":{"$error":"#REF!"}},{"$f":"IF(Heizung,IF(Methode_384_3,INDEX(Berechnungen!$E$79:$BR$79,1,S112),IF(IF(Heizung,Z111-$Z$77/28,0)>0,IF(Heizung,Z111-$Z$77/28,0),0)),0)","v":0},{"$error":"#VALUE!"},{"$f":"AB111","v":0},{"$error":"#VALUE!"},{"$error":"#VALUE!"},{"$error":"#VALUE!"},{"$error":"#REF!"},{"$f":"IF($AA$77*SUM($W$60:$W111)/Etaw=BedarfWW,0,MAX(MIN($AA$77*W112/Etaw,BedarfWW-$AA$77*SUM($W$60:$W111)/Etaw),0))","v":{"$error":"#VALUE!"}},{"$error":"#REF!"},0,0,{"$error":"#REF!"},{"$f":"AE112+AD112+IF(Laufzeit_Zusatzheizung>=SUM($Y$60:$Y145),Kesselleistung*$H$45*Y112,0)","v":{"$error":"#VALUE!"}},{"$error":"#VALUE!"},{"$f":"IF(Neu,INDEX(WP_BIN!$T$80:$CG$80,1,S112),AZ112)","v":0},{"$error":"#VALUE!"},{"$error":"#VALUE!"},0,{"$error":"#VALUE!"},0,0,0,{"$f":"INDEX(Berechnungen!$E$79:$BR$79,1,S112)","v":{"$error":"#REF!"}},27,{"$f":"INDEX(WP_BIN!$T$78:$CG$78,1,$S112)","v":26},{"$f":"INDEX(WP_BIN!$T$43:$CG$43,1,$S112)","v":{"$error":"#DIV/0!"}},{"$f":"INDEX(WP_BIN!$T$79:$CG$79,1,$S112)","v":0},{"$f":"INDEX(WP_BIN!$T$86:$CG$86,1,$S112)","v":0},{"$f":"INDEX(WP_BIN!$T$47:$CG$47,1,$S112)","v":{"$error":"#DIV/0!"}},{"$f":"INDEX(WP_BIN!$T$54:$CG$54,1,$S112)","v":0}]
[null,null,null,null,null,null,null,null,null,null,null,null,null,null,null,null,null,null,54,0,null,0,{"$f":"IF(BIN,INDEX(BIN!$B$3:$BO$364,4+(Klima-2)*11,S113),0)","v":0},28,{"$f":"IF(BINkorr,INDEX(Berechnungen!$E$81:$BR$81,1,S113)*IF(OR(Methode_384_3,Z113=0),1,AV113/Z113)/Leistungskorr*(1-Kollektor),W113*$T$130*(1-Kollektor))","v":{"$error":"#REF!"}},{"$f":"IF(Heizung,IF(Methode_384_3,INDEX(Berechnungen!$E$79:$BR$79,1,S113),IF(IF(Heizung,Z112-$Z$77/28,0)>0,IF(Heizung,Z112-$Z$77/28,0),0)),0)","v":0},{"$error":"#VALUE!"},0,{"$error":"#VALUE!"},{"$error":"#VALUE!"},{"$error":"#VALUE!"},{"$error":"#REF!"},{"$f":"IF($AA$77*SUM($W$60:$W112)/Etaw=BedarfWW,0,MAX(MIN($AA$77*W113/Etaw,BedarfWW-$AA$77*SUM($W$60:$W112)/Etaw),0))","v":{"$error":"#VALUE!"}},{"$error":"#REF!"},0,0,{"$error":"#REF!"},{"$f":"AE113+AD113+IF(Laufzeit_Zusatzheizung>=SUM($Y$60:$Y146),Kesselleistung*$H$45*Y113,0)","v":{"$error":"#VALUE!"}},{"$error":"#VALUE!"},{"$f":"IF(Neu,INDEX(WP_BIN!$T$80:$CG$80,1,S113),AZ113)","v":0},{"$error":"#VALUE!"},{"$error":"#VALUE!"},0,{"$error":"#VALUE!"},0,0,0,{"$f":"INDEX(Berechnungen!$E$79:$BR$79,1,S113)","v":{"$error":"#REF!"}},28,{"$f":"INDEX(WP_BIN!$T$78:$CG$78,1,$S113)","v":26},{"$f":"INDEX(WP_BIN!$T$43:$CG$43,1,$S113)","v":{"$error":"#DIV/0!"}},{"$f":"INDEX(WP_BIN!$T$79:$CG$79,1,$S113)","v":0},{"$f":"INDEX(WP_BIN!$T$86:$CG$86,1,$S113)","v":0},{"$f":"INDEX(WP_BIN!$T$47:$CG$47,1,$S113)","v":{"$error":"#DIV/0!"}},{"$f":"INDEX(WP_BIN!$T$54:$CG$54,1,$S113)","v":0}]
[null,null,null,null,null,null,null,null,null,null,null,null,null,null,null,null,null,null,55,0,null,0,{"$f":"IF(BIN,INDEX(BIN!$B$3:$BO$364,4+(Klima-2)*11,S114),0)","v":0},29,{"$f":"IF(BINkorr,INDEX(Berechnungen!$E$81:$BR$81,1,S114)*IF(OR(Methode_384_3,Z114=0),1,AV114/Z114)/Leistungskorr*(1-Kollektor),W114*$T$130*(1-Kollektor))","v":{"$error":"#REF!"}},{"$f":"IF(Heizung,IF(Methode_384_3,INDEX(Berechnungen!$E$79:$BR$79,1,S114),IF(IF(Heizung,Z113-$Z$77/28,0)>0,IF(Heizung,Z113-$Z$77/28,0),0)),0)","v":0},{"$error":"#VALUE!"},0,{"$error":"#VALUE!"},{"$error":"#VALUE!"},{"$error":"#VALUE!"},{"$error":"#REF!"},{"$f":"IF($AA$77*SUM($W$60:$W113)/Etaw=BedarfWW,0,MAX(MIN($AA$77*W114/Etaw,BedarfWW-$AA$77*SUM($W$60:$W113)/Etaw),0))","v":{"$error":"#VALUE!"}},{"$error":"#REF!"},0,0,{"$error":"#REF!"},{"$f":"AE114+AD114+IF(Laufzeit_Zusatzheizung>=SUM($Y$60:$Y147),Kesselleistung*$H$45*Y114,0)","v":{"$error":"#VALUE!"}},{"$error":"#VALUE!"},{"$f":"IF(Neu,INDEX(WP_BIN!$T$80:$CG$80,1,S114),AZ114)","v":0},{"$error":"#VALUE!"},{"$error":"#VALUE!"},0,{"$error":"#VALUE!"},0,0,0,{"$f":"INDEX(Berechnungen!$E$79:$BR$79,1,S114)","v":{"$error":"#REF!"}},29,{"$f":"INDEX(WP_BIN!$T$78:$CG$78,1,$S114)","v":26},{"$f":"INDEX(WP_BIN!$T$43:$CG$43,1,$S114)","v":{"$error":"#DIV/0!"}},{"$f":"INDEX(WP_BIN!$T$79:$CG$79,1,$S114)","v":0},{"$f":"INDEX(WP_BIN!$T$86:$CG$86,1,$S114)","v":0},{"$f":"INDEX(WP_BIN!$T$47:$CG$47,1,$S114)","v":{"$error":"#DIV/0!"}},{"$f":"INDEX(WP_BIN!$T$54:$CG$54,1,$S114)","v":0}]
[null,null,null,null,null,null,null,null,null,null,null,null,null,null,null,null,null,null,56,0,null,0,{"$f":"IF(BIN,INDEX(BIN!$B$3:$BO$364,4+(Klima-2)*11,S115),0)","v":0},30,{"$f":"IF(BINkorr,INDEX(Berechnungen!$E$81:$BR$81,1,S115)*IF(OR(Methode_384_3,Z115=0),1,AV115/Z115)/Leistungskorr*(1-Kollektor),W115*$T$130*(1-Kollektor))","v":{"$error":"#REF!"}},{"$f":"IF(Heizung,IF(Methode_384_3,INDEX(Berechnungen!$E$79:$BR$79,1,S115),IF(IF(Heizung,Z114-$Z$77/28,0)>0,IF(Heizung,Z114-$Z$77/28,0),0)),0)","v":0},{"$error":"#VALUE!"},0,{"$error":"#VALUE!"},{"$error":"#VALUE!"},{"$error":"#VALUE!"},{"$error":"#REF!"},{"$f":"IF($AA$77*SUM($W$60:$W114)/Etaw=BedarfWW,0,MAX(MIN($AA$77*W115/Etaw,BedarfWW-$AA$77*SUM($W$60:$W114)/Etaw),0))","v":{"$error":"#VALUE!"}},{"$error":"#REF!"},0,0,{"$error":"#REF!"},{"$f":"AE115+AD115+IF(Laufzeit_Zusatzheizung>=SUM($Y$60:$Y148),Kesselleistung*$H$45*Y115,0)","v":{"$error":"#VALUE!"}},{"$error":"#VALUE!"},{"$f":"IF(Neu,INDEX(WP_BIN!$T$80:$CG$80,1,S115),AZ115)","v":0},{"$error":"#VALUE!"},{"$error":"#VALUE!"},0,{"$error":"#VALUE!"},0,0,0,{"$f":"INDEX(Berechnungen!$E$79:$BR$79,1,S115)","v":{"$error":"#REF!"}},30,{"$f":"INDEX(WP_BIN!$T$78:$CG$78,1,$S115)","v":26},{"$f":"INDEX(WP_BIN!$T$43:$CG$43,1,$S115)","v":{"$error":"#DIV/0!"}},{"$f":"INDEX(WP_BIN!$T$79:$CG$79,1,$S115)","v":0},{"$f":"INDEX(WP_BIN!$T$86:$CG$86,1,$S115)","v":0},{"$f":"INDEX(WP_BIN!$T$47:$CG$47,1,$S115)","v":{"$error":"#DIV/0!"}},{"$f":"INDEX(WP_BIN!$T$54:$CG$54,1,$S115)","v":0}]
[null,null,null,null,null,null,null,null,null,null,null,null,null,null,null,null,null,null,57,0,null,0,{"$f":"IF(BIN,INDEX(BIN!$B$3:$BO$364,4+(Klima-2)*11,S116),0)","v":0},31,{"$f":"IF(BINkorr,INDEX(Berechnungen!$E$81:$BR$81,1,S116)*IF(OR(Methode_384_3,Z116=0),1,AV116/Z116)/Leistungskorr*(1-Kollektor),W116*$T$130*(1-Kollektor))","v":{"$error":"#REF!"}},{"$f":"IF(Heizung,IF(Methode_384_3,INDEX(Berechnungen!$E$79:$BR$79,1,S116),IF(IF(Heizung,Z115-$Z$77/28,0)>0,IF(Heizung,Z115-$Z$77/28,0),0)),0)","v":0},{"$error":"#VALUE!"},0,{"$error":"#VALUE!"},{"$error":"#VALUE!"},{"$error":"#VALUE!"},{"$error":"#REF!"},{"$f":"IF($AA$77*SUM($W$60:$W115)/Etaw=BedarfWW,0,MAX(MIN($AA$77*W116/Etaw,BedarfWW-$AA$77*SUM($W$60:$W115)/Etaw),0))","v":{"$error":"#VALUE!"}},{"$error":"#REF!"},0,0,{"$error":"#REF!"},{"$f":"AE116+AD116+IF(Laufzeit_Zusatzheizung>=SUM($Y$60:$Y149),Kesselleistung*$H$45*Y116,0)","v":{"$error":"#VALUE!"}},{"$error":"#VALUE!"},{"$f":"IF(Neu,INDEX(WP_BIN!$T$80:$CG$80,1,S116),AZ116)","v":0},{"$error":"#VALUE!"},{"$error":"#VALUE!"},0,{"$error":"#VALUE!"},0,0,0,{"$f":"INDEX(Berechnungen!$E$79:$BR$79,1,S116)","v":{"$error":"#REF!"}},31,{"$f":"INDEX(WP_BIN!$T$78:$CG$78,1,$S116)","v":26},{"$f":"INDEX(WP_BIN!$T$43:$CG$43,1,$S116)","v":{"$error":"#DIV/0!"}},{"$f":"INDEX(WP_BIN!$T$79:$CG$79,1,$S116)","v":0},{"$f":"INDEX(WP_BIN!$T$86:$CG$86,1,$S116)","v":0},{"$f":"INDEX(WP_BIN!$T$47:$CG$47,1,$S116)","v":{"$error":"#DIV/0!"}},{"$f":"INDEX(WP_BIN!$T$54:$CG$54,1,$S116)","v":0}]
[null,null,null,null,null,null,null,null,null,null,null,null,null,null,null,null,null,null,58,0,null,0,{"$f":"IF(BIN,INDEX(BIN!$B$3:$BO$364,4+(Klima-2)*11,S117),0)","v":0},32,{"$f":"IF(BINkorr,INDEX(Berechnungen!$E$81:$BR$81,1,S117)*IF(OR(Methode_384_3,Z117=0),1,AV117/Z117)/Leistungskorr*(1-Kollektor),W117*$T$130*(1-Kollektor))","v":{"$error":"#REF!"}},{"$f":"IF(Heizung,IF(Methode_384_3,INDEX(Berechnungen!$E$79:$BR$79,1,S117),IF(IF(Heizung,Z116-$Z$77/28,0)>0,IF(Heizung,Z116-$Z$77/28,0),0)),0)","v":0},{"$error":"#VALUE!"},0,{"$error":"#VALUE!"},{"$error":"#VALUE!"},{"$error":"#VALUE!"},{"$error":"#REF!"},{"$f":"IF($AA$77*SUM($W$60:$W116)/Etaw=BedarfWW,0,MAX(MIN($AA$77*W117/Etaw,BedarfWW-$AA$77*SUM($W$60:$W116)/Etaw),0))","v":{"$error":"#VALUE!"}},{"$error":"#REF!"},0,0,{"$error":"#REF!"},{"$f":"AE117+AD117+IF(Laufzeit_Zusatzheizung>=SUM($Y$60:$Y150),Kesselleistung*$H$45*Y117,0)","v":{"$error":"#VALUE!"}},{"$error":"#VALUE!"},{"$f":"IF(Neu,INDEX(WP_BIN!$T$80:$CG$80,1,S117),AZ117)","v":0},{"$error":"#VALUE!"},{"$error":"#VALUE!"},0,{"$error":"#VALUE!"},0,0,0,{"$f":"INDEX(Berechnungen!$E$79:$BR$79,1,S117)","v":{"$error":"#REF!"}},32,{"$f":"INDEX(WP_BIN!$T$78:$CG$78,1,$S117)","v":26},{"$f":"INDEX(WP_BIN!$T$43:$CG$43,1,$S117)","v":{"$error":"#DIV/0!"}},{"$f":"INDEX(WP_BIN!$T$79:$CG$79,1,$S117)","v":0},{"$f":"INDEX(WP_BIN!$T$86:$CG$86,1,$S117)","v":0},{"$f":"INDEX(WP_BIN!$T$47:$CG$47,1,$S117)","v":{"$error":"#DIV/0!"}},{"$f":"INDEX(WP_BIN!$T$54:$CG$54,1,$S117)","v":0}]
[null,null,null,null,null,null,null,null,null,null,null,null,null,null,null,null,null,null,59,0,null,0,{"$f":"IF(BIN,INDEX(BIN!$B$3:$BO$364,4+(Klima-2)*11,S118),0)","v":0},33,{"$f":"IF(BINkorr,INDEX(Berechnungen!$E$81:$BR$81,1,S118)*IF(OR(Methode_384_3,Z118=0),1,AV118/Z118)/Leistungskorr*(1-Kollektor),W118*$T$130*(1-Kollektor))","v":{"$error":"#REF!"}},{"$f":"IF(Heizung,IF(Methode_384_3,INDEX(Berechnungen!$E$79:$BR$79,1,S118),IF(IF(Heizung,Z117-$Z$77/28,0)>0,IF(Heizung,Z117-$Z$77/28,0),0)),0)","v":0},{"$error":"#VALUE!"},0,{"$error":"#VALUE!"},{"$error":"#VALUE!"},{"$error":"#VALUE!"},{"$error":"#REF!"},{"$f":"IF($AA$77*SUM($W$60:$W117)/Etaw=BedarfWW,0,MAX(MIN($AA$77*W118/Etaw,BedarfWW-$AA$77*SUM($W$60:$W117)/Etaw),0))","v":{"$error":"#VALUE!"}},{"$error":"#REF!"},0,0,{"$error":"#REF!"},{"$f":"AE118+AD118+IF(Laufzeit_Zusatzheizung>=SUM($Y$60:$Y151),Kesselleistung*$H$45*Y118,0)","v":{"$error":"#VALUE!"}},{"$error":"#VALUE!"},{"$f":"IF(Neu,INDEX(WP_BIN!$T$80:$CG$80,1,S118),AZ118)","v":0},{"$error":"#VALUE!"},{"$error":"#VALUE!"},0,{"$error":"#VALUE!"},0,0,0,{"$f":"INDEX(Berechnungen!$E$79:$BR$79,1,S118)","v":{"$error":"#REF!"}},33,{"$f":"INDEX(WP_BIN!$T$78:$CG$78,1,$S118)","v":26},{"$f":"INDEX(WP_BIN!$T$43:$CG$43,1,$S118)","v":{"$error":"#DIV/0!"}},{"$f":"INDEX(WP_BIN!$T$79:$CG$79,1,$S118)","v":0},{"$f":"INDEX(WP_BIN!$T$86:$CG$86,1,$S118)","v":0},{"$f":"INDEX(WP_BIN!$T$47:$CG$47,1,$S118)","v":{"$error":"#DIV/0!"}},{"$f":"INDEX(WP_BIN!$T$54:$CG$54,1,$S118)","v":0}]
[null,null,null,null,null,null,null,null,null,null,null,null,null,null,null,null,null,null,60,0,null,0,{"$f":"IF(BIN,INDEX(BIN!$B$3:$BO$364,4+(Klima-2)*11,S119),0)","v":0},34,{"$f":"IF(BINkorr,INDEX(Berechnungen!$E$81:$BR$81,1,S119)*IF(OR(Methode_384_3,Z119=0),1,AV119/Z119)/Leistungskorr*(1-Kollektor),W119*$T$130*(1-Kollektor))","v":{"$error":"#REF!"}},{"$f":"IF(Heizung,IF(Methode_384_3,INDEX(Berechnungen!$E$79:$BR$79,1,S119),IF(IF(Heizung,Z118-$Z$77/28,0)>0,IF(Heizung,Z118-$Z$77/28,0),0)),0)","v":0},{"$error":"#VALUE!"},0,{"$error":"#VALUE!"},{"$error":"#VALUE!"},{"$error":"#VALUE!"},{"$error":"#REF!"},{"$f":"IF($AA$77*SUM($W$60:$W118)/Etaw=BedarfWW,0,MAX(MIN($AA$77*W119/Etaw,BedarfWW-$AA$77*SUM($W$60:$W118)/Etaw),0))","v":{"$error":"#VALUE!"}},{"$error":"#REF!"},0,0,{"$error":"#REF!"},{"$f":"AE119+AD119+IF(Laufzeit_Zusatzheizung>=SUM($Y$60:$Y152),Kesselleistung*$H$45*Y119,0)","v":{"$error":"#VALUE!"}},{"$error":"#VALUE!"},{"$f":"IF(Neu,INDEX(WP_BIN!$T$80:$CG$80,1,S119),AZ119)","v":0},{"$error":"#VALUE!"},{"$error":"#VALUE!"},0,{"$error":"#VALUE!"},0,0,0,{"$f":"INDEX(Berechnungen!$E$79:$BR$79,1,S119)","v":{"$error":"#REF!"}},34,{"$f":"INDEX(WP_BIN!$T$78:$CG$78,1,$S119)","v":26},{"$f":"INDEX(WP_BIN!$T$43:$CG$43,1,$S119)","v":{"$error":"#DIV/0!"}},{"$f":"INDEX(WP_BIN!$T$79:$CG$79,1,$S119)","v":0},{"$f":"INDEX(WP_BIN!$T$86:$CG$86,1,$S119)","v":0},{"$f":"INDEX(WP_BIN!$T$47:$CG$47,1,$S119)","v":{"$error":"#DIV/0!"}},{"$f":"INDEX(WP_BIN!$T$54:$CG$54,1,$S119)","v":0}]
[null,null,null,null,null,null,null,null,null,null,null,null,null,null,null,null,null,null,61,0,null,0,{"$f":"IF(BIN,INDEX(BIN!$B$3:$BO$364,4+(Klima-2)*11,S120),0)","v":0},35,{"$f":"IF(BINkorr,INDEX(Berechnungen!$E$81:$BR$81,1,S120)*IF(OR(Methode_384_3,Z120=0),1,AV120/Z120)/Leistungskorr*(1-Kollektor),W120*$T$130*(1-Kollektor))","v":{"$error":"#REF!"}},{"$f":"IF(Heizung,IF(Methode_384_3,INDEX(Berechnungen!$E$79:$BR$79,1,S120),IF(IF(Heizung,Z119-$Z$77/28,0)>0,IF(Heizung,Z119-$Z$77/28,0),0)),0)","v":0},{"$error":"#VALUE!"},0,{"$error":"#VALUE!"},{"$error":"#VALUE!"},{"$error":"#VALUE!"},{"$error":"#REF!"},{"$f":"IF($AA$77*SUM($W$60:$W119)/Etaw=BedarfWW,0,MAX(MIN($AA$77*W120/Etaw,BedarfWW-$AA$77*SUM($W$60:$W119)/Etaw),0))","v":{"$error":"#VALUE!"}},{"$error":"#REF!"},0,0,{"$error":"#REF!"},{"$f":"AE120+AD120+IF(Laufzeit_Zusatzheizung>=SUM($Y$60:$Y153),Kesselleistung*$H$45*Y120,0)","v":{"$error":"#VALUE!"}},{"$error":"#VALUE!"},{"$f":"IF(Neu,INDEX(WP_BIN!$T$80:$CG$80,1,S120),AZ120)","v":0},{"$error":"#VALUE!"},{"$error":"#VALUE!"},0,{"$error":"#VALUE!"},0,0,0,{"$f":"INDEX(Berechnungen!$E$79:$BR$79,1,S120)","v":{"$error":"#REF!"}},35,{"$f":"INDEX(WP_BIN!$T$78:$CG$78,1,$S120)","v":26},{"$f":"INDEX(WP_BIN!$T$43:$CG$43,1,$S120)","v":{"$error":"#DIV/0!"}},{"$f":"INDEX(WP_BIN!$T$79:$CG$79,1,$S120)","v":0},{"$f":"INDEX(WP_BIN!$T$86:$CG$86,1,$S120)","v":0},{"$f":"INDEX(WP_BIN!$T$47:$CG$47,1,$S120)","v":{"$error":"#DIV/0!"}},{"$f":"INDEX(WP_BIN!$T$54:$CG$54,1,$S120)","v":0}]
[null,null,null,null,null,null,null,null,null,null,null,null,null,null,null,null,null,null,62,0,null,0,{"$f":"IF(BIN,INDEX(BIN!$B$3:$BO$364,4+(Klima-2)*11,S121),0)","v":0},36,{"$f":"IF(BINkorr,INDEX(Berechnungen!$E$81:$BR$81,1,S121)*IF(OR(Methode_384_3,Z121=0),1,AV121/Z121)/Leistungskorr*(1-Kollektor),W121*$T$130*(1-Kollektor))","v":{"$error":"#REF!"}},{"$f":"IF(Heizung,IF(Methode_384_3,INDEX(Berechnungen!$E$79:$BR$79,1,S121),IF(IF(Heizung,Z120-$Z$77/28,0)>0,IF(Heizung,Z120-$Z$77/28,0),0)),0)","v":0},{"$error":"#VALUE!"},0,{"$error":"#VALUE!"},{"$error":"#VALUE!"},{"$error":"#VALUE!"},{"$error":"#REF!"},{"$f":"IF($AA$77*SUM($W$60:$W120)/Etaw=BedarfWW,0,MAX(MIN($AA$77*W121/Etaw,BedarfWW-$AA$77*SUM($W$60:$W120)/Etaw),0))","v":{"$error":"#VALUE!"}},{"$error":"#REF!"},0,0,{"$error":"#REF!"},{"$f":"AE121+AD121+IF(Laufzeit_Zusatzheizung>=SUM($Y$60:$Y154),Kesselleistung*$H$45*Y121,0)","v":{"$error":"#VALUE!"}},{"$error":"#VALUE!"},{"$f":"IF(Neu,INDEX(WP_BIN!$T$80:$CG$80,1,S121),AZ121)","v":0},{"$error":"#VALUE!"},{"$error":"#VALUE!"},0,{"$error":"#VALUE!"},0,0,0,{"$f":"INDEX(Berechnungen!$E$79:$BR$79,1,S121)","v":{"$error":"#REF!"}},36,{"$f":"INDEX(WP_BIN!$T$78:$CG$78,1,$S121)","v":26},{"$f":"INDEX(WP_BIN!$T$43:$CG$43,1,$S121)","v":{"$error":"#DIV/0!"}},{"$f":"INDEX(WP_BIN!$T$79:$CG$79,1,$S121)","v":0},{"$f":"INDEX(WP_BIN!$T$86:$CG$86,1,$S121)","v":0},{"$f":"INDEX(WP_BIN!$T$47:$CG$47,1,$S121)","v":{"$error":"#DIV/0!"}},{"$f":"INDEX(WP_BIN!$T$54:$CG$54,1,$S121)","v":0}]
[null,null,null,null,null,null,null,null,null,null,null,null,null,null,null,null,null,null,63,0,null,0,{"$f":"IF(BIN,INDEX(BIN!$B$3:$BO$364,4+(Klima-2)*11,S122),0)","v":0},37,{"$f":"IF(BINkorr,INDEX(Berechnungen!$E$81:$BR$81,1,S122)*IF(OR(Methode_384_3,Z122=0),1,AV122/Z122)/Leistungskorr*(1-Kollektor),W122*$T$130*(1-Kollektor))","v":{"$error":"#REF!"}},{"$f":"IF(Heizung,IF(Methode_384_3,INDEX(Berechnungen!$E$79:$BR$79,1,S122),IF(IF(Heizung,Z121-$Z$77/28,0)>0,IF(Heizung,Z121-$Z$77/28,0),0)),0)","v":0},{"$error":"#VALUE!"},0,{"$error":"#VALUE!"},{"$error":"#VALUE!"},{"$error":"#VALUE!"},{"$error":"#REF!"},{"$f":"IF($AA$77*SUM($W$60:$W121)/Etaw=BedarfWW,0,MAX(MIN($AA$77*W122/Etaw,BedarfWW-$AA$77*SUM($W$60:$W121)/Etaw),0))","v":{"$error":"#VALUE!"}},{"$error":"#REF!"},0,0,{"$error":"#REF!"},{"$f":"AE122+AD122+IF(Laufzeit_Zusatzheizung>=SUM($Y$60:$Y155),Kesselleistung*$H$45*Y122,0)","v":{"$error":"#VALUE!"}},{"$error":"#VALUE!"},{"$f":"IF(Neu,INDEX(WP_BIN!$T$80:$CG$80,1,S122),AZ122)","v":0},{"$error":"#VALUE!"},{"$error":"#VALUE!"},0,{"$error":"#VALUE!"},0,0,0,{"$f":"INDEX(Berechnungen!$E$79:$BR$79,1,S122)","v":{"$error":"#REF!"}},37,{"$f":"INDEX(WP_BIN!$T$78:$CG$78,1,$S122)","v":26},{"$f":"INDEX(WP_BIN!$T$43:$CG$43,1,$S122)","v":{"$error":"#DIV/0!"}},{"$f":"INDEX(WP_BIN!$T$79:$CG$79,1,$S122)","v":0},{"$f":"INDEX(WP_BIN!$T$86:$CG$86,1,$S122)","v":0},{"$f":"INDEX(WP_BIN!$T$47:$CG$47,1,$S122)","v":{"$error":"#DIV/0!"}},{"$f":"INDEX(WP_BIN!$T$54:$CG$54,1,$S122)","v":0}]
[null,null,null,null,null,null,null,null,null,null,null,null,null,null,null,null,null,null,64,0,null,0,{"$f":"IF(BIN,INDEX(BIN!$B$3:$BO$364,4+(Klima-2)*11,S123),0)","v":0},38,{"$f":"IF(BINkorr,INDEX(Berechnungen!$E$81:$BR$81,1,S123)*IF(OR(Methode_384_3,Z123=0),1,AV123/Z123)/Leistungskorr*(1-Kollektor),W123*$T$130*(1-Kollektor))","v":{"$error":"#REF!"}},{"$f":"IF(Heizung,IF(Methode_384_3,INDEX(Berechnungen!$E$79:$BR$79,1,S123),IF(IF(Heizung,Z122-$Z$77/28,0)>0,IF(Heizung,Z122-$Z$77/28,0),0)),0)","v":0},{"$error":"#VALUE!"},0,{"$error":"#VALUE!"},{"$error":"#VALUE!"},{"$error":"#VALUE!"},{"$error":"#REF!"},{"$f":"IF($AA$77*SUM($W$60:$W122)/Etaw=BedarfWW,0,MAX(MIN($AA$77*W123/Etaw,BedarfWW-$AA$77*SUM($W$60:$W122)/Etaw),0))","v":{"$error":"#VALUE!"}},{"$error":"#REF!"},0,0,{"$error":"#REF!"},{"$f":"AE123+AD123+IF(Laufzeit_Zusatzheizung>=SUM($Y$60:$Y156),Kesselleistung*$H$45*Y123,0)","v":{"$error":"#VALUE!"}},{"$error":"#VALUE!"},{"$f":"IF(Neu,INDEX(WP_BIN!$T$80:$CG$80,1,S123),AZ123)","v":0},{"$error":"#VALUE!"},{"$error":"#VALUE!"},0,{"$error":"#VALUE!"},0,0,0,{"$f":"INDEX(Berechnungen!$E$79:$BR$79,1,S123)","v":{"$error":"#REF!"}},38,{"$f":"INDEX(WP_BIN!$T$78:$CG$78,1,$S123)","v":26},{"$f":"INDEX(WP_BIN!$T$43:$CG$43,1,$S123)","v":{"$error":"#DIV/0!"}},{"$f":"INDEX(WP_BIN!$T$79:$CG$79,1,$S123)","v":0},{"$f":"INDEX(WP_BIN!$T$86:$CG$86,1,$S123)","v":0},{"$f":"INDEX(WP_BIN!$T$47:$CG$47,1,$S123)","v":{"$error":"#DIV/0!"}},{"$f":"INDEX(WP_BIN!$T$54:$CG$54,1,$S123)","v":0}]
[null,null,null,null,null,null,null,null,null,null,null,null,null,null,null,null,null,null,65,0,null,0,{"$f":"IF(BIN,INDEX(BIN!$B$3:$BO$364,4+(Klima-2)*11,S124),0)","v":0},39,{"$f":"IF(BINkorr,INDEX(Berechnungen!$E$81:$BR$81,1,S124)*IF(OR(Methode_384_3,Z124=0),1,AV124/Z124)/Leistungskorr*(1-Kollektor),W124*$T$130*(1-Kollektor))","v":{"$error":"#REF!"}},{"$f":"IF(Heizung,IF(Methode_384_3,INDEX(Berechnungen!$E$79:$BR$79,1,S124),IF(IF(Heizung,Z123-$Z$77/28,0)>0,IF(Heizung,Z123-$Z$77/28,0),0)),0)","v":0},{"$error":"#VALUE!"},0,{"$error":"#VALUE!"},{"$error":"#VALUE!"},{"$error":"#VALUE!"},{"$error":"#REF!"},{"$f":"IF($AA$77*SUM($W$60:$W123)/Etaw=BedarfWW,0,MAX(MIN($AA$77*W124/Etaw,BedarfWW-$AA$77*SUM($W$60:$W123)/Etaw),0))","v":{"$error":"#VALUE!"}},{"$error":"#REF!"},0,0,{"$error":"#REF!"},{"$f":"AE124+AD124+IF(Laufzeit_Zusatzheizung>=SUM($Y$60:$Y157),Kesselleistung*$H$45*Y124,0)","v":{"$error":"#VALUE!"}},{"$error":"#VALUE!"},{"$f":"IF(Neu,INDEX(WP_BIN!$T$80:$CG$80,1,S124),AZ124)","v":0},{"$error":"#VALUE!"},{"$error":"#VALUE!"},0,{"$error":"#VALUE!"},0,0,0,{"$f":"INDEX(Berechnungen!$E$79:$BR$79,1,S124)","v":{"$error":"#REF!"}},39,{"$f":"INDEX(WP_BIN!$T$78:$CG$78,1,$S124)","v":26},{"$f":"INDEX(WP_BIN!$T$43:$CG$43,1,$S124)","v":{"$error":"#DIV/0!"}},{"$f":"INDEX(WP_BIN!$T$79:$CG$79,1,$S124)","v":0},{"$f":"INDEX(WP_BIN!$T$86:$CG$86,1,$S124)","v":0},{"$f":"INDEX(WP_BIN!$T$47:$CG$47,1,$S124)","v":{"$error":"#DIV/0!"}},{"$f":"INDEX(WP_BIN!$T$54:$CG$54,1,$S124)","v":0}]
[null,null,null,null,null,null,null,null,null,null,null,null,null,null,null,null,null,null,66,0,null,0,{"$f":"IF(BIN,INDEX(BIN!$B$3:$BO$364,4+(Klima-2)*11,S125),0)","v":0},40,{"$f":"IF(BINkorr,INDEX(Berechnungen!$E$81:$BR$81,1,S125)*IF(OR(Methode_384_3,Z125=0),1,AV125/Z125)/Leistungskorr*(1-Kollektor),W125*$T$130*(1-Kollektor))","v":{"$error":"#REF!"}},{"$f":"IF(Heizung,IF(Methode_384_3,INDEX(Berechnungen!$E$79:$BR$79,1,S125),IF(IF(Heizung,Z124-$Z$77/28,0)>0,IF(Heizung,Z124-$Z$77/28,0),0)),0)","v":0},{"$error":"#VALUE!"},0,{"$error":"#VALUE!"},{"$f":"MAX(IF(AE125>0,Z125*Y125/Etah/Nutzungsgrad,(Z125*Y125/Etah+AA125*Y125/Etaw-AB125*Y125)/Nutzungsgrad),0)","v":{"$error":"#VALUE!"}},{"$f":"MAX(AA125-AB125,0)*W125/Nutzungsgrad/Etaw","v":{"$error":"#VALUE!"}},{"$f":"Z125*Y125/Etah","v":{"$error":"#REF!"}},{"$f":"IF($AA$77*SUM($W$60:$W124)/Etaw=BedarfWW,0,MAX(MIN($AA$77*W125/Etaw,BedarfWW-$AA$77*SUM($W$60:$W124)/Etaw),0))","v":{"$error":"#VALUE!"}},{"$error":"#REF!"},0,0,{"$error":"#REF!"},{"$f":"AE125+AD125+IF(Laufzeit_Zusatzheizung>=SUM($Y$60:$Y158),Kesselleistung*$H$45*Y125,0)","v":{"$error":"#VALUE!"}},{"$f":"MIN(AL125,W125*Kesselleistung)","v":{"$error":"#VALUE!"}},{"$f":"IF(Neu,INDEX(WP_BIN!$T$80:$CG$80,1,S125),AZ125)","v":0},{"$error":"#VALUE!"},{"$error":"#VALUE!"},0,{"$error":"#VALUE!"},{"$f":"MIN(IF(AB125>0,AK125/AB125,0),W125)","v":0},{"$f":"IF(WW=TRUE,AI125-AS125,0)","v":0},0,{"$f":"INDEX(Berechnungen!$E$79:$BR$79,1,S125)","v":{"$error":"#REF!"}},{"$f":"X125","v":40},{"$f":"INDEX(WP_BIN!$T$78:$CG$78,1,$S125)","v":26},{"$f":"INDEX(WP_BIN!$T$43:$CG$43,1,$S125)","v":{"$error":"#DIV/0!"}},{"$f":"INDEX(WP_BIN!$T$79:$CG$79,1,$S125)","v":0},{"$f":"INDEX(WP_BIN!$T$86:$CG$86,1,$S125)","v":0},{"$f":"INDEX(WP_BIN!$T$47:$CG$47,1,$S125)","v":{"$error":"#DIV/0!"}},{"$f":"INDEX(WP_BIN!$T$54:$CG$54,1,$S125)","v":0}]
[null,null,null,null,null,null,null,null,null,null,null,null,null,null,null,null,null,null,null,{"$f":"W126*Z126","v":{"$error":"#VALUE!"}},{"$f":"1-SUM(U60:U125)","v":0.25950000000000006},{"$f":"Z126*W126","v":{"$error":"#VALUE!"}},{"$f":"IF(BIN,0,MIN(8760-SUM(W60:W125),IF($M$32>0,ROUND(U126*Heizperiode*$M$31/$M$32,0),ROUND(U126*Heizperiode,0))))","v":{"$error":"#VALUE!"}},"7-20 °C",{"$f":"IF(BINkorr,0,W126*$T$130*(1-Kollektor))","v":0},{"$f":"IF(Heizung,IF(Methode_384_3,0,IF(BINkorr,0,Z92/2)),0)","v":0},{"$f":"IF(AG126>0,$AA$77,0)","v":{"$error":"#VALUE!"}},{"$f":"IF(Bivalenzpunkt<X126,AN126,0)","v":0},{"$f":"MAX(Z126+AA126-AB126,0)/Nutzungsgrad","v":{"$error":"#VALUE!"}},{"$f":"MAX(IF(AE126>0,Z126*Y126/Etah/Nutzungsgrad*(1+Verteilverluste),(Z126*Y126/Etah*(1+Verteilverluste)+AA126*Y126/Etaw-AB126*Y126)/Nutzungsgrad),0)","v":{"$error":"#VALUE!"}},{"$f":"MAX(AA126-AB126,0)*W126/Nutzungsgrad/Etaw","v":{"$error":"#VALUE!"}},{"$f":"Z126*Y126/Etah","v":0},{"$f":"IF($AA$77*SUM($W$60:$W125)/Etaw=BedarfWW,0,MAX(MIN($AA$77*W126/Etaw,BedarfWW-$AA$77*SUM($W$60:$W125)/Etaw),0))","v":{"$error":"#VALUE!"}},{"$f":"MAX(AF126+AG126-AD126*Nutzungsgrad-AE126*Nutzungsgrad,0)","v":{"$error":"#VALUE!"}},{"$f":"MIN(IF(AB126>0,AH126/AB126,0),W126)","v":{"$error":"#VALUE!"}},{"$f":"Z126*W126","v":{"$error":"#VALUE!"}},{"$f":"MAX(AF126-AD126*Nutzungsgrad,0)","v":{"$error":"#VALUE!"}},{"$f":"AE126+AD126+IF(Laufzeit_Zusatzheizung>=SUM($Y$60:$Y126),Kesselleistung*$H$45*Y126,0)","v":{"$error":"#VALUE!"}},0,{"$f":"MAX(0,AN92+(AN$92-AN$87)/5)","v":0},{"$f":"IF(AE126>AM126,AE126-AM126,0)","v":{"$error":"#VALUE!"}},{"$f":"AL126-AM126-AO126","v":{"$error":"#VALUE!"}},{"$f":"AQ92+(AQ$92-AQ$87)/5","v":0},{"$f":"W126*$T$130","v":{"$error":"#VALUE!"}},{"$f":"MIN(IF(AB126>0,AK126/AB126,0),W126)","v":{"$error":"#VALUE!"}},{"$f":"IF(WW=TRUE,AI126-AS126,0)","v":0},{"$f":"IF(WW=TRUE,W126*$AT$128/8760,0)","v":0}]
[null,null,null,null,null,null,null,null,null,null,null,null,null,null,null,null,null,null,null,null,null,null,{"$f":"W128-SUM(W60:W126)","v":{"$error":"#VALUE!"}},"über 20°",{"$f":"W128-SUM(Y60:Y126)","v":{"$error":"#REF!"}},0,{"$f":"IF(AG127>0,$AA$77,0)","v":{"$error":"#VALUE!"}},{"$f":"IF(Bivalenzpunkt<X127,AN127,0)","v":0},{"$f":"MAX(Z127+AA127-AB127,0)/Nutzungsgrad","v":{"$error":"#VALUE!"}},{"$f":"MAX(IF(AE127>0,Z127*Y127/Etah/Nutzungsgrad*(1+Verteilverluste),(Z127*Y127/Etah*(1+Verteilverluste)+AA127*Y127/Etaw-AB127*Y127)/Nutzungsgrad),0)","v":{"$error":"#VALUE!"}},{"$f":"MAX(AA127-AB127,0)*W127/Nutzungsgrad/Etaw","v":{"$error":"#VALUE!"}},{"$f":"Z127*Y127/Etah*(1+Verteilverluste)","v":{"$error":"#REF!"}},{"$f":"IF($AA$77*SUM($W$60:$W126)/Etaw=BedarfWW,0,MAX(MIN($AA$77*W127/Etaw,BedarfWW-$AA$77*SUM($W$60:$W126)/Etaw),0))","v":{"$error":"#VALUE!"}},{"$f":"MAX(AF127+AG127-AD127*Nutzungsgrad-AE127*Nutzungsgrad,0)","v":{"$error":"#REF!"}},{"$f":"IF(Neu,0,MIN(IF(AB127>0,AH127/AB127,0),Y127,8760-SUM(AI60:AI126)))","v":0},null,{"$f":"MAX(AF127*Etah-AD127*Nutzungsgrad,0)","v":{"$error":"#REF!"}},{"$f":"AE127+AD127+IF(Laufzeit_Zusatzheizung>=SUM($Y$60:$Y127),Kesselleistung*$H$45*Y127,0)","v":{"$error":"#VALUE!"}},0,{"$f":"AN126","v":0},{"$f":"IF(AE127>AM127,AE127-AM127,0)","v":{"$error":"#VALUE!"}},{"$f":"AL127-AM127-AO127","v":{"$error":"#VALUE!"}},{"$f":"AQ126","v":0},{"$f":"W128-SUM(AR60:AR126)","v":{"$error":"#VALUE!"}},{"$f":"MIN(IF(AB127>0,AK127/AB127,0),Y127,8760-SUM(AI60:AI126))","v":{"$error":"#VALUE!"}},{"$f":"IF(WW=TRUE,AI127-AS127,0)","v":0},null,null,"Summe Heizung",null,null,null,null,{"$f":"SUM(AS60:AS125*BB60:BB125)","v":{"$error":"#DIV/0!"}}]
[null,null,null,null,null,null,null,null,null,null,null,null,null,null,null,null,null,null,null,null,{"$f":"SUM(U60:U127)","v":1},{"$f":"SUM(V60:V126)","v":{"$error":"#VALUE!"}},8760,"Total:",{"$f":"SUM(Y60:Y127)","v":{"$error":"#REF!"}},null,null,null,null,{"$f":"SUM(AD60:AD127)","v":{"$error":"#REF!"}},{"$f":"SUM(AE60:AE127)","v":{"$error":"#REF!"}},{"$f":"SUM(AF60:AF127)","v":{"$error":"#REF!"}},{"$f":"IF($AA$77*Y128/Etaw*(1-KollektorWW)>0,$AA$77*Y128/Etaw*(1-KollektorWW),0.1)","v":{"$error":"#REF!"}},{"$f":"SUM(AH60:AH127)","v":{"$error":"#REF!"}},{"$f":"SUM(AI60:AI127)","v":{"$error":"#VALUE!"}},{"$error":"#VALUE!"},{"$error":"#REF!"},{"$error":"#REF!"},{"$error":"#REF!"},null,{"$f":"SUM(AO60:AO127)","v":{"$error":"#REF!"}},{"$f":"SUM(AP60:AP127)","v":{"$error":"#REF!"}},null,{"$f":"SUM(AR60:AR127)","v":{"$error":"#VALUE!"}},{"$f":"SUM(AS60:AS127)","v":{"$error":"#VALUE!"}},{"$f":"SUM(AT60:AT127)","v":0},{"$f":"SUM(AU60:AU126)","v":0},null,"Mittelwert Heizung",null,null,null,null,{"$f":"SUM(AS60:AS125*BB60:BB125)/AS128","v":{"$error":"#DIV/0!"}}]
[null,null,null,null,null,null,null,null,null,null,null,null,null,null,null,null,null,null,null,"1 - eff. Solar",null,"Qh","Heizperiode [h/a]","Heizstunden:",{"$f":"Heizperiode*(1-Solaranteil)","v":{"$error":"#VALUE!"}},null,null,null,null,"total Zusatzheizung Heizung und WW (ohne Bereitschaftsverluste):",{"$f":"ZusatzWW+Zusatzheizung","v":{"$error":"#REF!"}},"Bedarf:",{"$f":"AF128+AG128","v":{"$error":"#REF!"}},null,null,null,"Zusatzheizung inkl. Bereitschaftsverluste:",{"$f":"AL128","v":{"$error":"#REF!"}},null,null,null,null,null,null,null,null,null,null,"Summe Warmwasser",null,null,null,null,null,{"$f":"SUM(AU60:AU125*BC60:BC125)","v":0}]
[null,null,null,null,null,null,null,null,null,null,null,null,null,null,null,null,null,null,null,{"$f":"1-Solaranteil","v":{"$error":"#VALUE!"}},null,{"$f":"Qh*EBF/3.6","v":0},{"$f":"(HGT*1.065)/(20-TaMittel)*24","v":{"$error":"#VALUE!"}},"Solarant. =",{"$f":"IF(V128>0,IF(Qtot>0,1-'WP1'!H9*(1+Verteilverluste)/Qtot,1-15/24),0)","v":{"$error":"#VALUE!"}},{"$f":"SUMIF('WP1'!X60:X125,TaMin,'WP1'!Z60:Z125)","v":0},"Max. Leistung Gebäude",null,null,null,null,null,null,null,null,null,null,null,null,null,null,null,null,null,null,null,null,null,"Mittelwert Warmwasser",null,null,null,null,null,{"$f":"SUM(AU60:AU125*BC60:BC125)/AU128","v":{"$error":"#DIV/0!"}}]
[]
[null,null,null,null,null,null,null,null,null,null,null,null,null,null,null,null,null,null,"WP-Art","WP-Typ",null,null,null,null,null,null,null,null,null,"Betrieb","bivalent?","el.-Zusatz",null,"Speicher-Verluste",{"$f":"J22","v":1},"Speicherverluste","Überladung"]
[null,null,null,null,null,null,null,null,null,null,null,null,null,null,null,null,null,null,1,null,null,null,null,null,null,null,null,null,null," ",false,false,null," ",true,0,false]
[null,null,null,null,null,null,null,null,null,null,null,null,null,null,null,null,null,null,2,{"$f":"Sprache!B61&\" \"&Sprache!B264","v":"Pompe à chaleur air/eau une vitesse"},null,"Verlust - Tabelle:",null,null,null,null,null,null,null,{"$f":"Sprache!B115","v":"fonctionnement chauffage monovalent"},false,false,null,{"$f":"IF(J20=18,\"\",IF(Heizung=FALSE,\"\",Sprache!B119))","v":""},false,0,false]
[null,null,null,null,null,null,null,null,null,null,null,null,null,null,null,null,null,null,2,{"$f":"Sprache!B61&\" \"&Sprache!B265","v":"Pompe à chaleur air/eau 2 vitesses"},null,null,null,null,null,null,"default:",null,null,{"$f":"Sprache!B116","v":"avec chauffage électrique de secours "},false,true,null,{"$f":"IF(J20=18,\"\",IF(Heizung=FALSE,\"\",Sprache!B118))","v":""},true,{"$f":"Z136","v":0.02},false]
[null,null,null,null,null,null,null,null,null,null,null,null,null,null,null,null,null,null,2,{"$f":"Sprache!B61&\" \"&Sprache!B266","v":"Pompe à chaleur air/eau Plusieurs vitesses"},null,"Verluste Heizungs-Speicher, inkl. Speicherladepumpe:",null,null,null,0.02,0.02,null,null,{"$f":"Sprache!B117","v":"Installation bivalente fossile"},true,false,null,{"$f":"IF(J20=18,\"\",IF(BH57=4,IF(JAZcalc,JAZcalc!AE6,Sprache!B279),\"\"))","v":""},{"$f":"IF(BH57=4,TRUE,FALSE)","v":false},{"$f":"Z137","v":0.04},true]
[null,null,null,null,null,null,null,null,null,null,null,null,null,null,null,null,null,null,2,{"$f":"Sprache!B61&\" \"&Sprache!B267","v":"Pompe à chaleur air/eau vitesse variable"},null,"Verluste Heizungs-Speicher, Kombispeicher, Stasch-Schaltung",null,null,null,0.04,0.04,null,null,{"$f":"Sprache!B287","v":"Installation bivalente fossile alternative"},null,null,null,{"$f":"IF(J20=18,\"\",IF(BH57=4,Sprache!B280,\"\"))","v":""},{"$f":"IF(BH57=4,TRUE,FALSE)","v":false},{"$f":"Z138","v":0.06},true]
[null,null,null,null,null,null,null,null,null,null,null,null,null,null,null,null,null,null,3,{"$f":"Sprache!B62&\" \"&Sprache!B264","v":"Pompe à chaleur sol/eau une vitesse"},null,"Verluste Heizungs-Speicher, Kombispeicher, 1 WP-Rücklauf aus Speicher",null,null,null,0.06,0.06,null,null,null,null,null,null,{"$f":"IF(J20=18,\"\",IF(BH57=4,Sprache!B281,\"\"))","v":""},{"$f":"IF(BH57=4,TRUE,FALSE)","v":false},{"$f":"Z139","v":0.05},true]
[null,null,null,null,null,null,null,null,null,null,null,null,null,null,null,null,null,null,3,{"$f":"Sprache!B62&\" \"&Sprache!B265","v":"Pompe à chaleur sol/eau 2 vitesses"},null,"Verluste Heizungs-Speicher, Kombispeicher, 2 WP-Rücklauf aus Speicher",null,null,null,0.05,0.05,null,null,{"$f":"J23","v":1},{"$f":"INDEX(AE133:AE136,AD139,1)","v":false},{"$f":"INDEX(AF133:AF136,AD139,1)","v":false}]
[null,null,null,null,null,null,null,null,null,null,null,null,null,null,null,null,null,null,3,{"$f":"Sprache!B62&\" \"&Sprache!B266","v":"Pompe à chaleur sol/eau Plusieurs vitesses"}]
[null,null,null,null,null,null,null,null,null,null,null,null,null,null,null,null,null,null,3,{"$f":"Sprache!B62&\" \"&Sprache!B267","v":"Pompe à chaleur sol/eau vitesse variable"},null,"Verluste WW-Speicher:",null,null,null,0.04,0.04]
[null,null,null,null,null,null,null,null,null,null,null,null,null,null,null,null,null,null,4,{"$f":"Sprache!B63&\" \"&Sprache!B264","v":"Pompe à chaleur eau/eau une vitesse"},null,"zus. Speicher-Ladeverluste mit Elektro-Durchlauferhitzer",null,null,null,0.02,0.02]
[null,null,null,null,null,null,null,null,null,null,null,null,null,null,null,null,null,null,4,{"$f":"Sprache!B63&\" \"&Sprache!B265","v":"Pompe à chaleur eau/eau 2 vitesses"},null,"zus. Speicher-Ladeverluste mit Heizstab",null,null,null,0.04,0.04]
[null,null,null,null,null,null,null,null,null,null,null,null,null,null,null,null,null,null,4,{"$f":"Sprache!B63&\" \"&Sprache!B266","v":"Pompe à chaleur eau/eau Plusieurs vitesses"},null,"zus. Speicher-Ladeverluste mit Heizstab, gesperrt bei Ladung",null,null,null,0.01,0.01]
[null,null,null,null,null,null,null,null,null,null,null,null,null,null,null,null,null,null,4,{"$f":"Sprache!B63&\" \"&Sprache!B267","v":"Pompe à chaleur eau/eau vitesse variable"},null,"WW-Zusatzstrombedarf mit Heizstab im parallelbetrieb",null,null,null,0.05,0.05]
[null,null,null,null,null,null,null,null,null,null,null,null,null,null,null,null,null,null,5,{"$f":"Sprache!B64&\" \"&Sprache!B264","v":"PAC avec collecteur terrestre une vitesse"},null,"WW-Zusatzstrombedarf mit el.-Nachwärmung",null,null,null,0,0,null,null,null,null,null,null,{"$f":"INDEX(AH133:AH145,AI132,1)","v":" "},{"$f":"INDEX(AI133:AI145,AI132,1)","v":true},{"$f":"INDEX(AJ133:AJ145,AI132,1)","v":0},{"$f":"INDEX(AK133:AK145,AI132,1)","v":false}]
[null,null,null,null,null,null,null,null,null,null,null,null,null,null,null,null,null,null,5,{"$f":"Sprache!B64&\" \"&Sprache!B265","v":"PAC avec collecteur terrestre 2 vitesses"},null,"Anfahrverluste WP Heizung",null,null,null,0.02,0.02]
[null,null,null,null,null,null,null,null,null,null,null,null,null,null,null,null,null,null,5,{"$f":"Sprache!B64&\" \"&Sprache!B266","v":"PAC avec collecteur terrestre Plusieurs vitesses"},null,"Anfahrverluste WP WW",null,null,null,0.02,0.02]
[null,null,null,null,null,null,null,null,null,null,null,null,null,null,null,null,null,null,5,{"$f":"Sprache!B64&\" \"&Sprache!B267","v":"PAC avec collecteur terrestre vitesse variable"}]
[null,null,null,null,null,null,null,null,null,null,null,null,null,null,null,null,null,null,6,{"$f":"Sprache!B268","v":"PAC sur air extrait sur installation de ventilation sans récupération de chaleur"},"Sonnenkollektoren"]
[null,null,null,null,null,null,null,null,null,null,null,null,null,null,null,null,null,null,6,{"$f":"\"\"","v":""}]
[null,null,null,null,null,null,null,null,null,null,null,null,null,null,null,null,null,null,6,{"$f":"\"\"","v":""},"Heizungsunterstützung",null,null,"Index1 Azimut: ",{"$f":"IF(Azimut=\"\",4,IF(ABS(Azimut)>90,13,IF(Azimut<0,ROUND(-Azimut/15,0)+7,ROUND(Azimut/15,0)+7)))","v":7},null,"Index Neigung: ",{"$f":"IF(Neigung=\"\",5,IF(Neigung>90,1,IF(Neigung<0,10,10-ROUND(Neigung/10,0))))","v":10},"Korrektur:",{"$f":"(INDEX(V156:AH165,AB152,Y152)+INDEX(V156:AH165,AB152,Y153))/2/W167","v":0.78688524590163933}]
[null,null,null,null,null,null,null,null,null,null,null,null,null,null,null,null,null,null,6,{"$f":"\"\"","v":""},null,null,null,"Index2 Azimut: ",{"$f":"14-Y152","v":7},null,"Azimut:"]
[null,null,null,null,null,null,null,null,null,null,null,null,null,null,null,null,null,null,null,null,null,"West",null,null,null,null,null,null,null,null,null,null,null,"Ost"]
[null,null,null,null,null,null,null,null,null,null,null,null,null,null,null,null,null,null,null,null,"Neigung:",-90,-75,-60,-45,-30,-15,0,15,30,45,60,75,90]
[null,null,null,null,null,null,null,null,null,null,null,null,null,null,null,null,null,null,null,null,90,0.57999999999999996,0.65,0.72,0.77,0.79,0.8,0.79,0.77,0.73,0.68,0.63,0.55000000000000004,0.47]
[null,null,null,null,null,null,null,null,null,null,null,null,null,null,null,null,null,null,null,null,80,0.63,0.71,0.78,0.84,0.87,0.89,0.87,0.85,0.82,0.76,0.7,0.61,0.53]
[null,null,null,null,null,null,null,null,null,null,null,null,null,null,null,null,null,null,null,null,70,0.68,0.76,0.84,0.9,0.93,0.95,0.95,0.92,0.89,0.83,0.75,0.66,0.57999999999999996]
[null,null,null,null,null,null,null,null,null,null,null,null,null,null,null,null,null,null,null,null,60,0.71,0.8,0.87,0.93,0.96,0.98,0.97,0.96,0.92,0.86,0.8,0.71,0.62]
[null,null,null,null,null,null,null,null,null,null,null,null,null,null,null,null,null,null,null,null,50,0.74,0.82,0.89,0.95,0.97,1,0.98,0.97,0.93,0.88,0.82,0.74,0.65]
[null,null,null,null,null,null,null,null,null,null,null,null,null,null,null,null,null,null,null,null,40,0.75,0.83,0.89,0.93,0.96,0.98,0.97,0.96,0.93,0.87,0.83,0.76,0.67]
[null,null,null,null,null,null,null,null,null,null,null,null,null,null,null,null,null,null,null,null,30,0.75,0.82,0.87,0.91,0.95,0.95,0.95,0.94,0.91,0.86,0.82,0.77,0.7]
[null,null,null,null,null,null,null,null,null,null,null,null,null,null,null,null,null,null,null,null,20,0.75,0.8,0.84,0.87,0.89,0.9,0.9,0.89,0.87,0.84,0.8,0.76,0.7]
[null,null,null,null,null,null,null,null,null,null,null,null,null,null,null,null,null,null,null,null,10,0.74,0.76,0.79,0.8,0.82,0.82,0.82,0.82,0.8,0.79,0.77,0.75,0.71]
[null,null,null,null,null,null,null,null,null,null,null,null,null,null,null,null,null,null,null,null,0,0.72,0.72,0.72,0.72,0.72,0.72,0.72,0.72,0.72,0.72,0.72,0.72,0.72]
[]
[null,null,null,null,null,null,null,null,null,null,null,null,null,null,null,null,null,null,null,null,"Referenz:","45° / 45°:",0.91500000000000004]
[]
[]
[null,null,null,null,null,null,null,null,null,null,null,null,null,null,null,null,null,null,null,null,"Warmwasser",null,null,null,null,null,null,null,"Korrektur:",{"$f":"(INDEX(V174:AH183,AB152,Y152)+INDEX(V174:AH183,AB152,Y153))/2/W185","v":0.89729729729729724}]
[null,null,null,null,null,null,null,null,null,null,null,null,null,null,null,null,null,null,null,null,null,null,null,null,null,null,"Azimut:"]
[null,null,null,null,null,null,null,null,null,null,null,null,null,null,null,null,null,null,null,null,null,"West",null,null,null,null,null,null,null,null,null,null,null,"Ost"]
[null,null,null,null,null,null,null,null,null,null,null,null,null,null,null,null,null,null,null,null,"Neigung:",-90,-75,-60,-45,-30,-15,0,15,30,45,60,75,90]
[null,null,null,null,null,null,null,null,null,null,null,null,null,null,null,null,null,null,null,null,90,0.64,0.7,0.74,0.77,0.78,0.78,0.77,0.75,0.73,0.7,0.66,0.61,0.55000000000000004]
[null,null,null,null,null,null,null,null,null,null,null,null,null,null,null,null,null,null,null,null,80,0.69,0.75,0.8,0.83,0.85,0.85,0.85,0.83,0.8,0.76,0.72,0.67,0.6]
[null,null,null,null,null,null,null,null,null,null,null,null,null,null,null,null,null,null,null,null,70,0.73,0.8,0.85,0.89,0.91,0.92,0.91,0.9,0.87,0.83,0.78,0.71,0.65]
[null,null,null,null,null,null,null,null,null,null,null,null,null,null,null,null,null,null,null,null,60,0.76,0.83,0.88,0.93,0.95,0.95,0.95,0.95,0.92,0.87,0.82,0.75,0.69]
[null,null,null,null,null,null,null,null,null,null,null,null,null,null,null,null,null,null,null,null,50,0.79,0.85,0.9,0.95,0.96,0.97,0.97,0.96,0.95,0.9,0.85,0.79,0.72]
[null,null,null,null,null,null,null,null,null,null,null,null,null,null,null,null,null,null,null,null,40,0.81,0.86,0.91,0.95,0.96,0.99,0.99,0.97,0.95,0.92,0.87,0.81,0.75]
[null,null,null,null,null,null,null,null,null,null,null,null,null,null,null,null,null,null,null,null,30,0.82,0.86,0.91,0.95,0.95,0.97,0.97,0.96,0.95,0.91,0.87,0.82,0.76]
[null,null,null,null,null,null,null,null,null,null,null,null,null,null,null,null,null,null,null,null,20,0.82,0.85,0.89,0.91,0.93,0.94,0.94,0.93,0.92,0.89,0.86,0.82,0.78]
[null,null,null,null,null,null,null,null,null,null,null,null,null,null,null,null,null,null,null,null,10,0.82,0.84,0.85,0.87,0.87,0.89,0.89,0.88,0.87,0.85,0.84,0.83,0.8]
[null,null,null,null,null,null,null,null,null,null,null,null,null,null,null,null,null,null,null,null,0,0.83,0.83,0.83,0.83,0.83,0.83,0.83,0.83,0.83,0.83,0.83,0.83,0.83]
[]
[null,null,null,null,null,null,null,null,null,null,null,null,null,null,null,null,null,null,null,null,"Referenz:","45° / 45°:",0.92500000000000004]

{"sheet":"Sprache","index":1,"n_rows":341,"n_cols":7,"rows_kept":341,"cut":false,"hidden":true,"merged":[[1,0,1,1]]}
[]
["Sprachversion",null,2,"Programm-Version:","8.3.33",null,"deutsch"]
[null,null,null,"gültig bis:","31.12.2025",null,"français"]
[null,"Auswahl","deutsch","französisch","italienisch","Hilfsformeln","italiano"]
[]
[null,null,"Blatt WP"]
[1,{"$f":"IF(F7<>\"\",F7,INDEX($C$7:$F$713,A7,$C$2))","v":"PAC"},"WP","PAC","PdC"]
[2,{"$f":"IF(F8<>\"\",F8,INDEX($C$7:$F$713,A8,$C$2))","v":"WPesti / V 8.3.33 / 27.09.2024                valable jusqu'à 31.12.2025"},"WPesti / V ","WPesti / V ","WPesti / V ",{"$f":"INDEX($C$7:$F$713,A8,$C$2)&E2&\" / \"&TEXT(WP_Daten!E2,\"tt.MM.jjjj                \")&B282&TEXT(E3,\"tt.MM.jjjj\")","v":"WPesti / V 8.3.33 / 27.09.2024                valable jusqu'à 31.12.2025"}]
[3,"Projet:","Projekt:","Projet:","Progetto:"]
[4,"Données concernant le bâtiment","Gebäudedaten","Données concernant le bâtiment","Dati dell'edificio"]
[5,"Station climatique:    ","Klimastation","Station climatique:    ","Stazione climatica"]
[6,"Surface de référence énergétique SRE","Energiebezugsfläche EBF","Surface de référence énergétique SRE","Superficie di riferimento energetico Ae"]
[7,"Catégorie d'ouvrage","Gebäudekategorie","Catégorie d'ouvrage","Categoria dell'edificio"]
[8,"Besoins de chaleur pour le chauffage selon SIA 380/1","Heizwärmebedarf nach SIA 380/1","Besoins de chaleur pour le chauffage selon SIA 380/1","Fabbisogno termico per il riscaldamento secondo SIA 380/1"]
[9,"Déperditions par transmission selon SIA 380/1","Transmissionswärmeverluste nach SIA 380/1","Déperditions par transmission selon SIA 380/1","Perdite per trasmissione secondo SIA 380/1"]
[10,"Déperditions par renouvellement d'air selon SIA 380/1","Lüftungswärmeverluste nach SIA 380/1","Déperditions par renouvellement d'air selon SIA 380/1","Perdite termiche per ventilazione secondo SIA 380/1"]
[11,"Chauffage: pertes supplémentaires de distribution de chaleur","Heizung: Zusätzliche Verteilverluste","Chauffage: pertes supplémentaires de distribution de chaleur","Riscaldamento: ulteriori perdite  di distribuzione"]
[12,"Durée de coupure d'alimentation de la PAC","Sperrzeiten für Wärmepumpe","Durée de coupure d'alimentation de la PAC","Durata di interruzione di corrente della PdC"]
[13,"Puissance de chauffage nécessaire sans ECS à °C","Heizleistungsbedarf ohne Warmwasser bei ","Puissance de chauffage nécessaire sans ECS à ","Potenza  termica senza acqua calda ",{"$f":"IF(TaMin<>0,INDEX($C$7:$F$713,A19,$C$2)&TaMin&\"°C\",INDEX($C$7:$F$713,A19,$C$2)&\"-8°C\")","v":"Puissance de chauffage nécessaire sans ECS à °C"}]
[14,"Besoins de chaleur pour l'ECS selon SIA 380/1","Warmwasserbedarf nach SIA 380/1","Besoins de chaleur pour l'ECS selon SIA 380/1","Fabbisogno termico per l'acqua calda ACS secondo SIA 380/1"]
[15,"Eau chaude sanitaire: pertes supplémentaires d'accumulation et de distribution","Warmwasser: Zusätzliche Speicher- und Verteilverluste","Eau chaude sanitaire: pertes supplémentaires d'accumulation et de distribution","Acqua calda sanitaria: ulteriori perdite  di accumulazione e distribuzione"]
[16,"Installation de pompe à chaleur","Wärmepumpen-Anlage","Installation de pompe à chaleur","Sistemi di pompe di calore"]
[17,"Nom et type de PAC","Name und Typ der Wärmepumpe:","Nom et type de PAC","Nome e tipo della PdC"]
[18,"choisir ->","auswählen ->","choisir ->","scegliere ->"]
[19,"   Erreur!","   Fehler!","   Erreur!","  Errore!"]
[20,"Source de chaleur:","Wärmequelle:","Source de chaleur:","Fonte di calore"]
[21,"Utilisation (chauffage ou eau chaude sanitaire)","Einsatz (Heizung oder Warmwasser):","Utilisation (chauffage ou eau chaude sanitaire)","Utilizzazione (riscaldamento o acqua calda)"]
[22,"Mode de fonctionnement de la PAC","Betriebsweise der Wärmepumpen-Anlage:","Mode de fonctionnement de la PAC","Modalità di funzionamento della PdC"]
[23,"Accumulateur de chaleur","Heizungsspeicher","Accumulateur de chaleur","Accumulatore per il riscaldamento"]
[24,"Commande de l'appoint électrique de chauffage","Steuerung des Elektro-Heizeinsatzes","Commande de l'appoint électrique de chauffage","Comando del riscaldamento elettrico d'appoggio"]
[25,"Installation solaire","Solaranlage","Installation solaire","Impianto solare"]
[26,"Résultats","Resultate","Résultats","Risultati"]
[27,"Part d'énergie fossile d'appoint pour le chauffage","Anteil fossiler Zusatzheizung für Heizung","Part d'énergie fossile d'appoint pour le chauffage","Quota di energia fossile per il riscaldamento"]
[28,"Part d'énergie électrique pour le chauffage","Elektro-Direkt-Anteil für die Heizung","Part d'énergie électrique pour le chauffage","Quota di energia elettrica per il riscaldamento"]
[29,"Part non couverte des besoins de chaleur pour le chauffage","ungedeckter Wärmebedarf Heizung","Part non couverte des besoins de chaleur pour le chauffage","Quota non coperta del fabbisogno termico  per il riscaldamento"]
[30,"Part d'énergie électrique pour l'ECS","Elektro-Direkt-Anteil für das Warmwasser","Part d'énergie électrique pour l'ECS","Quota di energia elettrica per il riscaldamento dell'ACS"]
[31,"Part d'énergie fossile d'appoint pour l'ECS","Anteil fossiler Zusatzheizung für Warmwasser","Part d'énergie fossile d'appoint pour l'ECS","Quota di energia fossile per il riscaldamento dell'ACS"]
[32,"Pertes en mode chauffage (démarrage, accumulateur, etc.)","Verluste im Heizbetrieb (Anfahren, Speicher, etc.)","Pertes en mode chauffage (démarrage, accumulateur, etc.)","Perdite in modalità riscaldamento (avviamento, accumulatore, ecc.)"]
[33,{"$f":"IF(F39<>\"\",F39,INDEX($C$7:$F$713,A39,$C$2))","v":"Pertes en mode préparation d'ECS (démarrage, accumulateur, etc.)"},"Verluste im WW-Betrieb (Anfahren, Speicher, etc.)","Pertes en mode préparation d'ECS (démarrage, accumulateur, etc.)","Perdite in modalità preparazione dell' ACS (avviamento, accumulatore, ecc.)"]
[34,"Durée de fonctionnement de la pompe à chaleur","Laufzeit der Wärmepumpe","Durée de fonctionnement de la pompe à chaleur","Durata di funzionamento della pompa di calore"]
[35,"Part et COP annuel de la pompe à chaleur pour le chauffage","Anteil und JAZ der Wärmepumpe für die Heizung","Part et COP annuel de la pompe à chaleur pour le chauffage","Quota e CLA della pompa di calore per il riscaldamento"]
[36,"Part et COP annuel de la pompe à chaleur pour l'ECS","Anteil und JAZ der Wärmepumpe für Warmwasser","Part et COP annuel de la pompe à chaleur pour l'ECS","Quota e CLA della pompa di calore per l'ACS"]
[37,"Facteur de pondération pour le chauffage: ","Gewichtungsfaktor Heizung wh:","Facteur de pondération pour le chauffage: ","Fattore di ponderazione per il riscaldamento:"]
[38,"Facteur de pondération pour l'ECS","Gewichtungsfaktor Warmwasser www:","Facteur de pondération pour l'ECS","Fattore di ponderazione per l'ACS:"]
[39,"COP annuel pour chauffage et ECS (COPa [ch+ECS])","Jahresarbeitszahl Heizung + Warmwasser JAZh+ww:","COP annuel pour chauffage et ECS (COPa [ch+ECS])","CLA per il riscaldamento e l'ACS (CLA [risc+acs]):"]
[40,"Elévation de température dans la PAC en conditions de test selon la norme","Temperaturerhöhung in der Wärmepumpe bei Normbedingungen","Elévation de température dans la PAC en conditions de test selon la norme","Aumento della temperatura nella PdC alle condizioni normalizzate"]
[41,"Température de départ du chauffage:","Vorlauftemperatur der Heizung:","Température de départ du chauffage:","Temperatura di mandata del riscaldamento:"]
[42,"Température de retour du chauffage:","Rücklauftemperatur der Heizung:","Température de retour du chauffage:","Temperatura di ritorno del riscaldamento:"]
[43,"Différence de température accu - départ chauffage","Differenz Speichertemperatur - Vorlauftemperatur Heizung","Différence de température accu - départ chauffage","Differenza di temperatura tra accumulatore e mandata riscaldamento:"]
[44,"Température de commutation pour fonctionnement bivalent alternatif","Umschalt-Temperatur für bivalent-alternativen Betrieb","Température de commutation pour fonctionnement bivalent alternatif","Temperatura di commutazione per il funzionamento bivalente alternativo"]
[45,"Type d'appoint électrique pour ECS :","elektrische Zusatzheizung Warmwasser:","Type d'appoint électrique pour ECS :","Tipo d'appoggio elettrico per ACS"]
[46,"Température ECS garantie sans appoint électrique :","garantierte Warmwassertemperatur ohne Elektroheizstab:","Température ECS garantie sans appoint électrique :","Temperatura dell'ACS garantita senza appoggio elettrico:"]
[47,"Température ECS avec postchauffage électrique:","Warmwassertemperatur mit Elektro - Nachwärmer  Qww :","Température ECS avec postchauffage électrique:","Temperatura dell'ACS con post-riscaldamento elettrico:"]
[48,"Capacité de l'accumulateur d'ECS","WW-Speicher-Inhalt","Capacité de l'accumulateur d'ECS","Capacità dell'accumulatore dell'ACS"]
[49,"Surface des absorbeurs","Absorberfläche","Surface des absorbeurs","Superficie dell'assorbitore"]
[50,"orientation / inclinaison des collecteurs","Kollektorausrichtung","orientation / inclinaison des collecteurs","Orientamento / inclinazione dei collettori"]
[51,"Apport net par m2 d'absorbeur","Nettoertrag pro m2 Absorberfläche","Apport net par m2 d'absorbeur","Apporto netto per m2 d'assorbitore"]
[52,"Altitude par rapport au niveau de la mer","Höhe über Meer des Standortes","Altitude par rapport au niveau de la mer","Altitudine dell'impianto"]
[53,"Taux de couverture solaire pour l'ECS","Solarer Deckungsgrad Warmwasser","Taux de couverture solaire pour l'ECS","Tasso di copertura solare per l'ACS"]
[54,"Taux de couverture solaire pour le chauffage","Solarer Deckungsgrad Heizung","Taux de couverture solaire pour le chauffage","Tasso di copertura solare per il riscaldamento"]
[55,"Pompe à chaleur air/eau","Luft-Wasser - Wärmepumpe","Pompe à chaleur air/eau","Pompa di calore aria / acqua"]
[56,"Pompe à chaleur sol/eau","Erdsonden-Wärmepumpe","Pompe à chaleur sol/eau","Pompa di calore con sonda geotermica"]
[57,"Pompe à chaleur eau/eau","Wasser-Wasser-Wärmepumpe","Pompe à chaleur eau/eau","Pompa di calore acqua / acqua"]
[58,"PAC avec collecteur terrestre","Erdkollektor-Wärmepumpe","PAC avec collecteur terrestre","PdC con registro nel terreno"]
[59,"COP aux conditions normalisées 7 °C / 50°C (A7 / W50):","COP bei Normtemperatur 7 °C / 50°C (A7 / W50):","COP aux conditions normalisées 7 °C / 50°C (A7 / W50):","COP alle condizioni normalizzate 7 °C / 50°C (A7 / W50):"]
[60,"COP aux conditions normalisées 7 °C / 50°C (A7 / W50):","COP bei Normtemperatur 7 °C / 50°C (A7 / W50):","COP aux conditions normalisées 7 °C / 50°C (A7 / W50):","COP alle condizioni normalizzate 7 °C / 50°C (A7 / W50):"]
[61,"Puissance électrique soutirée par pompe de sonde:","Elektrische Leistungsaufnahme Sondenpumpe:","Puissance électrique soutirée par pompe de sonde:","Potenza elettrica assorbita dalla pompa delle sonde"]
[62,"COP aux conditions normalisées (W10 / W50):","COP bei Normtemperatur  (W10 / W50):","COP aux conditions normalisées (W10 / W50):","COP alle condizioni normalizzate (W10 / W50):"]
[63,"Température de la source (entrée PAC)","Quellentemperatur (Verdampfer-Eintritt):","Température de la source (entrée PAC)","Temperatura della fonte di calore (dalle PdC):"]
[64,"Puissance électrique soutirée par pompe saumure:","Elektrische Leistungsaufnahme Solepumpe:","Puissance électrique soutirée par pompe saumure:","Potenza elettrica assorbita dalla pompa salamoia"]
[65,{"$f":"IF(F71<>\"\",F71,INDEX($C$7:$F$713,A71,$C$2))","v":"COP aux conditions normalisées -7 °C / 35°C (A-7 / W35):"},"COP bei Normtemperatur -7 °C / 35°C (A-7 / W35):","COP aux conditions normalisées -7 °C / 35°C (A-7 / W35):","COP alle condizioni normalizzate -7 °C / 35°C (A-7 / W35):"]
[66,"Nombre: ","Anzahl:","Nombre: ","Numero:"]
[67,"COP aux conditions normalisées (W10 / W35):","COP bei Normtemperatur (W10 / W35):","COP aux conditions normalisées (W10 / W35):","COP alle condizioni normalizzate (W10 / W35):"]
[68,"Surface de collecteurs","Kollektorfläche","Surface de collecteurs","Superficie dei collettori"]
[69,"choisir ->","ausfüllen ->","choisir ->","scegliere ->"]
[70,"Puissance calorifique aux conditions normalisées -7 °C  (A-7 / W35):","Heizleistung bei Normtemperatur -7 °C  (A-7 / W35):","Puissance calorifique aux conditions normalisées -7 °C  (A-7 / W35):","Potenza termica alle condizioni normalizzate -7 °C  (A-7 / W35):"]
[71,"Longueur: ","Länge:","Longueur: ","Lunghezza:"]
[72,"Puissance thermique à (W10 / W35):","Heizleistung bei (W10 / W35):","Puissance thermique à (W10 / W35):","Potenza termica a (W10 / W35):"]
[73,"Sondes géothermiques:","Erdwärmesonden:","Sondes géothermiques:","Sonde geotermiche:"]
[74,"Puissance spécifique soutirée","Spezifische Entzugsleistung","Puissance spécifique soutirée","Potenza di estrazione specifica"]
[75,"COP aux conditions normalisées +2 °C  (A2 / W35):","COP bei Normtemperatur +2 °C  (A2 / W35):","COP aux conditions normalisées +2 °C  (A2 / W35):","COP alle condizioni normalizzate +2 °C (A2 / W35)"]
[76,"Température de dimensionnement des sondes (optionnel, calcul externe)","Auslegungs-Sondentemperatur (optional, aus externer Berechnung in Beilage)","Température de dimensionnement des sondes (optionnel, calcul externe)","Temperatura di dimensionamento delle sonde (opzioni, calcolo esterno)"]
[77,"Température source de chaleur (si pas 10°C) ","Quellentemperatur (falls nicht 10°C) ","Température source de chaleur (si pas 10°C) ","Temperatura della fonte di calore (se non 10°C)"]
[78,"Température de dimensionnement des sondes (optionnel, calcul externe)","Auslegungs-Sondentemperatur (optional, aus externer Berechnung in Beilage)","Température de dimensionnement des sondes (optionnel, calcul externe)","Temperatura di dimensionamento delle sonde (opzioni, calcolo esterno)"]
[79]
[80,{"$f":"IF(F86<>\"\",F86,INDEX($C$7:$F$713,A86,$C$2))","v":"Puissance calorifique aux conditions normalisées +2 °C  (A2 / W35):"},"Heizleistung bei Normtemperatur +2 °C  (A2 / W35):","Puissance calorifique aux conditions normalisées +2 °C  (A2 / W35):","Potenza termica alle condizioni normalizzate +2 °C  (A2 / W35):"]
[81,"COP aux conditions normalisées (B0 / W50)","COP bei Normtemperatur (B0 / W50):","COP aux conditions normalisées (B0 / W50)","COP alle condizioni normalizzate (B0 / W50)"]
[82,"Puissance électrique soutirée par pompe de circulation:","Elektrische Leistungsaufnahme Förderpumpe:","Puissance électrique soutirée par pompe de circulation:","Potenza elettrica assorbita dalla pompa di circolazione:"]
[83,"COP aux conditions normalisées (B0 / W50)","COP bei Normtemperatur (B0 / W50):","COP aux conditions normalisées (B0 / W50)","COP alle condizioni normalizzate (B0 / W50)"]
[84,"COP aux conditions normalisées +7 °C  (A7 / W35):","COP bei Normtemperatur +7 °C  (A7 / W35):","COP aux conditions normalisées +7 °C  (A7 / W35):","COP alle condizioni normalizzate +7 °C  (A7 / W35):"]
[85,"Coefficient de performance COP (B0 / W35)","Leistungszahl COP (B0 / W35):","Coefficient de performance COP (B0 / W35)","Coefficiente di prestazione COP (B0 / W35)"]
[86,"Type de pompe (données nécessaires si puissance < valeur proposée)","Typ der Förderpumpe (Angabe nötig, wenn Leistung < Vorschlagswert)","Type de pompe (données nécessaires si puissance < valeur proposée)","Tipo di pompa (dati necessari se la potenza < al valore proposto)"]
[87,"Coefficient de performance COP (B0 / W35)","Leistungszahl COP (B0 / W35):","Coefficient de performance COP (B0 / W35)","Coefficiente di prestazione COP (B0 / W35)"]
[88,"Puissance calorifique aux conditions normalisées +7 °C (A7 / W35):","Heizleistung bei Normtemperatur +7 °C (A7 / W35):","Puissance calorifique aux conditions normalisées +7 °C (A7 / W35):","Potenza termica alle condizioni normalizzate +7 °C (A7 / W35):"]
[89,"Puissance calorifique pour (B0 / W35):","Heizleistung bei (B0 / W35):","Puissance calorifique pour (B0 / W35):","Potenza termica per (B0 / W35):"]
[90,"Capacité de l'accumulateur chauffage","Grösse Heizungsspeicher","Capacité de l'accumulateur chauffage","Capacità dell'accumulatore del riscaldamento"]
[91,"Puissance calorifique pour (B0 / W35):","Heizleistung bei (B0 / W35):","Puissance calorifique pour (B0 / W35):","Potenza termica per (B0 / W35):"]
[92,"Capacité de l'accumulateur chauffage","Grösse Heizungsspeicher","Capacité de l'accumulateur chauffage","Capacità dell'accumulatore del riscaldamento"]
[93,"Litres","Liter","Litres","Litri"]
[94,"Habitat collectif","MFH","Habitat collectif","Abitazione plurifamiliare"]
[95,"Habitat individuel","EFH","Habitat individuel","Abitazione monofamiliare"]
[96,"Administration","Verwaltung","Administration","Amministrazione"]
[97,"Ecole","Schule","Ecole","Scuole"]
[98,"Commerce","Verkauf","Commerce","Negozi"]
[99,"Restauration","Restaurant","Restauration","Ristoranti"]
[100,"Lieu de rassemblement","Vers.","Lieu de rassemblement","Locali pubblici"]
[101,"Hôpitaux","Spitäler","Hôpitaux","Ospedali"]
[102,"Industrie","Industrie","Industrie","Industrie"]
[103,"Dépôt","Lager","Dépôt","Magazzini"]
[104,"Installation sportive","Sportbau","Installation sportive","Impianti sportivi"]
[105,"Piscine","Hallenbad","Piscine","Piscine"]
[106,"Chauffage","Heizung","Chauffage","Riscaldamento"]
[107,"ECS eau chaude sanitaire","Warmwasser","ECS eau chaude sanitaire","ACS acqua calda sanitaria"]
[108,"Chauffage+ECS","Heizung + Warmwasser","Chauffage+ECS","Riscaldamento + ACS"]
[109,"fonctionnement chauffage monovalent","monovalenter Betrieb Heizung","fonctionnement chauffage monovalent","funzionamento monovalente del riscaldamento "]
[110,"avec chauffage électrique de secours ","mit elektrischer Notheizung","avec chauffage électrique de secours ","con riscaldamento elettrico d'appoggio"]
[111,"Installation bivalente fossile","fossil bivalent (paralleler Betrieb)","Installation bivalente fossile","Impianto bivalente supplemento fossile"]
[112,{"$f":"IF(F118<>\"\",F118,INDEX($C$7:$F$713,A118,$C$2))","v":"avec accumulateur chauffage"},"mit Heizungs - Speicher","avec accumulateur chauffage","con accumulatore riscaldamento"]
[113,"sans accumulateur chauffage","ohne Heizungs - Speicher","sans accumulateur chauffage","senza accumulatore riscaldamento"]
[114,"Registre électrique instantané","Elektro Durchlauferhitzer","Registre électrique instantané","resistenza elettrica istantanea"]
[115,"Registre électrique dans l'accumulateur","Elektro-Einsatz im Speicher","Registre électrique dans l'accumulateur","resistenza elettrica nell'accumulatore"]
[116,"Registre électrique bloqué durant la charge de l'accu.","Elektro-Einsatz gesperrt bei Speicher-Ladung","Registre électrique bloqué durant la charge de l'accu.","resistenza elettrica bloccata durante la carica dell'accumulatore"]
[117,"pas de résistance électrique","kein Elektro-Heizstab","pas de résistance électrique","senza resistenza elettrica"]
[118,"Registre électrique en service en parallèle ","Elektro-Einsatz im Parallelbetrieb","Registre électrique en service en parallèle ","resistenza elettrica in parallelo"]
[119,"Registre électrique pour postchauffage","Elektroeinsatz zur Nachwärmung","Registre électrique pour postchauffage","resistenza elettrica per postriscaldamento"]
[120,"Collecteurs solaires pour l'ECS","Sonnenkollektoren für Warmwasser","Collecteurs solaires pour l'ECS","Collettori solari per l'ACS"]
[121,"Collecteurs solaires pour chauffage et ECS","Sonnenkollektoren für Heizung und Warmwasser","Collecteurs solaires pour chauffage et ECS","Collettori solari per il riscaldamento e l'ACS"]
[122,"Azimut [°]:  ","Azimut [°]:  ","Azimut [°]:  ","Azimut [°]:  "]
[123,"Pente [°]:","Neigung [°]:","Pente [°]:","Inclinazione [°]:"]
[124,"m","m.ü.M.","m","msm"]
[125,"impossible","unmöglich","impossible","impossibile"]
[126,"Danger de gel!","Frostgefahr!","Danger de gel!","Pericolo di gelo!"]
[127,"dT utilisateur","dT Nutzer","dT utilisateur","dT utilizzatore"]
[128,"T Dep","T VL","T Dep","T mand"]
[129,"T Ret","T RL","T Ret","T rit"]
[130,"dT accu","dT Speicher","dT accu","dT accu"]
[131,"Offre de l'installateur:","Offerte Unternehmer:","Offre de l'installateur:","Offerta dell'installatore:"]
[132,"Exigence minimale pour l'installation PAC","Minimalanforderung an Wärmepumpenanlage","Exigence minimale pour l'installation PAC","Esigenze minime per l'istallazione della PdC"]
[133,"valeur minimale:","Minimalwert:","valeur minimale:","Valore minimo:"]
[134,"valeur proposée:","Vorschlagswert:","valeur proposée:","Valore proposto:"]
[135,"Chauffage + production d'ECS décentralisée par PAC","Heizung + dezentrale Warmwasser-WP ","Chauffage + production d'ECS décentralisée par PAC","Riscaldamento + ACS non centralizzato"]
[136,"Besoin de chaleur pour le chauffage Qh,eff:","Heizwärmebedarf Qh,eff:","Besoin de chaleur pour le chauffage Qh,eff:","Fabbisogno di calore  per il riscaldamento Qh, eff:"]
[137,"Peut être repris du calcul selon SIA 380/1. Calculé avec le débit d'air neuf thermiquement actif (la RC peut être prise en compte).","Kann aus der Berechnung SIA 380/1 entnommen werden. Berechnet mit effektivem, thermisch wirksamen Aussenluftvolumenstrom (WRG kann berücksichtigt werden).","Peut être repris du calcul selon SIA 380/1. Calculé avec le débit d'air neuf thermiquement actif (la RC peut être prise en compte).","Può essere ripreso dal calcolo SIA 380/1. Calcolato con la portata d'aria termicamente determinante (il recupero di calore può essere preso in conto)"]
[138,"Déperditions par tranmission:","Transmissionswärmeverluste:","Déperditions par tranmission:","Perdite per trasmissione "]
[139,"Peuvent être repris du calcul selon SIA 380/1. Si QT et QV sont laissés vides, il est admis que:\n(QT+QV)=Qh/15*24","Können aus der Berechnung SIA 380/1 entnommen werden. Falls QT und QV leer gelassen werden, wird (QT+QV) = Qh/15*24 gesetzt.","Peuvent être repris du calcul selon SIA 380/1. Si QT et QV sont laissés vides, il est admis que:\n(QT+QV)=Qh/15*24","Possono essere ripresi dal calcolo SIA 380/1. Se QT e QV sono lasciati vuoti, é ammesso che: (QT+QV)=Qh/15*24"]
[140,"puissance de la PAC insuffisante ","ungenügende Leistung der Wärmepumpe","puissance de la PAC insuffisante ","potenza della PdC insufficente"]
[141,"Déperditions par renouvellement d'air:","Lüftungswärmeverluste:","Déperditions par renouvellement d'air:","Perdite per ventilazione"]
[142,"Peuvent être repris du calcul selon SIA 380/1. La RC peut être prise en compte dans les déperditions par renouvellement d'air (c-à-d. calculé avec le débit d'air neuf thermiquement actif). Si QT et QV sont laissés vides, il est admis que:\n(QT+QV)=Qh/15*24","Können aus der Berechnung SIA 380/1 entnommen werden. Bei den Lüftungswärmeverlusten darf die WRG eingerechnet werden (d.h. es ist mit dem effektiven, thermisch wirksamen Aussenluft-volumenstrom zu rechnen). Falls QT und QV leer gelassen werden, wird (QT+QV) = Qh/15*24 gesetzt.","Peuvent être repris du calcul selon SIA 380/1. La RC peut être prise en compte dans les déperditions par renouvellement d'air (c-à-d. calculé avec le débit d'air neuf thermiquement actif). Si QT et QV sont laissés vides, il est admis que:\n(QT+QV)=Qh/15*24","Possono essere ripresi dal calcolo SIA 380/1. Il recupero di calore può essere preso in conto nelle perdite per ventilazione (Dunque calcolate con la portata d'aria termicamente determinante). Se QT e QV sono lasciati vuoti, é ammesso che: (QT+QV)=Qh/15*2"]
[143,"Température cible du local le plus chaud (p.ex. salle de bains)","Solltemperatur wärmster Raum (z.B. Badezimmer)","Température cible du local le plus chaud (p.ex. salle de bains)","Temperatura mirata per il locale più caldo (ad es. bagno)"]
[144,{"$f":"IF(F150<>\"\",F150,INDEX($C$7:$F$713,A150,$C$2))","v":"Valeurs typiques par défaut pour habitations:"},"Vorschlgswerte typtische Wohnbauten:","Valeurs typiques par défaut pour habitations:","Valori tipici di default per abitazioni:"]
[145,"Pertes de distribution pour bâtiment à construire, chauffage dans la cave, isolée selon prescriptions (armatures, pompes ainsiq ue conduites isolées):  1-3%.  /  Pertes de distribution pour bâtiment à construire, chauffage dans bâtiment voisin:  3-15%.   ","Verteilverluste bei Neubauten, Heizung im Keller, nach Vorschrift gedämmt  (Armaturen, Pumpen wie Leitungen gedämmt):  1-3%.  /  Verteilverluste bei Neubauten, Heizung im Nachbargebäude:  3-15%.    Der Strombedarf von Frostschutzbändern ist separat zu berechnen.","Pertes de distribution pour bâtiment à construire, chauffage dans la cave, isolée selon prescriptions (armatures, pompes ainsiq ue conduites isolées):  1-3%.  /  Pertes de distribution pour bâtiment à construire, chauffage dans bâtiment voisin:  3-15%.   ","Perdite per distribuzione per edifici nuovi, riscaldamento in cantina, isolata secondo le prescrizioni (rubinetteria, pompe, condotte isolate,..): 1.3%. / Perdite di distribuzione per edifici in costruzione, riscaldamento nell'edifici vicino: 3-15%."]
[146,"mode anti-légionnellose journalier ","tägliche Legionellenschaltung","mode anti-légionnellose journalier ","impostazione anti-legionella giornaliera"]
[147,"mode anti-légionnellose hebdomadaire","wöchentliche Legionellenschaltung","mode anti-légionnellose hebdomadaire","impostazione anti-legionella settimanale"]
[148,"Température de dimensionnement des sondes:","Auslegungs-Sondentemperatur:","Température de dimensionnement des sondes:","Temperatura di dimensionamento delle sonde:"]
[149,"Annexer le calcul externe (p. ex. avec le logiciel EWS) ou laisser vide.","Externe Berechnung (z.B. mit Erdsonden-programm EWS) beilegen, sonst leer lassen.","Annexer le calcul externe (p. ex. avec le logiciel EWS) ou laisser vide.","Allegare il calcolo esterno (p.es. con programma EWS) o lasciare vuoto"]
[150,"Durée de coupure d'alimentation de la PAC:","Sperrzeiten der Wärmepumpe:","Durée de coupure d'alimentation de la PAC:","Durata di interruzione di corrente della PdC"]
[151,"(heures par jour): interruptions de l'alimentation électrique de la PAC par le distributeur d'électricité. A demander auprès du distributeur local. Mentionner les temps de coupure effectifs, aux conditions de dimensionnement.","(Stunden pro Tag): Tägliche Strom - Sperrzeiten für die Wärmepumpe durch das Elektrizitätswerk. Muss vom lokalen Elektrizitäswerk erfragt werden. Es sind die effektiv gesperrten Zeiten bei Auslegungsbedingungen einzusetzten.","(heures par jour): interruptions de l'alimentation électrique de la PAC par le distributeur d'électricité. A demander auprès du distributeur local. Mentionner les temps de coupure effectifs, aux conditions de dimensionnement.","(ore giornaliere): interruzioni dell'alimentazione elettrica della PdC  dal distributore di elettricità. Informarsi presso il distributore locale. Menzionare il tempo di interruzione effettivo, alle condizioni di dimensionamento."]
[152,"Puissance de chauffage nécessaire:","Heizleistungsbedarf:","Puissance de chauffage nécessaire:","Potenza termica necessaria:"]
[153,"La puissance de chauffage nécessaire peut tenir compte des gains de chaleur assurés (max. 10%, resp 1 kW). A justifier séparément.","Beim Heizleistungsbedarf darf die im Auslegungsfall sicher aufretende, freie Wärme berücksichtigt werden (max. 10%, bzw. 1 kW). Diese ist separat auszuweisen.","La puissance de chauffage nécessaire peut tenir compte des gains de chaleur assurés (max. 10%, resp 1 kW). A justifier séparément.","La potenza termica necessaria può tenere conto degli apporti di calore assicurati (max. 10%, risp.1 kW). Da giustificare separatamente."]
[154,"Puissance de chauffage nécessaire:","Heizleistungsbedarf:","Puissance de chauffage nécessaire:","Potenza termica necessaria:"]
[155,"Valeur proposée: si le champ reste vide, le calcul se fait avec une valeur par défaut, calculée comme suit:\n(QT+QV)*SRE/3.6/(HGT*1.065)/24*(20-TaMin) [kW].","Vorschlagswert:  Falls Eingabefeld leer, wird mit dem Vorschlagswert gerechnet. Der Vorschlagswert wird berechnet mit (QT+QV)*EBF/3.6/(HGT*1.065)/24*(20-TaMin) [kW].","Valeur proposée: si le champ reste vide, le calcul se fait avec une valeur par défaut, calculée comme suit:\n(QT+QV)*SRE/3.6/(HGT*1.065)/24*(20-TaMin) [kW].","Valore proposto: se il campo resta vuoto, il calcolo viene fatto con un valore di default, calcolato come segue: (QT+QV)*Ae/3.6/(HGT*1.065)/24*(20-TaMin) [kW]."]
[156,"Valeur minimale: si la valeur introduite est plus petite que la valeur minimale, le calcul se fait avec la valeur minimale, calculée comme suit:\n0.85*valeur proposée [kW], resp. valeur proposée - 1.2 kW.","Minimalwert:  Falls Eingabe kleiner als Minimalwert, so wird mit dem Minimalwert gerechnet. Der Minimalwert wird berechnet mit 0.85*Vorschlagswert [kW], bzw. Vorschlagswert - 1.2 kW.","Valeur minimale: si la valeur introduite est plus petite que la valeur minimale, le calcul se fait avec la valeur minimale, calculée comme suit:\n0.85*valeur proposée [kW], resp. valeur proposée - 1.2 kW.","Valore minimo: se il valore introdotto é più piccolo del valore minimo, il calcolo viene eseguito con il valore minimo, calcolato come segue: 0.85*valore proposto [kW], risp. valore proposto - 1.2 kW."]
[157,"Valeurs typiques par défaut pour habitations:","Vorschlgswerte typtische Wohnbauten:","Valeurs typiques par défaut pour habitations:","Valori tipici di default per abitazioni:"]
[158,"- Pertes accumulateur + distribution (armatures, pompes ainsi que conduites isolées):     15-30%","- Speicher + Verteilverluste\n  (Armaturen, Pumpen wie Leitungen gedämmt):     15-30%","- Pertes accumulateur + distribution (armatures, pompes ainsi que conduites isolées):     15-30%","- Perdite accumulatore + distribuzione (rubinetterie, pompe, condotte isolate):     15-30%"]
[159,"- Pertes accumulateur + distribution + circulation (armatures, pompes ainsi que conduites isolées):     30-50%.    Le besoin en électricité des rubans chauffant est à calculer séparément.","- Speicher + Verteilverluste + Zirkulation (Armaturen, Pumpen wie Leitungen gedämmt):     30-50%.    Der Strombedarf von Warmhaltebändern ist separat zu berechnen.","- Pertes accumulateur + distribution + circulation (armatures, pompes ainsi que conduites isolées):     30-50%.    Le besoin en électricité des rubans chauffant est à calculer séparément.","- Perdite accumulatore + distribuzione + circolazione (rubinetterie, pompe, condotte isolate):     30-50%.\nI bisogni di elettricità dei nastri riscaldanti sono da calcolare separatamente."]
[160,"Fonctionnement chauffage monovalent:","monovalenter Betrieb Heizung:","Fonctionnement chauffage monovalent:","Funzionamento monovalente del riscaldamento "]
[161,"Chauffage avec PAC sans chauffage d'appoint et sans corps de chauffe électrique (pour le chauffage)","Heizung mit Wärmepumpe ohne Zusatzheizung und\nohne Elektro-Einsatz (für die Heizung)","Chauffage avec PAC sans chauffage d'appoint et sans corps de chauffe électrique (pour le chauffage)","Riscaldamento con PdC senza riscaldamento d'appoggio e senza riscaldamenti elettrici (per il riscaldamento) "]
[162,"avec chauffage électrique d'appoint:","mit elektrischer Zusatzheizung:","avec chauffage électrique d'appoint:","con riscaldamento elettrico d'appoggio"]
[163,"Chauffage avec PAC et chauffage électrique d'appoint ","Heizung mit Wärmepumpe und elektrischer Zusatzheizung","Chauffage avec PAC et chauffage électrique d'appoint ","Riscaldamento con PdC e riscaldamento elettrico d'appoggio"]
[164,"Fonctionnement bivalent fossile:","fossil bivalenter Betrieb:","Fonctionnement bivalent fossile:","Funzionamento bivalente fossile:"]
[165,"Chauffage avec PAC et chaudière d'appoint à mazout ou à gaz pour les pointes de puissance","Heizung mit Wärmepumpe und mit einem Öl-  oder\nGas - Spitzenlastkessel","Chauffage avec PAC et chaudière d'appoint à mazout ou à gaz pour les pointes de puissance","Riscaldamento con PdC e caldaia d'appoggio a olio o gas per i picchi di potenza."]
[166,"Température de dimensionnement des sondes:","Auslegungs-Sondentemperatur:","Température de dimensionnement des sondes:","Temperatura di dimensionamento delle sonde:"]
[167,"Annexer le calcul externe (p. ex. avec le logiciel EWS) ou laisser vide.","Externe Berechnung (z.B. mit  Erdsonden-programm EWS) beilegen, sonst leer lassen.","Annexer le calcul externe (p. ex. avec le logiciel EWS) ou laisser vide.","Allegare il calcolo esterno (p.es. con programma EWS) o lasciare vuoto"]
[168,"Prendre les valeurs selon publications du centre de test pour PAC WPZ, ou calculer avec dT utilisateur = Q / m cp","Wert z. B. aus  Publikation des Wärmepumpen-Testzentrums WPZ entnehmen oder berechnen mit dT Nutzer = Q / m cp","Prendre les valeurs selon publications du centre de test pour PAC WPZ, ou calculer avec dT utilisateur = Q / m cp","Prendere i valori secondo le pubblicazioni del centro di test delle PdC WPZ, o calcolare con dT utilizzatore= Q / m cp"]
[169,"Indique à combien de °C au-dessus de la température de départ l'accumulateur est chargé.","Gibt an, um wie viel °C der Speicher höher geladen wird als die Vorlauftemperatur","Indique à combien de °C au-dessus de la température de départ l'accumulateur est chargé.","Indica a quanti gradi °C  é caricato l'accumulatore al di sopra della temperatura di mandata"]
[170,"Température de commutation pour fonctionnement bivalent alternatif:","Umschalt-Temperatur für bivalent-alternativen Betrieb:","Température de commutation pour fonctionnement bivalent alternatif:","Temperatura di commutazione per il funzionamento bivalente alternativo"]
[171,"Température extérieure de dimensionnement au-dessous de laquelle la PAC est complètement déclenchée, le chauffage d'appoint couvrant la totalité des besoins de chaleur.","Auslegungs-Aussentemperatur, unterhalb der die Wärmpumpe ganz abgestellt wird und die Zusatzheizung den ganzen Wärmebedarf deckt.","Température extérieure de dimensionnement au-dessous de laquelle la PAC est complètement déclenchée, le chauffage d'appoint couvrant la totalité des besoins de chaleur.","Temperatura esterna di dimensionamento al si sotto della quale la PdC é completamente spenta ed il riscaldamento d'appoggio copre la totalità del fabbisogno termico."]
[172,"Chauffage électrique en fonctionnement parallèle:","Elektro - Einsatz im Parallelbetrieb:","Chauffage électrique en fonctionnement parallèle:","Riscaldamento elettrico in  parallelo:"]
[173,"Corps de chauffe monté dans l'accumulateur, non bloqué durant le chargement de l'accumulteur.","Heizstab im Speicher eingebaut und während\nder Speicherladung nicht gesperrt","Corps de chauffe monté dans l'accumulateur, non bloqué durant le chargement de l'accumulteur.","Resistenza montata nell'accumulatore, non bloccata durante la carica dell'accumulatore"]
[174,"Registre électrique pour post-chauffage:","Elektro-Einsatz zur Nachwärmung:","Registre électrique pour post-chauffage:","Resistenza elettrica per post riscaldamento:"]
[175,"Registre électrique instantanné après l'accumulateur ou registre électrique dans accumulateur, bloqué durant le chargement de l'accumulateur.","Durchlauferhitzer nach Speicher oder \nHeizstab in Speicher, gesperrt bei Speicherladung.","Registre électrique instantanné après l'accumulateur ou registre électrique dans accumulateur, bloqué durant le chargement de l'accumulateur.","Resistenza elettrica istantanea dopo l'accumulatore o resistenza elettrica nell'accumulatore, bloccate durante la carica dell'accumulatore."]
[176,{"$f":"IF(F182<>\"\",F182,INDEX($C$7:$F$713,A182,$C$2))","v":"Température de l'ECS pouvant être atteinte avec la seule PAC."},"Warmwasser-Temperatur, die alleine mit der Wärmepumpe erzeugt werden kann.","Température de l'ECS pouvant être atteinte avec la seule PAC.","Temperatura dell'ACS che può essere raggiunta con la sola pompa di calore"]
[177,"Installation solaire:","Solaranlage:","Installation solaire:","Impianto solare:\n"]
[178,"1. Aucune installation solaire  2. Chauffage solaire ECS  3. Chauffage solaire ECS avec appoint au chauffage","1. Keine Solaranlage  2. Solare Wassererwärmung  3. Solare Wassererwärmung mit Heizungsunterstützung","1. Aucune installation solaire  2. Chauffage solaire ECS  3. Chauffage solaire ECS avec appoint au chauffage","1. Nessuna istallazione solare\n2. Riscaldamento solare dell' ACS 3. Riscaldamento solare dell'ACS con aiuto al riscaldamento"]
[179,"Valeurs de calcul pour Tdép","Rechenwerte bei TVL=","Valeurs de calcul pour Tdép","Valore di calcolo della T mand"]
[180,"Taux de couverture du chauffage d'appoint pour chauffage:","Deckungsgrad Zusatzheizung für die Heizung:","Taux de couverture du chauffage d'appoint pour chauffage:","Quota di copertura del riscaldamento d'appoggio per il riscaldamento:"]
[181,"A reporter dans le justificatif MINERGIE","In den MINERGIE-Nachweis übertragen","A reporter dans le justificatif MINERGIE","Da riportare nella verifica MINERGIE"]
[182,"Surface","Fläche","Surface","Superficie"]
[183,"Taux de couverture du chauffage d'appoint pour chauffage ECS:","Deckungsgrad Zusatzheizung für das Warmwasser:","Taux de couverture du chauffage d'appoint pour chauffage ECS:","Quota di copertura del riscaldamento d'appoggio per l'acqua calda ACS:"]
[184,"A reporter dans le justificatif MINERGIE","In den MINERGIE-Nachweis übertragen","A reporter dans le justificatif MINERGIE","Da riportare nella verifica MINERGIE"]
[185,"Taux de couverture de la PAC pour le chauffage:","Deckungsgrad  der Wärmepumpe für die Heizung:","Taux de couverture de la PAC pour le chauffage:","Quota di copertura della PdC per il riscaldamento:"]
[186,"A reporter dans le justificatif MINERGIE","In den MINERGIE-Nachweis übertragen","A reporter dans le justificatif MINERGIE","Da riportare nella verifica MINERGIE"]
[187,"Taux de couverture de la PAC pour ECS","Deckungsgrad  der Wärmepume für das Warmwasser:","Taux de couverture de la PAC pour ECS","Quota di copertura della PdC per l'ACS"]
[188,"A reporter dans le justificatif MINERGIE","In den MINERGIE-Nachweis übertragen","A reporter dans le justificatif MINERGIE","Da riportare nella verifica MINERGIE"]
[189,"Coefficient de performance","Arbeitszahl","Coefficient de performance","Coefficiente di prestazione "]
[190,"sans tenir compte du chauffage d'appoint électrique / sans RC","ohne Berücksichtigung der Elektro - Zusatzheizung / ohne WRG","sans tenir compte du chauffage d'appoint électrique / sans RC","senza tenere conto del riscaldamento d'appoggio elettrico / senza RC"]
[191,"Puissance de chauffe pour Tdép","Heizleistung bei Vorlauftemperatur","Puissance de chauffe pour Tdép","Potenza termica alla temperatura di mandata"]
[192,"COP à la température de départ","COP bei Vorlauftemperatur","COP à la température de départ","COP alla temperatura di mandata"]
[193,"Circulation d'ECS / câble chauffant","Warmwasser-Zirkulation / Begleitheizband","Circulation d'ECS / câble chauffant","Circolazione dell'ACS/ cavo riscaldante"]
[194,"Coefficient de performance annuel (COPa) de la PAC, pour le chauffage","Jahresarbeitszahl (JAZ) der WP für die Heizung","Coefficient de performance annuel (COPa) de la PAC, pour le chauffage","Coefficiente di lavoro annuo CLA della PdC, per il riscaldamento"]
[195,"Sans considérer la part de chauffage électrique direct et sans la part de la RC. A reporter dans le justificatif MINERGIE.","ohne Berücksichtigung des Elektro-Direktheizungsanteils und ohne WRG-Anteil. In den MINERGIE-Nachweis übertragen.","Sans considérer la part de chauffage électrique direct et sans la part de la RC. A reporter dans le justificatif MINERGIE.","senza considerare la parte di riscaldamento elettrico diretto  e senza la parte del RC. Da riportare nella verifica MINERGIE."]
[196,"Coefficient de performance annuel (COPa) de la PAC, pour l'ECS","Jahresarbeitszahl (JAZ) der WP für Warmwasser","Coefficient de performance annuel (COPa) de la PAC, pour l'ECS","Coefficiente di lavoro annuo CLA della PdC, per l'ACS"]
[197,"sans tenir compte de la part de chauffage électrique direct. A reporter dans le justificatif MINERGIE","ohne Berücksichtigung des Elektro-Direktheizungsanteils. In den MINERGIE-Nachweis übertragen.","sans tenir compte de la part de chauffage électrique direct. A reporter dans le justificatif MINERGIE","senza considerare la parte di riscaldamento elettrico diretto. Da riportare nella verifica MINERGIE"]
[198,"Azimut:","Azimut:","Azimut:","Azimut:"]
[199,"Ecart du champ de capteurs par rapport au Sud.  0 = Sud.  90 = Est ou Ouest.  Donnée sans [°].","Abweichung der Kollektorausrichtung von Süden.  0 = Süd.  90 = Ost oder West.  Eingabe ohne [°].","Ecart du champ de capteurs par rapport au Sud.  0 = Sud.  90 = Est ou Ouest.  Donnée sans [°].","Scostamento dei collettori in rapporto al Sud. 0=Sud, 90=Est o Ovest. Dati senza [°]."]
[200,"Inclinaison:","Neigung:","Inclinaison:","Inclinazione:"]
[201,"Pente/inclinaison des collecteurs. 0 = horizontal, 90 = vertical.  Donnée sans [°].","Aufstellwinkel der Kollektoren. 0 = horizontal, 90 = vertikal.  Eingabe ohne [°].","Pente/inclinaison des collecteurs. 0 = horizontal, 90 = vertical.  Donnée sans [°].","Inclinazione dei collettori. 0= orizzontali, 90=verticali. Dati senza [°]."]
[202,"Circulation d'ECS","WW-Zirkulation","Circulation d'ECS","Circolazione dell'ACS"]
[203,"Câble chauffant","Begleitheizband","Câble chauffant","Cavo riscaldante"]
[204,"Graphique PAC","WP Grafik","Graphique PAC","Grafico PdC"]
[205,"Calcul de la courbe de charge","Berechnung Lastkurve","Calcul de la courbe de charge","Calcolo della curva di carico "]
[206,"Climat et profil de charge:","Klima und Lastprofil:","Climat et profil de charge:","Clima e profilo di carico:"]
[207,"Station climatique","Wetterstation:","Station climatique","Stazione climatica"]
[208,{"$f":"IF(F214<>\"\",F214,INDEX($C$7:$F$713,A214,$C$2))","v":"Période chauffage"},"Heizperiode:","Période chauffage","Periodo di riscaldamento"]
[209,"Correction clim.","Klimakorrektur:","Correction clim.","Correzione climatica"]
[210,"Besoins de chaleur ","Heizwärmebedarf:","Besoins de chaleur ","Fabbisogno termico"]
[211,"Gains de chaleur","freie Wärme:","Gains de chaleur","Apporto termico"]
[212,"\"Part solaire:\"","\"Solaranteil:\"","\"Part solaire:\"","\"Parte solare:\""]
[213,"P nécessaire ECS","Bedarf WW:","P nécessaire ECS","Fabbisogno ACS"]
[214,"Pompe à chaleur:","Wärmepumpe:","Pompe à chaleur:","Pompa di calore"]
[215,"Durée marche PAC","Laufzeit WP:","Durée marche PAC","Durata di funzionamento PdC"]
[216,"Besoin d'électricité PAC","Strombedarf WP","Besoin d'électricité PAC","Fabbisogno elettrico PdC"]
[217,"Besoin d'énergie:","Energiebedarf:","Besoin d'énergie:","Fabbisogno d'energia"]
[218,"Besoins de chaleur","Heizwärmebedarf:","Besoins de chaleur","Fabbisogno termico"]
[219,"Distribution chauffage","Verteilung Heizung:","Distribution chauffage","Distribuzione riscaldamento"]
[220,"Besoins chaleur ECS","Warmwasserbedarf:","Besoins chaleur ECS","Fabbisogno termico per l'ACS"]
[221,"Distribution ECS","Verteilung WW:","Distribution ECS","Distribuzione ACS"]
[222,"Besoins totaux:","Bedarf total:","Besoins totaux:","Fabbisogno totale"]
[223,"Besoin de puissance de chauffage (sans ECS)","Heizleistungsbedarf (ohne WW)","Besoin de puissance de chauffage (sans ECS)","Fabbisogno di potenza per il riscaldamento (senza ACS)"]
[224,"Proposition à °C","Vorschlag bei ","Proposition à ","Proposta a ",{"$f":"IF(TaMin<>0,INDEX($C$7:$F$713,A230,$C$2)&TaMin&\"°C\",INDEX($C$7:$F$713,A230,$C$2)&\"-8°C\")","v":"Proposition à °C"}]
[225,"P calculée à °C","Rechenwert bei ","P calculée à ","P calcolata a ",{"$f":"IF(TaMin<>0,INDEX($C$7:$F$713,A231,$C$2)&TaMin&\"°C\",INDEX($C$7:$F$713,A231,$C$2)&\"-8°C\")","v":"P calculée à °C"}]
[226,"P calculée à -8°C ","Rechenwert bei -8°C:","P calculée à -8°C ","P calcolata a -8°C"]
[227,"Couverture des besoins et COP's:","Bedarfsdeckung und Arbeitszahlen:","Couverture des besoins et COP's:","Copertura del fabbisogno e prestazioni"]
[228,"Taux couverture solaire (chauf.)","Deckungsgrad solar (Heizung)","Taux couverture solaire (chauf.)","Quota di copertura solare (risc.)"]
[229,"Taux couverture solaire (ECS)","Deckungsgrad solar (WW)","Taux couverture solaire (ECS)","Quota di copertura solare (ACS)"]
[230,"Taux couverture PAC (chauf)","Deckungsgrad WP (Heizung)","Taux couverture PAC (chauf)","Quota di copertura PdC (risc.)"]
[231,"Taux couverture PAC (ECS)","Deckungsgrad WP (WW)","Taux couverture PAC (ECS)","Quota di copertura PdC (ACS)"]
[232,"COPA PAC (chauffage)","JAZ Wärmepumpe (Heizung)","COPA PAC (chauffage)","CLA PdC (riscaldamento)"]
[233,"COPA PAC (ECS)","JAZ Wärmepumpe (WW)","COPA PAC (ECS)","CLA PdC (ACS)"]
[234,"PAC pour chauffage:","Wärmepumpe für Heizung:","PAC pour chauffage:","PdC per il riscaldamento:"]
[235,"PAC pour ECS:","Wärmepumpe für Warmwasser:","PAC pour ECS:","PdC per l'ACS:"]
[236,"Chauffage d'appoint ECS:","Zusatzheizung Warmwasser:","Chauffage d'appoint ECS:","Riscaldamento d'appoggio ACS:"]
[237,"Appoint au chauffage:","Zusatzheizung Heizung:","Appoint au chauffage:","Appoggio al riscaldamento:"]
[238,"Pertes:","Verluste:","Pertes:","Perdite:"]
[239,"Couverture des besoins:","Bedarfsdeckung:","Couverture des besoins:","Copertura dei bisogni:"]
[240,{"$f":"IF(F246<>\"\",F246,INDEX($C$7:$F$713,A246,$C$2))","v":"Temp extérieure\nTa"},"Aussentemperatur\nTa","Temp extérieure\nTa","Temperatura esterna\nTa"]
[241,"Puissance\nnécessaire","Leistungs-\nbedarf","Puissance\nnécessaire","Potenza\nNecessaria"]
[242,"Distribution\nBIN","BIN - \nVerteilung","Distribution\nBIN","Distribuzione\nBIN"]
[243,"Courbe de charge\nsans gains de chaleur","Lastkurve ohne\nfreie Wärme","Courbe de charge\nsans gains de chaleur","Curva di carico senza apporti di calore"]
[244,"Fréquence\ncumulée","Summen-\nhäufigkeit","Fréquence\ncumulée","Frequenza cumulata"]
[245,"Courbe de charge\navec gains chaleur","Lastkurve mit\nfreier Wärme","Courbe de charge\navec gains chaleur","Curva di carico con apporti di calore"]
[246,"Apport chaleur\nPAC","Wärmeabgabe\nWärmepumpe","Apport chaleur\nPAC","Apporto di calore\nPdC"]
[247,"PAC + chauffage d'appoint","Wärmepumpe\n + Zusatzheiz.","PAC + chauffage d'appoint","PdC + riscaldamento d'appoggio"]
[248,"Abréviations:","Abkürzungen:","Abréviations:","Abbreviazioni:"]
[249,"PAC = pompe à chaleur; ECS = eau chaude sanitaire;  h = rendement;  COPA = coefficient de perf annuel (sans chauffage d'appoint ni résistance électrique)","WP = Wärmepumpe;     WW = Warmwasser;    h = Wirkungsgrad;    JAZ = Jahresarbeitszahl (ohne Zusatzheizung / ohne Heizstäbe)","PAC = pompe à chaleur; ECS = eau chaude sanitaire;  h = rendement;  COPA = coefficient de perf annuel (sans chauffage d'appoint ni résistance électrique)","PdC=pompa di calore; ACS= Acqua calda sanitaria; h=rendimento; CLA= coefficiente di lavoro annuo (senza riscaldamento d'appoggio ne resistenze elettriche)"]
[250," Besoins de chaleur sans les gains de chaleur"," Wärmebedarf ohne Wärmegewinne"," Besoins de chaleur sans les gains de chaleur","Fabbisogno termico senza gli apporti di calore"]
[251,"Couverture par les capteurs solaires"," Deckung Sonnenkollektoren","Couverture par les capteurs solaires","Copertura  dei collettori solari"]
[252," Besoins de chaleur sans capteurs solaires"," Wärmebedarf ohne Kollektoren"," Besoins de chaleur sans capteurs solaires","Fabbisogno termico senza collettori solari"]
[253," Chauffage d'appoint"," Zusatzheizung"," Chauffage d'appoint","Riscaldamento d'appoggio"]
[254,"Charge de base PAC, y c. corps de chauffe ECS"," Grundlast WP, inkl. WW-Heizstab","Charge de base PAC, y c. corps de chauffe ECS","Carico di base PdC, compresi corpi di riscaldamento dell'ACS"]
[255,"Fréquence cumulée","Summenhäufigkeit","Fréquence cumulée","Frequenza cumulata"]
[256,"Besoin de puissance max [kW]","max. Leistungsbedarf [kW]","Besoin de puissance max [kW]","Fabbisogno di potenza massima [kW]"]
[257,"Heures annuelles","Jahresstunden","Heures annuelles","Ore annuali"]
[258,"une vitesse","einstufig","une vitesse","una velocità"]
[259,"2 vitesses","zweistufig","2 vitesses","due velocità"]
[260,"Plusieurs vitesses","mehrstufig","Plusieurs vitesses","più velocità"]
[261,"vitesse variable","stufenlos","vitesse variable","velocità variabile"]
[262,"PAC sur air extrait sur installation de ventilation sans récupération de chaleur","Abluft-Wärmepumpe ohne Lüftungs-WRG","PAC sur air extrait sur installation de ventilation sans récupération de chaleur","Impianto di ventilazione senza recupero di calore"]
[263,"valeur calculée: ","Rechenwert: ","valeur calculée: ","valore calcolato: "]
[264,"pas d'installation solaire","Keine Solaranlage","pas d'installation solaire","Nessuna impianto solare"]
[265,"Chauffage solaire de l'ECS","Solare Wassererwärmung","Chauffage solaire de l'ECS","Riscaldamento solare dell' ACS"]
[266,"Eau chaude sanitaire ECS + chauffage","Warmwasser + Heizung","Eau chaude sanitaire ECS + chauffage","Riscaldamento solare dell'ACS + riscaldamento"]
[267,"(calcul externe)","(externe Berechnung)","(calcul externe)","(calcolo esterno)"]
[268,"Non disponibles","Nicht vorhanden","Non disponibles","Non disponibile"]
[269,"Spécifications du collecteur","Kollektor-Kenndaten:","Spécifications du collecteur","Specifiche del collettore"]
[270,"Courbe de chauffe de la PAC (et pas celle des consommateurs de chauffage):","Heizkurve der Wärmepumpe (nicht der Wärmeabgabe):","Courbe de chauffe de la PAC (et pas celle des consommateurs de chauffage):","Curva di riscaldamento della PdC (non quella dell'utilizzatore di calore)"]
[271,"Températures de départ et de retour de la PAC [°C]","Vor- und Rücklauftemperatur der WP  [°C]","Températures de départ et de retour de la PAC [°C]","Temperature di partenza e ritorno dalla PdC [°C]"]
[272,{"$f":"IF(F278<>\"\",F278,INDEX($C$7:$F$713,A278,$C$2))","v":"Température extérieure Ta [°C]"},"Aussentemperatur Ta  [°C]","Température extérieure Ta [°C]","Temperatura esterna Ta  [°C]"]
[273,"Accumulateur combiné chauffage et ECS selon STASCH","Kombispeicher, Stasch-Schaltung","Accumulateur combiné chauffage et ECS selon STASCH","Accumulatore combinato, secondo STASCH"]
[274,"Accuumulateur combiné - 1 prise de retour Accu-PAC","Kombispeicher, 1 WP-Rücklauf aus Speicher","Accuumulateur combiné - 1 prise de retour Accu-PAC","Accumulatore combinato, 1 ritorno dalla PdC"]
[275,"Accuumulateur combiné - 2 prise de retour Accu-PAC","Kombispeicher, 2 WP-Rücklauf aus Speicher","Accuumulateur combiné - 2 prise de retour Accu-PAC","Accumulatore combinato, 2 ritorni dalla PdC"]
[276,"valable jusqu'à ","gültig bis ","valable jusqu'à ","valido fino a "]
[277,"Feuille de calcul PACesti","Wärmepumpen-Berechnungsblatt WPesti","Feuille de calcul PACesti","Foglio di calcolo Wpesti"]
[278,"Entrées en bas","Angaben unten","Entrées en bas","Ingresso abbasso"]
[279,"Liste des PAC","WP-Liste","Liste des PAC",{"$f":"\"Elenco dei PdC\"","v":"Elenco dei PdC"}]
[280,{"$f":"IF(F286<>\"\",F286,INDEX($C$7:$F$713,A286,$C$2))","v":"Entrées dans \"Spez\""},"Eingabe in \"Spez\"","Entrées dans \"Spez\"","Ingresso in \"Spez\""]
[281,"Installation bivalente fossile alternative","fossil bivalent (alternativer Betrieb)","Installation bivalente fossile alternative","Impianto bivalente supplemento fossile alternativa"]
[282,0,"Blatt WP-Spez"]
[283,"PAC, spécifications individuelles","WP, individuelle Spezifikationen","PAC, spécifications individuelles","PdC, specifiche individuali"]
[284,"Données de la PAC","Daten Wärmepumpe","Données de la PAC","Dati della PdC"]
[285,"Données de puissance de la PAC","Leistungsdaten der Wärmepumpe:","Données de puissance de la PAC","Dati di potenza della PdC"]
[286,"Pompes:","Pumpen:","Pompes:","Pompa:"]
[287,"Consenseur","Kondensator","Consenseur","Condensatore"]
[288,"Evaporateur","Verdampfer","Evaporateur","Evaporatore"]
[289,"Ventilateur","Ventilator","Ventilateur","Ventilatore"]
[290,{"$f":"IF(F296<>\"\",F296,INDEX($C$7:$F$713,A296,$C$2))","v":"Données introduites en ordre croissant selon la température de la source"},"Eingabe in aufsteigender Reihenfolge nach Quellentemperatur","Données introduites en ordre croissant selon la température de la source","Dati inseriti in ordine crescente in funzione della temperatura della fonte di calore"]
[291,"T Dep","T Vorlauf","T Dep","T mand"]
[292,"T Ret","T Rücklauf","T Ret","T rit"]
[293,"Puissance therm.","Heizleistung","Puissance therm.","Potenza term."]
[294,"COP","COP","COP","COP"]
[295,"Température de la source de chaleur:","Quellentemp.","Température de la source de chaleur:","Temperatura della fonte di calore"]
[296,"Pompe de la source","Quellenpumpe 1","Pompe de la source","Pompa della fonte di calore"]
[297,"Nom et type de la pompe","Name und Typ der Pumpe","Nom et type de la pompe","Nome e tipo della pompa"]
[298,"Courant absorbé de la pompe à plein régime ","Stromaufnahme Pumpe bei Vollast","Courant absorbé de la pompe à plein régime ","Potenza elettrica assorbita dalla pompa a pieno regime"]
[299,"Perte de charge dynamique à plein régime","dynamischer Druckabfall bei Vollast","Perte de charge dynamique à plein régime","Perdita di carico a pieno regime"]
[300,"Débit à plein régime","Durchsatz bei Vollast","Débit à plein régime","Portata a pieno regime"]
[301,"Hauteur statique","Geodätische Höhe","Hauteur statique","Prevalenza"]
[302,"Mode d'exploitation","Betriebsart","Mode d'exploitation","Modalità d'impiego"]
[303,"Régulation","Regelung","Régulation","Regolazione"]
[304,"Valeur de calcul","Rechenwert: ","Valeur de calcul","Valore di calcolo:"]
[305,"Valeur estimée","Schätzwert: ","Valeur estimée","Valore stimato:"]
[306,"Valeur estimée selon feuille PAC","Schätzwert aus Blatt WP:","Valeur estimée selon feuille PAC","Valore stimato dalla scheda della PdC"]
[307,"Valeur effective","eff. Wert: ","Valeur effective","Valore effettivo:"]
[308,"Pompe de l'évaporateur ou ventilateur","Verdampferpumpe oder Ventilator","Pompe de l'évaporateur ou ventilateur","Pompa dell'evaporatore o ventilatore"]
[309,"Courant absorbé de la pompe / ventilateur à plein régime ","Stromaufnahme Pumpe / Ventilator bei Vollast","Courant absorbé de la pompe / ventilateur à plein régime ","Potenza elettrica assorbita dalla pompa/ventilatore a pieno regime"]
[310,"Perte de charge à l'évaporateur","Druckabfall über Verdampfer","Perte de charge à l'évaporateur","Perdita di carico nell'evaporatore"]
[311,"Débit à l'évaporateur","Durchsatz über Verdampfer","Débit à l'évaporateur","Portata nell'evaporatore"]
[312,"Pompe au condenseur","Kondensatorpumpe","Pompe au condenseur","Pompa del condensatore"]
[313,"Courant absorbé par la pompe P1 à plein régime (seule la part du condenseur)","Stromaufnahme Pumpe P1 bei Vollast (nur Anteil für Kondensator)","Courant absorbé par la pompe P1 à plein régime (seule la part du condenseur)","Potenza elettrica assorbita dalla pompa P1 a pieno regime (solo per la parte del condensatore)"]
[314,"Perte de charge nominale au condenseur","Nenn-Druckabfall über Kondensator","Perte de charge nominale au condenseur","Perdita di carico nominale nel condensatore"]
[315,"Débit nominal au condenseur","Nenn-Durchsatz über Kondensator","Débit nominal au condenseur","Portata nominale nel condensatore"]
[316,"inclus dans le COP","bereits in COP enthalten","inclus dans le COP","già incluso nel COP"]
[317,"non calculé","nicht eingerechnet","non calculé","non calcolato"]
[318,"toujours en exploitation","Immer in Betrieb","toujours en exploitation","Sempre in funzione"]
[319,"seulement en exploitation si la PAC est en service","Nur Betrieb bei WP ein","seulement en exploitation si la PAC est en service","In funzione solo in combinazione con la PdC"]
[320,"non réglé","ungeregelt","non réglé","non regolato"]
[321,"réglé","geregelt","réglé","regolato"]
[322,"une vitesse","einstufig","une vitesse","una velocità"]
[323,"2 vitesses","zweistufig","2 vitesses","due velocità"]
[324,"réglé","geregelt","réglé","regolato"]
[325,0]
[326,0]
[327,"exclu el. add.","exkl. el. Zusatz","exclu el. add.","escl. el. suppl."]
[328,"y compris el. add.","inkl. el. Zusatz","y compris el. add.","incl. el. suppl."]
[329,"Puissance de chauffe PAC","Heizleistung Wärmepumpe","Puissance de chauffe PAC","Potenza termica PdC"]
[330,"COP","COP","COP","COP"]
[331,"Voir aussi feuille \"Spez\"","Weitere Angaben auf Zusatzblatt 'Spez'","Voir aussi feuille \"Spez\"","s.u. 'Spez'"]
[332,"Valeurs de calcul sans évaporateur","Rechenwert ohne Verdampfer","Valeurs de calcul sans évaporateur","Valore di calcolo senza evaporatore"]
[333,0]
[334,0]
[335,0]

{"sheet":"Tabelle1","index":2,"n_rows":0,"n_cols":0,"rows_kept":0,"cut":false,"hidden":true,"merged":[]}

{"sheet":"WP","index":3,"n_rows":100,"n_cols":35,"rows_kept":100,"cut":false,"hidden":false,"merged":[[0,6,1,7],[19,11,19,12],[39,5,39,7],[43,5,43,7],[19,5,19,7],[18,6,18,7],[2,1,2,7],[2,13,2,14],[17,2,17,3],[17,6,17,7],[50,5,50,6],[20,5,20,7],[21,5,21,7],[22,5,22,7],[23,5,23,7],[30,3,30,4]]}
[null,{"$f":"Sprache!B283","v":"Feuille de calcul PACesti"},null,null,null,null,{"$f":"Sprache!B8","v":"WPesti / V 8.3.33 / 27.09.2024                valable jusqu'à 31.12.2025"}]
[null,{"$f":"Sprache!B9","v":"Projet:"},null,null,null,null,null,null,null,null,null,"Auswahl Klima",{"$f":"IF(H6=\"\",1,MATCH(H6,B68:B100,0))","v":1},{"$f":"IF(AND(M2>1,M2<34),TRUE,FALSE)","v":false},"Neu:",true]
[null,null,null,null,null,null,null,null,null,null,null,"Kategorie:",{"$f":"IF(H7=0,1,MATCH(H7,L5:L17,0))","v":1},{"$f":"H7","v":0},null,"W/m²"]
[null,{"$f":"IF(Spez!$L$47,Sprache!B337,\"\")","v":""},null,null,null,null,null,null,null,null,2,"Grenzwerte","Hg0","DHg","Qww","Fg, ev"]
[null,{"$f":"Sprache!B10","v":"Données concernant le bâtiment"},null,null,null,null,null,null,null,null,null,{"$f":"\"\"","v":""},null,null," ",0]
[null,{"$f":"Sprache!B11","v":"Station climatique:    "},null,null,null,null,{"$f":"IF(JAZcalc,\"\",IF(Klima=1,Sprache!B24,\"\"))","v":"choisir ->"},null,null,null,null,{"$f":"Sprache!B100","v":"Habitat collectif"},55,65,{"$f":"75*(1+EtaWW)","v":75},3.1]
[null,{"$f":"Sprache!B13","v":"Catégorie d'ouvrage"},null,null,null,null,{"$f":"IF(Kategorie=1,Sprache!B24,\"\")","v":"choisir ->"},null,null,null,null,{"$f":"Sprache!B101","v":"Habitat individuel"},65,65,{"$f":"50*(1+EtaWW)","v":50},2.4]
[null,{"$f":"Sprache!B12","v":"Surface de référence énergétique SRE"},null,null,{"$f":"IF(OR(EBF=\"\",EBF=0),Sprache!B75,\"\")","v":"choisir ->"},"AE","m2",null,null,null,null,{"$f":"Sprache!B102","v":"Administration"},65,85,{"$f":"25*(1+EtaWW)","v":25},3.3]
[null,{"$f":"Sprache!B14","v":"Besoins de chaleur pour le chauffage selon SIA 380/1"},null,null,{"$f":"IF(H9=\"\",Sprache!B75,\"\")","v":"choisir ->"},"Qh,eff","MJ/m2a",null,null,null,null,{"$f":"Sprache!B103","v":"Ecole"},70,70,{"$f":"25*(1+EtaWW)","v":25},2.2999999999999998]
[null,{"$f":"Sprache!B15","v":"Déperditions par transmission selon SIA 380/1"},null,null,{"$f":"IF(OR(QT=\"\",QT=0),Sprache!B75,IF(H10,IF(OR(H10<=0.5*$H$9,Berechnungen!E33),Sprache!B131,\"\"),\"\"))","v":"choisir ->"},"QT",{"$f":"G9","v":"MJ/m2a"},null,null,null,null,{"$f":"Sprache!B104","v":"Commerce"},50,65,{"$f":"25*(1+EtaWW)","v":25},2.2999999999999998]
[null,{"$f":"Sprache!B16","v":"Déperditions par renouvellement d'air selon SIA 380/1"},null,null,{"$f":"IF(OR(QV=\"\",QV=0),Sprache!B75,IF(H11,IF(OR((H11+QT)<$H$9,Berechnungen!E33),Sprache!B131,\"\"),\"\"))","v":"choisir ->"},"QV",{"$f":"G9","v":"MJ/m2a"},null,null,null,null,{"$f":"Sprache!B105","v":"Restauration"},95,75,{"$f":"200*(1+EtaWW)","v":200},2.2999999999999998]
[null,{"$f":"Sprache!B17","v":"Chauffage: pertes supplémentaires de distribution de chaleur"},null,null,null,null,"%",null,null,null,null,{"$f":"Sprache!B106","v":"Lieu de rassemblement"},95,75,{"$f":"50*(1+EtaWW)","v":50},2.2999999999999998]
[null,{"$f":"Sprache!B18","v":"Durée de coupure d'alimentation de la PAC"},null,null,null,null,"h/d",null,null,null,null,{"$f":"Sprache!B107","v":"Hôpitaux"},80,80,{"$f":"100*(1+EtaWW)","v":100},4]
[null,{"$f":"Sprache!B19","v":"Puissance de chauffage nécessaire sans ECS à °C"},null,null,{"$f":"'WP1'!E14","v":""},{"$f":"'WP1'!F14","v":""},"kW",null,null,null,{"$f":"IF(Leistung<(N32/28*(20-TaMin)),(N32/28*(20-TaMin)),IF(Qtot>0,Qtot*(1+Verteilverluste)*EBF/3.6/(HGT*1.065)/24*(20-TaMin),IF(Qh,Qh*EBF/3.6/HGT/15*(20-TaMin),\"\")))-INDEX(P5:P17,Kategorie,1)*EBF/1000","v":{"$error":"#VALUE!"}},{"$f":"Sprache!B108","v":"Industrie"},60,70,{"$f":"25*(1+EtaWW)","v":25},2.2999999999999998]
[null,{"$f":"Sprache!B20","v":"Besoins de chaleur pour l'ECS selon SIA 380/1"},null,null,null,"Qww",{"$f":"G11","v":"MJ/m2a"},{"$f":"IF(H7<>\"\",Qww/Einheitenfaktor,\"\")","v":""},null,null,{"$f":"INDEX(O5:O17,Kategorie,1)","v":" "},{"$f":"Sprache!B109","v":"Dépôt"},60,70,{"$f":"5*(1+EtaWW)","v":5},2.2999999999999998]
[null,{"$f":"Sprache!B21","v":"Eau chaude sanitaire: pertes supplémentaires d'accumulation et de distribution"},null,null,null,null,"%",null,null,null,null,{"$f":"Sprache!B110","v":"Installation sportive"},75,70,{"$f":"300*(1+EtaWW)","v":300},2.2999999999999998]
[null,{"$f":"IF(AND(Qh>0,$M$26<>3),IF(AND(bivalent=FALSE,elZusatz=FALSE,F53>0.01),Sprache!B146,\"\"),\"\")","v":""},null,null,null,null,null,null,null,null,null,{"$f":"Sprache!B111","v":"Piscine"},70,90,{"$f":"300*(1+EtaWW)","v":300},2.2999999999999998]
[null,{"$f":"Sprache!B22","v":"Installation de pompe à chaleur"},null,null,"WP-Liste",{"$f":"IF(SpezWP,IF(Spez!E5<>\"\",Spez!E5,\"\"),\"Hersteller:  \")","v":"Hersteller:  "},null,null,null,null,{"$f":"IF(OR(E18=\"\",E18=L47,E18=L49),FALSE,TRUE)","v":true},null,null,null,null,{"$f":"INDEX(P5:P18,M3,1)","v":0}]
[null,{"$f":"Sprache!B23","v":"Nom et type de PAC"},null,null,null,{"$f":"IF(SpezWP,IF(Spez!E5<>\"\",Spez!E5,\"\"),\"Typ:  \")","v":"Typ:  "},null,null,null,null,{"$f":"IF(OR(G18=WP_Daten!D10,G18=\"\"),FALSE,TRUE)","v":false}]
[null,{"$f":"Sprache!B26","v":"Source de chaleur:"},null,null,{"$f":"IF(WPArt=1,Sprache!B24,\"\")","v":"choisir ->"},null,null,null,null,null,{"$f":"IF(F20=\"\",1,MATCH(F20,$M$74:$M$94,0))","v":1},"Einheiten",null,null,"Speicher-Verluste",{"$f":"K22","v":1},"Speicherverluste","Überladung",null,"Betrieb","bivalent?","el.-Zusatz",null,"Speicherladung",{"$f":"K24","v":1},null,"WW-Zusatzheiz"]
[null,{"$f":"Sprache!B27","v":"Utilisation (chauffage ou eau chaude sanitaire)"},null,null,{"$f":"IF(M27=1,Sprache!B24,\"\")","v":"choisir ->"},null,null,null,null,null,{"$f":"IF(F21=\"\",1,MATCH(F21,$L$28:$L$32,0))","v":1},"MJ/m2a",{"$f":"MATCH(G9,L21:L22,0)","v":1},null," ",true,{"$f":"'WP1'!AJ133","v":0},false,null," ",false,false,null," ",0,null," "]
[null,{"$f":"IF(Heizung=FALSE,\"\",Sprache!B29)","v":""},null,null,{"$f":"IF(AND(HeizungSolar,$P$20=3),Sprache!B25,IF(AND(P20=1,Heizung),Sprache!B24,\"\"))","v":""}," ",null,null,null,null,{"$f":"IF(F22=\"\",1,IF(OR($K$21=3,$K$21=1,$K$20=18),1,MATCH(F22,$O$21:$O$27,0)))","v":1},"kWh/m2a",{"$f":"IF(M21=2,3.6,1)","v":1},null,{"$f":"IF('WP1'!AH134<>\"\",'WP1'!AH134,\"\")","v":""},false,{"$f":"'WP1'!AJ134","v":0},false,null,{"$f":"'WP1'!AD134","v":"fonctionnement chauffage monovalent"},false,false,null,{"$f":"'WP1'!BG69","v":""},{"$f":"IF(elZusatz,AC80,0)","v":0},null,{"$f":"'WP1'!BG78","v":""}]
[null,{"$f":"Sprache!B28","v":"Mode de fonctionnement de la PAC"},null,null,{"$f":"IF(T27=1,Sprache!B24,\"\")","v":"choisir ->"},null,null,null,null,null,{"$f":"IF(F23=\"\",1,IF(MATCH(F23,$T$21:$T$25,0)=5,4,MATCH(F23,$T$21:$T$25,0)))","v":1},{"$f":"IF(F23=\"\",1,MATCH(F23,$T$21:$T$25,0))","v":1},null,null,{"$f":"IF('WP1'!AH135<>\"\",'WP1'!AH135,\"\")","v":""},true,{"$f":"'WP1'!AJ135","v":0.02},false,null,{"$f":"'WP1'!AD135","v":"avec chauffage électrique de secours "},false,true,null,{"$f":"'WP1'!BG70","v":""},{"$f":"IF(AND(elZusatz,Speicher),AC81,0)","v":0},null,{"$f":"'WP1'!BG79","v":""}]
[null,{"$f":"IF(elZusatz,Sprache!B30,\"\")","v":""},null,null,{"$f":"IF(AND(elZusatz,Y20=1),Sprache!B24,\"\")","v":""},null,null,null,null,null,{"$f":"IF(F24=\"\",1,MATCH(F24,$X$21:$X$25,0))","v":1},null,null,null,{"$f":"IF('WP1'!AH136<>\"\",'WP1'!AH136,\"\")","v":""},{"$f":"IF(M26=4,TRUE,FALSE)","v":false},{"$f":"'WP1'!AJ136","v":0.04},false,null,{"$f":"'WP1'!AD136","v":"Installation bivalente fossile"},true,false,null,{"$f":"'WP1'!BG71","v":""},{"$f":"IF(AND(elZusatz,Speicher),AC82,0)","v":0},null,{"$f":"'WP1'!BG80","v":""}]
[null,{"$f":"Sprache!B69","v":"Température de la source (entrée PAC)"},"°C",-15,-7,2,7,{"$f":"'WP1'!H25","v":20},null,null,null,"Handauswahl:",null,null,{"$f":"IF('WP1'!AH137<>\"\",'WP1'!AH137,\"\")","v":""},{"$f":"IF(M26=4,TRUE,FALSE)","v":false},{"$f":"'WP1'!AJ137","v":0.06},true,null,{"$f":"'WP1'!AD137","v":"Installation bivalente fossile alternative"},null,null,null,null,null,null,{"$f":"'WP1'!BG81","v":""}]
[null,{"$f":"Sprache!B185&IF(SpezWP,Spez!C10,35)&\"°C(Qh/COP):\"","v":"Valeurs de calcul pour Tdép35°C(Qh/COP):"},"°C",{"$f":"'WP1'!D26","v":""},{"$f":"'WP1'!E26","v":""},{"$f":"'WP1'!F26","v":""},{"$f":"'WP1'!G26","v":""},{"$f":"'WP1'!H26","v":"0.0kW / 0.0"},null,null,{"$f":"IF(AND(WPArt=2,SpezWP=FALSE,WP_Daten!K5>0,WP_Daten!L5>0),TRUE,FALSE)","v":false},"Auswahl:",{"$f":"K21","v":1},null,{"$f":"IF('WP1'!AH138<>\"\",'WP1'!AH138,\"\")","v":""},{"$f":"IF(M26=4,TRUE,FALSE)","v":false},{"$f":"'WP1'!AJ138","v":0.05},false,null,null,null,null,null,null,null,null,{"$f":"'WP1'!BG82","v":""}]
[null,{"$f":"IF(WPArt=4,Sprache!B335&\" W10/W35\",Sprache!B197&\" 35°C\")","v":"Puissance de chauffe pour Tdép 35°C"},"kW",null,null,null,null,null,null,null,{"$f":"IF(AND(WPArt=2,SpezWP=TRUE,WP_BIN!AU81>0,WP_BIN!AU82>0),TRUE,FALSE)","v":false},"Einsatz:",{"$f":"IF(M26=1,IF(M25>0,M25,M26),M26)","v":1},null,{"$f":"IF('WP1'!AH139<>\"\",'WP1'!AH139,\"\")","v":""},null,{"$f":"'WP1'!AJ139","v":0},null,null,{"$f":"K23","v":1},{"$f":"INDEX(U21:U24,T27,1)","v":false},{"$f":"INDEX(V21:V24,T27,1)","v":false},null,{"$f":"INDEX(X21:X26,Y20,1)","v":" "},{"$f":"INDEX(Y21:Y26,Y20,1)","v":0},null,{"$f":"K40","v":1}]
[null,{"$f":"IF(WPArt=4,Sprache!B336&\" W10W35\",Sprache!B198&\" 35°C\")","v":"COP à la température de départ 35°C"},"-",null,null,null,null,null,null,null,{"$f":"IF(OR(K26,K27,WPArt<>2),TRUE,FALSE)","v":true}," ",null,null,{"$f":"IF('WP1'!AH140<>\"\",'WP1'!AH140,\"\")","v":""},null,{"$f":"'WP1'!AJ140","v":0},null,null,null,null,null,null,null,null,null,{"$f":"INDEX(AA21:AA26,AA27,1)","v":" "}]
[null,{"$f":"IF(WPArt=4,Sprache!B335&\" W10/W55\",Sprache!B197&\" 55°C\")","v":"Puissance de chauffe pour Tdép 55°C"},"kW",null,null,null,null,null,null,null,null,{"$f":"'WP1'!BG60","v":"Chauffage"},null,null,{"$f":"IF('WP1'!AH141<>\"\",'WP1'!AH141,\"\")","v":""},null,{"$f":"'WP1'!AJ141","v":0},null,null,null,null,null,null,null,null,null,{"$f":"IF(AA27>2,TRUE,FALSE)","v":false}]
[null,{"$f":"IF(WPArt=4,Sprache!B336&\" W10W55\",Sprache!B198&\" 55°C\")","v":"COP à la température de départ 55°C"},"-",null,null,null,null,null,null,null,null,{"$f":"'WP1'!BG61","v":"ECS eau chaude sanitaire"},null,null,{"$f":"IF('WP1'!AH142<>\"\",'WP1'!AH142,\"\")","v":""},null,{"$f":"'WP1'!AJ142","v":0}]
[null,{"$f":"IF(WPArt=4,Sprache!B88,Sprache!B70)","v":"Puissance électrique soutirée par pompe saumure:"},null,{"$f":"IF(H31<>\"\",IF('WP1'!W49<IF(WPArt=3,'WP1'!X19,IF(WPArt=4,'WP1'!Z19,IF(WPArt=5,'WP1'!AB19,)))*40,Sprache!B338,\"\"),\"\")","v":""},null,{"$f":"IF(H31<>\"\",IF('WP1'!W49<IF(WPArt=3,'WP1'!X19,IF(WPArt=4,'WP1'!Z19,IF(WPArt=5,'WP1'!AB19,)))*40,\"0\",\"\"),\"\")","v":""},"W",null,null,null,{"$f":"IF(OR(Spez!L38,Spez!L46),TRUE,FALSE)","v":false},{"$f":"'WP1'!BG62","v":"Chauffage+ECS"},null,null,{"$f":"IF('WP1'!AH143<>\"\",'WP1'!AH143,\"\")","v":""},null,{"$f":"'WP1'!AJ143","v":0}]
[null,{"$f":"IF(WPArt=3,Sprache!B79,IF(WPArt=5,Sprache!B80,\"\"))","v":""},null,{"$f":"IF(WPArt=3,Sprache!B72,IF(WPArt=5,\"W/m2\",\"\"))","v":""},null,{"$f":"IF(WPArt=3,Sprache!B77,IF(WPArt=5,Sprache!B188,\"\"))","v":""},{"$f":"IF(WPArt=3,\"m\",IF(WPArt=5,\"m2\",\"\"))","v":""},null,null,null,null,{"$f":"'WP1'!BG63","v":"Chauffage + production d'ECS décentralisée par PAC"},null,null,{"$f":"IF('WP1'!AH144<>\"\",'WP1'!AH144,\"\")","v":""},null,{"$f":"'WP1'!AJ144","v":0}]
[null,{"$f":"IF(EBF>0,IF(WPArt=5,Sprache!B82,IF(WPArt=4,Sprache!B83,Sprache!B82)),\"\")","v":""},null,null,null,{"$f":"IF(WPArt=5,ROUND(TQuelle_Koll-Offset,1),IF(WPArt=3,IF(S25<>\"\",S25,IF(H32>0,ROUND(TQuelle-Offset,1),\"\")),IF(WPArt=4,IF(AND(H33<4,H33<>\"\"),Sprache!B132,\"\"),\"\")))","v":""},{"$f":"IF(Heizung=FALSE,\"\",\"°C\")","v":""},null,null,null,null,null,null,null,{"$f":"IF('WP1'!AH145<>\"\",'WP1'!AH145,\"\")","v":""},null,{"$f":"'WP1'!AJ145","v":0},null,null,null,null,"Sonnenkollektoren"]
[null,{"$f":"'WP1'!B34","v":" "},null,null,null,null,{"$f":"'WP1'!G34","v":" "},null,null,null,null,null,null,null,{"$f":"INDEX(O21:O33,P20,1)","v":" "},{"$f":"INDEX(P21:P33,P20,1)","v":true},{"$f":"INDEX(Q21:Q33,P20,1)","v":0},{"$f":"INDEX(R21:R33,P20,1)","v":false}]
[null,{"$f":"IF(Heizung=FALSE,\"\",Sprache!B149)","v":""},null,null,{"$f":"IF(AND(Heizung,H35=\"\"),Sprache!B75,\"\")","v":""},{"$f":"IF(Heizung=FALSE,\"\",\"Ti,soll\")","v":""},{"$f":"IF(Heizung=FALSE,\"\",\"°C\")","v":""},null,null,null,null,null,null,null,null,null,null,null,null,null,null,"Heizungsunterstützung",null,null,"Index1 Azimut: ",{"$f":"IF(ABS(Azimut)>90,13,IF(Azimut<0,ROUND(-Azimut/15,0)+7,ROUND(Azimut/15,0)+7))","v":7},null,"Index Neigung: ",{"$f":"IF(Neigung>90,1,IF(Neigung<0,10,10-ROUND(Neigung/10,0)))","v":10},"Korrektur:",{"$f":"(INDEX(W39:AI48,AC35,Z35)+INDEX(W39:AI48,AC35,Z36))/2/X50","v":0.78688524590163933}]
[null,{"$f":"IF(Heizung=FALSE,\"\",Sprache!B47&\" (Ta = -8°C)\")","v":""},null,null,{"$f":"IF(AND(Heizung,H36=\"\"),Sprache!B75,\"\")","v":""},{"$f":"IF(Heizung=FALSE,\"\",Sprache!B134)","v":""},{"$f":"IF(Heizung=FALSE,\"\",\"°C\")","v":""},null,null,null,null,null,null,null,null,null,null,null,null,null,null,null,null,null,"Index2 Azimut: ",{"$f":"14-Z35","v":7},null,"Azimut:"]
[null,{"$f":"IF(Heizung=FALSE,\"\",Sprache!B48&\" (Ta = -8°C)\")","v":""},null,null,{"$f":"IF(AND(Heizung,H37=\"\"),Sprache!B75,\"\")","v":""},{"$f":"IF(Heizung=FALSE,\"\",Sprache!B135)","v":""},{"$f":"IF(Heizung=FALSE,\"\",\"°C\")","v":""},null,null,null,null,null,null,null,null,null,null,null,null,null,null,null,"West",null,null,null,null,null,null,null,null,null,null,null,"Ost"]
[null,{"$f":"IF(Heizung=FALSE,\"\",IF(Heizspeicher,Sprache!B49,\"\"))","v":""},null,null,null,{"$f":"IF(Heizung=FALSE,\"\",IF(Heizspeicher,Sprache!B136,\"\"))","v":""},{"$f":"IF(Heizung=FALSE,\"\",IF(Heizspeicher,\"°C\",\"\"))","v":""},null,null,null,null,"WP Typ:",null,"Umwälzpumpen",null,null,"MINERGIE-Solarformeln:",null,null,null,null,"Neigung:",-90,-75,-60,-45,-30,-15,0,15,30,45,60,75,90]
[null,{"$f":"IF(L23=5,Sprache!B50,\"\")","v":""},null,null,null,null,{"$f":"IF(L23=5,\"°C\",\"\")","v":""},null,null,null,null,{"$f":"IF(K31,\"Quellen-Pumpe auf Blatt Spez\",\"Pumpe auf Blatt WP\")","v":"Pumpe auf Blatt WP"},null,{"$f":"IF($K$31,Spez!H32,H31)","v":0},"W",null,{"$f":"IF(KollFlaeche>0,490/((1/KollFlaeche)+610/(EBF*(Qww/3.6+Qh/3.6))),0)","v":0},null,null,null,null,90,0.57999999999999996,0.65,0.72,0.77,0.79,0.8,0.79,0.77,0.73,0.68,0.63,0.55000000000000004,0.47]
[null,{"$f":"IF(WW,Sprache!B51,\"\")","v":""},null,null,{"$f":"IF(AND(WW,AA27=1),Sprache!B24,\"\")","v":""},null,null,null,null,null,{"$f":"IF(M26<3,1,IF(F40=\"\",1,MATCH(F40,AA21:AA26,0)))","v":1},{"$f":"Spez!S20","v":"COP B0/35 "},null,{"$f":"IF(SpezWP,Spez!T20,IF(WPDatenbank,IF(WPArt=6,WP_Daten!P5,WP_Daten!X5),H28))","v":0},null,null,{"$f":"Qww*EBF/3.6","v":{"$error":"#VALUE!"}},null,null,null,null,80,0.63,0.71,0.78,0.84,0.87,0.89,0.87,0.85,0.82,0.76,0.7,0.61,0.53]
[null,{"$f":"IF(WW,Sprache!B52,\"\")","v":""},null,null,{"$f":"IF(AND(H41=\"\",WW),Sprache!$B$24,\"\")","v":""},null,{"$f":"IF(WW,\"°C\",\"\")","v":""},null,null,null,null,{"$f":"Spez!S22","v":"COP B0/55 "},null,{"$f":"IF(SpezWP,Spez!T22,IF(WPDatenbank,IF(WPArt=6,WP_Daten!V5,WP_Daten!Z5),H30))","v":0},null,null,{"$f":"Q39/Q40","v":{"$error":"#VALUE!"}},null,null,null,null,70,0.68,0.76,0.84,0.9,0.93,0.95,0.95,0.92,0.89,0.83,0.75,0.66,0.57999999999999996]
[null,{"$f":"IF(WW,Sprache!B53,\"\")","v":""},null,null,{"$f":"IF(AND(WW,OR($H$41<=$H$42,$H$42=\"\"),H42=\"\"),Sprache!$B$24,IF(AND(H42<H41,H42<>\"\",WW),Sprache!B131,\"\"))","v":""},{"$f":"IF(WW,IF(AND(H42>_Tww1,AA27=2),Sprache!B131,\"\"),\"\")","v":""},{"$f":"IF(WW,\"°C\",\"\")","v":""},null,null,null,null,{"$f":"Spez!S21","v":"Qh B0/35 "},null,{"$f":"IF(SpezWP,Spez!T21,IF(WPDatenbank,IF(WPArt=6,WP_Daten!O5,WP_Daten!W5),H27))","v":0},"kW",null,null,null,null,null,null,60,0.71,0.8,0.87,0.93,0.96,0.98,0.97,0.96,0.92,0.86,0.8,0.71,0.62]
[null,{"$f":"IF(AND(WW),Sprache!B199,\"\")","v":""},null,{"$f":"IF(AND(WW,K43=1),Sprache!B24,\"\")","v":""},null,"Länge:","m",null,null,null,{"$f":"IF(M26<3,1,IF(E43=\"\",1,MATCH(E43,N46:N49,0)))","v":1},{"$f":"Spez!S23","v":"Qh B0/55 "},null,{"$f":"IF(SpezWP,Spez!T23,IF(WPDatenbank,IF(WPArt=6,WP_Daten!U5,WP_Daten!Y5),H29))","v":0},"kW",null,null,null,null,null,null,50,0.74,0.82,0.89,0.95,0.97,1,0.98,0.97,0.93,0.88,0.82,0.74,0.65]
[null,{"$f":"Sprache!B31","v":"Installation solaire"},null,null,{"$f":"IF(AND(F44=\"\"),Sprache!B24,\"\")","v":"choisir ->"},null,null,null,null,null,{"$f":"IF(F44=\"\",1,MATCH(F44,N54:N60,0))","v":1},null,null,null,null,null,null,null,null,null,null,40,0.75,0.83,0.89,0.93,0.96,0.98,0.97,0.96,0.93,0.87,0.83,0.76,0.67]
[null,{"$f":"Sprache!B55","v":"Surface des absorbeurs"},null,null,null,null,"m2",null,null,null,null,"WP Typ:",null,"Begleitheizband",null,null,"JAZ mit / ohne el-Zusatz",null,null,null,null,30,0.75,0.82,0.87,0.91,0.95,0.95,0.95,0.94,0.91,0.86,0.82,0.77,0.7]
[null,{"$f":"Sprache!B56","v":"orientation / inclinaison des collecteurs"},null,null,{"$f":"'WP1'!E50","v":"Azimut [°]:  "},null,{"$f":"'WP1'!G50","v":"Pente [°]:"},null,null,null,null,null,null,null,null,null,{"$f":"Sprache!B333","v":"exclu el. add."},null,null,null,null,20,0.75,0.8,0.84,0.87,0.89,0.9,0.9,0.89,0.87,0.84,0.8,0.76,0.7]
[null,{"$f":"Sprache!B57","v":"Apport net par m2 d'absorbeur"},null,null,{"$f":"IF(_SIA384,Sprache!B269,Sprache!B140)","v":"valeur proposée:"},{"$f":"'WP1'!F51","v":0},"kWh/m2a",null,null,null,null,{"$f":"Sprache!B284","v":"Entrées en bas"},null,{"$f":"Sprache!B274","v":"Non disponibles"},null,null,{"$f":"Sprache!B334","v":"y compris el. add."},null,null,null,null,10,0.74,0.76,0.79,0.8,0.82,0.82,0.82,0.82,0.8,0.79,0.77,0.75,0.71]
[null,{"$f":"IF(OR(MinSol,solarExtern),Sprache!B58,Sprache!B275)","v":"Spécifications du collecteur"},{"$f":"IF(OR(MinSol,solarExtern),\"\",\" ho = \")","v":" ho = "},null,{"$f":"IF(OR(MinSol,solarExtern),\"\",\"              a1 = \")","v":"              a1 = "},null,{"$f":"IF(OR(MinSol,solarExtern),Sprache!B130,\"           a2 = \")","v":"           a2 = "},null,null,null,{"$f":"IF(OR(H48=\"\",H48=0),0.00001,H48)","v":1.0000000000000001E-5},{"$f":"Sprache!B285","v":"Liste des PAC"},null,{"$f":"Sprache!B208","v":"Circulation d'ECS"},null,null,null,null,null,null,null,0,0.72,0.72,0.72,0.72,0.72,0.72,0.72,0.72,0.72,0.72,0.72,0.72,0.72]
[null,{"$f":"Sprache!B59","v":"Taux de couverture solaire pour l'ECS"},null,null,null,"e = ","%",{"$f":"'WP1'!H53","v":0},null,null,null,{"$f":"Sprache!B286","v":"Entrées dans \"Spez\""},null,{"$f":"Sprache!B209","v":"Câble chauffant"}]
[null,{"$f":"Sprache!B60","v":"Taux de couverture solaire pour le chauffage"},null,null,null,"e = ","%",{"$f":"'WP1'!H54","v":0},null,null,null,null,null,null,null,null,null,null,null,null,null,"Referenz:","45° / 45°:",0.91500000000000004]
[null,null,null,null,null,null,null,null,null,null,{"$f":"SUMIF('WP1'!X60:X125,TaMin,'WP1'!AB60:AB125)","v":0},null,null,"WW solar","Heizung solar"]
[null,{"$f":"Sprache!B32","v":"Résultats"},null,null,null,null,null,null,null,null,{"$f":"IF(Kategorie>1,(IF(Heizung,'WP1'!M32/28*(20-TaMin)-IF(Methode_384_3,H8*P18/1000,0),0)+IF(WW,Qww*H8/3.6/8760,0)),)","v":0},"Berechnung für Solaranlagen:",null,{"$f":"IF(OR(O53=2,O53=4,O53=6),TRUE,FALSE)","v":false},{"$f":"IF(OR(O53=3,O53=5,O53=7),TRUE,FALSE)","v":false}]
[null,{"$f":"'WP1'!B57","v":""},null,null,{"$f":"IF(AND(H8>0,H9>0),'WP1'!E57,\"\")","v":""},{"$f":"IF(AND(H8>0,H9>0),'WP1'!F57,\"\")","v":""},{"$f":"'WP1'!G57","v":""},{"$f":"IF(AND(H8<>\"\",H9<>\"\"),'WP1'!H57,\"\")","v":""},null,null,{"$f":"IF(OR(K52=0,K51=0),FALSE,IF(K52<=K51*1.01,FALSE,TRUE))","v":false},"Rechenwert",null,"Pulldowns:",{"$f":"K44","v":1},null,null,null,null,null,null,"Warmwasser",null,null,null,null,null,null,null,"Korrektur:",{"$f":"(INDEX(W57:AI66,AC35,Z35)+INDEX(W57:AI66,AC35,Z36))/2/X68","v":0.89729729729729724}]
[null,{"$f":"'WP1'!B58","v":""},null,null,{"$f":"'WP1'!E58","v":""},{"$f":"'WP1'!F58","v":""},{"$f":"'WP1'!G58","v":""},{"$f":"'WP1'!H58","v":0},null,null,null,{"$f":"IF(O53>1,H45,0)*WinkelKorr","v":0},"korr. Fläche Koll.",{"$f":"'WP1'!M58","v":"pas d'installation solaire"},null,null,null,null,null,null,null,null,null,null,null,null,null,"Azimut:"]
[null,{"$f":"Sprache!B38","v":"Pertes en mode chauffage (démarrage, accumulateur, etc.)"},null,null,null,{"$f":"'WP1'!F59","v":0},"Etah = ",{"$f":"1-F55","v":1},null,null,null,{"$f":"IF(H47>0,IF(solarExtern,H47,L60),L60)","v":{"$error":"#VALUE!"}},"Nettoertrag, kWh/m2",{"$f":"'WP1'!M59","v":""},null,null,null,null,null,null,null,null,"West",null,null,null,null,null,null,null,null,null,null,null,"Ost"]
[null,{"$f":"Sprache!B39","v":"Pertes en mode préparation d'ECS (démarrage, accumulateur, etc.)"},null,null,null,{"$f":"'WP1'!F60","v":0},"Etaw = ",{"$f":"1-F56","v":1},null,null,null,{"$f":"IF(OR(Azimut>90,Neigung>90,Azimut<-90,Neigung<-90),0,IF(MinSol,IF(OR(AND(H47>0,solarExtern),_SIA384),1,IF(wwSolar,AE53,IF(HeizungSolar,AE35,1))),1))","v":1},"Winkelkorr WW",{"$f":"'WP1'!M60","v":""},null,null,null,null,null,null,null,"Neigung:",-90,-75,-60,-45,-30,-15,0,15,30,45,60,75,90]
[null,{"$f":"Sprache!B40","v":"Durée de fonctionnement de la pompe à chaleur"},null,null,null,null,"h / a",{"$f":"IF(AND(H8>0,H9>0),'WP1'!H61,\"\")","v":""},null,null,"inkl. el.:",null,null,{"$f":"'WP1'!M61","v":"Chauffage solaire de l'ECS"},null,null,null,null,null,null,null,90,0.64,0.7,0.74,0.77,0.78,0.78,0.77,0.75,0.73,0.7,0.66,0.61,0.55000000000000004]
[null,{"$f":"Sprache!B41","v":"Part et COP annuel de la pompe à chaleur pour le chauffage"},null,null,{"$f":"'WP1'!E62","v":""},{"$f":"IF(AND(H8>0,H9>0),'WP1'!F62,\"\")","v":""},"JAZh =  ",{"$f":"IF(AND(H8>0,H9>0),jazh,\"\")","v":""},null,null,{"$f":"IF(H50<1,IF(bivalent,jazh,(1-H50)/(F58/jazh+F53)),999)","v":{"$error":"#VALUE!"}},{"$f":"IF(O53>1,H49,0)","v":0},"Deckung WW",{"$f":"'WP1'!M62","v":"Eau chaude sanitaire ECS + chauffage"},null,null,null,null,null,null,null,80,0.69,0.75,0.8,0.83,0.85,0.85,0.85,0.83,0.8,0.76,0.72,0.67,0.6]
[null,{"$f":"Sprache!B42","v":"Part et COP annuel de la pompe à chaleur pour l'ECS"},null,null,{"$f":"'WP1'!E63","v":""},{"$f":"IF(AND(H8<>\"\",H9<>\"\"),'WP1'!F63,\"\")","v":""},"JAZww =  ",{"$f":"IF(AND(H8<>\"\",H9<>\"\"),jazww,\"\")","v":""},null,null,{"$f":"IF(H49<1,(1-H49)/(F59/jazww+IF(F54<>\"\",F54,0)),999)","v":{"$error":"#VALUE!"}},{"$f":"IF(HeizungSolar,H50,0)","v":0},"Deckung Heizung",{"$f":"'WP1'!M63","v":"Chauffage solaire de l'ECS (calcul externe)"},null,null,null,null,null,null,null,70,0.73,0.8,0.85,0.89,0.91,0.92,0.91,0.9,0.87,0.83,0.78,0.71,0.65]
[null,{"$f":"'WP1'!B66","v":"COP annuel pour chauffage et ECS (COPa [ch+ECS])"},null,null,"exkl. el. Zusatz",null,{"$f":"'WP1'!G66","v":"-"},{"$f":"IF(AND(H8<>\"\",H9<>\"\"),IF(JAZel,K61,'WP1'!H66),\"\")","v":""},null,null,{"$f":"IF(E60=\"\",FALSE,IF(MATCH(E60,Q46:Q47,0)=2,TRUE,FALSE))","v":{"$error":"#N/A"}},{"$f":"IF(Qh+Qww=0,,IF(wwSolar,Q54,IF(HeizungSolar,R54,0)))","v":{"$error":"#VALUE!"}},"Solarertrag",{"$f":"'WP1'!M64","v":"Eau chaude sanitaire ECS + chauffage (calcul externe)"},null,null,null,null,null,null,null,60,0.76,0.83,0.88,0.93,0.95,0.95,0.95,0.95,0.92,0.87,0.82,0.75,0.69]
[null,null,null,null,null,null,null,null,null,null,{"$f":"IF(AND(WW=TRUE,K40=1),\"\",IF(AND(WW=FALSE,Heizung=FALSE),\"\",IF(Heizung=FALSE,K59,IF(WW=FALSE,K58,IF(OR(EBF=0,K28=FALSE,AND(WPArt=3,H32=\"\")),\"\",IF(AND(F58>0,F59>0),IF(bivalent,(wh/www*F58+F59)/(wh/www*F58/jazh+F59/jazww+IF(F54<>\"\",F54,0)),(wh/www*(1-H50)+1-H49)/(wh/www*(F58/jazh+IF(F53<>\"\",F53,0))+F59/jazww+IF(F54<>\"\",F54,0)))))))))","v":""},"Vorschlag Minergie:",null,"Berechnung nach MINERGIE",null,{"$f":"IF(OR(O53=4,O53=5),TRUE,FALSE)","v":false},null,null,null,null,null,50,0.79,0.85,0.9,0.95,0.96,0.97,0.97,0.96,0.95,0.9,0.85,0.79,0.72]
[null,null,null,null,null,null,null,null,null,null,null,{"$f":"IF(Qh+Qww=0,,IF(wwSolar,Q54,IF(HeizungSolar,R54,0)))","v":{"$error":"#VALUE!"}},"Solarertrag","Berechnung nach SIA 384/3",null,{"$f":"IF(OR(O53=2,O53=3),TRUE,FALSE)","v":false},null,null,null,null,null,40,0.81,0.86,0.91,0.95,0.96,0.99,0.99,0.97,0.95,0.92,0.87,0.81,0.75]
[null,{"$f":"Sprache!B43","v":"Facteur de pondération pour le chauffage: "},null,null,null,null,{"$f":"'WP1'!G64","v":"-"},{"$f":"wh","v":0},null,null,null,"kWh/m2a",null,"externe Berechnung:",null,{"$f":"IF(OR(O53=6,O53=7),TRUE,FALSE)","v":false},null,null,null,null,null,30,0.82,0.86,0.91,0.95,0.95,0.97,0.97,0.96,0.95,0.91,0.87,0.82,0.76]
[null,{"$f":"Sprache!B44","v":"Facteur de pondération pour l'ECS"},null,null,null,null,{"$f":"'WP1'!G65","v":"-"},{"$f":"www","v":0},null,null,null,null,null,null,null,null,null,null,null,null,null,20,0.82,0.85,0.89,0.91,0.93,0.94,0.94,0.93,0.92,0.89,0.86,0.82,0.78]
[null,null,null,null,null,null,null,null,null,null,null,null,null,null,null,null,null,null,null,null,null,10,0.82,0.84,0.85,0.87,0.87,0.89,0.89,0.88,0.87,0.85,0.84,0.83,0.8]
[null,"Klimastationen SIA 2028",null,null,"GH Jahr","mittl. Heizp.","Ta,min","HGT",null,null,null,null,null,null,null,null,null,null,null,null,null,0,0.83,0.83,0.83,0.83,0.83,0.83,0.83,0.83,0.83,0.83,0.83,0.83,0.83]
[null,"Station",null,null,"MJ/m2a","°C","°C"]
[null,null,null,null,null,null,null,null,null,null,null,null,null,null,null,null,null,null,null,null,null,"Referenz:","45° / 45°:",0.92500000000000004]
[null,"Adelboden",null,null,4186,2.8,-10,4186]
[null,"Altdorf",null,null,4422,4.4000000000000004,-6,2836]
[null,"Basel-Binningen",null,null,3940,4.3,-7,2733]
[null,"Bern-Liebefeld",null,null,4026,4.9000000000000004,-7,3353]
[null,"Buchs-Aarau",null,null,4178,4.2,-7,2917,null,null,null,"WP-Art","WP-Typ"]
[null,"Chur",null,null,3752,3.9,-7,2917,null,null,null,1]
[null,"Davos",null,null,4324,3.9,-13,5205,null,null,null,2,{"$f":"'WP1'!T134","v":"Pompe à chaleur air/eau une vitesse"}]
[null,"Disentis",null,null,4793,0.9,-10,3774,null,null,null,2,{"$f":"'WP1'!T135","v":"Pompe à chaleur air/eau 2 vitesses"}]
[null,"Engelberg",null,null,4496,2.2000000000000002,-11,3852,null,null,null,2,{"$f":"'WP1'!T136","v":"Pompe à chaleur air/eau Plusieurs vitesses"}]
[null,"Genève-Cointrin",null,null,3998,1.8,-4,2739,null,null,null,2,{"$f":"'WP1'!T137","v":"Pompe à chaleur air/eau vitesse variable"}]
[null,"Glarus",null,null,4453,4.9000000000000004,-8,3410,null,null,null,3,{"$f":"'WP1'!T138","v":"Pompe à chaleur sol/eau une vitesse"}]
[null,"Grosser St. Bernhard",null,null,3809,3.9,-15,7473,null,null,null,3,{"$f":"'WP1'!T139","v":"Pompe à chaleur sol/eau 2 vitesses"}]
[null,"Güttingen",null,null,4868,-0.5,-7,3316,null,null,null,3,{"$f":"'WP1'!T140","v":"Pompe à chaleur sol/eau Plusieurs vitesses"}]
[null,"La Chaux-de-Fonds",null,null,3981,4.4000000000000004,-10,3786,null,null,null,3,{"$f":"'WP1'!T141","v":"Pompe à chaleur sol/eau vitesse variable"}]
[null,"Locarno-Monti",null,null,4101,3.8,-1,2147,null,null,null,4,{"$f":"'WP1'!T142","v":"Pompe à chaleur eau/eau une vitesse"}]
[null,"Lugano",null,null,4163,2.1,-1,2144,null,null,null,4,{"$f":"'WP1'!T143","v":"Pompe à chaleur eau/eau 2 vitesses"}]
[null,"Luzern",null,null,4158,2.7,-6,2917,null,null,null,4,{"$f":"'WP1'!T144","v":"Pompe à chaleur eau/eau Plusieurs vitesses"}]
[null,"Magadino",null,null,4513,5.8,-3,2377,null,null,null,4,{"$f":"'WP1'!T145","v":"Pompe à chaleur eau/eau vitesse variable"}]
[null,"Montana",null,null,4429,5.8,-10,4274,null,null,null,5,{"$f":"'WP1'!T146","v":"PAC avec collecteur terrestre une vitesse"}]
[null,"Neuchâtel",null,null,3767,3.9,-5,2799,null,null,null,5,{"$f":"'WP1'!T147","v":"PAC avec collecteur terrestre 2 vitesses"}]
[null,"Payerne",null,null,4321,4.3,-7,2968,null,null,null,5,{"$f":"'WP1'!T148","v":"PAC avec collecteur terrestre Plusieurs vitesses"}]
[null,"Robbia",null,null,5040,2.4,-8,3740,null,null,null,5,{"$f":"'WP1'!T149","v":"PAC avec collecteur terrestre vitesse variable"}]
[null,"Samedan",null,null,4018,4.5,-18,6121,null,null,null,6,{"$f":"'WP1'!T150","v":"PAC sur air extrait sur installation de ventilation sans récupération de chaleur"}]
[null,"San Bernardino",null,null,4223,3.6,-11,5132,null,null,null,6,{"$f":"'WP1'!T151","v":""}]
[null,"St. Gallen",null,null,4017,2.9,-9,3483,null,null,null,6,{"$f":"'WP1'!T152","v":""}]
[null,"Schaffhausen",null,null,4468,5.3,-8,3310,null,null,null,6,{"$f":"'WP1'!T153","v":""}]
[null,"Scuol",null,null,4317,2.4,-12,4158]
[null,"Sion",null,null,4038,3.5,-6,2606]
[null,"Vaduz",null,null,4988,-0.2,-8,2851]
[null,"Wynau",null,null,4405,1.2,-7,3371]
[null,"Zermatt",null,null,3894,3.6,-11,5017]
[null,"Zürich SMA",null,null,4010,4.4000000000000004,-8,2959]

{"sheet":"JAZcalc","index":4,"n_rows":723,"n_cols":84,"rows_kept":723,"cut":false,"hidden":true,"merged":[[1,22,1,23],[7,7,7,8],[6,6,6,8],[5,2,5,4],[6,2,6,4],[5,6,5,8],[0,1,0,4],[3,2,3,4],[3,6,3,8],[4,2,4,4],[4,6,4,8],[1,3,1,4],[2,7,2,8],[64,1,64,8],[42,6,42,8],[46,6,46,8],[8,7,8,8],[25,6,25,8],[26,6,26,8],[19,15,19,16],[7,3,7,4],[23,6,23,8],[24,6,24,8],[20,3,20,4],[20,7,20,8],[21,7,21,8],[22,6,22,8],[9,7,9,8]]}
[null,"\nWärmepumpen - Berechnungsblatt\n",null,null,null,null,null,null,null,"Blatt nicht aktiv"]
[null,"JAZcalc",{"$f":"\"Version \"&Sprache!E2","v":"Version 8.3.33"},{"$f":"IF(TODAY()>DATE(2013,12,31),\"Abgelaufen!\",\"\")","v":"Abgelaufen!"},null,null,null,null,null,null,null,null,null,"Warmwasserbedarf nach OIB Richtlinie 6 ",null,null,null,null,"Warnmeldungen Sonden",null,{"$f":"IF(OR(T7,T13),TRUE,FALSE)","v":false},"Bundesland:","max. Sondenbelastung:",null,null,"WP Typ:",null,"Begleitheizband",null,null,"Speicher-Verluste",{"$f":"L25","v":1},"Speicherverluste","Überladung",null,"Betrieb","bivalent?","el.-Zusatz",null,"Speicherladung",{"$f":"L27","v":1},null,"WW-Zusatzheiz",null,null,"WW solar","Heizung solar",null,null,"Heizwärmebedarf und TVL / TRL"]
[null,"Projekt:",null,null,null,"Installateur / Planer:",null,{"$f":"\"JAZcalc \"&Sprache!E2&\" / \"&TEXT(WP_Daten!E2,\"tt.MMM.jjjj\")","v":"JAZcalc 8.3.33 / 27.Sep.2024"},null,null,null,null,null,"Kategorie:",{"$f":"IF(H10=\"\",1,MATCH(H10,N5:N17,0))","v":1},null,null,null,"Erdsonden-WP",{"$f":"WPArt=3","v":false},null,null,"W/m","kWh/m",null,null,null,null,null,null," ",true,{"$f":"'WP1'!AJ133","v":0},false,null," ",false,false,null," ",null,null,null,null,null,{"$f":"IF(OR(AU4=2,AU4=4,AU4=6),TRUE,FALSE)","v":false},{"$f":"IF(OR(AU4=3,AU4=5,AU4=7),TRUE,FALSE)","v":false},null,null,"Spezifischer Heizwärmebedarf bis [°C]",null,null,30,45,70,90,999]
[null,"Name (Bauherr/GU):",null,null,null,"Name:",null,null,null,null,null,null,null,"Grenzwerte","Qww [MJ/m2]","wwwb [Wh/m2d]",null,null,"Leistung:",null,null,"Vorarlberg",40,1000,null,"Angaben unten",null,{"$f":"'WP1'!R50","v":"Non disponibles"},null,null,{"$f":"IF('WP1'!AH134<>\"\",'WP1'!AH134,\"\")","v":""},false,{"$f":"'WP1'!AJ134","v":0},false,null,{"$f":"'WP1'!AD134","v":"fonctionnement chauffage monovalent"},false,false,null,{"$f":"'WP1'!BG69","v":""},null,null,{"$f":"'WP1'!BG78","v":""},null,null,"Pulldowns:",{"$f":"L47","v":1},null,null,"Vorlauftemperatur TVL [°C]",null,null,32,35,40,50,60]
[null,"Strasse:",null,null,null,"Strasse:",null,null,null,null,null,null,null," "," ",null,null,null,"Sondenbelastung",{"$f":"IF(AND(I35>0,T3),'WP1'!W52/'WP1'!W50*('WP1'!W50-1)*1000/MAX(F35,1)/I35,)","v":0},"W/m","Burgenland",40,1000,null,"WP-Liste",null,{"$f":"'WP1'!R51","v":"Circulation d'ECS"},null,null,{"$f":"IF('WP1'!AH135<>\"\",'WP1'!AH135,\"\")","v":""},true,{"$f":"'WP1'!AJ135","v":0.02},false,null,{"$f":"'WP1'!AD135","v":"avec chauffage électrique de secours "},false,true,null,{"$f":"'WP1'!BG70","v":""},null,null,{"$f":"'WP1'!BG79","v":""},null,null,{"$f":"'WP1'!M58","v":"pas d'installation solaire"},null,null,null,"Rücklauftemperatur TRL [°C]",null,null,27,30,35,40,45]
[null,"Ort:",null,null,null,"Ort:",null,null,null,null,null,null,null,"Mehrfamilienhäuser",{"$f":"P6*365/1000*3.6","v":45.99},35,null,null,"Sondenbelastung",{"$f":"IF(T3,\"(Sondenbelastung = \"&ROUND(T5,1)&\" W/m)\")","v":false},null,"Kärnten",40,1000,null,"Eingabe in \"Spez\"",null,{"$f":"'WP1'!R52","v":"Câble chauffant"},null,null,{"$f":"IF(OR(L23=1,L23=18),\"\",\"Hygienespeicher WP optimiert\")","v":""},{"$f":"IF(AC8=4,TRUE,FALSE)","v":false},{"$f":"'WP1'!AJ136","v":0.04},false,null,{"$f":"'WP1'!AD136","v":"Installation bivalente fossile"},true,false,null,{"$f":"'WP1'!BG71","v":""},null,null,{"$f":"'WP1'!BG80","v":""}]
[null,"Tel :",null,null,null,"Tel :",null,null,null,null,null,null,null,"Einfamilienhäuser",{"$f":"P7*365/1000*3.6","v":45.99},35,null,null,"Warnhinweis",{"$f":"T5>W17","v":false},null,"Niederösterreich",40,1000,null,null,null,null,null,null,{"$f":"IF('WP1'!AH137<>\"\",'WP1'!AH137,\"\")","v":""},{"$f":"IF(AC8=4,TRUE,FALSE)","v":false},{"$f":"'WP1'!AJ137","v":0.06},true,null,{"$f":"'WP1'!AD137","v":"Installation bivalente fossile alternative"},null,null,null,null,null,null,{"$f":"'WP1'!BG81","v":""}]
[null,{"$f":"Sprache!B10","v":"Données concernant le bâtiment"},"Energieausweis Nr: ",null,null,{"$f":"IF(AND(H8=\"\"),Sprache!B24,\"\")","v":"choisir ->"},"Bundesland: ",null,null,null,null,null,null,"Bürogebäude",{"$f":"P8*365/1000*3.6","v":22.995000000000001},17.5,null,null,null,null,null,"Oberösterreich",40,1000,null,"Handauswahl:",null,null,null,null,{"$f":"IF('WP1'!AH138<>\"\",'WP1'!AH138,\"\")","v":""},{"$f":"IF(AC8=4,TRUE,FALSE)","v":false},{"$f":"'WP1'!AJ138","v":0.05},false,null,null,null,null,null,null,null,null,{"$f":"'WP1'!BG82","v":""},null,null,{"$f":"'WP1'!M61","v":"Chauffage solaire de l'ECS"}]
[null,"Klimastation",null,null,null,null,{"$f":"IF(AND(H9=\"\"),Sprache!B24,\"\")","v":"choisir ->"},null,null,null,null,{"$f":"IF(H9=\"\",1,MATCH(H9,N22:N722,0))","v":1},null,"Schulen",{"$f":"P9*365/1000*3.6","v":22.995000000000001},17.5,null,null,"Energie:",null,null,"Salzburg",40,1000,null,"Auswahl:",{"$f":"W5","v":40},null,null,null,{"$f":"IF('WP1'!AH139<>\"\",'WP1'!AH139,\"\")","v":""},null,{"$f":"'WP1'!AJ139","v":0},null,null,{"$f":"AA5","v":0},{"$f":"INDEX(AK3:AK6,AJ9,1)","v":{"$error":"#VALUE!"}},{"$f":"INDEX(AL3:AL6,AJ9,1)","v":{"$error":"#VALUE!"}},null,{"$f":"INDEX(AN3:AN8,AO2,1)","v":" "},null,null,{"$f":"L43","v":1},null,null,{"$f":"'WP1'!M62","v":"Eau chaude sanitaire ECS + chauffage"}]
[null,"Gebäudekategorie",null,null,null,null,{"$f":"IF(AND(H10=\"\"),Sprache!B24,\"\")","v":"choisir ->"},null,null,null,null,null,null,"Verkauf",{"$f":"25","v":25},null,null,null,"JAZ",{"$f":"IF((wh+www)=0,0,IF(AND(jazh=0,jazww=0),0,1/(IF(jazh>0,wh/jazh,0)+IF(jazww>0,www/jazww,0))))","v":0},null,"Steiermark",40,1000,null,"Einsatz:",{"$f":"IF(AA9=1,IF(AA8>0,AA8,AA9),AA9)","v":40},null,null,null,{"$f":"IF('WP1'!AH140<>\"\",'WP1'!AH140,\"\")","v":""},null,{"$f":"'WP1'!AJ140","v":0},null,null,null,null,null,null,null,null,null,{"$f":"INDEX(AQ3:AQ8,AQ9,1)","v":0},null,null,{"$f":"'WP1'!M63","v":"Chauffage solaire de l'ECS (calcul externe)"}]
[null,"Brutto Grundfläche BGF (gemäß Energieausweis)",null,null,null,{"$f":"IF(OR(EBF=\"\",EBF=0),\"ausfüllen ->\",\"\")","v":"ausfüllen ->"},"AE","m2",null,null,null,null,null,"Restaurant",{"$f":"200","v":200},null,null,null,"Sondenbelastung",{"$f":"IF(T3,IF(AND(I35>0,T10<>1,T10<>\"\",T3),Grafik!C13*(T10-1)/MAX(F35,1)/I35,),)","v":0},"kWh/m","Tirol",40,1000,null," ",null,null,null,null,{"$f":"IF('WP1'!AH141<>\"\",'WP1'!AH141,\"\")","v":""},null,{"$f":"'WP1'!AJ141","v":0},null,null,null,null,null,null,null,null,null,{"$f":"IF(AQ9>2,TRUE,FALSE)","v":false},null,null,{"$f":"'WP1'!M64","v":"Eau chaude sanitaire ECS + chauffage (calcul externe)"}]
[null,"Heizwärmebedarf (gemäß Energieausweis)",null,null,null,{"$f":"IF(I12=\"\",\"ausfüllen ->\",\"\")","v":"ausfüllen ->"},"Qh,eff","kWh/m2a",null,null,null,null,null,"Versammlungslokale",{"$f":"50","v":50},null,"Ja/Nein",null,"Sondenbelastung",{"$f":"IF(T3,\"(Sondenbelastung = \"&ROUND(T11,1)&\" kWh/m)\")","v":false},null,"Wien",40,1000,null,{"$f":"'WP1'!BG60","v":"Chauffage"},null,null,null,null,{"$f":"IF('WP1'!AH142<>\"\",'WP1'!AH142,\"\")","v":""},null,{"$f":"'WP1'!AJ142","v":0},null,null,null,null,null,null,null,null,null,null,null,null,"Berechnung nach MINERGIE",null,{"$f":"IF(OR(AU4=4,AU4=5),TRUE,FALSE)","v":false}]
[null,"Transmissionswärmeverluste (gemäß Energieausweis) ",null,null,null,{"$f":"IF(OR(QT=\"\",QT=0),\"\",IF(I13,IF(OR(I13<=0.5*$I$12,Berechnungen!E33),Sprache!B131,\"\"),\"\"))","v":""},"QT","kWh/m2a",null,null,null,null,null,"Krankenäuser & Pflegeheime",{"$f":"P13*365/1000*3.6","v":91.98},70,"ja",null,"Warnhinweis",{"$f":"T11>X17","v":false},null," ",null,null,null,{"$f":"'WP1'!BG61","v":"ECS eau chaude sanitaire"},null,null,null,null,{"$f":"IF('WP1'!AH143<>\"\",'WP1'!AH143,\"\")","v":""},null,{"$f":"'WP1'!AJ143","v":0},null,null,null,null,null,null,null,null,null,null,null,null,"Berechnung nach SIA 384/3",null,{"$f":"IF(OR(AU4=2,AU4=3),TRUE,FALSE)","v":false}]
[null,"Lüftungswärmeverluste (gemäß Energieausweis) ",null,null,null,{"$f":"IF(OR(QV=\"\",QV=0),\"\",IF(I14,IF(OR((I14+QT)<$I$12,Berechnungen!E33),Sprache!B131,\"\"),\"\"))","v":""},"QV","kWh/m2a",null,null,null,null,null,"Industrie",{"$f":"25","v":25},null,"nein",null,null,{"$f":"IF(T3,\"(Sondenbelastung = \"&ROUND(T5,1)&\" W/m bzw. \"&ROUND(T11,1)&\" kWh/m)         \")","v":false},null," ",null,null,null,{"$f":"'WP1'!BG62","v":"Chauffage+ECS"},null,null,null,null,{"$f":"IF('WP1'!AH144<>\"\",'WP1'!AH144,\"\")","v":""},null,{"$f":"'WP1'!AJ144","v":0},null,null,null,null,null,null,null,null,null,null,null,null,"externe Berechnung:",null,{"$f":"IF(OR(AU4=6,AU4=7),TRUE,FALSE)","v":false}]
[null,"Heizung: Zusätzliche Verteilverluste",null,null,null,null,null,"%",null,null,null,null,null,"Lager",{"$f":"5","v":5},null,"Ja",null,null,null,null," ",null,null,null,{"$f":"'WP1'!BG63","v":"Chauffage + production d'ECS décentralisée par PAC"},null,null,null,null,{"$f":"IF('WP1'!AH145<>\"\",'WP1'!AH145,\"\")","v":""},null,{"$f":"'WP1'!AJ145","v":0}]
[null,"Sperrzeiten für Wärmepumpe",null,null,null,null,null,"h/d",null,null,null,null,null,"Sportbau",{"$f":"300","v":300},null,"nein","JAZcalc",{"$f":"IF(U17=J1,TRUE,FALSE)","v":false},null,null," ",null,null,null,null,null,null,null,null,{"$f":"INDEX(AE3:AE15,AF2,1)","v":" "},{"$f":"INDEX(AF3:AF15,AF2,1)","v":true},{"$f":"INDEX(AG3:AG15,AF2,1)","v":0},{"$f":"INDEX(AH3:AH15,AF2,1)","v":false}]
[null,{"$f":"\"Heizleistungsbedarf ohne Warmwasser bei \"&IF(TaMinVorarlberg=0,\"-8\",TaMinVorarlberg)&\"°C\"","v":"Heizleistungsbedarf ohne Warmwasser bei -8°C"},null,null,null,{"$f":"IF(L9=1,\"\",'WP1'!E14)","v":""},{"$f":"IF(L9=1,\"\",'WP1'!F14/(20-TaMin)*(20-TaMinVorarlberg))","v":""},"kW",null,null,null,{"$f":"I17*(20-TaMin)/(20-TaMinVorarlberg)","v":{"$error":"#VALUE!"}},null,"Hallenbad",{"$f":"300","v":300},null,"JA","Bundesland",{"$f":"V17","v":1},true,"Blatt aktiv",{"$f":"IF(H8=\"\",1,MATCH(H8,V4:V16,0))","v":1},{"$f":"INDEX(W4:W12,$V$17,1)","v":40},{"$f":"INDEX(X4:X12,$V$17,1)","v":1000}]
[null,"Warmwasserbedarf ",null,null,null,null,"Qww","kWh/m2a",{"$f":"IF(H10<>\"\",IF(U31<>\"\",U31,IF('WP1'!J21=1,INDEX(O5:O17,Kategorie,1)/3.6*(1+I19),IF(O3>1,IF(WW,IF(AND(EBF>0,O3>1),IF(I11=0,\"\",O18/3.6),\"\"),0),0))),\"\")","v":""},null,null,null,null,{"$f":"INDEX(N5:N17,O3,1)","v":" "},{"$f":"INDEX(O5:O17,$O$3,1)*(1+EtaWW)","v":{"$error":"#VALUE!"}},{"$f":"INDEX(P5:P17,$O$3,1)","v":0},"NEIN","bivalent:",{"$f":"'WP1'!Z89","v":0},false,"Blatt nicht aktiv"]
[null,"Warmwasser: Zusätzliche Speicher- und Verteilverluste",null,null,null,null,null,"%"]
[null,{"$f":"IF(AND(Qh>0,L24<>3),IF(AND(bivalent=FALSE,elZusatz=FALSE,G56>0.01),Sprache!B146,\"\"),\"\")","v":""},null,null,null,null,null,null,{"$f":"'WP1'!H17","v":""},null,null,null,null,"Klimastationen","Höhe","Temperatur  °C",null,"HGT nur HT","Auslegung",null,null,null,null,"Klimastationen","Höhe","Temperatur  °C","HGT nur HT","Auslegung",null,null,"Klimastationen","Höhe","Temperatur  °C","HGT nur HT","Auslegung",null,null,"Klimastationen","Höhe","Temperatur  °C","HGT nur HT","Auslegung",null,null,"Klimastationen","Höhe","Temperatur  °C","HGT nur HT","Auslegung",null,null,"Klimastationen","Höhe","Temperatur  °C","HGT nur HT","Auslegung",null,null,"Klimastationen","Höhe","Temperatur  °C","HGT nur HT","Auslegung",null,null,"Klimastationen","Höhe","Temperatur  °C","HGT nur HT","Auslegung",null,null,"Klimastationen","Höhe","Temperatur  °C","HGT nur HT","Auslegung",null,null,"Klimastationen","Höhe","Temperatur  °C","HGT nur HT","Auslegung"]
[null,{"$f":"Sprache!B22","v":"Installation de pompe à chaleur"},null,null,null,null,{"$f":"IF(SpezWP,IF(Spez!E5<>\"\",Spez!E5,\"\"),\"Hersteller:  \")","v":"Hersteller:  "},null,null,null,null,{"$f":"IF(OR(F21=\"\",F21=Z4,F21=Z6),FALSE,TRUE)","v":false},null,{"$f":"L9","v":1},"m.ü.M.","mittl. Heizp.","Auslegung CH","20/12",{"$f":"INDEX(AB$21:CL$21,1,(Bundesland-1)*8+1)","v":"Vorarlberg"},null,null,null,null,1,"m.ü.M.","mittl. Heizp.","20/12",{"$f":"V4","v":"Vorarlberg"},null,null,null,"m.ü.M.","mittl. Heizp.","20/12",{"$f":"V5","v":"Burgenland"},null,null,null,"m.ü.M.","mittl. Heizp.","20/12",{"$f":"V6","v":"Kärnten"},null,null,null,"m.ü.M.","mittl. Heizp.","20/12",{"$f":"V7","v":"Niederösterreich"},null,null,null,"m.ü.M.","mittl. Heizp.","20/12",{"$f":"V8","v":"Oberösterreich"},null,null,null,"m.ü.M.","mittl. Heizp.","20/12",{"$f":"V9","v":"Salzburg"},null,null,null,"m.ü.M.","mittl. Heizp.","20/12",{"$f":"V10","v":"Steiermark"},null,null,null,"m.ü.M.","mittl. Heizp.","20/12",{"$f":"V11","v":"Tirol"},null,null,null,"m.ü.M.","mittl. Heizp.","20/12",{"$f":"V12","v":"Wien"}]
[null,{"$f":"Sprache!B23","v":"Nom et type de PAC"},null,null,null,null,{"$f":"IF(SpezWP,IF(Spez!E5<>\"\",Spez!E5,\"\"),\"Typ:  \")","v":"Typ:  "},null,null,null,null,{"$f":"IF(OR(H21=WP_Daten!D10,H21=\"\"),FALSE,TRUE)","v":false}]
[null,{"$f":"Sprache!B26","v":"Source de chaleur:"},null,null,null,{"$f":"IF(WPArt=1,Sprache!B24,\"\")","v":"choisir ->"},null,null,null,null,null,{"$f":"IF(G23=\"\",1,MATCH(G23,C69:C89,0))","v":1},1,{"$f":"INDEX(X$23:CG$723,$M23,(Bundesland-1)*7+1)","v":"Alberschwende"},{"$f":"INDEX(Y$23:CH$723,$M23,(Bundesland-1)*7+1)","v":721},{"$f":"INDEX(Z$23:CI$723,$M23,(Bundesland-1)*7+1)","v":2.82},{"$f":"MIN(S23+Zuschlag_A,-8)","v":-15},{"$f":"INDEX(AA$23:CK$723,$M23,(Bundesland-1)*7+1)","v":4380},{"$f":"INDEX(AB$23:CL$723,$M23,(Bundesland-1)*7+1)","v":-15},null,null,null,1,"Alberschwende",721,2.82,4380,-15,null,1,"Andau",120,3.46,3341,-14,null,1,"Afritz",715,2.86,4131,-15,null,1,"Absdorf",180,3.45,3575,-13,null,1,"Ach",380,3.11,3850,-15,null,1,"Abtenau",715,2.15,4462,-16,null,1,"Admont",641,2.0699999999999998,4591,-17,null,1,"Abfaltersbach",982,1.99,4808,-17,null,1,"Wien-Alsergrund",164,3.76,3297,-13]
[null,{"$f":"Sprache!B27","v":"Utilisation (chauffage ou eau chaude sanitaire)"},null,null,null,{"$f":"IF(#REF!=1,Sprache!B24,\"\")","v":{"$error":"#REF!"}},null,null,null,null,null,{"$f":"IF(G24=\"\",1,MATCH(G24,Z11:Z15,0))","v":1},2,"Altach",412,3.83,{"$f":"MIN(S24+Zuschlag_A,-8)","v":-13},3542,-13,null,null,null,2,"Altach",412,3.83,3542,-13,null,2,"Apetlon",120,3.32,3252,-14,null,2,"Althofen",665,2.4900000000000002,4132,-15,null,2,"Achau",170,3.6,3394,-13,null,2,"Adlwang",420,3.13,3847,-14,null,2,"Adnet",481,3.49,3880,-15,null,2,"Aflenz Kurort",763,2.54,4556,-15,null,2,"Achenkirch",916,2.4,4841,-17,null,2,"Wien-Breitenlee",160,3.6,3379,-13]
[null,{"$f":"IF(Heizung=FALSE,\"\",Sprache!B29)","v":""},null,null,null,{"$f":"IF(AND(HeizungSolar,#REF!=3),Sprache!B25,IF(AND(#REF!=1,Heizung),Sprache!B24,\"\"))","v":{"$error":"#REF!"}},null,null,null,null,null,{"$f":"IF(G25=\"\",1,MATCH(G25,AE3:AE15,0))","v":1},3,"Andelsbuch",613,3.12,-15,4136,-15,null,null,null,3,"Andelsbuch",613,3.12,4136,-15,null,3,"Bad Tatzmannsdorf",338,3.07,3775,-13,null,3,"Arnoldstein",575,2.3199999999999998,4102,-16,null,3,"Aggsbach Dorf",220,3.5,3548,-13,null,3,"Aigen im Mühlkreis",596,2.68,4157,-14,null,3,"Aigen-Voglhub",521,3.26,3950,-14,null,3,"Aich (im Ennstal)",700,2.72,4388,-15,null,3,"Ainet",740,2.2200000000000002,4302,-16,null,3,"Wien-Brigittenau",170,3.78,3308,-13]
[null,{"$f":"Sprache!B28","v":"Mode de fonctionnement de la PAC"},null,null,null,{"$f":"IF(#REF!=1,Sprache!B24,\"\")","v":{"$error":"#REF!"}},null,null,null,null,null,{"$f":"IF(G26=\"\",1,IF(MATCH(G26,AJ3:AJ7,0)=5,4,MATCH(G26,AJ3:AJ7,0)))","v":1},4,"Au (Bregenzerwald)",810,2.34,-19,4734,-19,null,null,null,4,"Au (Bregenzerwald)",810,2.34,4734,-19,null,4,"Bernstein",617,2.91,3879,-13,null,4,"Arriach",895,2.87,4352,-15,null,4,"Aggsbach Markt",215,3.56,3535,-13,null,4,"Aistersheim",437,3.19,3782,-15,null,4,"Alm",800,2.35,4447,-17,null,4,"Aigen im Ennstal",680,2.2599999999999998,4505,-16,null,4,"Aldrans",759,3.05,4135,-15,null,4,"Wien-Döbling",200,3.71,3355,-13]
[null,{"$f":"IF(elZusatz,Sprache!B30,\"\")","v":""},null,null,null,{"$f":"IF(AND(elZusatz,#REF!=1),Sprache!B24,\"\")","v":{"$error":"#REF!"}},null,null,null,null,null,{"$f":"IF(G27=\"\",1,MATCH(G27,AN3:AN6,0))","v":1},5,"Bezau",653,2.93,-17,4267,-17,null,null,null,5,"Bezau",653,2.93,4267,-17,null,5,"Breitenbrunn",145,3.49,3385,-13,null,5,"Außerfragant",721,2.91,4171,-15,null,5,"Aigen (Waldviertel)",445,2.64,4132,-16,null,5,"Alberndorf in der Riedmark",570,2.87,4077,-14,null,5,"Altenmarkt im Pongau",843,1.92,4792,-17,null,5,"Allerheiligen bei Wildon",400,3.12,3596,-14,null,5,"Alpach",975,2.33,4823,-17,null,5,"Wien-Donaustadt",160,3.67,3348,-13]
[null,{"$f":"Sprache!B69","v":"Température de la source (entrée PAC)"},null,"°C",-15,-7,2,7,{"$f":"IF(WPArt=2,20,IF(WPArt=3,0,IF(WPArt=4,10,IF(WPArt=5,0,IF(WPArt=6,20,20)))))","v":20},null,null,{"$f":"IF(G26=\"\",1,MATCH(G26,AJ3:AJ7,0))","v":1},6,"Bizau",681,2.77,-17,4359,-17,null,null,null,6,"Bizau",681,2.77,4359,-17,null,6,"Deutsch Jahrndorf",133,3.42,3382,-14,null,6,"Bad Bleiberg",892,2.06,4610,-17,null,6,"Albrechtsberg an der Großen Krems",690,2.2000000000000002,4735,-17,null,6,"Alkoven",268,3.06,3675,-14,null,6,"Anif",434,3.42,3796,-15,null,6,"Allerheiligen im Mürztal",552,2.93,4080,-14,null,6,"Arzl im Pitztal",883,2.5,4392,-16,null,6,"Wien-Eßling",157,3.55,3372,-14]
[null,{"$f":"Sprache!B185&IF(SpezWP,Spez!C10,35)&\"°C  (Qh / COP):\"","v":"Valeurs de calcul pour Tdép35°C  (Qh / COP):"},null,"°C",{"$f":"IF(WPArt=2,IF(SpezWP,FIXED(WP_BIN!AD81,1)&\"kW / \"&FIXED(WP_BIN!AD82,1),FIXED(WP_Daten!G5,1)&\"kW / \"&FIXED(WP_Daten!H5,1)),\"\")","v":""},{"$f":"IF(WPArt=2,IF(SpezWP,FIXED(WP_BIN!AL81,1)&\"kW / \"&FIXED(WP_BIN!AL82,1),FIXED(WP_Daten!I5,1)&\"kW / \"&FIXED(WP_Daten!J5,1)),\"\")","v":""},{"$f":"IF(WPArt=2,IF(SpezWP,FIXED(WP_BIN!AU81,1)&\"kW / \"&FIXED(WP_BIN!AU82,1),FIXED(WP_Daten!K5,1)&\"kW / \"&FIXED(WP_Daten!L5,1)),\"\")","v":""},{"$f":"IF(WPArt=2,IF(SpezWP,FIXED(WP_BIN!AZ81,1)&\"kW / \"&FIXED(WP_BIN!AZ82,1),FIXED(WP_Daten!M5,1)&\"kW / \"&FIXED(WP_Daten!N5,1)),\"\")","v":""},{"$f":"'WP1'!H26","v":"0.0kW / 0.0"},null,null,{"$f":"IF(AND(WPArt=2,SpezWP=FALSE,WP_Daten!K5>0,WP_Daten!L5>0),TRUE,FALSE)","v":false},7,"Bludenz",570,3.29,-15,3860,-15,null,null,null,7,"Bludenz",570,3.29,3860,-15,null,7,"Deutsch Kaltenbrunn",262,3.14,3574,-13,null,7,"Bad Kleinkirchheim",1073,2.71,4720,-16,null,7,"Alland",325,3.2,3780,-14,null,7,"Allhaming",342,3.17,3737,-14,null,7,"Annaberg im Lammertal",777,2.0299999999999998,4600,-15,null,7,"Alpl",1062,2.5299999999999998,4629,-16,null,7,"Aschau (Zillertal)",567,2.5,4147,-15,null,7,"Wien-Favoriten",212,3.51,3463,-13]
[null,{"$f":"Sprache!B197&\" 35°C\"","v":"Puissance de chauffe pour Tdép 35°C"},null,"kW",null,null,null,null,null,null,null,{"$f":"IF(AND(WPArt=2,SpezWP=TRUE,WP_BIN!AU81>0,WP_BIN!AU82>0),TRUE,FALSE)","v":false},8,"Brand",1020,2.52,-17,4773,-17,null,null,null,8,"Brand",1020,2.52,4773,-17,null,8,"Deutsch Schützen",227,3.35,3480,-13,null,8,"Bad Sankt Leonhard im Lavanttal",714,2.92,4184,-14,null,8,"Alland Heilstätte",420,2.95,4091,-15,null,8,"Altenberg bei Linz",590,2.82,4107,-14,null,8,"Anthering",422,3.25,3786,-15,null,8,"Altaussee",725,2.61,4416,-15,null,8,"Assling",1100,2.34,4838,-16,null,8,"Wien-Floridsdorf",164,3.74,3300,-13]
[null,{"$f":"Sprache!B198&\" 35°C\"","v":"COP à la température de départ 35°C"},null,"-",null,null,null,null,null,null,null,{"$f":"IF(OR(L29,L30,WPArt<>2),TRUE,FALSE)","v":true},9,"Braz",708,2.88,-16,4211,-16,null,null,null,9,"Braz",708,2.88,4211,-16,null,9,"Deutschkreutz",185,3.54,3407,-13,null,9,"Baldramsdorf",584,2.81,3989,-14,null,9,"Allentsteig",556,2.44,4408,-17,null,9,"Altenfelden",599,2.64,4202,-15,null,9,"Bad Hofgastein",885,2.46,4595,-16,null,9,"Altenmarkt bei Sankt Gallen",461,3.03,4073,-15,null,9,"Auffach",869,2.1,4779,-18,null,9,"Wien-Hadersdorf",230,3.44,3611,-13]
[null,{"$f":"Sprache!B197&\" 55°C\"","v":"Puissance de chauffe pour Tdép 55°C"},null,"kW",null,null,null,null,null,null,null,null,10,"Bregenz",400,4.16,-11,3470,-11,null,null,null,10,"Bregenz",400,4.16,3470,-11,null,10,"Dobersdorf",240,3.15,3556,-14,null,10,"Berg (im Drautal)",680,2.27,4256,-16,null,10,"Altenburg",387,2.7,4101,-15,null,10,"Altenhof am Hausruck",532,3.13,3881,-15,null,10,"Badgastein",1002,2.59,4666,-15,null,10,"Anger",479,3.11,3800,-14,null,10,"Außervillgraten",1286,1.92,5334,-17,null,10,"Wien-Hernals",200,3.63,3421,-13]
[null,{"$f":"Sprache!B198&\" 55°C\"","v":"COP à la température de départ 55°C"},null,"-",null,null,null,null,null,null,null,null,11,"Bregenz-Rieden",410,4.09,-12,3517,-12,null,null,null,11,"Bregenz-Rieden",410,4.09,3517,-12,null,11,"Donnerskirchen",160,3.54,3358,-13,null,11,"Birnbaum",960,2.86,4405,-14,null,11,"Altenmarkt-Thenneberg",409,2.93,4079,-15,null,11,"Altheim",363,3.15,3807,-15,null,11,"Bergheim",439,3.21,3811,-15,null,11,"Ardning",670,2.02,4639,-17,null,11,"Axams",878,2.78,4477,-15,null,11,"Wien-Hietzing",190,3.66,3415,-13]
[null,{"$f":"IF(WPArt=4,Sprache!B88,Sprache!B70)","v":"Puissance électrique soutirée par pompe saumure:"},null,null,null,null,{"$f":"IF(OR(L9=1,I11=\"\",I35=\"\",L43=1),\"\",IF(T3,T14,\"\"))","v":""},"W",null,null,null,{"$f":"IF(OR(Spez!L38,Spez!L46),TRUE,FALSE)","v":false},12,"Bregenz-Vorkloster",400,4.1500000000000004,-11,3472,-11,null,null,null,12,"Bregenz-Vorkloster",400,4.1500000000000004,3472,-11,null,12,"Draßburg",218,3.56,3386,-13,null,12,"Bleiburg",479,2.29,4056,-16,null,12,"Altenwörth",180,3.37,3526,-13,null,12,"Altmünster",448,3.37,3774,-14,null,12,"Berndorf bei Salzburg",548,3.21,3912,-15,null,12,"Arnfels",314,3.08,3605,-14,null,12,"Bach (Lechtal)",1070,2.38,4915,-17,null,12,"Wien-Innere Stadt",170,3.73,3319,-13]
[null,{"$f":"IF(WPArt=3,Sprache!B79,IF(WPArt=5,Sprache!B80,\"\"))","v":""},null,null,{"$f":"IF(WPArt=3,Sprache!B72,IF(WPArt=5,\"W/m2\",\"\"))","v":""},null,{"$f":"IF(WPArt=3,Sprache!B77,IF(WPArt=5,Sprache!B188,\"\"))","v":""},{"$f":"IF(WPArt=3,\"m\",IF(WPArt=5,\"m2\",\"\"))","v":""},null,null,null,{"$f":"IF(AND(WPArt=4,I36=\"\"),\"\",IF(AND(WPArt=3,L36=1,I36>0),I36,IF(WPArt<>3,I36,\"\")))","v":0},13,"Dalaas",835,2.5499999999999998,-17,4608,-17,null,null,null,13,"Dalaas",835,2.5499999999999998,4608,-17,null,13,"Draßmarkt",330,3.25,3635,-13,null,13,"Bodensdorf",508,2.61,3896,-15,null,13,"Altlengbach",290,3.26,3717,-14,null,13,"Altschwendt",420,3.04,3917,-16,null,13,"Bischofshofen",544,2.4500000000000002,4248,-16,null,13,"Assach",761,2.59,4510,-15,null,13,"Bad Häring",590,2.46,4263,-17,null,13,"Wien-Josefstadt",205,3.65,3400,-13]
[null,{"$f":"IF(EBF>0,IF(WPArt=3,\"Auslegungs-Sondentemperatur\",IF(WPArt=5,\"Auslegungs-Soletemperatur\",IF(WPArt=4,Sprache!B83,\"Auslegungs-Soletemperatur\"))),\"\")","v":""},null,null,{"$f":"IF(WPArt<>3,\"\",\"manuelle Eingabe?  \")","v":""},null,{"$f":"IF(OR(L9=1,I11=\"\"),\"\",IF(WPArt=5,ROUND(TQuelle_Koll-Offset,1),IF(WPArt=3,IF(U25<>\"\",U25,IF(I35>0,ROUND(TQuelle-Offset,1),\"\")),IF(WPArt=4,IF(AND(L35<4,L35<>\"\"),Sprache!B132,\"\"),\"\"))))","v":""},{"$f":"IF(Heizung=FALSE,\"\",\"°C\")","v":""},null,{"$f":"IF(AND(L36=1,I36>0),\"!\",\"\")","v":""},null,{"$f":"IF(F36=\"\",2,MATCH(F36,$Q$13:$Q$14,0))","v":2},14,"Damüls",1428,2.7,-16,5121,-16,null,null,null,14,"Damüls",1428,2.7,5121,-16,null,14,"Eberau",214,3.23,3555,-14,null,14,"Brückl",502,2.58,4006,-15,null,14,"Altlichtenwarth",226,4.0999999999999996,3149,-14,null,14,"Ampflwang",566,3.04,4003,-16,null,14,"Böckstein",1131,2.67,4817,-15,null,14,"Au bei Aflenz",778,2.52,4579,-16,null,14,"Baumkirchen",595,3.12,3832,-15,null,14,"Wien-Kaiserebersdorf",160,3.62,3357,-13]
[null,{"$f":"'WP1'!B34","v":" "},null,null,null,null,null,{"$f":"'WP1'!G34","v":" "},null,null,null,null,15,"Doren",709,2.93,-15,4337,-15,null,null,null,15,"Doren",709,2.93,4337,-15,null,15,"Eisenstadt",182,3.74,3252,-12,null,15,"Dellach (im Gailtal)",672,2.48,4257,-15,null,15,"Ameis",235,2.95,3784,-14,null,15,"Andorf",344,3.12,3832,-15,null,15,"Bramberg am Wildkogel",818,2.0499999999999998,4703,-18,null,15,"Bad Aussee",659,2.81,4264,-14,null,15,"Berwang",1336,2.1800000000000002,5294,-18,null,15,"Wien-Kalksburg",300,3.41,3617,-14]
[null,{"$f":"IF(Heizung=FALSE,\"\",Sprache!B149)","v":""},null,null,null,{"$f":"IF(AND(Heizung,I38=\"\"),\"ausfüllen ->\",\"\")","v":""},{"$f":"IF(Heizung=FALSE,\"\",\"Ti,soll\")","v":""},{"$f":"IF(Heizung=FALSE,\"\",\"°C\")","v":""},null,null,null,null,16,"Dornbirn",440,3.76,-12,3654,-12,null,null,null,16,"Dornbirn",440,3.76,3654,-12,null,16,"Eltendorf",242,3.13,3576,-14,null,16,"Dellach im Drautal",610,2.1800000000000002,4187,-16,null,16,"Amstetten",270,3.34,3582,-13,null,16,"Andrichsfurt",420,3.15,3927,-15,null,16,"Bruck an der Großglocknerstraße",755,2.04,4471,-18,null,16,"Bad Gams",406,3.19,3648,-14,null,16,"Biberwier",989,2.56,4726,-18,null,16,"Wien-Landstraße",170,3.63,3355,-13]
[null,{"$f":"IF(Heizung=FALSE,\"\",Sprache!B47&\" (Ta = -8°C)\")","v":""},null,null,{"$f":"IF(Heizung=FALSE,\"\",\"manuelle Eingabe?  \")","v":""},null,{"$f":"IF(AND(L39=1,I39>24,I39<>\"\"),MAX(I39,G40+4),IF(I12<=$BA$3,BA4,IF(I12<=$BB$3,BB4,IF(I12<=$BC$3,BC4,IF(I12<=BD3,BD4,BE4)))))","v":32},{"$f":"IF(Heizung=FALSE,\"\",Sprache!B134&\"    [°C]\")","v":""},null,{"$f":"IF(AND(L39=1,I39>0),\"!\",\"\")","v":""},null,{"$f":"IF(F39=\"\",2,MATCH(F39,$Q$13:$Q$14,0))","v":2},17,"Egg",545,3.43,-14,3926,-14,null,null,null,17,"Egg",545,3.43,3926,-14,null,17,"Forchtenstein",340,3.26,3649,-14,null,17,"Deutsch-Griffen",825,2.13,4681,-17,null,17,"Angern an der March",150,3.34,3498,-14,null,17,"Ansfelden",290,3.26,3632,-13,null,17,"Bürmoos",440,3.27,3815,-15,null,17,"Bad Gleichenberg",300,3.15,3539,-13,null,17,"Bichlbach",1075,2.54,4925,-18,null,17,"Wien-Leopoldstadt",170,3.73,3319,-13]
[null,{"$f":"IF(Heizung=FALSE,\"\",Sprache!B48&\" (Ta = -8°C)\")","v":""},null,null,{"$f":"IF(Heizung=FALSE,\"\",\"manuelle Eingabe?  \")","v":""},null,{"$f":"IF(AND(L40=1,I40>22,I40<>\"\"),I40,IF(I12<=$BA$3,BA5,IF(I12<=$BB$3,BB5,IF(I12<=$BC$3,BC5,IF(I12<=BD3,BD5,BE5)))))","v":27},{"$f":"IF(Heizung=FALSE,\"\",Sprache!B135&\"    [°C]\")","v":""},null,{"$f":"IF(AND(L40=1,I40>0),\"!\",\"\")","v":""},null,{"$f":"IF(F40=\"\",2,MATCH(F40,$Q$13:$Q$14,0))","v":2},18,"Feldkirch",458,3.76,-13,3556,-13,null,null,null,18,"Feldkirch",458,3.76,3556,-13,null,18,"Frauenkirchen",125,3.37,3392,-14,null,18,"Diex",1152,2.5,4917,-16,null,18,"Annaberg",973,3.21,4651,-15,null,18,"Antiesenhofen",345,3.15,3842,-15,null,18,"Dienten am Hochkönig",1051,2.5,4725,-16,null,18,"Bad Mitterndorf",809,2.0499999999999998,4776,-16,null,18,"Brandenberg",919,2.33,4825,-17,null,18,"Wien-Liesing",210,3.59,3446,-13]
[null,{"$f":"IF(Heizung=FALSE,\"\",IF(Heizspeicher,Sprache!B49,\"\"))","v":""},null,null,null,null,{"$f":"IF(Heizung=FALSE,\"\",IF(Heizspeicher,Sprache!B136,\"\"))","v":""},{"$f":"IF(Heizung=FALSE,\"\",IF(Heizspeicher,\"°C\",\"\"))","v":""},null,null,null,null,19,"Fontanella",1145,2.71,-17,4859,-17,null,null,null,19,"Fontanella",1145,2.71,4859,-17,null,19,"Gattendorf",147,3.45,3409,-14,null,19,"Döbriach",620,3,3944,-15,null,19,"Arbesbach",850,2.0299999999999998,4941,-18,null,19,"Arbing",255,3.16,3637,-14,null,19,"Dorfgastein",830,2.21,4678,-17,null,19,"Bärnbach",430,2.89,3952,-14,null,19,"Brixen im Thale",794,1.93,4715,-18,null,19,"Wien-Margareten",180,3.66,3398,-13]
[null,{"$f":"'WP1'!B39","v":""},null,null,null,null,null,{"$f":"'WP1'!G39","v":""},null,null,null,null,20,"Frastanz",495,3.42,-14,3747,-14,null,null,null,20,"Frastanz",495,3.42,3747,-14,null,20,"Gerersdorf bei Güssing",239,3.2,3595,-14,null,20,"Döllach",1012,2.42,4572,-15,null,20,"Ardagger Markt",240,3.34,3598,-13,null,20,"Arnreit",604,2.66,4162,-14,null,20,"Dürrnberg",771,3.51,4039,-15,null,20,"Birkfeld",623,2.62,4206,-15,null,20,"Brixlegg",534,2.89,3901,-15,null,20,"Wien-Mariahilf",180,3.64,3386,-13]
[null,{"$f":"IF(WW,Sprache!B51,\"\")","v":""},null,null,null,{"$f":"'WP1'!E40","v":""},null,null,null,null,null,{"$f":"IF(G43=\"\",1,MATCH(G43,AQ3:AQ8,0))","v":1},21,"Fußach",398,3.78,-12,3650,-12,null,null,null,21,"Fußach",398,3.78,3650,-12,null,21,"Gols",130,3.54,3357,-13,null,21,"Drobollach am Faakersee",580,2.4900000000000002,4063,-16,null,21,"Artstetten",395,2.9,4035,-15,null,21,"Aschach an der Donau",272,3.33,3701,-14,null,21,"Eben im Pongau",856,1.89,4817,-17,null,21,"Bischoffeld",860,2.62,4414,-15,null,21,"Dölsach",737,2.25,4278,-16,null,21,"Wien-Meidling",190,3.59,3414,-13]
[null,{"$f":"IF(WW,Sprache!B52,\"\")","v":""},null,null,null,{"$f":"'WP1'!E41","v":""},null,{"$f":"IF(WW,\"°C\",\"\")","v":""},null,null,null,{"$f":"'WP1'!J41","v":false},22,"Gaißau",399,3.72,-12,3647,-12,null,null,null,22,"Gaißau",399,3.72,3647,-12,null,22,"Großhöflein",194,3.73,3271,-12,null,22,"Ebene Reichenau",1062,2.39,4879,-16,null,22,"Aschbach Markt",310,3.25,3736,-14,null,22,"Aschach an der Steyr",432,3.23,3908,-14,null,22,"Ebenau",621,3.17,4073,-16,null,22,"Blumau in der Steiermark",284,3.11,3580,-13,null,22,"Ebbs",475,3.05,3949,-15,null,22,"Wien-Neubau",200,3.64,3419,-13]
[null,{"$f":"'WP1'!B42","v":""},null,null,null,{"$f":"'WP1'!E42","v":""},{"$f":"'WP1'!F42","v":""},{"$f":"IF(WW,\"°C\",\"\")","v":""},null,null,null,{"$f":"'WP1'!J42","v":true},23,"Gargellen",1423,2.7,-18,5242,-18,null,null,null,23,"Gargellen",1423,2.7,5242,-18,null,23,"Großpetersdorf",311,3.23,3571,-13,null,23,"Ebenthal",430,2.25,3922,-16,null,23,"Aspang Markt",498,2.95,4108,-14,null,23,"Aspach",448,3.12,3900,-15,null,23,"Elsbethen",430,3.44,3792,-15,null,23,"Breitenfeld an der Rittschein",278,3.11,3581,-13,null,23,"Ehrwald",995,2.52,4736,-17,null,23,"Wien-Neustift",264,3.48,3502,-13]
[null,{"$f":"IF(AND(WW),Sprache!B199,\"\")","v":""},null,null,{"$f":"IF(AND(WW,L46=1),Sprache!B24,\"\")","v":""},null,"Länge:","m",null,null,null,{"$f":"IF(F46=\"\",1,MATCH(F46,$AB$3:$AB$6,0))","v":1},24,"Gaschurn",979,2.5499999999999998,-17,4728,-17,null,null,null,24,"Gaschurn",979,2.5499999999999998,4728,-17,null,24,"Großwarasdorf",238,3.41,3483,-13,null,24,"Eberndorf",475,1.95,4097,-16,null,24,"Asparn an der Zaya",221,3.09,3653,-14,null,24,"Asten",254,3.27,3598,-13,null,24,"Eugendorf",560,3.11,4004,-16,null,24,"Bruck an der Lafnitz",542,3.03,3902,-14,null,24,"Elbigenalp",1040,2.42,4851,-17,null,24,"Wien-Nußdorf",170,3.78,3309,-13]
[null,{"$f":"Sprache!B31","v":"Installation solaire"},null,null,null,{"$f":"IF(AND(G47=\"\"),Sprache!B24,\"\")","v":"choisir ->"},null,null,null,null,null,{"$f":"IF(G47=\"\",1,MATCH(G47,AT5:AT11,0))","v":1},25,"Göfis",558,3.29,-14,3861,-14,null,null,null,25,"Göfis",558,3.29,3861,-14,null,25,"Güssing",225,3.24,3586,-14,null,25,"Eberstein",575,2.2999999999999998,4196,-16,null,25,"Asperhofen",208,3.29,3577,-14,null,25,"Attersee",484,3.15,4077,-15,null,25,"Faistenau",787,2.97,4292,-16,null,25,"Bruck an der Mur",485,2.9,3915,-14,null,25,"Ellmau",804,1.91,4740,-18,null,25,"Wien-Oberlaa",200,3.57,3417,-13]
[null,{"$f":"Sprache!B55","v":"Surface des absorbeurs"},null,null,null,null,null,"m2",null,null,null,null,26,"Götzis",448,3.71,-13,3600,-13,null,null,null,26,"Götzis",448,3.71,3600,-13,null,26,"Halbturn",128,3.4,3370,-14,null,26,"Egg (bei Hermagor)",637,2.76,4104,-15,null,26,"Atzenbrugg",189,3.37,3543,-13,null,26,"Attnang",416,3.06,3946,-15,null,26,"Filzmoos",1050,1.74,5095,-17,null,26,"Brunnsee",250,3.09,3535,-13,null,26,"Elmen",976,2.6,4680,-17,null,26,"Wien-Ottakring",215,3.58,3416,-13]
[null,{"$f":"Sprache!B56","v":"orientation / inclinaison des collecteurs"},null,null,null,{"$f":"'WP1'!E50","v":"Azimut [°]:  "},null,{"$f":"'WP1'!G50","v":"Pente [°]:"},null,null,null,null,27,"Hard",398,3.74,-12,3643,-12,null,null,null,27,"Hard",398,3.74,3643,-12,null,27,"Hannersdorf",253,3.36,3428,-13,null,27,"Einöde bei Villach",600,2.75,3968,-15,null,27,"Auersthal",178,3.3,3558,-14,null,27,"Atzbach",464,3.2,3813,-15,null,27,"Flachau",920,1.88,4910,-17,null,27,"Buch bei Hartberg",319,3.4,3470,-12,null,27,"Erl",475,3.03,3953,-15,null,27,"Wien-Penzing",210,3.54,3474,-13]
[null,{"$f":"Sprache!B57","v":"Apport net par m2 d'absorbeur"},null,null,null,{"$f":"IF(_SIA384,Sprache!B269,Sprache!B140)","v":"valeur proposée:"},{"$f":"'WP1'!F51","v":0},"kWh/m2a",null,null,null,null,28,"Hirschegg",1124,2.4,-18,5068,-18,null,null,null,28,"Hirschegg",1124,2.4,5068,-18,null,28,"Heiligenkreuz im Lafnitztal",229,3.17,3584,-14,null,28,"Eisenkappel",555,2.7,4082,-15,null,28,"Bad Deutsch-Altenburg",148,3.42,3415,-14,null,28,"Au an der Donau",242,3.27,3564,-13,null,28,"Fusch an der Großglocknerstraße",812,2.13,4610,-18,null,28,"Burgau",290,3.27,3496,-12,null,28,"Erpfendorf",635,2.6,4316,-16,null,28,"Wien-Rudolfsheim-Fünfhaus",200,3.6,3428,-13]
[null,{"$f":"IF(OR(MinSol,solarExtern),Sprache!B58,Sprache!B275)","v":"Spécifications du collecteur"},null,{"$f":"IF(OR(MinSol,solarExtern),\"\",\" ho = \")","v":" ho = "},null,{"$f":"IF(OR(MinSol,solarExtern),\"\",\"              a1 = \")","v":"              a1 = "},null,{"$f":"IF(OR(MinSol,solarExtern),Sprache!B130,\"           a2 = \")","v":"           a2 = "},null,null,null,null,29,"Hittisau",790,2.5499999999999998,-17,4623,-17,null,null,null,29,"Hittisau",790,2.5499999999999998,4623,-17,null,29,"Hirm",182,3.68,3297,-13,null,29,"Eisentratten",802,2.88,4264,-15,null,29,"Bad Fischau",286,3.33,3551,-14,null,29,"Aurolzmünster",407,3.14,3911,-15,null,29,"Fuschl am See",670,2.97,4173,-15,null,29,"Dechantskirchen",531,3.08,3858,-13,null,29,"Feichten",1273,2.2000000000000002,5250,-17,null,29,"Wien-Simmering",175,3.64,3387,-13]
[null,{"$f":"Sprache!B59","v":"Taux de couverture solaire pour l'ECS"},null,null,null,null,"e = ","%",{"$f":"'WP1'!H53","v":0},null,null,null,30,"Höchst",403,3.73,-12,3660,-12,null,null,null,30,"Höchst",403,3.73,3660,-12,null,30,"Horitschon",239,3.4,3485,-13,null,30,"Eitweg",560,2.72,4027,-15,null,30,"Bad Schönau",480,3.05,3881,-13,null,30,"Bachmanning",435,2.99,3929,-15,null,30,"Gartenau-Sankt Leonhard",459,3.42,3813,-15,null,30,"Deutsch Goritz",244,3.17,3518,-13,null,30,"Fieberbrunn",790,2.12,4685,-17,null,30,"Wien-Stammersdorf",172,3.55,3373,-13]
[null,{"$f":"Sprache!B60","v":"Taux de couverture solaire pour le chauffage"},null,null,null,null,"e = ","%",{"$f":"'WP1'!H54","v":0},null,null,null,31,"Hohenems",432,3.71,-13,3632,-13,null,null,null,31,"Hohenems",432,3.71,3632,-13,null,31,"Hornstein",273,3.62,3424,-13,null,31,"Ettendorf",440,2.56,3960,-15,null,31,"Bad Vöslau",260,3.55,3455,-13,null,31,"Bad Goisern",498,2.7,4272,-14,null,31,"Glasenbach",440,3.3,3807,-15,null,31,"Deutschfeistritz",410,2.94,3838,-14,null,31,"Finkenberg",839,2.82,4399,-14,null,31,"Wien-Süßenbrunn",160,3.5,3449,-13]
[null,{"$f":"IF(OR(L39=1,L40=1),IF(L36=1,\"Berechnungen sind beizulegen: Heizlast nach EN12831 und Auslegung Wärmeabgabesystem gem. Hersteller und Sondenauslegung\",\"Berechnungen sind beizulegen: Heizlast nach EN12831 und Auslegung Wärmeabgabesystem gem. Hersteller\"),IF(L36=1,\"Berechnungen sind beizulegen: Sondenauslegung\",\"\"))","v":""},null,null,null,null,null,null,null,null,null,null,32,"Hohenweiler",504,3.65,-12,3760,-12,null,null,null,32,"Hohenweiler",504,3.65,3760,-12,null,32,"Illmitz",117,3.39,3305,-14,null,32,"Faak am See",554,2.4500000000000002,4036,-16,null,32,"Baden",228,3.74,3350,-13,null,32,"Bad Hall",378,3.1,3768,-14,null,32,"Goldegg",885,2.0299999999999998,4799,-17,null,32,"Deutschlandsberg",368,3.21,3594,-13,null,32,"Flaurling",675,2.82,4089,-15,null,32,"Wien-Währing",200,3.71,3355,-13]
[null,{"$f":"Sprache!B32","v":"Résultats"},{"$f":"IF(AND(WPArt=3,I35=\"\"),\"\",IF(OR(L9=1,L31=FALSE),\"\",IF(I11>0,IF(OR(I61<4,I64<3.5),\"Achtung, Anlage nicht förderfähig, JAZ(Heizung) muss grösser 4,0 und JAZ(Gesamt) grösser 3,5 sein!\",\"Anlage ist förderfähig!\"),\"\")))","v":""},null,null,null,null,null,null,null,null,null,33,"Hörbranz",426,4,-12,3552,-12,null,null,null,33,"Hörbranz",426,4,3552,-12,null,33,"Jennersdorf",242,3.17,3552,-13,null,33,"Feistritz an der Drau",540,3.08,3841,-14,null,33,"Behamberg",519,2.97,4052,-15,null,33,"Bad Ischl",469,3.28,3862,-14,null,33,"Golling an der Salzach",480,3.68,3802,-14,null,33,"Dobl",324,2.8,3699,-14,null,33,"Fließ",1073,2.77,4584,-16,null,33,"Wien-Wieden",170,3.68,3361,-13]
[null,{"$f":"IF(AND(WPArt=3,I35=\"\"),\"\",IF(OR(L9=1,I11=\"\",L31=FALSE),\"\",'WP1'!B57))","v":""},null,null,null,{"$f":"IF(AND(WPArt=3,I35=\"\"),\"\",IF(OR(L9=1,I11=\"\",L31=FALSE),\"\",'WP1'!E57))","v":""},{"$f":"IF(AND(WPArt=3,I35=\"\"),\"\",IF(OR(L9=1,I11=\"\",L31=FALSE),\"\",'WP1'!F57))","v":""},{"$f":"IF(AND(Heizung,OR(bivalent,elZusatz)),\"kWh = \",\"\")","v":""},{"$f":"IF(AND(WPArt=3,I35=\"\"),\"\",IF(Kategorie>1,IF(AND(Heizung,OR(bivalent,elZusatz)),Zusatzheizung_total/Etah,\"\"),))","v":0},null,null,null,34,"Kennelbach",430,4.03,-12,3545,-12,null,null,null,34,"Kennelbach",430,4.03,3545,-12,null,34,"Jois",130,3.53,3360,-13,null,34,"Feistritz an der Gail",565,2.5099999999999998,4041,-16,null,34,"Berg (bei Kittsee)",154,3.37,3426,-14,null,34,"Bad Kreuzen",479,3,3944,-14,null,34,"Gries im Pinzgau",745,2.1800000000000002,4474,-17,null,34,"Dobldorf",324,2.8,3699,-14,null,34,"Flirsch",1154,2.39,4930,-17,null,34," "]
[null,{"$f":"'WP1'!B58","v":""},null,null,null,{"$f":"'WP1'!E58","v":""},{"$f":"'WP1'!F58","v":""},{"$f":"'WP1'!G58","v":""},{"$f":"'WP1'!H58","v":0},null,null,null,35,"Klaus",475,3.65,-13,3647,-13,null,null,null,35,"Klaus",475,3.65,3647,-13,null,35,"Kaisersdorf",361,3.2,3679,-13,null,35,"Feistritz im Rosental",488,2.34,4043,-16,null,35,"Berndorf (an der Triesting)",315,3.21,3694,-14,null,35,"Bad Leonfelden",749,2.42,4466,-16,null,35,"Grödig",445,3.41,3798,-15,null,35,"Donawitz",575,3.01,3908,-14,null,35,"Fritzens",592,3.07,3842,-15,null,35," "]
[null,{"$f":"IF(I58<>\"\",'WP1'!B61,\"\")","v":""},null,null,null,null,null,{"$f":"IF(I58<>\"\",\"h / a\",\"\")","v":""},{"$f":"IF(AND(WPArt=3,I35=\"\"),\"\",IF(OR(L9=1,I11=\"\",L31=FALSE),\"\",'WP1'!H61))","v":""},null,null,"e Inkl. Solar:",36,"Klösterle",1073,2.65,-17,4858,-17,null,null,null,36,"Klösterle",1073,2.65,4858,-17,null,36,"Kemeten",300,3.43,3429,-12,null,36,"Feld am See",743,2.93,4149,-15,null,36,"Bernhardsthal",164,3.26,3600,-14,null,36,"Bad Schallerbach",311,2.96,3971,-16,null,36,"Großarl",922,2.4,4699,-16,null,36,"Donnersbach",690,2.6,4314,-15,null,36,"Fügen",544,2.95,3870,-15,null,36," "]
[null,{"$f":"IF(Heizung=FALSE,\"\",\"Anteil und JAZ der Heizung mit Solaranlage\")","v":""},null,null,null,null,null,"JAZHeizung =  ",{"$f":"IF(AND(WPArt=3,I35=\"\"),\"\",IF(OR(L9=1,I11=\"\",L31=FALSE,Heizung=FALSE),\"\",IF(I53<1,IF(bivalent,(1-G56)/(G61/jazh),1/(G61/jazh+G56)),999)))","v":""},null,null,{"$f":"IF(G61<>\"\",G61+I53,I53)","v":0},37,"Koblach",445,3.75,-13,3576,-13,null,null,null,37,"Koblach",445,3.75,3576,-13,null,37,"Kittsee",138,3.42,3399,-14,null,37,"Feldkirchen in Kärnten",550,2.5,4059,-15,null,37,"Biedermannsdorf",185,3.66,3349,-13,null,37,"Bad Wimsbach-Neydharting",380,2.99,3929,-15,null,37,"Großgmain",522,3.3,3942,-15,null,37,"Dorf Veitsch",669,2.81,4367,-15,null,37,"Fulpmes",937,2.85,4527,-15,null,37," "]
[null,{"$f":"IF(WW=FALSE,\"\",\"Anteil und JAZ für Warmwasser mit Solaranlage\")","v":""},null,null,null,null,null,"JAZWarmwasser =  ",{"$f":"IF(AND(WPArt=3,I35=\"\"),\"\",IF(OR(L9=1,I11=\"\",G62=0,WW=FALSE,AND(WW=TRUE,L43=1)),\"\",IF(I52<1,1/(G62/jazww+IF(G57<>\"\",G57,0)),999)))","v":""},null,null,{"$f":"IF(G62<>\"\",G62+I52,I52)","v":0},38,"Krumbach",732,2.73,-16,4439,-16,null,null,null,38,"Krumbach",732,2.73,4439,-16,null,38,"Klingenbach",233,3.53,3425,-13,null,38,"Ferlach",466,2.2400000000000002,3926,-16,null,38,"Bisamberg",192,3.54,3408,-13,null,38,"Bad Zell",515,2.97,3899,-14,null,38,"Hallein",445,3.59,3824,-15,null,38,"Ebersdorf",312,3.29,3492,-12,null,38,"Galtür",1584,1.26,5977,-20,null,38," "]
[null,{"$f":"IF(Heizung=FALSE,\"\",\"Anteil und JAZ der Heizung\")","v":""},null,null,null,{"$f":"IF(AND(Heizung),\"e = \",\"\")","v":""},{"$f":"IF(AND(WPArt=3,I35=\"\"),\"\",IF(OR(L9=1,I11=\"\",L31=FALSE),\"\",'WP1'!F62))","v":""},"JAZHeizung =  ",{"$f":"IF(AND(WPArt=3,I35=\"\"),\"\",IF(OR(L9=1,I11=\"\",L31=FALSE,Heizung=FALSE),\"\",IF(I53<1,IF(bivalent,jazh,(1-I53)/(G61/jazh+G56)),999)))","v":""},null,null,null,39,"Langen",657,3.15,-14,4161,-14,null,null,null,39,"Langen",657,3.15,4161,-14,null,39,"Kobersdorf",321,3.28,3628,-13,null,39,"Ferndorf",520,3.11,3817,-14,null,39,"Bischofstetten",275,3.33,3750,-14,null,39,"Baumgartenberg",236,3.09,3669,-14,null,39,"Henndorf am Wallersee",550,3.01,4077,-16,null,39,"Edelsbach bei Feldbach",309,3.16,3553,-13,null,39,"Gerlos",1245,2.4300000000000002,5024,-16,null,39," "]
[null,{"$f":"IF(WW=FALSE,\"\",\"Anteil und JAZ für Warmwasser\")","v":""},null,null,null,{"$f":"IF(AND(WW),\"e = \",\"\")","v":""},{"$f":"IF(AND(WPArt=3,I35=\"\"),\"\",IF(OR(L9=1,I11=\"\"),\"\",'WP1'!F63))","v":""},"JAZWarmwasser =  ",{"$f":"IF(AND(WPArt=3,I35=\"\"),\"\",IF(OR(L9=1,I11=\"\",G62=0,WW=FALSE,AND(WW=TRUE,L43=1)),\"\",IF(I52<1,(1-I52)/(G62/jazww+IF(G57<>\"\",G57,0)),999)))","v":""},null,null,null,40,"Langen am Arlberg",1174,2.72,-16,4926,-16,null,null,null,40,"Langen am Arlberg",1174,2.72,4926,-16,null,40,"Kohfidisch",256,3.25,3552,-13,null,40,"Finkenstein",559,2.4500000000000002,4053,-16,null,40,"Blindenmarkt",245,3.46,3656,-13,null,40,"Braunau am Inn",352,3.15,3826,-15,null,40,"Hinterglemm",1053,1.99,5079,-18,null,40,"Edelschrott",794,2.88,4228,-14,null,40,"Ginzling",985,2.65,4651,-15,null,40," "]
[null,{"$f":"IF(L28>3,\"\",IF(OR(WW=FALSE,Heizung=FALSE),\"\",IF($L$47>1,\"JAZ (ohne Elektrozusatz) für Heizung + Warmwasser ohne Solaranlage:\",\"Jahresarbeitszahl (ohne Elektrozusatz) Heizung + Warmwasser (JAZh+ww):\")))","v":""},null,null,null,null,null,{"$f":"IF(L28=5,\"\",\"-\")","v":"-"},{"$f":"'WP1'!H66","v":""},null,null,null,41,"Langenegg",695,2.88,-15,4331,-15,null,null,null,41,"Langenegg",695,2.88,4331,-15,null,41,"Königsdorf",236,3.14,3557,-14,null,41,"Flattach",694,3.03,4089,-14,null,41,"Blumau bei Felixdorf",252,3.53,3475,-13,null,41,"Breitenaich",284,2.99,3896,-15,null,41,"Hof bei Salzburg",738,2.95,4263,-16,null,41,"Eggersdorf bei Graz",405,3.32,3520,-13,null,41,"Going",773,2.0099999999999998,4678,-18,null,41," "]
[null,{"$f":"IF(L28=5,\"\",IF(OR(L9=1,I11=\"\",L31=FALSE,AND(WPArt=3,I35=\"\")),\"\",\"Jahresarbeitszahl JAZ (inkl. Elektrozusatz) für Heizung und Warmwasser\"))","v":""},null,null,null,null,null,{"$f":"IF(L28=5,\"\",\"JAZ Gesamt =\")","v":"JAZ Gesamt ="},{"$f":"IF(OR(AND(WW=TRUE,L43=1),L28=5),\"\",IF(AND(WW=FALSE,Heizung=FALSE),\"\",IF(Heizung=FALSE,I62,IF(WW=FALSE,I61,IF(OR(L9=1,I11=\"\",L31=FALSE,AND(WPArt=3,I35=\"\")),\"\",IF(AND(G61>0,G62>0),IF(bivalent,(wh/www*G61+G62)/(wh/www*G61/jazh+G62/jazww+IF(G57<>\"\",G57,0)),(wh/www*(1-I53)+1-I52)/(wh/www*(G61/jazh+IF(G56<>\"\",G56,0))+G62/jazww+IF(G57<>\"\",G57,0)))))))))","v":""},null,null,null,42,"Lauterach",412,3.98,-12,3541,-12,null,null,null,42,"Lauterach",412,3.98,3541,-12,null,42,"Krensdorf",197,3.58,3350,-13,null,42,"Föderlach",491,2.4900000000000002,3905,-16,null,42,"Bockfließ",168,3.35,3547,-14,null,42,"Breitenschützing",393,2.97,3917,-15,null,42,"Hollersbach im Pinzgau",800,1.94,4749,-18,null,42,"Ehrenhausen",270,3,3570,-14,null,42,"Götzens",868,2.83,4465,-15,null,42," "]
[null,"Wichtiger Hnweis für Endkunden: \nAufgrund individuellen Nutzerverhaltens (z.B. höhere Raumtemperaturen, anderer Brauchwasserbedarf, etc.) oder Änderungen in der realisierten Ausführung, kann die tatsächliche Jahresarbeitszahl von der berechneten Jahresarbeitszahl abweichen.",null,null,null,null,null,null,null,null,null,null,43,"Lech",1444,2.2000000000000002,-17,5482,-17,null,null,null,43,"Lech",1444,2.2000000000000002,5482,-17,null,43,"Kukmirn",254,3.17,3584,-14,null,43,"Fresach",695,2.98,4086,-15,null,43,"Böheimkirchen",240,3.34,3615,-14,null,43,"Buchkirchen",340,3.29,3793,-14,null,43,"Hüttau",710,2.2000000000000002,4539,-17,null,43,"Eibiswald",365,3.12,3662,-14,null,43,"Grän",1034,2.4500000000000002,5003,-19,null,43," "]
[null,"Gewichtungsfaktor Heizung wh:",null,null,null,null,null,"-",{"$f":"IF(AND(WPArt=3,I35=\"\"),\"\",IF(OR(L9=1,I11=\"\"),\"\",IF(AND(WW,Heizung),IF((Qww+Qh)>0,Qh/(Qww+Qh),0),IF(Heizung,1,0))))","v":""},null,null,null,44,"Lingenau",685,2.9,-16,4326,-16,null,null,null,44,"Lingenau",685,2.9,4326,-16,null,44,"Lackenbach",305,3.32,3587,-13,null,44,"Friesach",634,2.63,4239,-15,null,44,"Böhlerwerk",340,3.23,3806,-14,null,44,"Burgkirchen",394,3.07,3877,-15,null,44,"Hüttschlag",980,2.48,4714,-16,null,44,"Eisenerz",745,3,4181,-14,null,44,"Gries am Brenner",1165,2.37,4990,-15,null,44," "]
[null,"Gewichtungsfaktor Warmwasser www:",null,null,null,null,null,"-",{"$f":"IF(AND(WPArt=3,I35=\"\"),\"\",IF(OR(L9=1,I11=\"\"),\"\",IF(AND(WW,Heizung),IF((Qww+Qh)>0,Qww/(Qww+Qh),0),IF(WW,1,0))))","v":""},null,null,null,45,"Lochau",415,4.0999999999999996,-12,3514,-12,null,null,null,45,"Lochau",415,4.0999999999999996,3514,-12,null,45,"Lackendorf",294,3.34,3566,-13,null,45,"Fürnitz",507,2.39,3997,-16,null,45,"Brand (Waldviertel)",535,2.5499999999999998,4379,-17,null,45,"Desselbrunn",421,3.15,3876,-15,null,45,"Kaprun",784,2.12,4542,-18,null,45,"Etmißl",710,2.63,4430,-15,null,45,"Gries im Sellrain",1238,2.19,5147,-17,null,45," "]
[null,"WP-Art","WP-Typ",null,null,null,null,null,null,null,null,null,46,"Ludesch",555,3.34,-15,3815,-15,null,null,null,46,"Ludesch",555,3.34,3815,-15,null,46,"Litzelsdorf",280,3.41,3417,-12,null,46,"Gallizien",437,1.99,4052,-16,null,46,"Breitenau (Steinfeld)",343,3.28,3695,-14,null,46,"Dimbach",680,2.63,4325,-16,null,46,"Köstendorf",561,2.91,4203,-16,null,46,"Fehring",275,3.14,3541,-13,null,46,"Grins",1006,2.83,4430,-15,null,46," "]
[null,1,null,null,null,null,null,null,null,null,null,null,47,"Lustenau",404,3.72,-12,3647,-12,null,null,null,47,"Lustenau",404,3.72,3647,-12,null,47,"Lockenhaus",340,3.21,3761,-13,null,47,"Glanegg",490,2.2999999999999998,3983,-16,null,47,"Breitenfurt bei Wien",402,3.13,3879,-14,null,47,"Dorf an der Pram",395,3.13,3863,-15,null,47,"Krimml",1159,2.65,4807,-16,null,47,"Feldbach",284,3.19,3530,-13,null,47,"Haiming",670,2.4900000000000002,4168,-16,null,47," "]
[null,2,{"$f":"'WP1'!T134","v":"Pompe à chaleur air/eau une vitesse"},null,null,null,null,null,null,null,null,null,48,"Mäder",414,3.85,-13,3537,-13,null,null,null,48,"Mäder",414,3.85,3537,-13,null,48,"Lutzmannsburg",206,3.47,3439,-13,null,48,"Globasnitz",545,2.38,4105,-16,null,48,"Breitenstein",800,2.89,4448,-16,null,48,"Ebensee",430,3.39,3821,-13,null,48,"Kuchl",469,3.82,3754,-14,null,48,"Feldkirchen bei Graz",342,2.65,3799,-15,null,48,"Hall in Tirol",560,3.09,3737,-14,null,48," "]
[null,2,{"$f":"'WP1'!T135","v":"Pompe à chaleur air/eau 2 vitesses"},null,null,null,null,null,null,null,null,null,49,"Meiningen",425,3.84,-13,3491,-13,null,null,null,49,"Meiningen",425,3.84,3491,-13,null,49,"Mannersdorf an der Rabnitz",245,3.39,3522,-13,null,49,"Glödnitz",748,2.06,4611,-17,null,49,"Breitenwaida",218,3.37,3592,-14,null,49,"Eberschwang",529,3.05,3984,-16,null,49,"Lamprechtshausen Kirchendorf",458,3.23,3823,-15,null,49,"Fernitz",318,2.82,3693,-14,null,49,"Häselgehr",1003,2.5499999999999998,4747,-17,null,49," "]
[null,2,{"$f":"'WP1'!T136","v":"Pompe à chaleur air/eau Plusieurs vitesses"},null,null,null,null,null,null,null,null,null,50,"Mellau",688,2.74,-17,4366,-17,null,null,null,50,"Mellau",688,2.74,4366,-17,null,50,"Mariasdorf",400,3.02,3753,-13,null,50,"Gmünd",732,2.94,4145,-15,null,50,"Bromberg",435,3.07,3928,-14,null,50,"Eberstallzell",400,3.12,3865,-14,null,50,"Lend",639,2.15,4427,-17,null,50,"Fischbach",1010,2.56,4588,-16,null,50,"Heiterwang",992,2.64,4862,-19,null,50," "]
[null,2,{"$f":"'WP1'!T137","v":"Pompe à chaleur air/eau vitesse variable"},null,null,null,null,null,null,null,null,null,51,"Mittelberg",1218,2.5099999999999998,-17,5124,-17,null,null,null,51,"Mittelberg",1218,2.5099999999999998,5124,-17,null,51,"Markt Allhau",346,3.39,3488,-12,null,51,"Gnesau",973,2.59,4630,-16,null,51,"Bruck an der Leitha",158,3.35,3446,-14,null,51,"Eferding",270,3.24,3720,-15,null,51,"Leogang",797,2.21,4554,-17,null,51,"Fladnitz an der Teichalpe",692,2.85,4150,-15,null,51,"Hintertux",1493,1.78,5685,-17,null,51," "]
[null,3,{"$f":"'WP1'!T138","v":"Pompe à chaleur sol/eau une vitesse"},null,null,null,null,null,null,null,null,null,52,"Nenzing",530,3.15,-15,3942,-15,null,null,null,52,"Nenzing",530,3.15,3942,-15,null,52,"Markt Neuhodis",312,3.38,3456,-13,null,52,"Gödersdorf",543,2.4500000000000002,4037,-16,null,52,"Brunn am Gebirge",229,3.63,3404,-13,null,52,"Eggelsberg",518,3.09,3991,-15,null,52,"Lofer",610,3,4268,-15,null,52,"Floing",455,3.16,3721,-13,null,52,"Hippach",602,2.74,4074,-14,null,52," "]
[null,3,{"$f":"'WP1'!T139","v":"Pompe à chaleur sol/eau 2 vitesses"},null,null,null,null,null,null,null,null,null,53,"Nüziders",570,3.28,-15,3863,-15,null,null,null,53,"Nüziders",570,3.28,3863,-15,null,53,"Marz",250,3.41,3484,-13,null,53,"Görtschach",605,2.66,4057,-15,null,53,"Brunn an der Wild",450,2.54,4190,-16,null,53,"Eggendorf im Traunkreis",364,3.26,3750,-14,null,53,"Lungötz",840,1.92,4720,-16,null,53,"Fohnsdorf",736,2.2599999999999998,4434,-16,null,53,"Hochfilzen",959,1.78,5047,-18,null,53," "]
[null,3,{"$f":"'WP1'!T140","v":"Pompe à chaleur sol/eau Plusieurs vitesses"},null,null,null,null,null,null,null,null,null,54,"Partenen",1051,2.59,-17,4788,-17,null,null,null,54,"Partenen",1051,2.59,4788,-17,null,54,"Mattersburg",240,3.43,3463,-13,null,54,"Grades",870,2.4,4646,-15,null,54,"Deutsch Brodersdorf",197,3.44,3445,-13,null,54,"Eggerding",376,3.07,3878,-15,null,54,"Maishofen",767,2.2400000000000002,4476,-17,null,54,"Frauental an der Laßnitz",332,3.22,3558,-13,null,54,"Hochsölden",2090,0.42,6794,-20,null,54," "]
[null,3,{"$f":"'WP1'!T141","v":"Pompe à chaleur sol/eau vitesse variable"},null,null,null,null,null,null,null,null,null,55,"Raggal",1015,2.4900000000000002,-17,4780,-17,null,null,null,55,"Raggal",1015,2.4900000000000002,4780,-17,null,55,"Minihof-Liebau",278,3.15,3539,-13,null,55,"Grafenstein",415,2.13,3967,-16,null,55,"Deutsch-Wagram",160,3.32,3536,-14,null,55,"Engelhartszell",293,3.17,3770,-15,null,55,"Mandling",809,2.0299999999999998,4707,-16,null,55,"Frein an der Mürz",864,2.84,4634,-16,null,55,"Holzgau",1103,2.35,4978,-17,null,55," "]
[null,4,{"$f":"'WP1'!T142","v":"Pompe à chaleur eau/eau une vitesse"},null,null,null,null,null,null,null,null,null,56,"Rankweil",502,3.55,-14,3701,-14,null,null,null,56,"Rankweil",502,3.55,3701,-14,null,56,"Mischendorf",265,3.28,3528,-13,null,56,"Greifenburg",638,2.4300000000000002,4200,-15,null,56,"Dietmanns",610,2.35,4465,-17,null,56,"Enns",280,3.22,3641,-13,null,56,"Maria Alm am Steinernen Meer",896,2.2599999999999998,4560,-17,null,56,"Fresing",287,3.02,3583,-14,null,56,"Hopfgarten im Brixental",621,2.4,4330,-17,null,56," "]
[null,4,{"$f":"'WP1'!T143","v":"Pompe à chaleur eau/eau 2 vitesses"},null,null,null,null,null,null,null,null,null,57,"Riefensberg",781,2.62,-16,4570,-16,null,null,null,57,"Riefensberg",781,2.62,4570,-16,null,57,"Mogersdorf",228,3.17,3568,-14,null,57,"Griffen",484,2.5099999999999998,4041,-16,null,57,"Dobermannsdorf",162,3.29,3593,-14,null,57,"Enzenkirchen",371,3.04,3884,-15,null,57,"Mariapfarr",1120,1.93,5185,-20,null,57,"Friedberg",600,2.97,4019,-14,null,57,"Hopfgarten in Defereggen",1107,2.33,4912,-16,null,57," "]
[null,4,{"$f":"'WP1'!T144","v":"Pompe à chaleur eau/eau Plusieurs vitesses"},null,null,null,null,null,null,null,null,null,58,"Riezlern",1088,2.37,-18,5041,-18,null,null,null,58,"Riezlern",1088,2.37,5041,-18,null,58,"Mönchhof",129,3.48,3370,-14,null,58,"Gummern",511,2.46,3982,-16,null,58,"Dobersberg",468,2.67,4195,-16,null,58,"Esternberg",510,2.83,4086,-15,null,58,"Mattsee",503,3.23,3841,-15,null,58,"Frohnleiten",438,3,3807,-14,null,58,"Huben",810,2.27,4469,-16,null,58," "]
[null,4,{"$f":"'WP1'!T145","v":"Pompe à chaleur eau/eau vitesse variable"},null,null,null,null,null,null,null,null,null,59,"Röthis",500,3.55,-14,3701,-14,null,null,null,59,"Röthis",500,3.55,3701,-14,null,59,"Mörbisch am See",122,3.41,3352,-13,null,59,"Gundersheim",645,2.44,4266,-15,null,59,"Dorfstetten",740,2.27,4627,-17,null,59,"Feldkirchen an der Donau",268,3.29,3693,-14,null,59,"Mauterndorf",1121,2.04,5191,-20,null,59,"Frojach",760,2.69,4397,-15,null,59,"Igls",870,3,4351,-15,null,59," "]
[null,5,{"$f":"'WP1'!T146","v":"PAC avec collecteur terrestre une vitesse"},null,null,null,null,null,null,null,null,null,60,"Sankt Anton im Montafon",640,3.06,-16,4031,-16,null,null,null,60,"Sankt Anton im Montafon",640,3.06,4031,-16,null,60,"Müllendorf",220,3.65,3320,-13,null,60,"Gurk",664,2.23,4566,-16,null,60,"Drasenhofen",198,3.08,3706,-14,null,60,"Feldkirchen bei Mattighofen",510,3.11,3935,-15,null,60,"Michaelbeuern",471,3.27,3815,-15,null,60,"Fürstenfeld",276,3.09,3585,-13,null,60,"Imst",828,2.4500000000000002,4318,-16,null,60," "]
[null,5,{"$f":"'WP1'!T147","v":"PAC avec collecteur terrestre 2 vitesses"},null,null,null,null,null,null,null,null,null,61,"Sankt Gallenkirch",878,2.69,-17,4569,-17,null,null,null,61,"Sankt Gallenkirch",878,2.69,4569,-17,null,61,"Neckenmarkt",225,3.42,3466,-13,null,61,"Guttaring",638,2.4500000000000002,4090,-15,null,61,"Drosendorf Stadt",421,2.61,4103,-16,null,61,"Fornach",565,2.64,4462,-18,null,61,"Mitterberghütten",555,2.4500000000000002,4265,-16,null,61,"Gabersdorf",273,3.07,3573,-14,null,61,"Innervillgraten",1402,1.78,5576,-17,null,61," "]
[null,5,{"$f":"'WP1'!T148","v":"PAC avec collecteur terrestre Plusieurs vitesses"},null,null,null,null,null,null,null,null,null,62,"Satteins",495,3.37,-14,3808,-14,null,null,null,62,"Satteins",495,3.37,3808,-14,null,62,"Neudorf bei Parndorf",172,3.38,3457,-14,null,62,"Haimburg",503,2.38,4070,-16,null,62,"Drösing",157,3.31,3588,-14,null,62,"Frankenburg",519,2.87,4198,-17,null,62,"Mittersill",788,1.85,4774,-18,null,62,"Gaishorn",725,2.56,4377,-15,null,62,"Innsbruck",574,3.16,3704,-14,null,62," "]
[null,5,{"$f":"'WP1'!T149","v":"PAC avec collecteur terrestre vitesse variable"},null,null,null,null,null,null,null,null,null,63,"Schlins",498,3.26,-15,3850,-15,null,null,null,63,"Schlins",498,3.26,3850,-15,null,63,"Neudörfl",270,3.36,3510,-13,null,63,"Heiligenblut",1317,2.89,4739,-14,null,63,"Dürnkrut",155,3.34,3548,-14,null,63,"Frankenmarkt",536,2.63,4464,-18,null,63,"Mühlbach",832,1.91,4776,-18,null,63,"Gamlitz",278,3.05,3577,-14,null,63,"Innsbruck-Igls",870,3,4351,-15,null,63," "]
[null,6,{"$f":"'WP1'!T150","v":"PAC sur air extrait sur installation de ventilation sans récupération de chaleur"},null,null,null,null,null,null,null,null,null,64,"Schnepfau",734,2.56,-18,4518,-18,null,null,null,64,"Schnepfau",734,2.56,4518,-18,null,64,"Neufeld an der Leitha",230,3.55,3405,-13,null,64,"Hermagor",598,2.77,4049,-15,null,64,"Dürnstein",210,3.63,3437,-12,null,64,"Franking",452,3.15,3875,-15,null,64,"Mühlbach am Hochkönig",859,2.4900000000000002,4535,-16,null,64,"Gams bei Hieflau",550,2.82,4260,-15,null,64,"Innsbruck-Mühlau",619,3.15,3807,-14,null,64," "]
[null,6,{"$f":"'WP1'!T151","v":""},null,null,null,null,null,null,null,null,null,65,{"$f":"INDEX(X$23:CG$723,$M87,(Bundesland-1)*7+1)","v":"Schoppernau"},{"$f":"INDEX(Y$23:CH$723,$M87,(Bundesland-1)*7+1)","v":850},{"$f":"INDEX(Z$23:CI$723,$M87,(Bundesland-1)*7+1)","v":2.29},-19,{"$f":"INDEX(AA$23:CK$723,$M87,(Bundesland-1)*7+1)","v":4834},{"$f":"INDEX(AB$23:CL$723,$M87,(Bundesland-1)*7+1)","v":-19},null,null,null,65,"Schoppernau",850,2.29,4834,-19,null,65,"Neuhaus am Klausenbach",290,3.15,3539,-13,null,65,"Himmelberg",662,2.5099999999999998,4214,-16,null,65,"Ebenfurth",229,3.55,3422,-13,null,65,"Freistadt",560,2.5299999999999998,4297,-15,null,65,"Muhr",1115,2.08,5088,-18,null,65,"Gasen",830,2.54,4452,-15,null,65,"Innsbruck-Neuarzl",642,3.12,3866,-14,null,65," "]
[null,6,{"$f":"'WP1'!T152","v":""},null,null,null,null,null,null,null,null,null,66,"Schröcken",1269,2.65,{"$f":"MIN(S88+Zuschlag_A,-8)","v":-16},5136,-16,null,null,null,66,"Schröcken",1269,2.65,5136,-16,null,66,"Neusiedl am See",127,3.58,3334,-13,null,66,"Hüttenberg",786,2.61,4242,-14,null,66,"Ebenthal (Weinviertel)",168,3.31,3539,-14,null,66,"Friedburg",530,2.87,4197,-16,null,66,"Neukirchen am Großvenediger",855,2.13,4663,-17,null,66,"Geistthal",582,2.92,4013,-14,null,66,"Inzing",621,2.97,3952,-15,null,66," "]
[null,6,{"$f":"'WP1'!T153","v":""},null,null,null,null,null,null,null,null,null,67,"Schruns",690,2.97,-16,4190,-16,null,null,null,67,"Schruns",690,2.97,4190,-16,null,67,"Neutal",274,3.36,3544,-13,null,67,"Irschen",800,2.58,4285,-15,null,67,"Ebergassing",180,3.47,3422,-13,null,67,"Gaflenz",475,3.33,4034,-14,null,67,"Neumarkt am Wallersee",551,2.85,4236,-16,null,67,"Gleinstätten",304,3.13,3576,-14,null,67,"Ischgl",1376,1.84,5466,-19,null,67," "]
[null,null,null,null,null,null,null,null,null,null,null,null,68,"Schwarzach",433,3.92,-12,3585,-12,null,null,null,68,"Schwarzach",433,3.92,3585,-12,null,68,"Nickelsdorf",135,3.47,3372,-14,null,68,"Kappel am Krappfeld",594,2.19,4274,-16,null,68,"Ebreichsdorf",201,3.56,3419,-13,null,68,"Gallneukirchen",337,3.31,3672,-13,null,68,"Niedernfritz",750,2.11,4616,-17,null,68,"Gleisdorf",365,2.8,3853,-14,null,68,"Jenbach",568,2.96,3885,-15,null,68," "]
[null,null,null,null,null,null,null,null,null,null,null,null,69,"Schwarzenberg",696,2.85,-15,4357,-15,null,null,null,69,"Schwarzenberg",696,2.85,4357,-15,null,69,"Nikitsch",228,3.48,3470,-13,null,69,"Keutschach",535,2.5299999999999998,3966,-15,null,69,"Echsenbach",560,2.42,4484,-17,null,69,"Gallspach",360,3.27,3697,-15,null,69,"Niedernsill",769,2.0099999999999998,4659,-18,null,69,"Gnas",279,3.15,3522,-13,null,69,"Jochberg",923,1.9,4904,-18,null,69," "]
[null,null,null,null,null,null,null,null,null,null,null,null,70,"Sonntag",888,2.38,-18,4740,-18,null,null,null,70,"Sonntag",888,2.38,4740,-18,null,70,"Oberloisdorf",248,3.38,3540,-13,null,70,"Kirchbach",642,2.48,4257,-15,null,70,"Eckartsau",147,3.32,3486,-14,null,70,"Gampern",508,2.79,4216,-16,null,70,"Nußdorf am Haunsberg",441,3.34,3766,-15,null,70,"Gollrad",960,2.4500000000000002,4880,-16,null,70,"Jungholz",1054,2.42,4994,-19,null,70," "]
[null,null,null,null,null,null,null,null,null,null,null,null,71,"Stuben",1407,2.31,-17,5343,-17,null,null,null,71,"Stuben",1407,2.31,5343,-17,null,71,"Oberpullendorf",245,3.38,3507,-13,null,71,"Klagenfurt",446,2.27,3935,-16,null,71,"Edlitz Markt",450,3.02,3990,-14,null,71,"Garsten",298,3.35,3664,-14,null,71,"Oberalm Markt",452,3.52,3840,-15,null,71,"Gosdorf",234,3.19,3513,-13,null,71,"Kals am Großglockner",1325,2.3199999999999998,5252,-16,null,71," "]
[null,null,null,null,null,null,null,null,null,null,null,null,72,"Sulz",495,3.57,-13,3681,-13,null,null,null,72,"Sulz",495,3.57,3681,-13,null,72,"Oberschützen",355,3.03,3784,-13,null,72,"Klagenfurt-Annabichl",446,2.27,3935,-16,null,72,"Eggenburg",325,2.89,3884,-15,null,72,"Gaspoltshofen",455,3.14,3828,-15,null,72,"Oberndorf bei Salzburg",400,3.33,3750,-15,null,72,"Göß",551,3.05,3865,-14,null,72,"Kaltenbach",558,2.59,4075,-15,null,72," "]
[null,null,null,null,null,null,null,null,null,null,null,null,73,"Sulzberg",1013,2.44,-16,4918,-16,null,null,null,73,"Sulzberg",1013,2.44,4918,-16,null,73,"Oberwart",315,3.09,3704,-13,null,73,"Klagenfurt-Viktring",454,2.3199999999999998,3942,-16,null,73,"Eggendorf (im Steinfeld)",243,3.44,3462,-13,null,73,"Geboltskirchen",555,3.1,3921,-15,null,73,"Obertauern",1664,1.22,6159,-20,null,73,"Graden",709,2.77,4203,-14,null,73,"Kappl",1256,2.09,5175,-18,null,73," "]
[null,null,null,null,null,null,null,null,null,null,null,null,74,"Thüringen",573,3.17,-15,3939,-15,null,null,null,74,"Thüringen",573,3.17,3939,-15,null,74,"Oggau",130,3.43,3364,-13,null,74,"Klagenfurt-Wölfnitz",460,2.29,3950,-16,null,74,"Eggendorf im Thale",270,3.25,3686,-14,null,74,"Geiersberg",554,3.05,4050,-15,null,74,"Obertrum",508,3.23,3858,-15,null,74,"Grafendorf bei Hartberg",384,3.27,3597,-13,null,74,"Kartitsch",1358,1.74,5514,-17,null,74," "]
[null,null,null,null,null,null,null,null,null,null,null,null,75,"Thüringerberg",880,2.3199999999999998,-18,4738,-18,null,null,null,75,"Thüringerberg",880,2.3199999999999998,4738,-18,null,75,"Olbendorf",285,3.37,3476,-12,null,75,"Kleblach",575,2.4900000000000002,4097,-15,null,75,"Eggern",576,2.46,4472,-17,null,75,"Geinberg",388,3.14,3861,-15,null,75,"Pfarrwerfen",553,2.5099999999999998,4233,-16,null,75,"Gratkorn",377,3.28,3544,-13,null,75,"Kematen in Tirol",610,2.92,3929,-15,null,75," "]
[null,null,null,null,null,null,null,null,null,null,null,null,76,"Tschagguns",687,2.93,-16,4182,-16,null,null,null,76,"Tschagguns",687,2.93,4182,-16,null,76,"Ollersdorf im Burgenland",260,3.39,3422,-12,null,76,"Klein Sankt Paul",630,2.21,4306,-16,null,76,"Eichgraben",300,3.24,3721,-14,null,76,"Geretsberg",495,3.05,3967,-15,null,76,"Piesendorf",780,2.15,4534,-18,null,76,"Gratwein",392,3.25,3584,-13,null,76,"Kirchberg in Tirol",825,1.88,4784,-18,null,76," "]
[null,null,null,null,null,null,null,null,null,null,null,null,77,"Vandans",648,3.09,-16,4058,-16,null,null,null,77,"Vandans",648,3.09,4058,-16,null,77,"Pama",137,3.43,3397,-14,null,77,"Kleinglödnitz",729,2.0699999999999998,4591,-17,null,77,"Eisgarn",580,2.46,4491,-17,null,77,"Gilgenberg am Weilhart",469,3.03,3970,-15,null,77,"Puch bei Hallein",450,3.56,3814,-15,null,77,"Graz",353,3.34,3515,-12,null,77,"Kirchbichl",515,2.67,4091,-16,null,77," "]
[null,null,null,null,null,null,null,null,null,null,null,null,78,"Warth",1499,2.0699999999999998,-17,5593,-17,null,null,null,78,"Warth",1499,2.0699999999999998,5593,-17,null,78,"Pamhagen",121,3.37,3243,-14,null,78,"Knappenberg",1064,2.58,4668,-15,null,78,"Emmersdorf an der Donau",215,3.46,3672,-13,null,78,"Gmunden",445,3.41,3766,-14,null,78,"Radstadt",825,1.97,4761,-17,null,78,"Graz-Andritz",360,3.33,3517,-12,null,78,"Kirchdorf in Tirol",641,2.54,4330,-16,null,78," "]
[null,null,null,null,null,null,null,null,null,null,null,null,79,"Wolfurt",420,4,-12,3536,-12,null,null,null,79,"Wolfurt",420,4,3536,-12,null,79,"Parndorf",181,3.33,3483,-14,null,79,"Kolbnitz an der Tauernbahn",663,2.81,4142,-15,null,79,"Engelhartstetten",143,3.42,3432,-14,null,79,"Gosau",779,2.16,4620,-15,null,79,"Ramingstein",975,1.74,4986,-21,null,79,"Graz-Liebenau",345,3.26,3499,-13,null,79,"Kitzbühel",760,2.0499999999999998,4650,-18,null,79," "]
[null,null,null,null,null,null,null,null,null,null,null,null,80,"Zürs",1717,1.48,-19,6019,-19,null,null,null,80,"Zürs",1717,1.48,6019,-19,null,80,"Pilgersdorf",368,3.22,3709,-13,null,80,"Köstenberg",790,2.82,4157,-15,null,80,"Ennsdorf bei Enns",252,3.27,3598,-13,null,80,"Gosauschmied",768,2.2599999999999998,4541,-14,null,80,"Rauris",948,2.27,4805,-17,null,80,"Graz-Maria Trost",468,3.47,3586,-12,null,80,"Kolsass",560,3,3842,-15,null,80," "]
[null,null,null,null,null,null,null,null,null,null,null,null,81," ",0,0,-8,0,0,null,null,null,81," ",null,null,null,null,null,81,"Pinkafeld",394,3.15,3707,-13,null,81,"Kötschach",706,2.66,4144,-15,null,81,"Enzersdorf im Thale",265,3.14,3710,-14,null,81,"Gramastetten",540,2.79,4078,-14,null,81,"Rußbach am Paß Gschütt",817,2.0099999999999998,4659,-15,null,81,"Graz-Puntigam",347,2.96,3663,-14,null,81,"Kössen",589,2.7,4220,-16,null,81," "]
[null,null,null,null,null,null,null,null,null,null,null,null,82," ",0,0,-8,0,0,null,null,null,82," ",null,null,null,null,null,82,"Podersdorf am See",121,3.45,3377,-14,null,82,"Köttmannsdorf",540,2.39,3998,-16,null,82,"Enzersfeld",180,3.35,3529,-14,null,82,"Grein",220,3.38,3573,-13,null,82,"Saalbach",1003,1.8,5113,-18,null,82,"Graz-Sankt Leonhard",380,3.4,3519,-12,null,82,"Kramsach",528,2.93,3891,-15,null,82," "]
[null,null,null,null,null,null,null,null,null,null,null,null,83," ",0,0,-8,0,0,null,null,null,83," ",null,null,null,null,null,83,"Pöttsching",219,3.5,3416,-13,null,83,"Kraig",616,2.35,4253,-16,null,83,"Enzesfeld",285,3.25,3619,-14,null,83,"Grieskirchen",335,3.27,3681,-15,null,83,"Saalfelden am Steinernen Meer",740,2.4700000000000002,4330,-17,null,83,"Graz-Straßgang",385,2.76,3776,-14,null,83,"Kufstein",499,2.96,4005,-16,null,83," "]
[null,null,null,null,null,null,null,null,null,null,null,null,84," ",0,0,-8,0,0,null,null,null,84," ",null,null,null,null,null,84,"Potzneusiedl",155,3.38,3424,-14,null,84,"Kremsbrücke",952,2.41,4679,-17,null,84,"Erlach",312,3.36,3562,-14,null,84,"Großraming",442,3.22,3993,-15,null,84,"Salzburg",424,3.22,3792,-15,null,84,"Graz-Wagram",350,2.95,3665,-14,null,84,"Kühtai",1966,0.44,6689,-20,null,84," "]
[null,null,null,null,null,null,null,null,null,null,null,null,85," ",0,0,-8,0,0,null,null,null,85," ",null,null,null,null,null,85,"Purbach am Neusiedlersee",128,3.49,3352,-13,null,85,"Kreuth bei Bleiberg",828,2.2200000000000002,4481,-17,null,85,"Erlauf",230,3.3,3725,-14,null,85,"Grünau im Almtal",520,3.02,4211,-15,null,85,"Salzburg-Bahnhof Aigen",424,3.3,3792,-15,null,85,"Graz-Wetzelsdorf",360,3.23,3521,-13,null,85,"Kundl",526,2.68,4088,-16,null,85," "]
[null,null,null,null,null,null,null,null,null,null,null,null,86," ",0,0,-8,0,0,null,null,null,86," ",null,null,null,null,null,86,"Rattersdorf",295,3.27,3613,-13,null,86,"Krumpendorf",458,2.33,3940,-16,null,86,"Ernstbrunn",293,3.01,3738,-14,null,86,"Grünbach",721,2.2400000000000002,4618,-16,null,86,"Salzburg-Flughafen",433,3.25,3803,-15,null,86,"Gröbming",776,2.67,4524,-15,null,86,"Landeck",805,3.24,3939,-14,null,86," "]
[null,null,null,null,null,null,null,null,null,null,null,null,87," ",0,0,-8,0,0,null,null,null,87," ",null,null,null,null,null,87,"Rechnitz",348,3.34,3498,-13,null,87,"Kühnsdorf",438,2.19,4043,-16,null,87,"Ernsthofen",284,3.24,3671,-14,null,87,"Grünburg",370,3.49,3798,-14,null,87,"Salzburg-Gnigl",450,3.22,3826,-15,null,87,"Groß Sankt Florian",317,3.23,3555,-13,null,87,"Lanersbach",1281,2.19,5218,-16,null,87," "]
[null,null,null,null,null,null,null,null,null,null,null,null,88," ",0,0,-8,0,0,null,null,null,88," ",null,null,null,null,null,88,"Riedlingsdorf",365,3.12,3713,-13,null,88,"Landskron",502,2.44,3985,-16,null,88,"Eschenau",395,3.37,3907,-14,null,88,"Gschwandt",523,3.24,3922,-15,null,88,"Salzburg-Kasern",460,3.23,3840,-15,null,88,"Großklein",298,3.05,3593,-14,null,88,"Längenfeld",1212,1.89,5235,-18,null,88," "]
[null,null,null,null,null,null,null,null,null,null,null,null,89," ",0,0,-8,0,0,null,null,null,89," ",null,null,null,null,null,89,"Ritzing",305,3.32,3586,-13,null,89,"Latschach ober dem Faakersee",639,2.5499999999999998,4100,-16,null,89,"Etsdorf am Kamp",198,3.21,3644,-13,null,89,"Gunskirchen",352,3.3,3774,-14,null,89,"Salzburg-Liefering",427,3.2,3796,-15,null,89,"Großlobming",644,2.13,4378,-16,null,89,"Lans",867,3,4353,-15,null,89," "]
[null,null,null,null,null,null,null,null,null,null,null,null,90," ",0,0,-8,0,0,null,null,null,90," ",null,null,null,null,null,90,"Rohrbach bei Mattersburg",270,3.43,3512,-13,null,90,"Launsdorf",537,2.52,4055,-15,null,90,"Euratsfeld",305,3.4,3752,-13,null,90,"Gurten",390,3.14,3861,-15,null,90,"Salzburg-Morzg",436,3.24,3804,-15,null,90,"Großpesendorf",350,2.87,3819,-14,null,90,"Lermoos",992,2.54,4731,-18,null,90," "]
[null,null,null,null,null,null,null,null,null,null,null,null,91," ",0,0,-8,0,0,null,null,null,91," ",null,null,null,null,null,91,"Rotenturm an der Pinka",298,3.21,3609,-13,null,91,"Lavamünd",344,2.4500000000000002,3897,-16,null,91,"Falkenstein",290,2.82,3883,-15,null,91,"Gutau",584,2.71,4185,-15,null,91,"Sankt Gilgen",546,3.35,3963,-14,null,91,"Großreifling",450,3.06,4083,-14,null,91,"Leutasch",1126,2.4,4980,-17,null,91," "]
[null,null,null,null,null,null,null,null,null,null,null,null,92," ",0,0,-8,0,0,null,null,null,92," ",null,null,null,null,null,92,"Rudersdorf",247,3.12,3561,-14,null,92,"Ledenitzen",605,2.5499999999999998,4048,-16,null,92,"Feistritz am Wechsel",487,3,4012,-15,null,92,"Haag am Hausruck",518,3.13,3930,-15,null,92,"Sankt Johann im Pongau",610,3.08,4095,-15,null,92,"Großsteinbach",331,3.1,3651,-13,null,92,"Lienz",675,2.23,4211,-16,null,92," "]
[null,null,null,null,null,null,null,null,null,null,null,null,93," ",0,0,-8,0,0,null,null,null,93," ",null,null,null,null,null,93,"Rust",130,3.42,3366,-13,null,93,"Lendorf",570,2.8,3974,-14,null,93,"Felixdorf",282,3.34,3548,-13,null,93,"Hagenberg im Mühlkreis",444,3.05,3864,-14,null,93,"Sankt Koloman",851,3.12,4271,-15,null,93,"Großveitsch",708,2.78,4444,-15,null,93,"Mathon",1454,1.58,5674,-19,null,93," "]
[null,null,null,null,null,null,null,null,null,null,null,null,94," ",0,0,-8,0,0,null,null,null,94," ",null,null,null,null,null,94,"Sankt Andrä bei Frauenkirchen",125,3.35,3379,-14,null,94,"Liebenfels",488,2.35,3971,-16,null,94,"Fels am Wagram",206,3.33,3618,-13,null,94,"Haibach bei Schärding",305,3.19,3766,-15,null,94,"Sankt Martin am Tennengebirge",950,1.86,4915,-17,null,94,"Großwilfersdorf",274,3.1,3582,-13,null,94,"Matrei am Brenner",992,2.84,4633,-15,null,94," "]
[null,null,null,null,null,null,null,null,null,null,null,null,95," ",0,0,-8,0,0,null,null,null,95," ",null,null,null,null,null,95,"Sankt Margarethen im Burgenland",151,3.43,3380,-13,null,95,"Lieserbrücke",590,2.98,3949,-14,null,95,"Ferschnitz",280,3.39,3705,-13,null,95,"Haibach ob der Donau",528,2.85,4133,-16,null,95,"Sankt Martin bei Lofer",634,2.86,4319,-16,null,95,"Grundlsee",730,2.63,4550,-15,null,95,"Matrei in Osttirol",977,2.33,4772,-16,null,95," "]
[null,null,null,null,null,null,null,null,null,null,null,null,96," ",0,0,-8,0,0,null,null,null,96," ",null,null,null,null,null,96,"Sankt Martin (Bezirk Oberpullendorf)",307,3.27,3596,-13,null,96,"Liesing",1043,2.89,4534,-14,null,96,"Feuersbrunn",216,3.22,3658,-13,null,96,"Haid",277,3.21,3643,-14,null,96,"Sankt Michael im Lungau",1075,2.0699999999999998,5003,-20,null,96,"Gstatterboden",580,2.77,4238,-15,null,96,"Maurach",975,2.39,4879,-17,null,96," "]
[null,null,null,null,null,null,null,null,null,null,null,null,97," ",0,0,-8,0,0,null,null,null,97," ",null,null,null,null,null,97,"Sankt Martin an der Raab",248,3.19,3547,-13,null,97,"Lind im Drautal",580,2.54,4085,-15,null,97,"Fischamend Markt",154,3.5,3383,-13,null,97,"Hallstatt",512,3.51,3810,-11,null,97,"Sankt Veit im Pongau",770,2.96,4328,-15,null,97,"Gußwerk",746,2.89,4432,-15,null,97,"Mayrhofen",633,2.86,4062,-14,null,97," "]
[null,null,null,null,null,null,null,null,null,null,null,null,98," ",0,0,-8,0,0,null,null,null,98," ",null,null,null,null,null,98,"Sankt Michael im Burgenland",253,3.18,3583,-14,null,98,"Lölling",890,2.57,4410,-15,null,98,"Frankenfels",465,3.35,3962,-15,null,98,"Handenberg",494,3.02,4007,-15,null,98,"Schwarzach im Pongau",590,2.0299999999999998,4420,-17,null,98,"Hainersdorf",300,3.12,3596,-13,null,98,"Mieders",952,2.91,4547,-15,null,98," "]
[null,null,null,null,null,null,null,null,null,null,null,null,99," ",0,0,-8,0,0,null,null,null,99," ",null,null,null,null,null,99,"Sauerbrunn",280,3.36,3528,-13,null,99,"Ludmannsdorf",565,2.58,4041,-16,null,99,"Franzen",535,2.4300000000000002,4393,-17,null,99,"Hargelsberg",324,3.22,3726,-14,null,99,"Seeham",504,3.21,3844,-15,null,99,"Halbenrain",221,3.19,3513,-13,null,99,"Mieming",807,2.5299999999999998,4403,-16,null,99," "]
[null,null,null,null,null,null,null,null,null,null,null,null,100," ",0,0,-8,0,0,null,null,null,100," ",null,null,null,null,null,100,"Schachendorf",277,3.45,3410,-13,null,100,"Mallnitz",1190,2.46,5069,-15,null,100,"Frättingsdorf",274,2.89,3782,-14,null,100,"Hartkirchen",273,3.32,3704,-15,null,100,"Seekirchen Markt",512,3.18,3903,-15,null,100,"Hartberg",360,3.29,3560,-12,null,100,"Mittewald an der Drau",880,2.17,4565,-16,null,100," "]
[null,null,null,null,null,null,null,null,null,null,null,null,101," ",0,0,-8,0,0,null,null,null,101," ",null,null,null,null,null,101,"Schattendorf",245,3.48,3469,-13,null,101,"Malta",835,2.82,4329,-15,null,101,"Freiland",402,3.37,3907,-14,null,101,"Haslach an der Mühl",531,2.81,4039,-14,null,101,"Straßwalchen",543,2.85,4237,-16,null,101,"Hatzendorf",270,3.09,3568,-13,null,101,"Mötz",655,2.5,4147,-16,null,101," "]
[null,null,null,null,null,null,null,null,null,null,null,null,102," ",0,0,-8,0,0,null,null,null,102," ",null,null,null,null,null,102,"Schützen am Gebirge",128,3.48,3321,-13,null,102,"Maria Elend",500,2.44,3969,-16,null,102,"Friedersbach",540,2.52,4510,-17,null,102,"Helfenberg",564,2.7,4135,-14,null,102,"Strobl",545,3.46,3937,-13,null,102,"Haus",772,2.3199999999999998,4578,-15,null,102,"Münster",534,2.96,3835,-15,null,102," "]
[null,null,null,null,null,null,null,null,null,null,null,null,103," ",0,0,-8,0,0,null,null,null,103," ",null,null,null,null,null,103,"Siegendorf im Burgenland",166,3.64,3289,-13,null,103,"Maria Luggau",1179,2.6,4871,-15,null,103,"Furth bei Göttweig",220,3.65,3434,-12,null,103,"Hellmonsödt",825,2.37,4583,-16,null,103,"Stuhlfelden",800,1.83,4814,-18,null,103,"Hausmannstätten",335,2.98,3626,-14,null,103,"Mutters",830,2.98,4290,-15,null,103," "]
[null,null,null,null,null,null,null,null,null,null,null,null,104," ",0,0,-8,0,0,null,null,null,104," ",null,null,null,null,null,104,"Sieggraben",448,3.14,3844,-14,null,104,"Maria Rain",540,2.3199999999999998,3977,-16,null,104,"Gaaden",322,3.48,3552,-13,null,104,"Herzogsdorf",590,2.65,4215,-15,null,104,"Tamsweg",1020,1.71,5066,-21,null,104,"Heilbrunn",1032,2.2599999999999998,4861,-16,null,104,"Nassereith",838,2.57,4444,-17,null,104," "]
[null,null,null,null,null,null,null,null,null,null,null,null,105," ",0,0,-8,0,0,null,null,null,105," ",null,null,null,null,null,105,"Sigleß",209,3.57,3385,-13,null,105,"Maria Rojach",438,2.56,3959,-15,null,105,"Gablitz",278,3.24,3671,-14,null,105,"Hinterstoder",585,2.93,4199,-15,null,105,"Taxenbach",779,2.1800000000000002,4581,-17,null,105,"Heiligenkreuz am Waasen",328,3.3,3456,-13,null,105,"Natters",783,2.98,4237,-15,null,105," "]
[null,null,null,null,null,null,null,null,null,null,null,null,106," ",0,0,-8,0,0,null,null,null,106," ",null,null,null,null,null,106,"Stadtschlaining",392,3.02,3820,-13,null,106,"Maria Saal",503,2.3199999999999998,3995,-16,null,106,"Gaming",430,2.87,4093,-16,null,106,"Hirschbach im Mühlkreis",640,2.61,4277,-15,null,106,"Tenneck",530,2.8,4110,-15,null,106,"Heimschuh",280,3.04,3578,-14,null,106,"Nauders",1394,1.84,5321,-18,null,106," "]
[null,null,null,null,null,null,null,null,null,null,null,null,107," ",0,0,-8,0,0,null,null,null,107," ",null,null,null,null,null,107,"Stegersbach",264,3.32,3453,-12,null,107,"Maria Wörth",458,2.46,3894,-16,null,107,"Gansbach",479,2.9,4105,-15,null,107,"Hofkirchen an der Trattnach",389,3.26,3734,-15,null,107,"Thalgau",544,3.15,4011,-15,null,107,"Hengsberg",347,3.02,3634,-14,null,107,"Nesselwängle",1147,2.4500000000000002,5038,-18,null,107," "]
[null,null,null,null,null,null,null,null,null,null,null,null,108," ",0,0,-8,0,0,null,null,null,108," ",null,null,null,null,null,108,"Steinberg",260,3.31,3554,-13,null,108,"Meiselding",638,2.41,4170,-15,null,108,"Gänserndorf",165,3.29,3525,-14,null,108,"Hofkirchen im Mühlkreis",596,2.65,4234,-16,null,108,"Tweng",1233,2.0299999999999998,5320,-19,null,108,"Hieflau",517,3.02,4092,-15,null,108,"Neustift im Stubaital",993,2.75,4640,-15,null,108," "]
[null,null,null,null,null,null,null,null,null,null,null,null,109," ",0,0,-8,0,0,null,null,null,109," ",null,null,null,null,null,109,"Steinbrunn",218,3.6,3345,-13,null,109,"Metnitz",851,2.33,4648,-15,null,109,"Gars am Kamp",244,3.1,3717,-14,null,109,"Hofkirchen im Traunkreis",342,3.16,3756,-14,null,109,"Unken",560,3.22,4161,-15,null,109,"Hirnsdorf",358,3.06,3694,-13,null,109,"Niederau",826,2,4751,-18,null,109," "]
[null,null,null,null,null,null,null,null,null,null,null,null,110," ",0,0,-8,0,0,null,null,null,110," ",null,null,null,null,null,110,"Stinatz",344,3.37,3476,-12,null,110,"Micheldorf",623,2.6,4159,-15,null,110,"Gastern",510,2.54,4295,-16,null,110,"Hohenzell",478,3.11,3986,-15,null,110,"Untertauern",1008,1.87,5004,-18,null,110,"Hirschegg Rein",896,2.78,4390,-14,null,110,"Niederndorf",500,2.94,4009,-16,null,110," "]
[null,null,null,null,null,null,null,null,null,null,null,null,111," ",0,0,-8,0,0,null,null,null,111," ",null,null,null,null,null,111,"Stoob",262,3.38,3524,-13,null,111,"Miklauzhof",512,2.3199999999999998,4083,-16,null,111,"Gaweinstal",190,3.26,3600,-14,null,111,"Höhnhart",470,3.06,3931,-16,null,111,"Uttendorf",785,1.81,4783,-18,null,111,"Hitzendorf",383,3.05,3695,-13,null,111,"Nikolsdorf",671,2.4300000000000002,4165,-16,null,111," "]
[null,null,null,null,null,null,null,null,null,null,null,null,112," ",0,0,-8,0,0,null,null,null,112," ",null,null,null,null,null,112,"Strem",207,3.24,3570,-14,null,112,"Millstatt",587,3.35,3830,-14,null,112,"Gedersdorf",197,3.3,3607,-13,null,112,"Hörsching",296,3.15,3690,-14,null,112,"Viehofen",855,1.98,4704,-18,null,112,"Ilz",295,3.12,3613,-13,null,112,"Oberau",936,2.0499999999999998,4882,-18,null,112," "]
[null,null,null,null,null,null,null,null,null,null,null,null,113," ",0,0,-8,0,0,null,null,null,113," ",null,null,null,null,null,113,"Tadten",122,3.4,3337,-14,null,113,"Mittertrixen",520,2.39,4068,-16,null,113,"Geras",465,2.48,4222,-16,null,113,"Julbach",600,2.68,4209,-15,null,113,"Wagrain Markt",839,2.36,4639,-17,null,113,"Irdning",668,2.69,4242,-15,null,113,"Obergurgl",1927,1.28,6271,-19,null,113," "]
[null,null,null,null,null,null,null,null,null,null,null,null,114," ",0,0,-8,0,0,null,null,null,114," ",null,null,null,null,null,114,"Trausdorf an der Wulka",151,3.75,3234,-12,null,114,"Möllbrücke",558,2.78,3960,-14,null,114,"Gerasdorf",166,3.59,3396,-13,null,114,"Katsdorf",303,3.25,3634,-13,null,114,"Wald im Pinzgau",1001,2.34,4750,-17,null,114,"Jagerberg",375,3.09,3601,-13,null,114,"Oberndorf in Tirol",687,2.2799999999999998,4465,-17,null,114," "]
[null,null,null,null,null,null,null,null,null,null,null,null,115," ",0,0,-8,0,0,null,null,null,115," ",null,null,null,null,null,115,"Unterkohlstätten",503,3.07,3944,-14,null,115,"Moosburg",503,2.39,3962,-16,null,115,"Getzersdorf bei Traismauer",226,3.47,3520,-13,null,115,"Kefermarkt",492,2.84,4085,-15,null,115,"Wals",446,3.18,3819,-15,null,115,"Johnsbach",780,2.2799999999999998,4589,-16,null,115,"Oberperfuss",814,2.84,4342,-15,null,115," "]
[null,null,null,null,null,null,null,null,null,null,null,null,116," ",0,0,-8,0,0,null,null,null,116," ",null,null,null,null,null,116,"Unterpullendorf",230,3.4,3485,-13,null,116,"Mörtschach",950,2.37,4513,-15,null,116,"Gföhl",570,2.42,4447,-16,null,116,"Kematen am Innbach",350,3.09,3822,-15,null,116,"Weißbach bei Lofer",764,2.36,4533,-17,null,116,"Judenburg",735,2.2599999999999998,4435,-15,null,116,"Obertilliach",1450,1.7,5673,-17,null,116," "]
[null,null,null,null,null,null,null,null,null,null,null,null,117," ",0,0,-8,0,0,null,null,null,117," ",null,null,null,null,null,117,"Unterrabnitz",328,3.23,3673,-13,null,117,"Mühldorf",598,2.84,4032,-14,null,117,"Gießhübl",414,3.24,3772,-14,null,117,"Kematen an der Krems",323,3.23,3690,-14,null,117,"Werfen",548,2.68,4156,-16,null,117,"Judendorf",385,3.34,3499,-12,null,117,"Obsteig",991,2.4700000000000002,4732,-17,null,117," "]
[null,null,null,null,null,null,null,null,null,null,null,null,118," ",0,0,-8,0,0,null,null,null,118," ",null,null,null,null,null,118,"Wallern im Burgenland",119,3.34,3233,-14,null,118,"Nötsch",558,2.48,4030,-16,null,118,"Glaubendorf",238,3.29,3609,-14,null,118,"Kirchberg bei Mattighofen",560,3.17,3956,-16,null,118,"Werfenweng",945,2.0499999999999998,4828,-17,null,118,"Kainach bei Voitsberg",544,2.88,4007,-14,null,118,"Oetz",820,2.67,4297,-16,null,118," "]
[null,null,null,null,null,null,null,null,null,null,null,null,119," ",0,0,-8,0,0,null,null,null,119," ",null,null,null,null,null,119,"Weiden am See",127,3.58,3334,-13,null,119,"Oberdrauburg",630,2.54,4103,-15,null,119,"Gloggnitz",442,3.47,3603,-14,null,119,"Kirchdorf an der Krems",450,3.17,3973,-14,null,119,"Zederhaus",1200,2.04,5244,-18,null,119,"Kaindorf",343,3.25,3567,-13,null,119,"Ötztal Bahnhof",704,2.5299999999999998,4193,-16,null,119," "]
[null,null,null,null,null,null,null,null,null,null,null,null,120," ",0,0,-8,0,0,null,null,null,120," ",null,null,null,null,null,120,"Weiden bei Rechnitz",333,3.27,3581,-13,null,120,"Obervellach",685,3.67,3821,-13,null,120,"Gmünd",492,2.77,4188,-17,null,120,"Kirchham",470,3.17,3922,-15,null,120,"Zell am See",758,2,4482,-18,null,120,"Kainisch",770,2.39,4595,-15,null,120,"Patsch",998,2.83,4620,-16,null,120," "]
[null,null,null,null,null,null,null,null,null,null,null,null,121," ",0,0,-8,0,0,null,null,null,121," ",null,null,null,null,null,121,"Weppersdorf",303,3.3,3590,-13,null,121,"Ossiach",508,2.5499999999999998,3909,-15,null,121,"Gnadendorf",268,3.06,3693,-14,null,121,"Kirchheim im Innkreis",433,3.13,3898,-15,null,121,"Zinkenbach",567,3.39,3970,-14,null,121,"Kalsdorf bei Graz",324,2.75,3744,-15,null,121,"Pertisau",950,2.35,4924,-17,null,121," "]
[null,null,null,null,null,null,null,null,null,null,null,null,122," ",0,0,-8,0,0,null,null,null,122," ",null,null,null,null,null,122,"Wiesen",320,3.3,3607,-13,null,122,"Patergassen",1020,2.69,4657,-16,null,122,"Göllersdorf",205,3.19,3732,-14,null,122,"Klaffer",638,2.59,4284,-15,null,122," ",null,null,null,null,null,122,"Kalwang",753,2.36,4709,-16,null,122,"Pettneu am Arlberg",1222,1.99,5170,-18,null,122," "]
[null,null,null,null,null,null,null,null,null,null,null,null,123," ",0,0,-8,0,0,null,null,null,123," ",null,null,null,null,null,123,"Winden am See",129,3.52,3362,-13,null,123,"Paternion",518,3.14,3810,-14,null,123,"Göpfritz an der Wild",586,2.35,4395,-17,null,123,"Klam",285,3.09,3721,-14,null,123," ",null,null,null,null,null,123,"Kammern im Liesingtal",670,2.7,4393,-15,null,123,"Pfaffenhofen",646,2.74,4056,-15,null,123," "]
[null,null,null,null,null,null,null,null,null,null,null,null,124," ",0,0,-8,0,0,null,null,null,124," ",null,null,null,null,null,124,"Wolfau",330,3.41,3450,-12,null,124,"Penk",660,2.98,4068,-14,null,124,"Gösing",320,2.93,3876,-14,null,124,"Klaus an der Pyhrnbahn",466,3.18,3969,-14,null,124," ",null,null,null,null,null,124,"Kapellen",705,2.56,4569,-16,null,124,"Pfunds Dorf",970,2.62,4502,-16,null,124," "]
[null,null,null,null,null,null,null,null,null,null,null,null,125," ",0,0,-8,0,0,null,null,null,125," ",null,null,null,null,null,125,"Wulkaprodersdorf",169,3.7,3244,-12,null,125,"Pischeldorf",460,2.39,3963,-16,null,125,"Gösing an der Mariazeller Bahn",869,3.19,4556,-16,null,125,"Kleinraming",356,3.27,3764,-14,null,125," ",null,null,null,null,null,125,"Kapfenberg",500,2.95,3939,-14,null,125,"Pians",856,3.12,4068,-15,null,125," "]
[null,null,null,null,null,null,null,null,null,null,null,null,126," ",0,0,-8,0,0,null,null,null,126," ",null,null,null,null,null,126,"Zemendorf",199,3.6,3345,-13,null,126,"Pörtschach am Wörthersee",446,2.4300000000000002,3882,-16,null,126,"Göstling an der Ybbs",532,2.85,4236,-16,null,126,"Kleinreifling",400,3.48,3899,-14,null,126," ",null,null,null,null,null,126,"Kapfenstein",300,3.14,3540,-13,null,126,"Prägraten",1330,2.08,5359,-16,null,126," "]
[null,null,null,null,null,null,null,null,null,null,null,null,127," ",0,0,-8,0,0,null,null,null,127," ",null,null,null,null,null,127,"Zillingtal",231,3.58,3399,-13,null,127,"Prebl",918,3,4438,-14,null,127,"Göttlesbrunn",170,3.41,3450,-14,null,127,"Kleinzell im Mühlkreis",548,2.82,4141,-15,null,127," ",null,null,null,null,null,127,"Katsch an der Mur",760,2.69,4432,-15,null,127,"Prutz",866,2.57,4392,-16,null,127," "]
[null,null,null,null,null,null,null,null,null,null,null,null,128," ",0,0,-8,0,0,null,null,null,128," ",null,null,null,null,null,128,"Zurndorf",137,3.44,3379,-13,null,128,"Preitenegg",1078,2.4500000000000002,4720,-16,null,128,"Götzendorf",164,3.25,3550,-14,null,128,"Kollerschlag",727,2.41,4469,-15,null,128," ",null,null,null,null,null,128,"Kindberg",565,2.95,4143,-15,null,128,"Rattenberg",520,2.93,3893,-15,null,128," "]
[null,null,null,null,null,null,null,null,null,null,null,null,129,{"$f":"INDEX(X$23:CG$723,$M151,(Bundesland-1)*7+1)","v":" "},{"$f":"INDEX(Y$23:CH$723,$M151,(Bundesland-1)*7+1)","v":0},{"$f":"INDEX(Z$23:CI$723,$M151,(Bundesland-1)*7+1)","v":0},-8,{"$f":"INDEX(AA$23:CK$723,$M151,(Bundesland-1)*7+1)","v":0},{"$f":"INDEX(AB$23:CL$723,$M151,(Bundesland-1)*7+1)","v":0},null,null,null,129," ",null,null,null,null,null,129," ",null,null,null,null,null,129,"Pusarnitz",601,2.76,4016,-14,null,129,"Götzendorf an der Leitha",171,3.46,3440,-14,null,129,"Königswiesen",600,2.52,4387,-16,null,129," ",null,null,null,null,null,129,"Kindberg-Aumühl",554,2.91,4119,-14,null,129,"Reith bei Brixlegg",637,2.72,4129,-16,null,129," "]
[null,null,null,null,null,null,null,null,null,null,null,null,130," ",0,0,{"$f":"MIN(S152+Zuschlag_A,-8)","v":-8},0,0,null,null,null,130," ",null,null,null,null,null,130," ",null,null,null,null,null,130,"Pustritz",786,2.81,4264,-15,null,130,"Grafenschlag",779,2,4951,-18,null,130,"Kopfing im Innkreis",546,2.78,4150,-16,null,130," ",null,null,null,null,null,130,"Kirchbach in Steiermark",334,3.31,3454,-13,null,130,"Reith bei Seefeld",1130,2.41,4979,-17,null,130," "]
[null,null,null,null,null,null,null,null,null,null,null,null,131," ",0,0,-8,0,0,null,null,null,131," ",null,null,null,null,null,131," ",null,null,null,null,null,131,"Radenthein",715,2.9,4104,-15,null,131,"Grafenwörth",187,3.41,3551,-13,null,131,"Kremsmünster",345,3.14,3710,-14,null,131," ",null,null,null,null,null,131,"Kirchberg an der Raab",370,3.2,3544,-13,null,131,"Reutte",854,2.73,4610,-19,null,131," "]
[null,null,null,null,null,null,null,null,null,null,null,null,132," ",0,0,-8,0,0,null,null,null,132," ",null,null,null,null,null,132," ",null,null,null,null,null,132,"Rangersdorf",864,2.42,4396,-15,null,132,"Grainbrunn",772,2.08,4911,-18,null,132,"Krenglbach",310,2.97,3917,-15,null,132," ",null,null,null,null,null,132,"Kitzeck im Sausal",500,3.04,3783,-14,null,132,"Ried im Oberinntal",877,2.5499999999999998,4432,-16,null,132," "]
[null,null,null,null,null,null,null,null,null,null,null,null,133," ",0,0,-8,0,0,null,null,null,133," ",null,null,null,null,null,133," ",null,null,null,null,null,133,"Rattendorf",604,2.72,4096,-15,null,133,"Gramatneusiedl",179,3.46,3424,-13,null,133,"Kreuzen",479,3,3944,-14,null,133," ",null,null,null,null,null,133,"Klöch",283,3.22,3558,-13,null,133,"Rietz",667,2.56,4133,-16,null,133," "]
[null,null,null,null,null,null,null,null,null,null,null,null,134," ",0,0,-8,0,0,null,null,null,134," ",null,null,null,null,null,134," ",null,null,null,null,null,134,"Reichenfels",799,2.78,4322,-14,null,134,"Greifenstein",190,3.42,3482,-13,null,134,"Kronstorf",276,3.29,3660,-14,null,134," ",null,null,null,null,null,134,"Knittelfeld",645,2.2000000000000002,4342,-16,null,134,"Rinn",918,2.98,4475,-15,null,134," "]
[null,null,null,null,null,null,null,null,null,null,null,null,135," ",0,0,-8,0,0,null,null,null,135," ",null,null,null,null,null,135," ",null,null,null,null,null,135,"Reifnitz",460,2.46,3893,-16,null,135,"Gresten",407,3.07,3961,-15,null,135,"Laakirchen",440,3.32,3819,-14,null,135," ",null,null,null,null,null,135,"Köflach",450,2.95,3904,-14,null,135,"Roppen",697,2.46,4139,-16,null,135," "]
[null,null,null,null,null,null,null,null,null,null,null,null,136," ",0,0,-8,0,0,null,null,null,136," ",null,null,null,null,null,136," ",null,null,null,null,null,136,"Reisach",660,2.4500000000000002,4283,-15,null,136,"Grimmenstein",410,3.1,3886,-14,null,136,"Lambach",367,2.96,3920,-15,null,136," ",null,null,null,null,null,136,"Köflach-Pichling",480,2.94,3907,-14,null,136,"Rum",621,3.08,3841,-14,null,136," "]
[null,null,null,null,null,null,null,null,null,null,null,null,137," ",0,0,-8,0,0,null,null,null,137," ",null,null,null,null,null,137," ",null,null,null,null,null,137,"Rennweg",1140,2,5148,-19,null,137,"Groß Sierning",241,3.35,3697,-14,null,137,"Lambrechten",402,3.1,3905,-15,null,137," ",null,null,null,null,null,137,"Koglhof",580,2.72,4131,-15,null,137,"Sankt Anton am Arlberg",1284,1.85,5299,-18,null,137," "]
[null,null,null,null,null,null,null,null,null,null,null,null,138," ",0,0,-8,0,0,null,null,null,138," ",null,null,null,null,null,138," ",null,null,null,null,null,138,"Riegersdorf",530,2.36,4040,-16,null,138,"Großau",480,2.5499999999999998,4222,-16,null,138,"Lasberg",574,2.56,4308,-15,null,138," ",null,null,null,null,null,138,"Krakaudorf",1170,2.34,5105,-17,null,138,"Sankt Jakob in Defereggen",1386,1.8,5533,-17,null,138," "]
[null,null,null,null,null,null,null,null,null,null,null,null,139," ",0,0,-8,0,0,null,null,null,139," ",null,null,null,null,null,139," ",null,null,null,null,null,139,"Rosegg",477,2.44,3934,-16,null,139,"Großebersdorf",193,3.29,3592,-14,null,139,"Lauffen",485,2.79,4183,-14,null,139," ",null,null,null,null,null,139,"Kraubath an der Mur",620,2.73,4127,-14,null,139,"Sankt Jodok am Brenner",1170,2.4,4997,-15,null,139," "]
[null,null,null,null,null,null,null,null,null,null,null,null,140," ",0,0,-8,0,0,null,null,null,140," ",null,null,null,null,null,140," ",null,null,null,null,null,140,"Rosenbach",601,2.5,4077,-16,null,140,"Groß-Engersdorf",160,3.32,3536,-14,null,140,"Laussa",435,3.31,3922,-15,null,140," ",null,null,null,null,null,140,"Krieglach",610,2.8,4301,-15,null,140,"Sankt Johann in Tirol",659,2.5,4357,-16,null,140," "]
[null,null,null,null,null,null,null,null,null,null,null,null,141," ",0,0,-8,0,0,null,null,null,141," ",null,null,null,null,null,141," ",null,null,null,null,null,141,"Rothenthurn",530,3.35,3747,-14,null,141,"Groß-Enzersdorf",156,3.49,3368,-14,null,141,"Lembach im Mühlkreis",554,2.76,4138,-15,null,141," ",null,null,null,null,null,141,"Krottendorf bei Ligist",360,2.92,3859,-14,null,141,"Sankt Leonhard im Pitztal",1371,1.1599999999999999,5802,-20,null,141," "]
[null,null,null,null,null,null,null,null,null,null,null,null,142," ",0,0,-8,0,0,null,null,null,142," ",null,null,null,null,null,142," ",null,null,null,null,null,142,"Ruden",465,2.52,4037,-16,null,142,"Groß-Gerungs",692,2.34,4627,-18,null,142,"Lenzing",490,2.78,4220,-16,null,142," ",null,null,null,null,null,142,"Kumberg",525,3.31,3689,-13,null,142,"Sankt Ulrich am Pillersee",847,2.0299999999999998,4781,-18,null,142," "]
[null,null,null,null,null,null,null,null,null,null,null,null,143," ",0,0,-8,0,0,null,null,null,143," ",null,null,null,null,null,143," ",null,null,null,null,null,143,"Sachsenburg",550,2.87,3956,-14,null,143,"Großgöttfritz",714,2.13,4896,-18,null,143,"Leonding",287,3.57,3566,-12,null,143," ",null,null,null,null,null,143,"Lafnitz",412,3.23,3639,-13,null,143,"Sankt Veit in Defereggen",1495,1.6,5779,-17,null,143," "]
[null,null,null,null,null,null,null,null,null,null,null,null,144," ",0,0,-8,0,0,null,null,null,144," ",null,null,null,null,null,144," ",null,null,null,null,null,144,"Sankt Andrä",433,2.65,3938,-15,null,144,"Großharras",198,3.24,3570,-14,null,144,"Leonstein",430,3.28,3896,-14,null,144," ",null,null,null,null,null,144,"Lainbach",491,3.08,4078,-14,null,144,"Sautens",809,2.64,4322,-16,null,144," "]
[null,null,null,null,null,null,null,null,null,null,null,null,145," ",0,0,-8,0,0,null,null,null,145," ",null,null,null,null,null,145," ",null,null,null,null,null,145,"Sankt Egyden",510,2.2400000000000002,4049,-16,null,145,"Großheinrichschlag",700,2.23,4781,-17,null,145,"Leopoldschlag Markt",626,2.52,4388,-16,null,145," ",null,null,null,null,null,145,"Langenwang",635,2.54,4487,-16,null,145,"Scharnitz",964,2.68,4693,-16,null,145," "]
[null,null,null,null,null,null,null,null,null,null,null,null,146," ",0,0,-8,0,0,null,null,null,146," ",null,null,null,null,null,146," ",null,null,null,null,null,146,"Sankt Georgen am Längsee",593,2.41,4134,-16,null,146,"Großkrut",180,3.06,3658,-14,null,146,"Liebenau",967,1.9,5032,-18,null,146," ",null,null,null,null,null,146,"Lannach",348,2.88,3697,-14,null,146,"Schattwald",1072,2.41,5013,-19,null,146," "]
[null,null,null,null,null,null,null,null,null,null,null,null,147," ",0,0,-8,0,0,null,null,null,147," ",null,null,null,null,null,147," ",null,null,null,null,null,147,"Sankt Georgen im Gailtal",720,2.2999999999999998,4302,-16,null,147,"Großmeiseldorf",274,3.19,3714,-14,null,147,"Linz",266,3.52,3527,-12,null,147," ",null,null,null,null,null,147,"Lassing-Kirchdorf",778,2.2000000000000002,4629,-16,null,147,"Scheffau am Wilden Kaiser",744,2.09,4604,-18,null,147," "]
[null,null,null,null,null,null,null,null,null,null,null,null,148," ",0,0,-8,0,0,null,null,null,148," ",null,null,null,null,null,148," ",null,null,null,null,null,148,"Sankt Georgen im Lavanttal",453,2.59,3970,-15,null,148,"Großmugl",217,3.3,3690,-14,null,148,"Linz-Ebelsberg",258,3.44,3528,-12,null,148," ",null,null,null,null,null,148,"Laßnitzhöhe",535,3.28,3629,-13,null,148,"Schlitters",547,2.98,3847,-15,null,148," "]
[null,null,null,null,null,null,null,null,null,null,null,null,149," ",0,0,-8,0,0,null,null,null,149," ",null,null,null,null,null,149," ",null,null,null,null,null,149,"Sankt Gertraud",500,2.73,3955,-15,null,149,"Großpertholz",711,2.35,4623,-18,null,149,"Linz-Gründberg",310,3.41,3601,-13,null,149," ",null,null,null,null,null,149,"Lebring",291,3.03,3580,-14,null,149,"Schönberg im Stubaital",1013,2.82,4656,-16,null,149," "]
[null,null,null,null,null,null,null,null,null,null,null,null,150," ",0,0,-8,0,0,null,null,null,150," ",null,null,null,null,null,150," ",null,null,null,null,null,150,"Sankt Jakob im Lesachtal",948,2.93,4369,-14,null,150,"Großriedenthal",278,3.1,3751,-14,null,150,"Linz-Kleinmünchen",260,3.5,3530,-12,null,150," ",null,null,null,null,null,150,"Leibnitz",274,3.07,3573,-14,null,150,"Schönwies",725,3.26,3917,-14,null,150," "]
[null,null,null,null,null,null,null,null,null,null,null,null,151," ",0,0,-8,0,0,null,null,null,151," ",null,null,null,null,null,151," ",null,null,null,null,null,151,"Sankt Jakob im Rosental",529,2.27,4061,-16,null,151,"Großrußbach",263,3.07,3724,-14,null,151,"Linz-Neue Heimat",260,3.47,3537,-13,null,151," ",null,null,null,null,null,151,"Leoben",540,3.05,3848,-14,null,151,"Schwaz",545,2.97,3832,-15,null,151," "]
[null,null,null,null,null,null,null,null,null,null,null,null,152," ",0,0,-8,0,0,null,null,null,152," ",null,null,null,null,null,152," ",null,null,null,null,null,152,"Sankt Kanzian am Klopeiner See",443,1.9,4072,-16,null,152,"Großschönau",670,2.4500000000000002,4545,-18,null,152,"Linz-Pöstlingberg",530,3.05,3984,-14,null,152," ",null,null,null,null,null,152,"Leutschach",351,3.04,3646,-14,null,152,"See",1056,2.67,4627,-16,null,152," "]
[null,null,null,null,null,null,null,null,null,null,null,null,153," ",0,0,-8,0,0,null,null,null,153," ",null,null,null,null,null,153," ",null,null,null,null,null,153,"Sankt Lorenzen im Lesachtal",1128,2.77,4721,-15,null,153,"Großschweinbarth",168,3.32,3552,-14,null,153,"Linz-Urfahr",265,3.52,3526,-12,null,153," ",null,null,null,null,null,153,"Lieboch",333,2.88,3681,-14,null,153,"Seefeld in Tirol",1182,2.2999999999999998,5079,-17,null,153," "]
[null,null,null,null,null,null,null,null,null,null,null,null,154," ",0,0,-8,0,0,null,null,null,154," ",null,null,null,null,null,154," ",null,null,null,null,null,154,"Sankt Margareten im Rosental",605,2.44,4092,-15,null,154,"Groß-Siegharts",535,2.4700000000000002,4296,-16,null,154,"Lochen",510,3.06,4014,-16,null,154," ",null,null,null,null,null,154,"Liezen",659,2.33,4452,-16,null,154,"Sellrain",909,2.79,4510,-16,null,154," "]
[null,null,null,null,null,null,null,null,null,null,null,null,155," ",0,0,-8,0,0,null,null,null,155," ",null,null,null,null,null,155," ",null,null,null,null,null,155,"Sankt Margarethen im Lavanttal",524,2.7,3978,-15,null,155,"Großweikersdorf",210,3.34,3648,-14,null,155,"Lohnsburg",523,3.02,4042,-16,null,155," ",null,null,null,null,null,155,"Ligist",387,2.94,3822,-14,null,155,"Serfaus",1427,2.14,5358,-17,null,155," "]
[null,null,null,null,null,null,null,null,null,null,null,null,156," ",0,0,-8,0,0,null,null,null,156," ",null,null,null,null,null,156," ",null,null,null,null,null,156,"Sankt Michael",505,2.2799999999999998,4075,-16,null,156,"Grünbach am Schneeberg",549,3.13,4049,-15,null,156,"Loibichl",490,3.25,3920,-15,null,156," ",null,null,null,null,null,156,"Lödersdorf",274,3.19,3530,-13,null,156,"Sillian",1079,1.96,4979,-17,null,156," "]
[null,null,null,null,null,null,null,null,null,null,null,null,157," ",0,0,-8,0,0,null,null,null,157," ",null,null,null,null,null,157," ",null,null,null,null,null,157,"Sankt Michael im Lavanttal",515,2.67,3969,-15,null,157,"Gumpoldskirchen",240,3.66,3349,-13,null,157,"Losenstein",350,3.45,3773,-14,null,157," ",null,null,null,null,null,157,"Loipersdorf bei Fürstenfeld",260,3.16,3571,-14,null,157,"Silz",653,2.5099999999999998,4145,-16,null,157," "]
[null,null,null,null,null,null,null,null,null,null,null,null,158," ",0,0,-8,0,0,null,null,null,158," ",null,null,null,null,null,158," ",null,null,null,null,null,158,"Sankt Paul im Lavanttal",400,2.52,3934,-15,null,158,"Günselsdorf",243,3.61,3426,-13,null,158,"Marchtrenk",304,3.22,3692,-14,null,158," ",null,null,null,null,null,158,"Maria Lankowitz",515,2.95,3955,-14,null,158,"Sistrans",919,2.96,4464,-15,null,158," "]
[null,null,null,null,null,null,null,null,null,null,null,null,159," ",0,0,-8,0,0,null,null,null,159," ",null,null,null,null,null,159," ",null,null,null,null,null,159,"Sankt Primus",515,1.95,4133,-16,null,159,"Guntersdorf",246,3.14,3676,-14,null,159,"Maria Neustift",607,3,4283,-16,null,159," ",null,null,null,null,null,159,"Mariahof",960,2.5299999999999998,4647,-15,null,159,"Solbad Hall in Tirol",574,3.13,3762,-14,null,159," "]
[null,null,null,null,null,null,null,null,null,null,null,null,160," ",0,0,-8,0,0,null,null,null,160," ",null,null,null,null,null,160," ",null,null,null,null,null,160,"Sankt Salvator",675,2.5499999999999998,4293,-15,null,160,"Guntramsdorf",190,3.76,3280,-13,null,160,"Maria Schmolln",585,2.95,4126,-16,null,160," ",null,null,null,null,null,160,"Mariazell",868,2.76,4637,-16,null,160,"Sölden",1377,1.81,5513,-18,null,160," "]
[null,null,null,null,null,null,null,null,null,null,null,null,161," ",0,0,-8,0,0,null,null,null,161," ",null,null,null,null,null,161," ",null,null,null,null,null,161,"Sankt Stefan an der Gail",725,2.46,4280,-16,null,161,"Gutenbrunn",858,2.13,4987,-17,null,161,"Mattighofen",455,3.06,3931,-16,null,161," ",null,null,null,null,null,161,"Markt Hartmannsdorf",331,3,3671,-13,null,161,"Söll",698,2.1800000000000002,4509,-17,null,161," "]
[null,null,null,null,null,null,null,null,null,null,null,null,162," ",0,0,-8,0,0,null,null,null,162," ",null,null,null,null,null,162," ",null,null,null,null,null,162,"Sankt Stefan im Lavanttal",432,2.63,3909,-15,null,162,"Gutenstein",482,3.15,3977,-15,null,162,"Mauerkirchen",407,3.1,3888,-15,null,162," ",null,null,null,null,null,162,"Mautern in Steiermark",713,2.65,4476,-15,null,162,"Stams",671,2.4900000000000002,4167,-16,null,162," "]
[null,null,null,null,null,null,null,null,null,null,null,null,163," ",0,0,-8,0,0,null,null,null,163," ",null,null,null,null,null,163," ",null,null,null,null,null,163,"Sankt Veit an der Glan",482,2.3199999999999998,3960,-16,null,163,"Haag",346,3.08,3790,-14,null,163,"Mauthausen",255,3.26,3600,-13,null,163," ",null,null,null,null,null,163,"Mettersdorf am Saßbach",278,3.09,3551,-13,null,163,"Stans",550,3.01,3840,-15,null,163," "]
[null,null,null,null,null,null,null,null,null,null,null,null,164," ",0,0,-8,0,0,null,null,null,164," ",null,null,null,null,null,164," ",null,null,null,null,null,164,"Sattendorf",540,2.64,3924,-15,null,164,"Hadersdorf am Kamp",202,3.22,3657,-13,null,164,"Meggenhofen",390,3.19,3731,-15,null,164," ",null,null,null,null,null,164,"Mitterdorf im Mürztal",585,2.91,4204,-15,null,164,"Stanzach",939,2.57,4723,-18,null,164," "]
[null,null,null,null,null,null,null,null,null,null,null,null,165," ",0,0,-8,0,0,null,null,null,165," ",null,null,null,null,null,165," ",null,null,null,null,null,165,"Schiefling",565,2.67,3933,-15,null,165,"Hadres",191,3.27,3597,-14,null,165,"Mehrnbach",444,3.11,3953,-15,null,165," ",null,null,null,null,null,165,"Mixnitz",450,3.07,3809,-14,null,165,"Steeg",1114,2.36,4993,-17,null,165," "]
[null,null,null,null,null,null,null,null,null,null,null,null,166," ",0,0,-8,0,0,null,null,null,166," ",null,null,null,null,null,166," ",null,null,null,null,null,166,"Seeboden",618,3.15,3927,-14,null,166,"Haidershofen",285,3.28,3696,-14,null,166,"Mettmach",464,3.09,3922,-16,null,166," ",null,null,null,null,null,166,"Möderbrugg",915,2.48,4659,-15,null,166,"Steinach",1048,2.71,4754,-15,null,166," "]
[null,null,null,null,null,null,null,null,null,null,null,null,167," ",0,0,-8,0,0,null,null,null,167," ",null,null,null,null,null,167," ",null,null,null,null,null,167,"Sirnitz",837,2.33,4577,-16,null,167,"Hainburg an der Donau",161,3.82,3316,-14,null,167,"Michaelnbach",395,2.98,3948,-16,null,167," ",null,null,null,null,null,167,"Mönichwald",574,3,3994,-14,null,167,"Strass im Zillertal",523,2.98,3795,-15,null,167," "]
[null,null,null,null,null,null,null,null,null,null,null,null,168," ",0,0,-8,0,0,null,null,null,168," ",null,null,null,null,null,168," ",null,null,null,null,null,168,"Spittal an der Drau",554,3.11,3868,-14,null,168,"Hainfeld",430,3.2,3981,-14,null,168,"Micheldorf in Oberösterreich",463,3.14,3996,-14,null,168," ",null,null,null,null,null,168,"Mooskirchen",340,2.94,3718,-14,null,168,"Strengen",1012,2.78,4495,-16,null,168," "]
[null,null,null,null,null,null,null,null,null,null,null,null,169," ",0,0,-8,0,0,null,null,null,169," ",null,null,null,null,null,169," ",null,null,null,null,null,169,"Stall",828,2.62,4328,-15,null,169,"Haitzendorf",193,3.28,3594,-13,null,169,"Mining",346,3.14,3810,-15,null,169," ",null,null,null,null,null,169,"Mühlen",960,2.5099999999999998,4652,-15,null,169,"Tannheim",1097,2.4300000000000002,5042,-19,null,169," "]
[null,null,null,null,null,null,null,null,null,null,null,null,170," ",0,0,-8,0,0,null,null,null,170," ",null,null,null,null,null,170," ",null,null,null,null,null,170,"Steindorf",520,2.5099999999999998,3987,-15,null,170,"Hardegg",308,2.92,3825,-15,null,170,"Mistelbach bei Wels",379,3.11,3835,-14,null,170," ",null,null,null,null,null,170,"Murau",830,2.7,4429,-15,null,170,"Tarrenz",838,2.4500000000000002,4334,-17,null,170," "]
[null,null,null,null,null,null,null,null,null,null,null,null,171," ",0,0,-8,0,0,null,null,null,171," ",null,null,null,null,null,171," ",null,null,null,null,null,171,"Steinfeld",616,2.42,4184,-15,null,171,"Haringsee",146,3.22,3507,-14,null,171,"Mitterkirchen",234,3.03,3699,-14,null,171," ",null,null,null,null,null,171,"Mürzhofen",545,2.91,4068,-14,null,171,"Telfes im Stubai",994,2.77,4634,-16,null,171," "]
[null,null,null,null,null,null,null,null,null,null,null,null,172," ",0,0,-8,0,0,null,null,null,172," ",null,null,null,null,null,172," ",null,null,null,null,null,172,"Stockenboi",775,2.99,4202,-15,null,172,"Harland",288,3.19,3699,-14,null,172,"Molln",442,3.29,3910,-14,null,172," ",null,null,null,null,null,172,"Mürzsteg",790,2.68,4589,-16,null,172,"Telfs",634,2.73,4041,-15,null,172," "]
[null,null,null,null,null,null,null,null,null,null,null,null,173," ",0,0,-8,0,0,null,null,null,173," ",null,null,null,null,null,173," ",null,null,null,null,null,173,"Straßburg",643,2.2799999999999998,4448,-15,null,173,"Harmannsdorf",175,3.44,3477,-13,null,173,"Mönchdorf",682,2.4900000000000002,4430,-16,null,173," ",null,null,null,null,null,173,"Mürzzuschlag",673,2.4500000000000002,4580,-16,null,173,"Terfens",591,2.94,3941,-15,null,173," "]
[null,null,null,null,null,null,null,null,null,null,null,null,174," ",0,0,-8,0,0,null,null,null,174," ",null,null,null,null,null,174," ",null,null,null,null,null,174,"Tainach",442,2.12,4040,-16,null,174,"Harmannsdorf",420,2.56,4133,-15,null,174,"Mondsee",490,3.25,3902,-15,null,174," ",null,null,null,null,null,174,"Mürzzuschlag-Hönigsberg",653,2.4900000000000002,4536,-16,null,174,"Thal-Assling",814,2.33,4383,-16,null,174," "]
[null,null,null,null,null,null,null,null,null,null,null,null,175," ",0,0,-8,0,0,null,null,null,175," ",null,null,null,null,null,175," ",null,null,null,null,null,175,"Techendorf",940,1.92,4755,-17,null,175,"Haugsdorf",204,3.23,3622,-14,null,175,"Moosbach",402,3.11,3867,-15,null,175," ",null,null,null,null,null,175,"Nestelbach bei Graz",460,3.26,3566,-13,null,175,"Thaur",633,3.07,3894,-14,null,175," "]
[null,null,null,null,null,null,null,null,null,null,null,null,176," ",0,0,-8,0,0,null,null,null,176," ",null,null,null,null,null,176," ",null,null,null,null,null,176,"Thörl-Maglern",646,2.35,4200,-16,null,176,"Hausbrunn",194,3.22,3642,-14,null,176,"Moosdorf",489,3.2,3898,-15,null,176," ",null,null,null,null,null,176,"Neuberg an der Mürz",727,2.69,4535,-16,null,176,"Thiersee",678,2.38,4422,-17,null,176," "]
[null,null,null,null,null,null,null,null,null,null,null,null,177," ",0,0,-8,0,0,null,null,null,177," ",null,null,null,null,null,177," ",null,null,null,null,null,177,"Trebesing",751,2.93,4183,-15,null,177,"Hauskirchen",182,3.19,3598,-14,null,177,"Mühlheim am Inn",338,3.2,3797,-15,null,177," ",null,null,null,null,null,177,"Neudau",290,3.36,3427,-12,null,177,"Tösens",931,2.83,4413,-15,null,177," "]
[null,null,null,null,null,null,null,null,null,null,null,null,178," ",0,0,-8,0,0,null,null,null,178," ",null,null,null,null,null,178," ",null,null,null,null,null,178,"Treffen",543,2.67,3934,-15,null,178,"Hausleiten",177,3.5,3580,-13,null,178,"Munderfing",465,3.09,3958,-16,null,178," ",null,null,null,null,null,178,"Neumarkt in Steiermark",836,2.4500000000000002,4492,-15,null,178,"Trins",1225,2.29,5100,-15,null,178," "]
[null,null,null,null,null,null,null,null,null,null,null,null,179," ",0,0,-8,0,0,null,null,null,179," ",null,null,null,null,null,179," ",null,null,null,null,null,179,"Treibach",600,2.63,3909,-14,null,179,"Hausmening",320,3.32,3720,-13,null,179,"Münzbach",428,3.11,3784,-14,null,179," ",null,null,null,null,null,179,"Niederwölz",749,2.58,4390,-15,null,179,"Uderns",547,2.69,3998,-15,null,179," "]
[null,null,null,null,null,null,null,null,null,null,null,null,180," ",0,0,-8,0,0,null,null,null,180," ",null,null,null,null,null,180," ",null,null,null,null,null,180,"Twimberg",604,2.96,4056,-14,null,180,"Heidenreichstein",560,2.46,4421,-17,null,180,"Münzkirchen",486,2.86,4045,-16,null,180," ",null,null,null,null,null,180,"Niklasdorf",515,3.02,3838,-14,null,180,"Umhausen",1036,2.77,4584,-16,null,180," "]
[null,null,null,null,null,null,null,null,null,null,null,null,181," ",0,0,-8,0,0,null,null,null,181," ",null,null,null,null,null,181," ",null,null,null,null,null,181,"Unterbergen im Rosental",480,2.27,3935,-16,null,181,"Heiligenkreuz",317,3.42,3630,-14,null,181,"Naarn im Machlande",240,3.21,3594,-14,null,181," ",null,null,null,null,null,181,"Obdach",870,2.4500000000000002,4528,-15,null,181,"Vent",1893,0.78,6593,-20,null,181," "]
[null,null,null,null,null,null,null,null,null,null,null,null,182," ",0,0,-8,0,0,null,null,null,182," ",null,null,null,null,null,182," ",null,null,null,null,null,182,"Velden am Wörthersee",450,2.52,3828,-15,null,182,"Heinrichs bei Weitra",592,2.64,4375,-17,null,182,"Natternbach",432,2.89,4021,-16,null,182," ",null,null,null,null,null,182,"Oberhaag",322,3.14,3608,-14,null,182,"Vils",828,2.57,4672,-19,null,182," "]
[null,null,null,null,null,null,null,null,null,null,null,null,183," ",0,0,-8,0,0,null,null,null,183," ",null,null,null,null,null,183," ",null,null,null,null,null,183,"Villach",501,2.44,3985,-16,null,183,"Hennersdorf bei Wien",183,3.49,3500,-13,null,183,"Neufelden",517,2.84,4067,-14,null,183," ",null,null,null,null,null,183,"Oberort",780,2.64,4497,-15,null,183,"Virgen",1194,2.35,5047,-16,null,183," "]
[null,null,null,null,null,null,null,null,null,null,null,null,184," ",0,0,-8,0,0,null,null,null,184," ",null,null,null,null,null,184," ",null,null,null,null,null,184,"Völkermarkt",464,2.29,4038,-16,null,184,"Herrnbaumgarten",212,3,3756,-15,null,184,"Neuhaus an der Donau",428,3.06,3947,-15,null,184," ",null,null,null,null,null,184,"Oberwölz Stadt",835,2.66,4596,-15,null,184,"Volders",558,3.09,3754,-14,null,184," "]
[null,null,null,null,null,null,null,null,null,null,null,null,185," ",0,0,-8,0,0,null,null,null,185," ",null,null,null,null,null,185," ",null,null,null,null,null,185,"Vorderberg",565,2.65,4009,-15,null,185,"Herzogenburg",225,3.43,3562,-13,null,185,"Neuhofen an der Krems",303,3.23,3672,-14,null,185," ",null,null,null,null,null,185,"Oberzeiring",930,2.4900000000000002,4676,-15,null,185,"Völs",594,2.88,3921,-15,null,185," "]
[null,null,null,null,null,null,null,null,null,null,null,null,186," ",0,0,-8,0,0,null,null,null,186," ",null,null,null,null,null,186," ",null,null,null,null,null,186,"Weißbriach",795,2.84,4308,-15,null,186,"Himberg",173,3.59,3365,-13,null,186,"Neukirchen",550,3.13,4031,-15,null,186," ",null,null,null,null,null,186,"Öblarn",680,2.62,4362,-15,null,186,"Vomp",566,2.91,3896,-15,null,186," "]
[null,null,null,null,null,null,null,null,null,null,null,null,187," ",0,0,-8,0,0,null,null,null,187," ",null,null,null,null,null,187," ",null,null,null,null,null,187,"Weißenstein",556,2.97,3899,-15,null,187,"Hinterbrühl",252,3.59,3413,-13,null,187,"Neukirchen am Walde",555,2.65,4216,-16,null,187," ",null,null,null,null,null,187,"Ottendorf bei Gleisdorf",296,3.06,3609,-13,null,187,"Vomperbach",560,2.96,3886,-15,null,187," "]
[null,null,null,null,null,null,null,null,null,null,null,null,188," ",0,0,-8,0,0,null,null,null,188," ",null,null,null,null,null,188," ",null,null,null,null,null,188,"Weitensfeld",702,2.04,4561,-17,null,188,"Hintersdorf",363,2.93,3738,-14,null,188,"Neukirchen an der Enknach",404,3.09,3890,-15,null,188," ",null,null,null,null,null,188,"Paldau",312,3.18,3533,-13,null,188,"Waidring",774,2.2400000000000002,4636,-17,null,188," "]
[null,null,null,null,null,null,null,null,null,null,null,null,189," ",0,0,-8,0,0,null,null,null,189," ",null,null,null,null,null,189," ",null,null,null,null,null,189,"Weizelsdorf",432,2.19,3937,-16,null,189,"Hirschbach",540,2.4300000000000002,4393,-17,null,189,"Neukirchen an der Vöckla",516,2.79,4200,-17,null,189," ",null,null,null,null,null,189,"Palfau",600,2.74,4332,-15,null,189,"Walchsee",658,2.38,4388,-17,null,189," "]
[null,null,null,null,null,null,null,null,null,null,null,null,190," ",0,0,-8,0,0,null,null,null,190," ",null,null,null,null,null,190," ",null,null,null,null,null,190,"Wieting",664,2.29,4304,-16,null,190,"Hirtenberg",280,3.29,3609,-14,null,190,"Neukirchen bei Lambach",401,2.98,3949,-15,null,190," ",null,null,null,null,null,190,"Passail",655,2.89,4071,-14,null,190,"Wattens",564,3.1,3785,-15,null,190," "]
[null,null,null,null,null,null,null,null,null,null,null,null,191," ",0,0,-8,0,0,null,null,null,191," ",null,null,null,null,null,191," ",null,null,null,null,null,191,"Wildbad Einöd",740,2.54,4366,-15,null,191,"Hochneukirchen",769,2.8,4129,-14,null,191,"Neumarkt im Hausruckkreis",386,3.2,3781,-15,null,191," ",null,null,null,null,null,191,"Peggau",405,2.89,3850,-14,null,191,"Weerberg",880,2.72,4578,-16,null,191," "]
[null,null,null,null,null,null,null,null,null,null,null,null,192," ",0,0,-8,0,0,null,null,null,192," ",null,null,null,null,null,192," ",null,null,null,null,null,192,"Winklern",965,2.41,4538,-16,null,192,"Hochwolkersdorf",627,2.91,4220,-15,null,192,"Neumarkt im Mühlkreis",632,2.62,4310,-15,null,192," ",null,null,null,null,null,192,"Pernegg an der Mur",475,2.98,3881,-14,null,192,"Weißenbach am Lech",887,2.66,4700,-19,null,192," "]
[null,null,null,null,null,null,null,null,null,null,null,null,193,{"$f":"INDEX(X$23:CG$723,$M215,(Bundesland-1)*7+1)","v":" "},{"$f":"INDEX(Y$23:CH$723,$M215,(Bundesland-1)*7+1)","v":0},{"$f":"INDEX(Z$23:CI$723,$M215,(Bundesland-1)*7+1)","v":0},-8,{"$f":"INDEX(AA$23:CK$723,$M215,(Bundesland-1)*7+1)","v":0},{"$f":"INDEX(AB$23:CL$723,$M215,(Bundesland-1)*7+1)","v":0},null,null,null,193," ",null,null,null,null,null,193," ",null,null,null,null,null,193,"Wolfsberg",456,2.6,3914,-15,null,193,"Hof am Leithaberge",215,3.43,3496,-13,null,193,"Neustift",550,2.72,4164,-15,null,193," ",null,null,null,null,null,193,"Pichl",800,2.0699999999999998,4662,-16,null,193,"Wenns",985,2.74,4454,-16,null,193," "]
[null,null,null,null,null,null,null,null,null,null,null,null,194," ",0,0,{"$f":"MIN(S216+Zuschlag_A,-8)","v":-8},0,0,null,null,null,194," ",null,null,null,null,null,194," ",null,null,null,null,null,194,"Zlan",796,3,4217,-15,null,194,"Höflein",175,3.34,3466,-14,null,194,"Neuzeug",315,3.28,3712,-14,null,194," ",null,null,null,null,null,194,"Pinggau",529,3.02,3940,-14,null,194,"Westendorf",784,1.98,4684,-18,null,194," "]
[null,null,null,null,null,null,null,null,null,null,null,null,195," ",0,0,-8,0,0,null,null,null,195," ",null,null,null,null,null,195," ",null,null,null,null,null,195,"Zweinitz",720,2.0499999999999998,4612,-16,null,195,"Höflein an der Donau",179,3.43,3463,-13,null,195,"Neydharting",390,2.94,3941,-15,null,195," ",null,null,null,null,null,195,"Pischelsdorf in Steiermark",379,2.88,3801,-14,null,195,"Wildschönau-Auffach",869,2.1,4779,-18,null,195," "]
[null,null,null,null,null,null,null,null,null,null,null,null,196," ",0,0,-8,0,0,null,null,null,196," ",null,null,null,null,null,196," ",null,null,null,null,null,196," ",null,null,null,null,null,196,"Hofstetten",312,3.37,3774,-14,null,196,"Niederkappel",545,2.72,4147,-15,null,196," ",null,null,null,null,null,196,"Pölfing",320,3.19,3581,-14,null,196,"Wildschönau-Niederau",826,2,4751,-18,null,196," "]
[null,null,null,null,null,null,null,null,null,null,null,null,197," ",0,0,-8,0,0,null,null,null,197," ",null,null,null,null,null,197," ",null,null,null,null,null,197," ",null,null,null,null,null,197,"Hohe Wand-Stollhof",459,3.19,3884,-14,null,197,"Niederneukirchen",336,3.2,3730,-14,null,197," ",null,null,null,null,null,197,"Pöllau (Hartberg)",425,3.12,3747,-13,null,197,"Wildschönau-Oberau",936,2.0499999999999998,4882,-18,null,197," "]
[null,null,null,null,null,null,null,null,null,null,null,null,198," ",0,0,-8,0,0,null,null,null,198," ",null,null,null,null,null,198," ",null,null,null,null,null,198," ",null,null,null,null,null,198,"Hohenau an der March",153,3.33,3585,-14,null,198,"Niederthalheim",428,3.14,3843,-15,null,198," ",null,null,null,null,null,198,"Pöls ob Judenburg",790,2.52,4476,-15,null,198,"Wörgl",513,2.69,4084,-16,null,198," "]
[null,null,null,null,null,null,null,null,null,null,null,null,199," ",0,0,-8,0,0,null,null,null,199," ",null,null,null,null,null,199," ",null,null,null,null,null,199," ",null,null,null,null,null,199,"Hohenberg",480,3.24,4057,-15,null,199,"Niederwaldkirchen",527,2.81,4109,-15,null,199," ",null,null,null,null,null,199,"Preding",328,3,3621,-14,null,199,"Zams",775,3.37,3975,-14,null,199," "]
[null,null,null,null,null,null,null,null,null,null,null,null,200," ",0,0,-8,0,0,null,null,null,200," ",null,null,null,null,null,200," ",null,null,null,null,null,200," ",null,null,null,null,null,200,"Hoheneich",521,2.63,4291,-17,null,200,"Nußbach",464,3.01,3924,-14,null,200," ",null,null,null,null,null,200,"Predlitz",925,1.9,4870,-21,null,200,"Zell am Ziller",575,2.4900000000000002,4168,-15,null,200," "]
[null,null,null,null,null,null,null,null,null,null,null,null,201," ",0,0,-8,0,0,null,null,null,201," ",null,null,null,null,null,201," ",null,null,null,null,null,201," ",null,null,null,null,null,201,"Hohenruppersdorf",210,3.18,3616,-14,null,201,"Nußdorf am Attersee",497,3.1,4090,-15,null,201," ",null,null,null,null,null,201,"Pruggern",692,2.83,4345,-14,null,201,"Zirl",622,2.9,3949,-15,null,201," "]
[null,null,null,null,null,null,null,null,null,null,null,null,202," ",0,0,-8,0,0,null,null,null,202," ",null,null,null,null,null,202," ",null,null,null,null,null,202," ",null,null,null,null,null,202,"Hohenwarth",360,2.82,3952,-14,null,202,"Obergrünburg",417,3.36,3876,-14,null,202," ",null,null,null,null,null,202,"Puch bei Weiz",450,3.19,3716,-13,null,202," ",null,null,null,null,null,202," "]
[null,null,null,null,null,null,null,null,null,null,null,null,203," ",0,0,-8,0,0,null,null,null,203," ",null,null,null,null,null,203," ",null,null,null,null,null,203," ",null,null,null,null,null,203,"Hollabrunn",237,3.45,3526,-13,null,203,"Oberhofen am Irrsee",572,2.79,4285,-16,null,203," ",null,null,null,null,null,203,"Pusterwald",1072,2.48,4905,-15,null,203," ",null,null,null,null,null,203," "]
[null,null,null,null,null,null,null,null,null,null,null,null,204," ",0,0,-8,0,0,null,null,null,204," ",null,null,null,null,null,204," ",null,null,null,null,null,204," ",null,null,null,null,null,204,"Hollenburg",195,3.54,3456,-13,null,204,"Oberkappel",496,2.8,4077,-15,null,204," ",null,null,null,null,null,204,"Radkersburg",208,3.24,3503,-13,null,204," ",null,null,null,null,null,204," "]
[null,null,null,null,null,null,null,null,null,null,null,null,205," ",0,0,-8,0,0,null,null,null,205," ",null,null,null,null,null,205," ",null,null,null,null,null,205," ",null,null,null,null,null,205,"Hollenstein an der Ybbs",487,3.16,4075,-15,null,205,"Obermühl an der Donau",278,3.25,3736,-15,null,205," ",null,null,null,null,null,205,"Radmer",772,2.7,4463,-15,null,205," ",null,null,null,null,null,205," "]
[null,null,null,null,null,null,null,null,null,null,null,null,206," ",0,0,-8,0,0,null,null,null,206," ",null,null,null,null,null,206," ",null,null,null,null,null,206," ",null,null,null,null,null,206,"Hollenthon",661,2.86,4267,-14,null,206,"Obernberg am Inn",345,3.15,3841,-15,null,206," ",null,null,null,null,null,206,"Ramsau",1135,2.14,5107,-16,null,206," ",null,null,null,null,null,206," "]
[null,null,null,null,null,null,null,null,null,null,null,null,207," ",0,0,-8,0,0,null,null,null,207," ",null,null,null,null,null,207," ",null,null,null,null,null,207," ",null,null,null,null,null,207,"Horn",309,2.87,3854,-15,null,207,"Oberneukirchen",768,2.33,4540,-16,null,207," ",null,null,null,null,null,207,"Ranten",930,2.5099999999999998,4688,-16,null,207," ",null,null,null,null,null,207," "]
[null,null,null,null,null,null,null,null,null,null,null,null,208," ",0,0,-8,0,0,null,null,null,208," ",null,null,null,null,null,208," ",null,null,null,null,null,208," ",null,null,null,null,null,208,"Hötzelsdorf",475,2.4900000000000002,4237,-16,null,208,"Obertraun",518,3.38,3890,-12,null,208," ",null,null,null,null,null,208,"Ratten",854,2.5299999999999998,4542,-16,null,208," ",null,null,null,null,null,208," "]
[null,null,null,null,null,null,null,null,null,null,null,null,209," ",0,0,-8,0,0,null,null,null,209," ",null,null,null,null,null,209," ",null,null,null,null,null,209," ",null,null,null,null,null,209,"Hürm",265,3.3,3774,-14,null,209,"Oberwang",579,2.98,4119,-15,null,209," ",null,null,null,null,null,209,"Rein",460,3.15,3723,-13,null,209," ",null,null,null,null,null,209," "]
[null,null,null,null,null,null,null,null,null,null,null,null,210," ",0,0,-8,0,0,null,null,null,210," ",null,null,null,null,null,210," ",null,null,null,null,null,210," ",null,null,null,null,null,210,"Idolsberg",430,2.6,4159,-16,null,210,"Oberweis",454,3.39,3788,-14,null,210," ",null,null,null,null,null,210,"Rettenegg",862,2.54,4680,-16,null,210," ",null,null,null,null,null,210," "]
[null,null,null,null,null,null,null,null,null,null,null,null,211," ",0,0,-8,0,0,null,null,null,211," ",null,null,null,null,null,211," ",null,null,null,null,null,211," ",null,null,null,null,null,211,"Immendorf",236,3.22,3658,-14,null,211,"Offenhausen",386,3.06,3879,-15,null,211," ",null,null,null,null,null,211,"Riegersburg",376,3.09,3652,-13,null,211," ",null,null,null,null,null,211," "]
[null,null,null,null,null,null,null,null,null,null,null,null,212," ",0,0,-8,0,0,null,null,null,212," ",null,null,null,null,null,212," ",null,null,null,null,null,212," ",null,null,null,null,null,212,"Innermanzing",208,3.4,3570,-14,null,212,"Oftering",316,3.08,3722,-14,null,212," ",null,null,null,null,null,212,"Rohrbach an der Lafnitz",430,3.19,3664,-13,null,212," ",null,null,null,null,null,212," "]
[null,null,null,null,null,null,null,null,null,null,null,null,213," ",0,0,-8,0,0,null,null,null,213," ",null,null,null,null,null,213," ",null,null,null,null,null,213," ",null,null,null,null,null,213,"Irnfritz",565,2.34,4432,-17,null,213,"Ohlsdorf",532,3.26,3917,-15,null,213," ",null,null,null,null,null,213,"Rosental an der Kainach",460,2.93,3925,-14,null,213," ",null,null,null,null,null,213," "]
[null,null,null,null,null,null,null,null,null,null,null,null,214," ",0,0,-8,0,0,null,null,null,214," ",null,null,null,null,null,214," ",null,null,null,null,null,214," ",null,null,null,null,null,214,"Jagenbach",580,2.5299999999999998,4456,-17,null,214,"Ort im Innkreis",360,3.07,3859,-15,null,214," ",null,null,null,null,null,214,"Rottenmann",674,2.14,4572,-16,null,214," ",null,null,null,null,null,214," "]
[null,null,null,null,null,null,null,null,null,null,null,null,215," ",0,0,-8,0,0,null,null,null,215," ",null,null,null,null,null,215," ",null,null,null,null,null,215," ",null,null,null,null,null,215,"Japons",500,2.5299999999999998,4262,-16,null,215,"Ostermiething",395,3.26,3817,-15,null,215," ",null,null,null,null,null,215,"Salla",872,2.58,4459,-15,null,215," ",null,null,null,null,null,215," "]
[null,null,null,null,null,null,null,null,null,null,null,null,216," ",0,0,-8,0,0,null,null,null,216," ",null,null,null,null,null,216," ",null,null,null,null,null,216," ",null,null,null,null,null,216,"Jedenspeigen",157,3.29,3575,-14,null,216,"Ottensheim",270,3.14,3658,-14,null,216," ",null,null,null,null,null,216,"Sankt Andrä im Sausal",356,3.13,3627,-14,null,216," ",null,null,null,null,null,216," "]
[null,null,null,null,null,null,null,null,null,null,null,null,217," ",0,0,-8,0,0,null,null,null,217," ",null,null,null,null,null,217," ",null,null,null,null,null,217," ",null,null,null,null,null,217,"Jetzelsdorf",205,3.22,3624,-14,null,217,"Ottnang am Hausruck",533,3.14,3877,-15,null,217," ",null,null,null,null,null,217,"Sankt Anna am Aigen",402,3.12,3630,-13,null,217," ",null,null,null,null,null,217," "]
[null,null,null,null,null,null,null,null,null,null,null,null,218," ",0,0,-8,0,0,null,null,null,218," ",null,null,null,null,null,218," ",null,null,null,null,null,218," ",null,null,null,null,null,218,"Judenau",187,3.38,3539,-13,null,218,"Pabneukirchen",605,2.75,4139,-15,null,218," ",null,null,null,null,null,218,"Sankt Erhard bei Mixnitz",659,2.83,4155,-15,null,218," ",null,null,null,null,null,218," "]
[null,null,null,null,null,null,null,null,null,null,null,null,219," ",0,0,-8,0,0,null,null,null,219," ",null,null,null,null,null,219," ",null,null,null,null,null,219," ",null,null,null,null,null,219,"Kaltenleutgeben",340,3.34,3681,-14,null,219,"Pasching",298,3.11,3683,-14,null,219," ",null,null,null,null,null,219,"Sankt Gallen",513,2.82,4193,-15,null,219," ",null,null,null,null,null,219," "]
[null,null,null,null,null,null,null,null,null,null,null,null,220," ",0,0,-8,0,0,null,null,null,220," ",null,null,null,null,null,220," ",null,null,null,null,null,220," ",null,null,null,null,null,220,"Kammersdorf",230,3.18,3633,-14,null,220,"Peilstein im Mühlviertel",585,2.64,4202,-14,null,220," ",null,null,null,null,null,220,"Sankt Georgen an der Stiefing",302,3.1,3565,-14,null,220," ",null,null,null,null,null,220," "]
[null,null,null,null,null,null,null,null,null,null,null,null,221," ",0,0,-8,0,0,null,null,null,221," ",null,null,null,null,null,221," ",null,null,null,null,null,221," ",null,null,null,null,null,221,"Kapelln",215,3.34,3566,-14,null,221,"Pennewang",396,2.92,3945,-15,null,221," ",null,null,null,null,null,221,"Sankt Georgen ob Judenburg",740,2.5299999999999998,4402,-15,null,221," ",null,null,null,null,null,221," "]
[null,null,null,null,null,null,null,null,null,null,null,null,222," ",0,0,-8,0,0,null,null,null,222," ",null,null,null,null,null,222," ",null,null,null,null,null,222," ",null,null,null,null,null,222,"Karlstein",442,2.7,4134,-16,null,222,"Perg",258,3.3,3524,-13,null,222," ",null,null,null,null,null,222,"Sankt Georgen ob Murau",858,2.61,4486,-15,null,222," ",null,null,null,null,null,222," "]
[null,null,null,null,null,null,null,null,null,null,null,null,223," ",0,0,-8,0,0,null,null,null,223," ",null,null,null,null,null,223," ",null,null,null,null,null,223," ",null,null,null,null,null,223,"Karlstetten",375,3.04,3868,-14,null,223,"Peterskirchen",441,3.12,3949,-15,null,223," ",null,null,null,null,null,223,"Sankt Jakob bei Mixnitz",605,2.91,4084,-14,null,223," ",null,null,null,null,null,223," "]
[null,null,null,null,null,null,null,null,null,null,null,null,224," ",0,0,-8,0,0,null,null,null,224," ",null,null,null,null,null,224," ",null,null,null,null,null,224," ",null,null,null,null,null,224,"Karlstift",931,1.96,4978,-18,null,224,"Pettenbach",486,3.03,4005,-14,null,224," ",null,null,null,null,null,224,"Sankt Jakob im Walde",915,2.5,4584,-16,null,224," ",null,null,null,null,null,224," "]
[null,null,null,null,null,null,null,null,null,null,null,null,225," ",0,0,-8,0,0,null,null,null,225," ",null,null,null,null,null,225," ",null,null,null,null,null,225," ",null,null,null,null,null,225,"Karnabrunn",265,3.07,3707,-14,null,225,"Peuerbach",395,2.91,3982,-16,null,225," ",null,null,null,null,null,225,"Sankt Johann am Tauern",1053,2.4300000000000002,4885,-15,null,225," ",null,null,null,null,null,225," "]
[null,null,null,null,null,null,null,null,null,null,null,null,226," ",0,0,-8,0,0,null,null,null,226," ",null,null,null,null,null,226," ",null,null,null,null,null,226," ",null,null,null,null,null,226,"Kasten bei Böheimkirchen",275,3.27,3681,-14,null,226,"Pfarrkirchen im Mühlkreis",815,2.2999999999999998,4603,-16,null,226," ",null,null,null,null,null,226,"Sankt Johann bei Herberstein",419,3.02,3752,-13,null,226," ",null,null,null,null,null,226," "]
[null,null,null,null,null,null,null,null,null,null,null,null,227," ",0,0,-8,0,0,null,null,null,227," ",null,null,null,null,null,227," ",null,null,null,null,null,227," ",null,null,null,null,null,227,"Katzelsdorf (im Steinfeld)",273,3.34,3515,-13,null,227,"Pichl bei Wels",332,3.07,3877,-15,null,227," ",null,null,null,null,null,227,"Sankt Johann im Saggautal",310,3.1,3599,-14,null,227," ",null,null,null,null,null,227," "]
[null,null,null,null,null,null,null,null,null,null,null,null,228," ",0,0,-8,0,0,null,null,null,228," ",null,null,null,null,null,228," ",null,null,null,null,null,228," ",null,null,null,null,null,228,"Kaumberg",485,2.91,4222,-15,null,228,"Pierbach",486,2.98,3966,-15,null,228," ",null,null,null,null,null,228,"Sankt Johann in der Haide",386,3.28,3561,-12,null,228," ",null,null,null,null,null,228," "]
[null,null,null,null,null,null,null,null,null,null,null,null,229," ",0,0,-8,0,0,null,null,null,229," ",null,null,null,null,null,229," ",null,null,null,null,null,229," ",null,null,null,null,null,229,"Kautendorf",330,2.86,3823,-15,null,229,"Pinsdorf",492,3.36,3843,-14,null,229," ",null,null,null,null,null,229,"Sankt Johann ob Hohenburg",373,2.92,3861,-14,null,229," ",null,null,null,null,null,229," "]
[null,null,null,null,null,null,null,null,null,null,null,null,230," ",0,0,-8,0,0,null,null,null,230," ",null,null,null,null,null,230," ",null,null,null,null,null,230," ",null,null,null,null,null,230,"Kautzen",522,2.5499999999999998,4328,-16,null,230,"Pischelsdorf am Engelbach",440,3.06,3931,-15,null,230," ",null,null,null,null,null,230,"Sankt Josef (Weststeiermark)",355,2.96,3680,-14,null,230," ",null,null,null,null,null,230," "]
[null,null,null,null,null,null,null,null,null,null,null,null,231," ",0,0,-8,0,0,null,null,null,231," ",null,null,null,null,null,231," ",null,null,null,null,null,231," ",null,null,null,null,null,231,"Kematen",305,3.28,3746,-13,null,231,"Polling im Innkreis",388,3.14,3827,-15,null,231," ",null,null,null,null,null,231,"Sankt Katharein an der Laming",658,2.75,4208,-15,null,231," ",null,null,null,null,null,231," "]
[null,null,null,null,null,null,null,null,null,null,null,null,232," ",0,0,-8,0,0,null,null,null,232," ",null,null,null,null,null,232," ",null,null,null,null,null,232," ",null,null,null,null,null,232,"Kemmelbach",226,3.36,3693,-13,null,232,"Pöndorf",575,2.64,4443,-18,null,232," ",null,null,null,null,null,232,"Sankt Kathrein am Hauenstein",822,2.57,4496,-16,null,232," ",null,null,null,null,null,232," "]
[null,null,null,null,null,null,null,null,null,null,null,null,233," ",0,0,-8,0,0,null,null,null,233," ",null,null,null,null,null,233," ",null,null,null,null,null,233," ",null,null,null,null,null,233,"Kernhof",690,3.1,4429,-15,null,233,"Pram",435,3.09,3922,-15,null,233," ",null,null,null,null,null,233,"Sankt Kathrein am Offenegg",920,2.58,4565,-15,null,233," ",null,null,null,null,null,233," "]
[null,null,null,null,null,null,null,null,null,null,null,null,234," ",0,0,-8,0,0,null,null,null,234," ",null,null,null,null,null,234," ",null,null,null,null,null,234," ",null,null,null,null,null,234,"Kettlasbrunn",206,3.11,3598,-14,null,234,"Prambachkirchen",374,2.88,3988,-16,null,234," ",null,null,null,null,null,234,"Sankt Lambrecht",1050,2.67,4714,-14,null,234," ",null,null,null,null,null,234," "]
[null,null,null,null,null,null,null,null,null,null,null,null,235," ",0,0,-8,0,0,null,null,null,235," ",null,null,null,null,null,235," ",null,null,null,null,null,235," ",null,null,null,null,null,235,"Kienberg",390,2.94,4025,-16,null,235,"Pramet",514,3,4030,-16,null,235," ",null,null,null,null,null,235,"Sankt Lorenzen am Wechsel",728,2.85,4236,-15,null,235," ",null,null,null,null,null,235," "]
[null,null,null,null,null,null,null,null,null,null,null,null,236," ",0,0,-8,0,0,null,null,null,236," ",null,null,null,null,null,236," ",null,null,null,null,null,236," ",null,null,null,null,null,236,"Kilb",295,3.2,3830,-14,null,236,"Pregarten",425,3.11,3801,-14,null,236," ",null,null,null,null,null,236,"Sankt Lorenzen bei Knittelfeld",615,2.64,4132,-15,null,236," ",null,null,null,null,null,236," "]
[null,null,null,null,null,null,null,null,null,null,null,null,237," ",0,0,-8,0,0,null,null,null,237," ",null,null,null,null,null,237," ",null,null,null,null,null,237," ",null,null,null,null,null,237,"Kirchberg am Wagram",212,3.29,3610,-13,null,237,"Putzleinsdorf",599,2.61,4226,-15,null,237," ",null,null,null,null,null,237,"Sankt Lorenzen im Mürztal",570,2.84,4102,-14,null,237," ",null,null,null,null,null,237," "]
[null,null,null,null,null,null,null,null,null,null,null,null,238," ",0,0,-8,0,0,null,null,null,238," ",null,null,null,null,null,238," ",null,null,null,null,null,238," ",null,null,null,null,null,238,"Kirchberg am Walde",575,2.4700000000000002,4453,-17,null,238,"Raab",380,3.11,3885,-15,null,238," ",null,null,null,null,null,238,"Sankt Marein bei Graz-Markt",380,3.27,3496,-13,null,238," ",null,null,null,null,null,238," "]
[null,null,null,null,null,null,null,null,null,null,null,null,239," ",0,0,-8,0,0,null,null,null,239," ",null,null,null,null,null,239," ",null,null,null,null,null,239," ",null,null,null,null,null,239,"Kirchberg am Wechsel Markt",570,3.15,3977,-15,null,239,"Rainbach im Innkreis",371,3.1,3871,-15,null,239," ",null,null,null,null,null,239,"Sankt Marein bei Knittelfeld",692,2.67,4177,-14,null,239," ",null,null,null,null,null,239," "]
[null,null,null,null,null,null,null,null,null,null,null,null,240," ",0,0,-8,0,0,null,null,null,240," ",null,null,null,null,null,240," ",null,null,null,null,null,240," ",null,null,null,null,null,240,"Kirchberg an der Pielach",372,3.26,3867,-14,null,240,"Rainbach im Mühlkreis",716,2.2599999999999998,4594,-16,null,240," ",null,null,null,null,null,240,"Sankt Marein im Mürztal",538,2.86,4046,-14,null,240," ",null,null,null,null,null,240," "]
[null,null,null,null,null,null,null,null,null,null,null,null,241," ",0,0,-8,0,0,null,null,null,241," ",null,null,null,null,null,241," ",null,null,null,null,null,241," ",null,null,null,null,null,241,"Kirchberg an der Wild",563,2.41,4344,-17,null,241,"Ranshofen",380,3.14,3860,-15,null,241," ",null,null,null,null,null,241,"Sankt Margarethen an der Raab",360,2.96,3732,-14,null,241," ",null,null,null,null,null,241," "]
[null,null,null,null,null,null,null,null,null,null,null,null,242," ",0,0,-8,0,0,null,null,null,242," ",null,null,null,null,null,242," ",null,null,null,null,null,242," ",null,null,null,null,null,242,"Kirchschlag in der Buckligen Welt",417,3.15,3740,-13,null,242,"Regau",428,2.86,4097,-15,null,242," ",null,null,null,null,null,242,"Sankt Martin am Grimming",710,2.4500000000000002,4474,-15,null,242," ",null,null,null,null,null,242," "]
[null,null,null,null,null,null,null,null,null,null,null,null,243," ",0,0,-8,0,0,null,null,null,243," ",null,null,null,null,null,243," ",null,null,null,null,null,243," ",null,null,null,null,null,243,"Kirchstetten",270,3.3,3675,-14,null,243,"Reichenau im Mühlkreis",667,2.69,4240,-15,null,243," ",null,null,null,null,null,243,"Sankt Martin im Sulmtal",333,3.18,3582,-14,null,243," ",null,null,null,null,null,243," "]
[null,null,null,null,null,null,null,null,null,null,null,null,244," ",0,0,-8,0,0,null,null,null,244," ",null,null,null,null,null,244," ",null,null,null,null,null,244," ",null,null,null,null,null,244,"Kirnberg an der Mank",340,3.07,3910,-14,null,244,"Reichenthal",683,2.4900000000000002,4429,-16,null,244," ",null,null,null,null,null,244,"Sankt Michael in Obersteiermark",585,2.93,3961,-14,null,244," ",null,null,null,null,null,244," "]
[null,null,null,null,null,null,null,null,null,null,null,null,245," ",0,0,-8,0,0,null,null,null,245," ",null,null,null,null,null,245," ",null,null,null,null,null,245," ",null,null,null,null,null,245,"Klausen-Leopoldsdorf",375,3.06,3965,-14,null,245,"Reichersberg",345,3.15,3842,-15,null,245," ",null,null,null,null,null,245,"Sankt Nikolai im Sausal",340,3.05,3628,-14,null,245," ",null,null,null,null,null,245," "]
[null,null,null,null,null,null,null,null,null,null,null,null,246," ",0,0,-8,0,0,null,null,null,246," ",null,null,null,null,null,246," ",null,null,null,null,null,246," ",null,null,null,null,null,246,"Kleinneusiedl",159,3.48,3387,-13,null,246,"Reichraming",355,3.38,3839,-15,null,246," ",null,null,null,null,null,246,"Sankt Nikolai ob Draßling",333,3.06,3609,-13,null,246," ",null,null,null,null,null,246," "]
[null,null,null,null,null,null,null,null,null,null,null,null,247," ",0,0,-8,0,0,null,null,null,247," ",null,null,null,null,null,247," ",null,null,null,null,null,247," ",null,null,null,null,null,247,"Kleinpöchlarn",220,3.26,3732,-14,null,247,"Ried im Innkreis",433,3.15,3942,-15,null,247," ",null,null,null,null,null,247,"Sankt Oswald bei Plankenwarth",555,3.1,3837,-13,null,247," ",null,null,null,null,null,247," "]
[null,null,null,null,null,null,null,null,null,null,null,null,248," ",0,0,-8,0,0,null,null,null,248," ",null,null,null,null,null,248," ",null,null,null,null,null,248," ",null,null,null,null,null,248,"Kleinzell",467,3.24,4039,-14,null,248,"Ried im Traunkreis",469,3.01,3908,-14,null,248," ",null,null,null,null,null,248,"Sankt Oswald ob Eibiswald",750,3.15,4061,-14,null,248," ",null,null,null,null,null,248," "]
[null,null,null,null,null,null,null,null,null,null,null,null,249," ",0,0,-8,0,0,null,null,null,249," ",null,null,null,null,null,249," ",null,null,null,null,null,249," ",null,null,null,null,null,249,"Klosterneuburg",192,3.53,3410,-13,null,249,"Ried in der Riedmark",309,3.2,3663,-13,null,249," ",null,null,null,null,null,249,"Sankt Peter am Kammersberg",822,2.68,4502,-15,null,249," ",null,null,null,null,null,249," "]
[null,null,null,null,null,null,null,null,null,null,null,null,250," ",0,0,-8,0,0,null,null,null,250," ",null,null,null,null,null,250," ",null,null,null,null,null,250," ",null,null,null,null,null,250,"Königsbrunn am Wagram",189,3.41,3583,-13,null,250,"Riedau",372,3.13,3846,-15,null,250," ",null,null,null,null,null,250,"Sankt Peter am Ottersbach",271,3.12,3528,-13,null,250," ",null,null,null,null,null,250," "]
[null,null,null,null,null,null,null,null,null,null,null,null,251," ",0,0,-8,0,0,null,null,null,251," ",null,null,null,null,null,251," ",null,null,null,null,null,251," ",null,null,null,null,null,251,"Königstetten",178,3.39,3522,-13,null,251,"Rohr im Kremstal",348,3.11,3715,-14,null,251," ",null,null,null,null,null,251,"Sankt Peter im Sulmtal",370,3.17,3618,-14,null,251," ",null,null,null,null,null,251," "]
[null,null,null,null,null,null,null,null,null,null,null,null,252," ",0,0,-8,0,0,null,null,null,252," ",null,null,null,null,null,252," ",null,null,null,null,null,252," ",null,null,null,null,null,252,"Korneuburg",167,3.55,3406,-13,null,252,"Rohrbach in Oberösterreich",600,2.7,4151,-14,null,252," ",null,null,null,null,null,252,"Sankt Peter ob Judenburg",798,2.42,4483,-15,null,252," ",null,null,null,null,null,252," "]
[null,null,null,null,null,null,null,null,null,null,null,null,253," ",0,0,-8,0,0,null,null,null,253," ",null,null,null,null,null,253," ",null,null,null,null,null,253," ",null,null,null,null,null,253,"Kottes",700,2.1800000000000002,4721,-17,null,253,"Roitham",425,3.08,3892,-15,null,253," ",null,null,null,null,null,253,"Sankt Peter-Freienstein",610,2.9,3984,-14,null,253," ",null,null,null,null,null,253," "]
[null,null,null,null,null,null,null,null,null,null,null,null,254," ",0,0,-8,0,0,null,null,null,254," ",null,null,null,null,null,254," ",null,null,null,null,null,254," ",null,null,null,null,null,254,"Kottingbrunn",252,3.53,3459,-13,null,254,"Rosenau am Hengstpaß",750,2.89,4278,-15,null,254," ",null,null,null,null,null,254,"Sankt Radegund bei Graz",718,3.32,3919,-14,null,254," ",null,null,null,null,null,254," "]
[null,null,null,null,null,null,null,null,null,null,null,null,255," ",0,0,-8,0,0,null,null,null,255," ",null,null,null,null,null,255," ",null,null,null,null,null,255," ",null,null,null,null,null,255,"Krems an der Donau",202,3.74,3349,-12,null,255,"Roßbach",443,3.14,3895,-15,null,255," ",null,null,null,null,null,255,"Sankt Ruprecht an der Raab",387,2.9,3796,-14,null,255," ",null,null,null,null,null,255," "]
[null,null,null,null,null,null,null,null,null,null,null,null,256," ",0,0,-8,0,0,null,null,null,256," ",null,null,null,null,null,256," ",null,null,null,null,null,256," ",null,null,null,null,null,256,"Kritzendorf",205,3.34,3482,-13,null,256,"Roßleithen",687,3.09,4160,-14,null,256," ",null,null,null,null,null,256,"Sankt Stefan im Rosental",325,3.22,3506,-13,null,256," ",null,null,null,null,null,256," "]
[null,null,null,null,null,null,null,null,null,null,null,null,257,{"$f":"INDEX(X$23:CG$723,$M279,(Bundesland-1)*7+1)","v":" "},{"$f":"INDEX(Y$23:CH$723,$M279,(Bundesland-1)*7+1)","v":0},{"$f":"INDEX(Z$23:CI$723,$M279,(Bundesland-1)*7+1)","v":0},-8,{"$f":"INDEX(AA$23:CK$723,$M279,(Bundesland-1)*7+1)","v":0},{"$f":"INDEX(AB$23:CL$723,$M279,(Bundesland-1)*7+1)","v":0},null,null,null,257," ",null,null,null,null,null,257," ",null,null,null,null,null,257," ",null,null,null,null,null,257,"Krumau am Kamp",370,2.85,3978,-15,null,257,"Rottenbach",424,3.16,3805,-15,null,257," ",null,null,null,null,null,257,"Sankt Stefan ob Leoben",590,2.84,4033,-14,null,257," ",null,null,null,null,null,257," "]
[null,null,null,null,null,null,null,null,null,null,null,null,258," ",0,0,{"$f":"MIN(S280+Zuschlag_A,-8)","v":-8},0,0,null,null,null,258," ",null,null,null,null,null,258," ",null,null,null,null,null,258," ",null,null,null,null,null,258,"Krumbach",520,3,4063,-14,null,258,"Rottenegg",280,3.18,3683,-14,null,258," ",null,null,null,null,null,258,"Sankt Stefan ob Stainz",404,2.96,3765,-14,null,258," ",null,null,null,null,null,258," "]
[null,null,null,null,null,null,null,null,null,null,null,null,259," ",0,0,-8,0,0,null,null,null,259," ",null,null,null,null,null,259," ",null,null,null,null,null,259," ",null,null,null,null,null,259,"Krummnußbaum",216,3.31,3689,-14,null,259,"Rutzenmoos",453,3.11,3952,-15,null,259," ",null,null,null,null,null,259,"Sankt Veit am Vogau",262,3.03,3563,-13,null,259," ",null,null,null,null,null,259," "]
[null,null,null,null,null,null,null,null,null,null,null,null,260," ",0,0,-8,0,0,null,null,null,260," ",null,null,null,null,null,260," ",null,null,null,null,null,260," ",null,null,null,null,null,260,"Küb",520,3.34,3681,-14,null,260,"Sandl",927,1.98,4991,-17,null,260," ",null,null,null,null,null,260,"Schäffern",601,2.95,4127,-14,null,260," ",null,null,null,null,null,260," "]
[null,null,null,null,null,null,null,null,null,null,null,null,261," ",0,0,-8,0,0,null,null,null,261," ",null,null,null,null,null,261," ",null,null,null,null,null,261," ",null,null,null,null,null,261,"Laa an der Thaya",182,3.29,3509,-14,null,261,"Sankt Aegidi",598,2.62,4240,-16,null,261," ",null,null,null,null,null,261,"Scheifling",762,2.54,4399,-15,null,261," ",null,null,null,null,null,261," "]
[null,null,null,null,null,null,null,null,null,null,null,null,262," ",0,0,-8,0,0,null,null,null,262," ",null,null,null,null,null,262," ",null,null,null,null,null,262," ",null,null,null,null,null,262,"Laab im Walde",315,3.3,3725,-14,null,262,"Sankt Agatha",603,2.59,4317,-17,null,262," ",null,null,null,null,null,262,"Schladming",749,2.23,4548,-16,null,262," ",null,null,null,null,null,262," "]
[null,null,null,null,null,null,null,null,null,null,null,null,263," ",0,0,-8,0,0,null,null,null,263," ",null,null,null,null,null,263," ",null,null,null,null,null,263," ",null,null,null,null,null,263,"Laaben",348,3.18,3851,-14,null,263,"Sankt Florian bei Linz",296,3.22,3658,-13,null,263," ",null,null,null,null,null,263,"Schöder",897,2.58,4633,-15,null,263," ",null,null,null,null,null,263," "]
[null,null,null,null,null,null,null,null,null,null,null,null,264," ",0,0,-8,0,0,null,null,null,264," ",null,null,null,null,null,264," ",null,null,null,null,null,264," ",null,null,null,null,null,264,"Lackenhof",810,2.5299999999999998,4768,-18,null,264,"Sankt Georgen am Walde",600,2.63,4256,-16,null,264," ",null,null,null,null,null,264,"Schwanberg",417,3.15,3690,-14,null,264," ",null,null,null,null,null,264," "]
[null,null,null,null,null,null,null,null,null,null,null,null,265," ",0,0,-8,0,0,null,null,null,265," ",null,null,null,null,null,265," ",null,null,null,null,null,265," ",null,null,null,null,null,265,"Ladendorf",215,3.2,3629,-14,null,265,"Sankt Georgen an der Gusen",256,3.28,3595,-13,null,265," ",null,null,null,null,null,265,"Sebersdorf",295,3.36,3461,-12,null,265," ",null,null,null,null,null,265," "]
[null,null,null,null,null,null,null,null,null,null,null,null,266," ",0,0,-8,0,0,null,null,null,266," ",null,null,null,null,null,266," ",null,null,null,null,null,266," ",null,null,null,null,null,266,"Laimbach am Ostrong",535,2.62,4310,-16,null,266,"Sankt Georgen im Attergau",538,2.74,4262,-16,null,266," ",null,null,null,null,null,266,"Seckau",842,2.74,4332,-14,null,266," ",null,null,null,null,null,266," "]
[null,null,null,null,null,null,null,null,null,null,null,null,267," ",0,0,-8,0,0,null,null,null,267," ",null,null,null,null,null,267," ",null,null,null,null,null,267," ",null,null,null,null,null,267,"Langau",450,2.5,4199,-16,null,267,"Sankt Johann am Walde",630,2.84,4203,-17,null,267," ",null,null,null,null,null,267,"Seewiesen",974,2.2799999999999998,4979,-17,null,267," ",null,null,null,null,null,267," "]
[null,null,null,null,null,null,null,null,null,null,null,null,268," ",0,0,-8,0,0,null,null,null,268," ",null,null,null,null,null,268," ",null,null,null,null,null,268," ",null,null,null,null,null,268,"Langau bei Gaming",683,2.58,4563,-17,null,268,"Sankt Johann am Wimberg",725,2.39,4455,-15,null,268," ",null,null,null,null,null,268,"Selzthal",640,2.29,4498,-16,null,268," ",null,null,null,null,null,268," "]
[null,null,null,null,null,null,null,null,null,null,null,null,269," ",0,0,-8,0,0,null,null,null,269," ",null,null,null,null,null,269," ",null,null,null,null,null,269," ",null,null,null,null,null,269,"Langegg",538,2.5299999999999998,4368,-17,null,269,"Sankt Konrad",584,3.07,4131,-15,null,269," ",null,null,null,null,null,269,"Semriach",710,2.63,4342,-15,null,269," ",null,null,null,null,null,269," "]
[null,null,null,null,null,null,null,null,null,null,null,null,270," ",0,0,-8,0,0,null,null,null,270," ",null,null,null,null,null,270," ",null,null,null,null,null,270," ",null,null,null,null,null,270,"Langenlebarn",172,3.42,3515,-13,null,270,"Sankt Leonhard bei Freistadt",810,2.2599999999999998,4755,-17,null,270," ",null,null,null,null,null,270,"Sinabelkirchen",327,2.87,3752,-14,null,270," ",null,null,null,null,null,270," "]
[null,null,null,null,null,null,null,null,null,null,null,null,271," ",0,0,-8,0,0,null,null,null,271," ",null,null,null,null,null,271," ",null,null,null,null,null,271," ",null,null,null,null,null,271,"Langenlois",217,3.16,3688,-13,null,271,"Sankt Marien",338,3.18,3735,-14,null,271," ",null,null,null,null,null,271,"Soboth",1070,2.81,4641,-15,null,271," ",null,null,null,null,null,271," "]
[null,null,null,null,null,null,null,null,null,null,null,null,272," ",0,0,-8,0,0,null,null,null,272," ",null,null,null,null,null,272," ",null,null,null,null,null,272," ",null,null,null,null,null,272,"Langenrohr",179,3.35,3530,-13,null,272,"Sankt Marienkirchen an der Polsenz",315,2.9,3967,-16,null,272," ",null,null,null,null,null,272,"Söchau",273,3.1,3582,-13,null,272," ",null,null,null,null,null,272," "]
[null,null,null,null,null,null,null,null,null,null,null,null,273," ",0,0,-8,0,0,null,null,null,273," ",null,null,null,null,null,273," ",null,null,null,null,null,273," ",null,null,null,null,null,273,"Langenzersdorf",168,3.58,3367,-13,null,273,"Sankt Marienkirchen bei Schärding",336,3.13,3829,-15,null,273," ",null,null,null,null,null,273,"Söding",360,2.97,3712,-14,null,273," ",null,null,null,null,null,273," "]
[null,null,null,null,null,null,null,null,null,null,null,null,274," ",0,0,-8,0,0,null,null,null,274," ",null,null,null,null,null,274," ",null,null,null,null,null,274," ",null,null,null,null,null,274,"Langschlag",765,2.2400000000000002,4742,-18,null,274,"Sankt Martin im Innkreis",385,3.1,3886,-15,null,274," ",null,null,null,null,null,274,"Spielfeld",258,3.07,3556,-13,null,274," ",null,null,null,null,null,274," "]
[null,null,null,null,null,null,null,null,null,null,null,null,275," ",0,0,-8,0,0,null,null,null,275," ",null,null,null,null,null,275," ",null,null,null,null,null,275," ",null,null,null,null,null,275,"Lanzenkirchen",300,3.39,3555,-14,null,275,"Sankt Martin im Mühlkreis",550,2.85,4150,-15,null,275," ",null,null,null,null,null,275,"Spital am Semmering",775,2.62,4572,-16,null,275," ",null,null,null,null,null,275," "]
[null,null,null,null,null,null,null,null,null,null,null,null,276," ",0,0,-8,0,0,null,null,null,276," ",null,null,null,null,null,276," ",null,null,null,null,null,276," ",null,null,null,null,null,276,"Lassee",148,3.24,3502,-14,null,276,"Sankt Nikola an der Donau",280,3.34,3682,-13,null,276," ",null,null,null,null,null,276,"Stadl an der Mur",885,2.09,4765,-19,null,276," ",null,null,null,null,null,276," "]
[null,null,null,null,null,null,null,null,null,null,null,null,277," ",0,0,-8,0,0,null,null,null,277," ",null,null,null,null,null,277," ",null,null,null,null,null,277," ",null,null,null,null,null,277,"Laxenburg",174,3.72,3322,-13,null,277,"Sankt Oswald bei Freistadt",609,2.46,4384,-16,null,277," ",null,null,null,null,null,277,"Stainach",660,2.35,4448,-16,null,277," ",null,null,null,null,null,277," "]
[null,null,null,null,null,null,null,null,null,null,null,null,278," ",0,0,-8,0,0,null,null,null,278," ",null,null,null,null,null,278," ",null,null,null,null,null,278," ",null,null,null,null,null,278,"Leiben",285,3.21,3811,-14,null,278,"Sankt Pankraz",531,3.31,3938,-14,null,278," ",null,null,null,null,null,278,"Stainz",338,3.04,3647,-14,null,278," ",null,null,null,null,null,278," "]
[null,null,null,null,null,null,null,null,null,null,null,null,279," ",0,0,-8,0,0,null,null,null,279," ",null,null,null,null,null,279," ",null,null,null,null,null,279," ",null,null,null,null,null,279,"Leitzersdorf",220,3.26,3632,-14,null,279,"Sankt Pantaleon",440,3.24,3838,-15,null,279," ",null,null,null,null,null,279,"Stallhofen",398,2.86,3943,-14,null,279," ",null,null,null,null,null,279," "]
[null,null,null,null,null,null,null,null,null,null,null,null,280," ",0,0,-8,0,0,null,null,null,280," ",null,null,null,null,null,280," ",null,null,null,null,null,280," ",null,null,null,null,null,280,"Lengenfeld",305,3.3,3675,-13,null,280,"Sankt Peter am Hart",365,3.15,3842,-15,null,280," ",null,null,null,null,null,280,"Stanz im Mürztal",668,2.76,4259,-15,null,280," ",null,null,null,null,null,280," "]
[null,null,null,null,null,null,null,null,null,null,null,null,281," ",0,0,-8,0,0,null,null,null,281," ",null,null,null,null,null,281," ",null,null,null,null,null,281," ",null,null,null,null,null,281,"Leobersdorf",267,3.38,3539,-13,null,281,"Sankt Peter am Wimberg",668,2.54,4313,-15,null,281," ",null,null,null,null,null,281,"Stein an der Enns",674,2.86,4320,-15,null,281," ",null,null,null,null,null,281," "]
[null,null,null,null,null,null,null,null,null,null,null,null,282," ",0,0,-8,0,0,null,null,null,282," ",null,null,null,null,null,282," ",null,null,null,null,null,282," ",null,null,null,null,null,282,"Leopoldsdorf bei Wien",179,3.59,3364,-13,null,282,"Sankt Roman bei Schärding",569,2.73,4180,-16,null,282," ",null,null,null,null,null,282,"Steinhaus am Semmering",815,2.84,4495,-16,null,282," ",null,null,null,null,null,282," "]
[null,null,null,null,null,null,null,null,null,null,null,null,283," ",0,0,-8,0,0,null,null,null,283," ",null,null,null,null,null,283," ",null,null,null,null,null,283," ",null,null,null,null,null,283,"Leopoldsdorf im Marchfelde",151,3.3,3506,-14,null,283,"Sankt Thomas",393,2.89,4004,-16,null,283," ",null,null,null,null,null,283,"Stolzalpe Landesheilanstalt",1100,2.75,4727,-14,null,283," ",null,null,null,null,null,283," "]
[null,null,null,null,null,null,null,null,null,null,null,null,284," ",0,0,-8,0,0,null,null,null,284," ",null,null,null,null,null,284," ",null,null,null,null,null,284," ",null,null,null,null,null,284,"Lichtenau",640,2.2599999999999998,4630,-17,null,284,"Sankt Thomas am Blasenstein",715,2.57,4376,-16,null,284," ",null,null,null,null,null,284,"Straden",376,3.14,3608,-13,null,284," ",null,null,null,null,null,284," "]
[null,null,null,null,null,null,null,null,null,null,null,null,285," ",0,0,-8,0,0,null,null,null,285," ",null,null,null,null,null,285," ",null,null,null,null,null,285," ",null,null,null,null,null,285,"Lichtenegg (Dorf)",770,2.72,4510,-15,null,285,"Sankt Veit im Mühlkreis",685,2.48,4380,-15,null,285," ",null,null,null,null,null,285,"Strallegg",845,2.5299999999999998,4454,-16,null,285," ",null,null,null,null,null,285," "]
[null,null,null,null,null,null,null,null,null,null,null,null,286," ",0,0,-8,0,0,null,null,null,286," ",null,null,null,null,null,286," ",null,null,null,null,null,286," ",null,null,null,null,null,286,"Lichtenwörth",253,3.43,3480,-13,null,286,"Sankt Willibald",455,2.94,4008,-16,null,286," ",null,null,null,null,null,286,"Straß in Steiermark",254,3.07,3556,-13,null,286," ",null,null,null,null,null,286," "]
[null,null,null,null,null,null,null,null,null,null,null,null,287," ",0,0,-8,0,0,null,null,null,287," ",null,null,null,null,null,287," ",null,null,null,null,null,287," ",null,null,null,null,null,287,"Lilienfeld",385,3.38,3889,-14,null,287,"Sankt Wolfgang im Salzkammergut",549,3.44,3942,-13,null,287," ",null,null,null,null,null,287,"Stubenberg",451,3.03,3785,-13,null,287," ",null,null,null,null,null,287," "]
[null,null,null,null,null,null,null,null,null,null,null,null,288," ",0,0,-8,0,0,null,null,null,288," ",null,null,null,null,null,288," ",null,null,null,null,null,288," ",null,null,null,null,null,288,"Limberg",288,3.07,3758,-14,null,288,"Sarleinsbach",559,2.74,4143,-14,null,288," ",null,null,null,null,null,288,"Stübing",400,3,3775,-14,null,288," ",null,null,null,null,null,288," "]
[null,null,null,null,null,null,null,null,null,null,null,null,289," ",0,0,-8,0,0,null,null,null,289," ",null,null,null,null,null,289," ",null,null,null,null,null,289," ",null,null,null,null,null,289,"Litschau",536,2.57,4393,-17,null,289,"Sarmingstein",230,3.43,3612,-13,null,289," ",null,null,null,null,null,289,"Studenzen",320,3.23,3504,-13,null,289," ",null,null,null,null,null,289," "]
[null,null,null,null,null,null,null,null,null,null,null,null,290," ",0,0,-8,0,0,null,null,null,290," ",null,null,null,null,null,290," ",null,null,null,null,null,290," ",null,null,null,null,null,290,"Loich",540,3.28,4080,-15,null,290,"Sattledt",400,3.04,3798,-14,null,290," ",null,null,null,null,null,290,"Tauchen-Schaueregg",642,2.93,4131,-14,null,290," ",null,null,null,null,null,290," "]
[null,null,null,null,null,null,null,null,null,null,null,null,291," ",0,0,-8,0,0,null,null,null,291," ",null,null,null,null,null,291," ",null,null,null,null,null,291," ",null,null,null,null,null,291,"Loosdorf",230,3.38,3706,-13,null,291,"Saxen",242,3.08,3672,-14,null,291," ",null,null,null,null,null,291,"Tauplitz",900,2.0499999999999998,4900,-16,null,291," ",null,null,null,null,null,291," "]
[null,null,null,null,null,null,null,null,null,null,null,null,292," ",0,0,-8,0,0,null,null,null,292," ",null,null,null,null,null,292," ",null,null,null,null,null,292," ",null,null,null,null,null,292,"Loosdorf (Bez. Mistelbach)",260,3.06,3675,-14,null,292,"Schardenberg",543,2.79,4131,-16,null,292," ",null,null,null,null,null,292,"Teufenbach",760,2.4900000000000002,4394,-15,null,292," ",null,null,null,null,null,292," "]
[null,null,null,null,null,null,null,null,null,null,null,null,293," ",0,0,-8,0,0,null,null,null,293," ",null,null,null,null,null,293," ",null,null,null,null,null,293," ",null,null,null,null,null,293,"Ludweis",507,2.5299999999999998,4246,-16,null,293,"Schärding",313,3.15,3791,-15,null,293," ",null,null,null,null,null,293,"Thalheim",705,2.44,4354,-15,null,293," ",null,null,null,null,null,293," "]
[null,null,null,null,null,null,null,null,null,null,null,null,294," ",0,0,-8,0,0,null,null,null,294," ",null,null,null,null,null,294," ",null,null,null,null,null,294," ",null,null,null,null,null,294,"Lunz am See",645,2.59,4509,-17,null,294,"Scharnstein",488,3.09,4127,-15,null,294," ",null,null,null,null,null,294,"Thörl",630,2.67,4280,-15,null,294," ",null,null,null,null,null,294," "]
[null,null,null,null,null,null,null,null,null,null,null,null,295," ",0,0,-8,0,0,null,null,null,295," ",null,null,null,null,null,295," ",null,null,null,null,null,295," ",null,null,null,null,null,295,"Mailberg",217,3.2,3629,-14,null,295,"Scharten",395,3,3944,-15,null,295," ",null,null,null,null,null,295,"Tieschen",262,3.2,3529,-13,null,295," ",null,null,null,null,null,295," "]
[null,null,null,null,null,null,null,null,null,null,null,null,296," ",0,0,-8,0,0,null,null,null,296," ",null,null,null,null,null,296," ",null,null,null,null,null,296," ",null,null,null,null,null,296,"Maissau",340,2.91,3897,-14,null,296,"Schenkenfelden",735,2.54,4400,-16,null,296," ",null,null,null,null,null,296,"Timmersdorf",623,2.83,4138,-14,null,296," ",null,null,null,null,null,296," "]
[null,null,null,null,null,null,null,null,null,null,null,null,297," ",0,0,-8,0,0,null,null,null,297," ",null,null,null,null,null,297," ",null,null,null,null,null,297," ",null,null,null,null,null,297,"Mank",290,3.12,3866,-14,null,297,"Schiedlberg",377,3.14,3794,-14,null,297," ",null,null,null,null,null,297,"Tobelbad",356,2.76,3740,-14,null,297," ",null,null,null,null,null,297," "]
[null,null,null,null,null,null,null,null,null,null,null,null,298," ",0,0,-8,0,0,null,null,null,298," ",null,null,null,null,null,298," ",null,null,null,null,null,298," ",null,null,null,null,null,298,"Mannersdorf am Leithagebirge",200,3.43,3479,-13,null,298,"Schlierbach",460,3.06,3948,-14,null,298," ",null,null,null,null,null,298,"Tragöß",780,2.64,4497,-15,null,298," ",null,null,null,null,null,298," "]
[null,null,null,null,null,null,null,null,null,null,null,null,299," ",0,0,-8,0,0,null,null,null,299," ",null,null,null,null,null,299," ",null,null,null,null,null,299," ",null,null,null,null,null,299,"Mannswörth",157,3.53,3377,-13,null,299,"Schneegattern",550,2.87,4248,-17,null,299," ",null,null,null,null,null,299,"Trautenfels",642,2.73,4215,-15,null,299," ",null,null,null,null,null,299," "]
[null,null,null,null,null,null,null,null,null,null,null,null,300," ",0,0,-8,0,0,null,null,null,300," ",null,null,null,null,null,300," ",null,null,null,null,null,300," ",null,null,null,null,null,300,"Marbach an der Donau",220,3.33,3685,-14,null,300,"Schönau im Mühlkreis",643,2.54,4399,-16,null,300," ",null,null,null,null,null,300,"Trautmannsdorf in Oststeiermark",278,3.15,3521,-13,null,300," ",null,null,null,null,null,300," "]
[null,null,null,null,null,null,null,null,null,null,null,null,301," ",0,0,-8,0,0,null,null,null,301," ",null,null,null,null,null,301," ",null,null,null,null,null,301," ",null,null,null,null,null,301,"Marchegg Bahnhof",147,3.3,3474,-14,null,301,"Schörfling",510,2.77,4222,-16,null,301," ",null,null,null,null,null,301,"Treglwang",740,2.5299999999999998,4420,-15,null,301," ",null,null,null,null,null,301," "]
[null,null,null,null,null,null,null,null,null,null,null,null,302," ",0,0,-8,0,0,null,null,null,302," ",null,null,null,null,null,302," ",null,null,null,null,null,302," ",null,null,null,null,null,302,"Marchegg Stadt",143,3.3,3473,-14,null,302,"Schwand im Innkreis",420,3.07,3910,-15,null,302," ",null,null,null,null,null,302,"Trieben",708,2.57,4341,-15,null,302," ",null,null,null,null,null,302," "]
[null,null,null,null,null,null,null,null,null,null,null,null,303," ",0,0,-8,0,0,null,null,null,303," ",null,null,null,null,null,303," ",null,null,null,null,null,303," ",null,null,null,null,null,303,"Margarethen am Moos",166,3.47,3406,-13,null,303,"Schwanenstadt",389,3.09,3856,-15,null,303," ",null,null,null,null,null,303,"Trofaiach",659,2.81,4143,-14,null,303," ",null,null,null,null,null,303," "]
[null,null,null,null,null,null,null,null,null,null,null,null,304," ",0,0,-8,0,0,null,null,null,304," ",null,null,null,null,null,304," ",null,null,null,null,null,304," ",null,null,null,null,null,304,"Maria Ellend",167,3.36,3444,-14,null,304,"Schwarzenberg im Mühlkreis",758,2.39,4509,-15,null,304," ",null,null,null,null,null,304,"Turnau",775,2.56,4569,-16,null,304," ",null,null,null,null,null,304," "]
[null,null,null,null,null,null,null,null,null,null,null,null,305," ",0,0,-8,0,0,null,null,null,305," ",null,null,null,null,null,305," ",null,null,null,null,null,305," ",null,null,null,null,null,305,"Maria Enzersdorf am Gebirge",228,3.64,3402,-13,null,305,"Schwertberg",268,3.34,3532,-13,null,305," ",null,null,null,null,null,305,"Turrach",1269,1.87,5476,-19,null,305," ",null,null,null,null,null,305," "]
[null,null,null,null,null,null,null,null,null,null,null,null,306," ",0,0,-8,0,0,null,null,null,306," ",null,null,null,null,null,306," ",null,null,null,null,null,306," ",null,null,null,null,null,306,"Maria Laach am Jauerling",592,2.5099999999999998,4425,-16,null,306,"Seewalchen am Attersee",495,2.88,4178,-16,null,306," ",null,null,null,null,null,306,"Übelbach",716,2.85,4202,-14,null,306," ",null,null,null,null,null,306," "]
[null,null,null,null,null,null,null,null,null,null,null,null,307," ",0,0,-8,0,0,null,null,null,307," ",null,null,null,null,null,307," ",null,null,null,null,null,307," ",null,null,null,null,null,307,"Maria Schutz",760,2.94,4334,-15,null,307,"Sierning",367,3.2,3796,-14,null,307," ",null,null,null,null,null,307,"Unterlamm",278,3.09,3584,-13,null,307," ",null,null,null,null,null,307," "]
[null,null,null,null,null,null,null,null,null,null,null,null,308," ",0,0,-8,0,0,null,null,null,308," ",null,null,null,null,null,308," ",null,null,null,null,null,308," ",null,null,null,null,null,308,"Maria Taferl",440,2.82,4088,-15,null,308,"Sigharting",342,3.11,3833,-15,null,308," ",null,null,null,null,null,308,"Unterpremstätten",340,2.71,3769,-15,null,308," ",null,null,null,null,null,308," "]
[null,null,null,null,null,null,null,null,null,null,null,null,309," ",0,0,-8,0,0,null,null,null,309," ",null,null,null,null,null,309," ",null,null,null,null,null,309," ",null,null,null,null,null,309,"Maria-Anzbach",238,3.34,3615,-14,null,309,"Sipbachzell",366,3.13,3745,-14,null,309," ",null,null,null,null,null,309,"Unterpurkla",222,3.2,3512,-13,null,309," ",null,null,null,null,null,309," "]
[null,null,null,null,null,null,null,null,null,null,null,null,310," ",0,0,-8,0,0,null,null,null,310," ",null,null,null,null,null,310," ",null,null,null,null,null,310," ",null,null,null,null,null,310,"Maria-Lanzendorf",171,3.58,3350,-13,null,310,"Spital am Pyhrn",647,2.98,4188,-15,null,310," ",null,null,null,null,null,310,"Unterrohr",350,3.38,3474,-12,null,310," ",null,null,null,null,null,310," "]
[null,null,null,null,null,null,null,null,null,null,null,null,311," ",0,0,-8,0,0,null,null,null,311," ",null,null,null,null,null,311," ",null,null,null,null,null,311," ",null,null,null,null,null,311,"Markgrafneusiedl",154,3.32,3503,-14,null,311,"Stadl-Paura",370,2.94,3923,-15,null,311," ",null,null,null,null,null,311,"Unzmarkt",745,2.57,4410,-15,null,311," ",null,null,null,null,null,311," "]
[null,null,null,null,null,null,null,null,null,null,null,null,312," ",0,0,-8,0,0,null,null,null,312," ",null,null,null,null,null,312," ",null,null,null,null,null,312," ",null,null,null,null,null,312,"Martinsberg",816,1.77,5069,-18,null,312,"Steeg",515,2.68,4296,-14,null,312," ",null,null,null,null,null,312,"Voitsberg",394,2.89,3935,-14,null,312," ",null,null,null,null,null,312," "]
[null,null,null,null,null,null,null,null,null,null,null,null,313," ",0,0,-8,0,0,null,null,null,313," ",null,null,null,null,null,313," ",null,null,null,null,null,313," ",null,null,null,null,null,313,"Matzen",180,3.32,3553,-14,null,313,"Steinbach am Attersee",510,3.14,4080,-14,null,313," ",null,null,null,null,null,313,"Vorau",660,2.94,4077,-14,null,313," ",null,null,null,null,null,313," "]
[null,null,null,null,null,null,null,null,null,null,null,null,314," ",0,0,-8,0,0,null,null,null,314," ",null,null,null,null,null,314," ",null,null,null,null,null,314," ",null,null,null,null,null,314,"Matzleinsdorf bei Melk",237,3.28,3762,-14,null,314,"Steinbach am Ziehberg",547,2.94,4230,-15,null,314," ",null,null,null,null,null,314,"Vordernberg",825,2.57,4567,-15,null,314," ",null,null,null,null,null,314," "]
[null,null,null,null,null,null,null,null,null,null,null,null,315," ",0,0,-8,0,0,null,null,null,315," ",null,null,null,null,null,315," ",null,null,null,null,null,315," ",null,null,null,null,null,315,"Mauerbach",280,3.26,3667,-14,null,315,"Steinerkirchen an der Traun",381,3.11,3867,-14,null,315," ",null,null,null,null,null,315,"Wagna",267,3.01,3568,-14,null,315," ",null,null,null,null,null,315," "]
[null,null,null,null,null,null,null,null,null,null,null,null,316," ",0,0,-8,0,0,null,null,null,316," ",null,null,null,null,null,316," ",null,null,null,null,null,316," ",null,null,null,null,null,316,"Mauer-Öhling",309,3.29,3676,-13,null,316,"Steinhaus",378,3.37,3741,-13,null,316," ",null,null,null,null,null,316,"Wald am Schoberpaß",843,2.29,4834,-16,null,316," ",null,null,null,null,null,316," "]
[null,null,null,null,null,null,null,null,null,null,null,null,317," ",0,0,-8,0,0,null,null,null,317," ",null,null,null,null,null,317," ",null,null,null,null,null,317," ",null,null,null,null,null,317,"Mautern",205,3.72,3369,-12,null,317,"Steyr",300,3.4,3653,-14,null,317," ",null,null,null,null,null,317,"Waldbach",623,2.86,4114,-15,null,317," ",null,null,null,null,null,317," "]
[null,null,null,null,null,null,null,null,null,null,null,null,318," ",0,0,-8,0,0,null,null,null,318," ",null,null,null,null,null,318," ",null,null,null,null,null,318," ",null,null,null,null,null,318,"Melk",220,3.4,3685,-13,null,318,"Steyregg",259,3.46,3522,-12,null,318," ",null,null,null,null,null,318,"Waldstein",488,2.91,3913,-14,null,318," ",null,null,null,null,null,318," "]
[null,null,null,null,null,null,null,null,null,null,null,null,319," ",0,0,-8,0,0,null,null,null,319," ",null,null,null,null,null,319," ",null,null,null,null,null,319," ",null,null,null,null,null,319,"Messern",467,2.58,4216,-16,null,319,"Steyrermühl",430,3.26,3850,-14,null,319," ",null,null,null,null,null,319,"Waltersdorf in Oststeiermark",290,3.3,3473,-12,null,319," ",null,null,null,null,null,319," "]
[null,null,null,null,null,null,null,null,null,null,null,null,320," ",0,0,-8,0,0,null,null,null,320," ",null,null,null,null,null,320," ",null,null,null,null,null,320," ",null,null,null,null,null,320,"Michelbach Markt",375,3.23,3873,-14,null,320,"Steyrling",520,3.1,4091,-14,null,320," ",null,null,null,null,null,320,"Wartberg im Mürztal",575,2.92,4185,-15,null,320," ",null,null,null,null,null,320," "]
[null,null,null,null,null,null,null,null,null,null,null,null,321,{"$f":"INDEX(X$23:CG$723,$M343,(Bundesland-1)*7+1)","v":" "},{"$f":"INDEX(Y$23:CH$723,$M343,(Bundesland-1)*7+1)","v":0},{"$f":"INDEX(Z$23:CI$723,$M343,(Bundesland-1)*7+1)","v":0},-8,{"$f":"INDEX(AA$23:CK$723,$M343,(Bundesland-1)*7+1)","v":0},{"$f":"INDEX(AB$23:CL$723,$M343,(Bundesland-1)*7+1)","v":0},null,null,null,321," ",null,null,null,null,null,321," ",null,null,null,null,null,321," ",null,null,null,null,null,321,"Michelhausen",195,3.31,3555,-14,null,321,"Straß im Attergau",579,2.67,4314,-16,null,321," ",null,null,null,null,null,321,"Wasendorf",722,2.3199999999999998,4402,-15,null,321," ",null,null,null,null,null,321," "]
[null,null,null,null,null,null,null,null,null,null,null,null,322," ",0,0,{"$f":"MIN(S344+Zuschlag_A,-8)","v":-8},0,0,null,null,null,322," ",null,null,null,null,null,322," ",null,null,null,null,null,322," ",null,null,null,null,null,322,"Miesenbach",460,3.2,3898,-14,null,322,"Stroheim",490,2.83,4121,-16,null,322," ",null,null,null,null,null,322,"Wegscheid",818,2.77,4567,-16,null,322," ",null,null,null,null,null,322," "]
[null,null,null,null,null,null,null,null,null,null,null,null,323," ",0,0,-8,0,0,null,null,null,323," ",null,null,null,null,null,323," ",null,null,null,null,null,323," ",null,null,null,null,null,323,"Mistelbach an der Zaya",208,3.08,3620,-14,null,323,"Suben",326,3.12,3816,-15,null,323," ",null,null,null,null,null,323,"Weichselboden",677,2.74,4350,-16,null,323," ",null,null,null,null,null,323," "]
[null,null,null,null,null,null,null,null,null,null,null,null,324," ",0,0,-8,0,0,null,null,null,324," ",null,null,null,null,null,324," ",null,null,null,null,null,324," ",null,null,null,null,null,324,"Mitterarnsdorf",205,3.6,3526,-13,null,324,"Taiskirchen im Innkreis",480,3.1,3989,-15,null,324," ",null,null,null,null,null,324,"Weißenbach an der Enns",445,3.08,4044,-14,null,324," ",null,null,null,null,null,324," "]
[null,null,null,null,null,null,null,null,null,null,null,null,325," ",0,0,-8,0,0,null,null,null,325," ",null,null,null,null,null,325," ",null,null,null,null,null,325," ",null,null,null,null,null,325,"Mitterbach",791,2.87,4506,-15,null,325,"Taufkirchen an der Pram",338,3.15,3825,-15,null,325," ",null,null,null,null,null,325,"Weißkirchen in Steiermark",688,2.13,4414,-16,null,325," ",null,null,null,null,null,325," "]
[null,null,null,null,null,null,null,null,null,null,null,null,326," ",0,0,-8,0,0,null,null,null,326," ",null,null,null,null,null,326," ",null,null,null,null,null,326," ",null,null,null,null,null,326,"Mitterndorf an der Fischa",184,3.42,3466,-14,null,326,"Taufkirchen an der Trattnach",377,3.2,3729,-15,null,326," ",null,null,null,null,null,326,"Weiz",470,3.19,3714,-13,null,326," ",null,null,null,null,null,326," "]
[null,null,null,null,null,null,null,null,null,null,null,null,327," ",0,0,-8,0,0,null,null,null,327," ",null,null,null,null,null,327," ",null,null,null,null,null,327," ",null,null,null,null,null,327,"Mödling",240,3.57,3417,-13,null,327,"Ternberg",330,3.55,3734,-14,null,327," ",null,null,null,null,null,327,"Wenigzell",828,2.59,4458,-16,null,327," ",null,null,null,null,null,327," "]
[null,null,null,null,null,null,null,null,null,null,null,null,328," ",0,0,-8,0,0,null,null,null,328," ",null,null,null,null,null,328," ",null,null,null,null,null,328," ",null,null,null,null,null,328,"Möllersdorf",196,3.71,3275,-13,null,328,"Thening",322,3.11,3732,-14,null,328," ",null,null,null,null,null,328,"Werndorf",309,2.94,3633,-14,null,328," ",null,null,null,null,null,328," "]
[null,null,null,null,null,null,null,null,null,null,null,null,329," ",0,0,-8,0,0,null,null,null,329," ",null,null,null,null,null,329," ",null,null,null,null,null,329," ",null,null,null,null,null,329,"Mönichkirchen",955,2.62,4536,-15,null,329,"Thomasroith",578,3.09,3941,-15,null,329," ",null,null,null,null,null,329,"Wettmannstätten",299,3.13,3576,-14,null,329," ",null,null,null,null,null,329," "]
[null,null,null,null,null,null,null,null,null,null,null,null,330," ",0,0,-8,0,0,null,null,null,330," ",null,null,null,null,null,330," ",null,null,null,null,null,330," ",null,null,null,null,null,330,"Mühlbach am Manhartsberg",350,2.82,3969,-14,null,330,"Timelkam",450,2.79,4166,-16,null,330," ",null,null,null,null,null,330,"Wies",341,3.12,3612,-14,null,330," ",null,null,null,null,null,330," "]
[null,null,null,null,null,null,null,null,null,null,null,null,331," ",0,0,-8,0,0,null,null,null,331," ",null,null,null,null,null,331," ",null,null,null,null,null,331," ",null,null,null,null,null,331,"Mühldorf",350,3.16,3806,-14,null,331,"Traberg",855,2.1800000000000002,4739,-16,null,331," ",null,null,null,null,null,331,"Wildalpen",600,2.88,4195,-15,null,331," ",null,null,null,null,null,331," "]
[null,null,null,null,null,null,null,null,null,null,null,null,332," ",0,0,-8,0,0,null,null,null,332," ",null,null,null,null,null,332," ",null,null,null,null,null,332," ",null,null,null,null,null,332,"Münchendorf",186,3.64,3386,-13,null,332,"Tragwein",489,3.08,3841,-14,null,332," ",null,null,null,null,null,332,"Wildon",314,3.09,3585,-14,null,332," ",null,null,null,null,null,332," "]
[null,null,null,null,null,null,null,null,null,null,null,null,333," ",0,0,-8,0,0,null,null,null,333," ",null,null,null,null,null,333," ",null,null,null,null,null,333," ",null,null,null,null,null,333,"Münichreith",650,2.41,4539,-16,null,333,"Trattenbach",372,3.48,3800,-14,null,333," ",null,null,null,null,null,333,"Wolfsberg im Schwarzautal",290,3.11,3547,-13,null,333," ",null,null,null,null,null,333," "]
[null,null,null,null,null,null,null,null,null,null,null,null,334," ",0,0,-8,0,0,null,null,null,334," ",null,null,null,null,null,334," ",null,null,null,null,null,334," ",null,null,null,null,null,334,"Muthmannsdorf",400,3.22,3775,-14,null,334,"Traun",276,3.23,3640,-14,null,334," ",null,null,null,null,null,334,"Wörschach",650,2.25,4473,-16,null,334," ",null,null,null,null,null,334," "]
[null,null,null,null,null,null,null,null,null,null,null,null,335," ",0,0,-8,0,0,null,null,null,335," ",null,null,null,null,null,335," ",null,null,null,null,null,335," ",null,null,null,null,null,335,"Nagelberg",508,2.62,4294,-17,null,335,"Traunkirchen",432,3.37,3825,-13,null,335," ",null,null,null,null,null,335,"Wörth an der Lafnitz",305,3.45,3425,-12,null,335," ",null,null,null,null,null,335," "]
[null,null,null,null,null,null,null,null,null,null,null,null,336," ",0,0,-8,0,0,null,null,null,336," ",null,null,null,null,null,336," ",null,null,null,null,null,336," ",null,null,null,null,null,336,"Nappersdorf",232,3.26,3632,-14,null,336,"Treubach",417,3.13,3864,-15,null,336," ",null,null,null,null,null,336,"Wundschuh",319,2.78,3703,-14,null,336," ",null,null,null,null,null,336," "]
[null,null,null,null,null,null,null,null,null,null,null,null,337," ",0,0,-8,0,0,null,null,null,337," ",null,null,null,null,null,337," ",null,null,null,null,null,337," ",null,null,null,null,null,337,"Naßwald",610,3.05,4373,-15,null,337,"Ulrichsberg",626,2.58,4251,-15,null,337," ",null,null,null,null,null,337,"Zeltweg",670,2.0699999999999998,4411,-16,null,337," ",null,null,null,null,null,337," "]
[null,null,null,null,null,null,null,null,null,null,null,null,338," ",0,0,-8,0,0,null,null,null,338," ",null,null,null,null,null,338," ",null,null,null,null,null,338," ",null,null,null,null,null,338,"Neubau",304,2.97,3781,-14,null,338,"Ungenach",486,2.97,4018,-16,null,338," ",null,null,null,null,null,338," ",null,null,null,null,null,338," ",null,null,null,null,null,338," "]
[null,null,null,null,null,null,null,null,null,null,null,null,339," ",0,0,-8,0,0,null,null,null,339," ",null,null,null,null,null,339," ",null,null,null,null,null,339," ",null,null,null,null,null,339,"Neuda",214,3.25,3701,-14,null,339,"Unterach",479,3.42,3897,-14,null,339," ",null,null,null,null,null,339," ",null,null,null,null,null,339," ",null,null,null,null,null,339," "]
[null,null,null,null,null,null,null,null,null,null,null,null,340," ",0,0,-8,0,0,null,null,null,340," ",null,null,null,null,null,340," ",null,null,null,null,null,340," ",null,null,null,null,null,340,"Neudorf bei Staatz",203,3.14,3575,-14,null,340,"Untergaisbach",380,3.13,3746,-13,null,340," ",null,null,null,null,null,340," ",null,null,null,null,null,340," ",null,null,null,null,null,340," "]
[null,null,null,null,null,null,null,null,null,null,null,null,341," ",0,0,-8,0,0,null,null,null,341," ",null,null,null,null,null,341," ",null,null,null,null,null,341," ",null,null,null,null,null,341,"Neuhaus",398,2.99,4031,-15,null,341,"Unterweißenbach",630,2.46,4438,-16,null,341," ",null,null,null,null,null,341," ",null,null,null,null,null,341," ",null,null,null,null,null,341," "]
[null,null,null,null,null,null,null,null,null,null,null,null,342," ",0,0,-8,0,0,null,null,null,342," ",null,null,null,null,null,342," ",null,null,null,null,null,342," ",null,null,null,null,null,342,"Neuhofen an der Ybbs",310,3.34,3716,-13,null,342,"Uttendorf",418,3.04,3900,-15,null,342," ",null,null,null,null,null,342," ",null,null,null,null,null,342," ",null,null,null,null,null,342," "]
[null,null,null,null,null,null,null,null,null,null,null,null,343," ",0,0,-8,0,0,null,null,null,343," ",null,null,null,null,null,343," ",null,null,null,null,null,343," ",null,null,null,null,null,343,"Neulengbach",245,3.24,3636,-14,null,343,"Utzenaich",395,3.13,3897,-15,null,343," ",null,null,null,null,null,343," ",null,null,null,null,null,343," ",null,null,null,null,null,343," "]
[null,null,null,null,null,null,null,null,null,null,null,null,344," ",0,0,-8,0,0,null,null,null,344," ",null,null,null,null,null,344," ",null,null,null,null,null,344," ",null,null,null,null,null,344,"Neumarkt an der Ybbs",235,3.34,3698,-13,null,344,"Vichtenstein",565,2.72,4181,-15,null,344," ",null,null,null,null,null,344," ",null,null,null,null,null,344," ",null,null,null,null,null,344," "]
[null,null,null,null,null,null,null,null,null,null,null,null,345," ",0,0,-8,0,0,null,null,null,345," ",null,null,null,null,null,345," ",null,null,null,null,null,345," ",null,null,null,null,null,345,"Neunkirchen",371,3.27,3697,-14,null,345,"Vöcklabruck",429,2.88,4125,-15,null,345," ",null,null,null,null,null,345," ",null,null,null,null,null,345," ",null,null,null,null,null,345," "]
[null,null,null,null,null,null,null,null,null,null,null,null,346," ",0,0,-8,0,0,null,null,null,346," ",null,null,null,null,null,346," ",null,null,null,null,null,346," ",null,null,null,null,null,346,"Neupölla",475,2.56,4238,-16,null,346,"Vöcklamarkt",488,2.79,4267,-17,null,346," ",null,null,null,null,null,346," ",null,null,null,null,null,346," ",null,null,null,null,null,346," "]
[null,null,null,null,null,null,null,null,null,null,null,null,347," ",0,0,-8,0,0,null,null,null,347," ",null,null,null,null,null,347," ",null,null,null,null,null,347," ",null,null,null,null,null,347,"Neusiedl an der Zaya",170,3.23,3588,-14,null,347,"Vorchdorf",413,3.1,3887,-14,null,347," ",null,null,null,null,null,347," ",null,null,null,null,null,347," ",null,null,null,null,null,347," "]
[null,null,null,null,null,null,null,null,null,null,null,null,348," ",0,0,-8,0,0,null,null,null,348," ",null,null,null,null,null,348," ",null,null,null,null,null,348," ",null,null,null,null,null,348,"Neustadtl-Markt",510,2.95,4058,-14,null,348,"Vorderstoder",805,2.82,4381,-15,null,348," ",null,null,null,null,null,348," ",null,null,null,null,null,348," ",null,null,null,null,null,348," "]
[null,null,null,null,null,null,null,null,null,null,null,null,349," ",0,0,-8,0,0,null,null,null,349," ",null,null,null,null,null,349," ",null,null,null,null,null,349," ",null,null,null,null,null,349,"Niederabsdorf",168,3.32,3603,-14,null,349,"Vorderweißenbach",701,2.48,4398,-15,null,349," ",null,null,null,null,null,349," ",null,null,null,null,null,349," ",null,null,null,null,null,349," "]
[null,null,null,null,null,null,null,null,null,null,null,null,350," ",0,0,-8,0,0,null,null,null,350," ",null,null,null,null,null,350," ",null,null,null,null,null,350," ",null,null,null,null,null,350,"Niederfladnitz",406,2.69,4034,-15,null,350,"Waizenkirchen",367,2.92,3980,-16,null,350," ",null,null,null,null,null,350," ",null,null,null,null,null,350," ",null,null,null,null,null,350," "]
[null,null,null,null,null,null,null,null,null,null,null,null,351," ",0,0,-8,0,0,null,null,null,351," ",null,null,null,null,null,351," ",null,null,null,null,null,351," ",null,null,null,null,null,351,"Niederhollabrunn",220,3.27,3648,-14,null,351,"Waldhausen im Strudengau",475,2.94,4026,-15,null,351," ",null,null,null,null,null,351," ",null,null,null,null,null,351," ",null,null,null,null,null,351," "]
[null,null,null,null,null,null,null,null,null,null,null,null,352," ",0,0,-8,0,0,null,null,null,352," ",null,null,null,null,null,352," ",null,null,null,null,null,352," ",null,null,null,null,null,352,"Niederkreuzstetten",223,3.18,3667,-14,null,352,"Walding",303,3.05,3712,-14,null,352," ",null,null,null,null,null,352," ",null,null,null,null,null,352," ",null,null,null,null,null,352," "]
[null,null,null,null,null,null,null,null,null,null,null,null,353," ",0,0,-8,0,0,null,null,null,353," ",null,null,null,null,null,353," ",null,null,null,null,null,353," ",null,null,null,null,null,353,"Niederleis",254,3.13,3678,-14,null,353,"Waldneukirchen",446,3.25,3920,-14,null,353," ",null,null,null,null,null,353," ",null,null,null,null,null,353," ",null,null,null,null,null,353," "]
[null,null,null,null,null,null,null,null,null,null,null,null,354," ",0,0,-8,0,0,null,null,null,354," ",null,null,null,null,null,354," ",null,null,null,null,null,354," ",null,null,null,null,null,354,"Niedernondorf",586,2.37,4601,-17,null,354,"Waldzell",522,2.97,4054,-16,null,354," ",null,null,null,null,null,354," ",null,null,null,null,null,354," ",null,null,null,null,null,354," "]
[null,null,null,null,null,null,null,null,null,null,null,null,355," ",0,0,-8,0,0,null,null,null,355," ",null,null,null,null,null,355," ",null,null,null,null,null,355," ",null,null,null,null,null,355,"Niederrußbach",240,3.15,3758,-14,null,355,"Wallern an der Trattnach",298,2.96,3954,-15,null,355," ",null,null,null,null,null,355," ",null,null,null,null,null,355," ",null,null,null,null,null,355," "]
[null,null,null,null,null,null,null,null,null,null,null,null,356," ",0,0,-8,0,0,null,null,null,356," ",null,null,null,null,null,356," ",null,null,null,null,null,356," ",null,null,null,null,null,356,"Nöchling",530,2.79,4181,-15,null,356,"Wartberg an der Krems",385,3.12,3781,-14,null,356," ",null,null,null,null,null,356," ",null,null,null,null,null,356," ",null,null,null,null,null,356," "]
[null,null,null,null,null,null,null,null,null,null,null,null,357," ",0,0,-8,0,0,null,null,null,357," ",null,null,null,null,null,357," ",null,null,null,null,null,357," ",null,null,null,null,null,357,"Ober-Grafendorf",280,3.28,3696,-14,null,357,"Wartberg ob der Aist",477,3.02,3906,-14,null,357," ",null,null,null,null,null,357," ",null,null,null,null,null,357," ",null,null,null,null,null,357," "]
[null,null,null,null,null,null,null,null,null,null,null,null,358," ",0,0,-8,0,0,null,null,null,358," ",null,null,null,null,null,358," ",null,null,null,null,null,358," ",null,null,null,null,null,358,"Ober-Meisling",360,3.1,3869,-14,null,358,"Waxenberg",748,2.35,4502,-16,null,358," ",null,null,null,null,null,358," ",null,null,null,null,null,358," ",null,null,null,null,null,358," "]
[null,null,null,null,null,null,null,null,null,null,null,null,359," ",0,0,-8,0,0,null,null,null,359," ",null,null,null,null,null,359," ",null,null,null,null,null,359," ",null,null,null,null,null,359,"Oberndorf an der Melk",300,3.18,3835,-14,null,359,"Weibern",441,3.21,3812,-15,null,359," ",null,null,null,null,null,359," ",null,null,null,null,null,359," ",null,null,null,null,null,359," "]
[null,null,null,null,null,null,null,null,null,null,null,null,360," ",0,0,-8,0,0,null,null,null,360," ",null,null,null,null,null,360," ",null,null,null,null,null,360," ",null,null,null,null,null,360,"Oberrohrbach",190,3.42,3516,-13,null,360,"Weilbach",384,3.1,3886,-15,null,360," ",null,null,null,null,null,360," ",null,null,null,null,null,360," ",null,null,null,null,null,360," "]
[null,null,null,null,null,null,null,null,null,null,null,null,361," ",0,0,-8,0,0,null,null,null,361," ",null,null,null,null,null,361," ",null,null,null,null,null,361," ",null,null,null,null,null,361,"Obersiebenbrunn",151,3.3,3507,-14,null,361,"Weißenbach am Attersee",472,3.3,3925,-14,null,361," ",null,null,null,null,null,361," ",null,null,null,null,null,361," ",null,null,null,null,null,361," "]
[null,null,null,null,null,null,null,null,null,null,null,null,362," ",0,0,-8,0,0,null,null,null,362," ",null,null,null,null,null,362," ",null,null,null,null,null,362," ",null,null,null,null,null,362,"Obersulz",200,3.15,3605,-14,null,362,"Weißkirchen",305,3.28,3678,-14,null,362," ",null,null,null,null,null,362," ",null,null,null,null,null,362," ",null,null,null,null,null,362," "]
[null,null,null,null,null,null,null,null,null,null,null,null,363," ",0,0,-8,0,0,null,null,null,363," ",null,null,null,null,null,363," ",null,null,null,null,null,363," ",null,null,null,null,null,363,"Oberwaltersdorf",214,3.64,3370,-13,null,363,"Weitersfelden",726,2.34,4592,-16,null,363," ",null,null,null,null,null,363," ",null,null,null,null,null,363," ",null,null,null,null,null,363," "]
[null,null,null,null,null,null,null,null,null,null,null,null,364," ",0,0,-8,0,0,null,null,null,364," ",null,null,null,null,null,364," ",null,null,null,null,null,364," ",null,null,null,null,null,364,"Oberweiden",162,3.28,3512,-14,null,364,"Wels",317,3.59,3644,-13,null,364," ",null,null,null,null,null,364," ",null,null,null,null,null,364," ",null,null,null,null,null,364," "]
[null,null,null,null,null,null,null,null,null,null,null,null,365," ",0,0,-8,0,0,null,null,null,365," ",null,null,null,null,null,365," ",null,null,null,null,null,365," ",null,null,null,null,null,365,"Oberwölbling",330,3.28,3728,-14,null,365,"Wendling",405,3.21,3812,-15,null,365," ",null,null,null,null,null,365," ",null,null,null,null,null,365," ",null,null,null,null,null,365," "]
[null,null,null,null,null,null,null,null,null,null,null,null,366," ",0,0,-8,0,0,null,null,null,366," ",null,null,null,null,null,366," ",null,null,null,null,null,366," ",null,null,null,null,null,366,"Obritzberg",366,3.1,3854,-14,null,366,"Weng im Innkreis",372,3.15,3826,-15,null,366," ",null,null,null,null,null,366," ",null,null,null,null,null,366," ",null,null,null,null,null,366," "]
[null,null,null,null,null,null,null,null,null,null,null,null,367," ",0,0,-8,0,0,null,null,null,367," ",null,null,null,null,null,367," ",null,null,null,null,null,367," ",null,null,null,null,null,367,"Oed",392,3.13,3830,-14,null,367,"Wernstein am Inn",315,3.16,3788,-15,null,367," ",null,null,null,null,null,367," ",null,null,null,null,null,367," ",null,null,null,null,null,367," "]
[null,null,null,null,null,null,null,null,null,null,null,null,368," ",0,0,-8,0,0,null,null,null,368," ",null,null,null,null,null,368," ",null,null,null,null,null,368," ",null,null,null,null,null,368,"Oed",390,2.88,3920,-15,null,368,"Wesenufer",280,3.21,3762,-15,null,368," ",null,null,null,null,null,368," ",null,null,null,null,null,368," ",null,null,null,null,null,368," "]
[null,null,null,null,null,null,null,null,null,null,null,null,369," ",0,0,-8,0,0,null,null,null,369," ",null,null,null,null,null,369," ",null,null,null,null,null,369," ",null,null,null,null,null,369,"Ollersbach",265,3.25,3668,-14,null,369,"Weyer Markt",397,3.51,3892,-14,null,369," ",null,null,null,null,null,369," ",null,null,null,null,null,369," ",null,null,null,null,null,369," "]
[null,null,null,null,null,null,null,null,null,null,null,null,370," ",0,0,-8,0,0,null,null,null,370," ",null,null,null,null,null,370," ",null,null,null,null,null,370," ",null,null,null,null,null,370,"Ollersdorf",160,3.33,3517,-14,null,370,"Weyregg am Attersee",480,3.22,4043,-15,null,370," ",null,null,null,null,null,370," ",null,null,null,null,null,370," ",null,null,null,null,null,370," "]
[null,null,null,null,null,null,null,null,null,null,null,null,371," ",0,0,-8,0,0,null,null,null,371," ",null,null,null,null,null,371," ",null,null,null,null,null,371," ",null,null,null,null,null,371,"Opponitz",422,3.21,3945,-15,null,371,"Wildenau",416,3.16,3857,-15,null,371," ",null,null,null,null,null,371," ",null,null,null,null,null,371," ",null,null,null,null,null,371," "]
[null,null,null,null,null,null,null,null,null,null,null,null,372," ",0,0,-8,0,0,null,null,null,372," ",null,null,null,null,null,372," ",null,null,null,null,null,372," ",null,null,null,null,null,372,"Orth an der Donau",145,3.3,3474,-14,null,372,"Wilhering",269,3.08,3671,-14,null,372," ",null,null,null,null,null,372," ",null,null,null,null,null,372," ",null,null,null,null,null,372," "]
[null,null,null,null,null,null,null,null,null,null,null,null,373," ",0,0,-8,0,0,null,null,null,373," ",null,null,null,null,null,373," ",null,null,null,null,null,373," ",null,null,null,null,null,373,"Ottenschlag",842,1.88,5038,-18,null,373,"Windhaag bei Freistadt",721,2.31,4600,-16,null,373," ",null,null,null,null,null,373," ",null,null,null,null,null,373," ",null,null,null,null,null,373," "]
[null,null,null,null,null,null,null,null,null,null,null,null,374," ",0,0,-8,0,0,null,null,null,374," ",null,null,null,null,null,374," ",null,null,null,null,null,374," ",null,null,null,null,null,374,"Ottenthal",240,3.01,3754,-14,null,374,"Windhaag bei Perg",498,3.01,3857,-14,null,374," ",null,null,null,null,null,374," ",null,null,null,null,null,374," ",null,null,null,null,null,374," "]
[null,null,null,null,null,null,null,null,null,null,null,null,375," ",0,0,-8,0,0,null,null,null,375," ",null,null,null,null,null,375," ",null,null,null,null,null,375," ",null,null,null,null,null,375,"Palterndorf",170,3.25,3602,-14,null,375,"Windischgarsten",601,3.25,3987,-14,null,375," ",null,null,null,null,null,375," ",null,null,null,null,null,375," ",null,null,null,null,null,375," "]
[null,null,null,null,null,null,null,null,null,null,null,null,376," ",0,0,-8,0,0,null,null,null,376," ",null,null,null,null,null,376," ",null,null,null,null,null,376," ",null,null,null,null,null,376,"Payerbach",478,3.45,3823,-14,null,376,"Wolfern",359,3.15,3809,-14,null,376," ",null,null,null,null,null,376," ",null,null,null,null,null,376," ",null,null,null,null,null,376," "]
[null,null,null,null,null,null,null,null,null,null,null,null,377," ",0,0,-8,0,0,null,null,null,377," ",null,null,null,null,null,377," ",null,null,null,null,null,377," ",null,null,null,null,null,377,"Perchtoldsdorf",256,3.55,3487,-13,null,377,"Wolfsegg am Hausruck",638,3.09,3974,-15,null,377," ",null,null,null,null,null,377," ",null,null,null,null,null,377," ",null,null,null,null,null,377," "]
[null,null,null,null,null,null,null,null,null,null,null,null,378," ",0,0,-8,0,0,null,null,null,378," ",null,null,null,null,null,378," ",null,null,null,null,null,378," ",null,null,null,null,null,378,"Pernersdorf",214,3.25,3634,-14,null,378,"Zell am Moos",568,3.07,4047,-15,null,378," ",null,null,null,null,null,378," ",null,null,null,null,null,378," ",null,null,null,null,null,378," "]
[null,null,null,null,null,null,null,null,null,null,null,null,379," ",0,0,-8,0,0,null,null,null,379," ",null,null,null,null,null,379," ",null,null,null,null,null,379," ",null,null,null,null,null,379,"Pernitz",429,3.11,3918,-15,null,379,"Zell an der Pram",365,3.13,3846,-15,null,379," ",null,null,null,null,null,379," ",null,null,null,null,null,379," ",null,null,null,null,null,379," "]
[null,null,null,null,null,null,null,null,null,null,null,null,380," ",0,0,-8,0,0,null,null,null,380," ",null,null,null,null,null,380," ",null,null,null,null,null,380," ",null,null,null,null,null,380,"Perschling",210,3.29,3577,-14,null,380,"Zipf",482,2.84,4203,-17,null,380," ",null,null,null,null,null,380," ",null,null,null,null,null,380," ",null,null,null,null,null,380," "]
[null,null,null,null,null,null,null,null,null,null,null,null,381," ",0,0,-8,0,0,null,null,null,381," ",null,null,null,null,null,381," ",null,null,null,null,null,381," ",null,null,null,null,null,381,"Persenbeug",222,3.43,3663,-13,null,381,"Zwettl an der Rodl",616,2.64,4237,-15,null,381," ",null,null,null,null,null,381," ",null,null,null,null,null,381," ",null,null,null,null,null,381," "]
[null,null,null,null,null,null,null,null,null,null,null,null,382," ",0,0,-8,0,0,null,null,null,382," ",null,null,null,null,null,382," ",null,null,null,null,null,382," ",null,null,null,null,null,382,"Petronell",180,3.35,3464,-14,null,382," ",null,null,null,null,null,382," ",null,null,null,null,null,382," ",null,null,null,null,null,382," ",null,null,null,null,null,382," "]
[null,null,null,null,null,null,null,null,null,null,null,null,383," ",0,0,-8,0,0,null,null,null,383," ",null,null,null,null,null,383," ",null,null,null,null,null,383," ",null,null,null,null,null,383,"Petzenkirchen",250,3.24,3738,-14,null,383," ",null,null,null,null,null,383," ",null,null,null,null,null,383," ",null,null,null,null,null,383," ",null,null,null,null,null,383," "]
[null,null,null,null,null,null,null,null,null,null,null,null,384," ",0,0,-8,0,0,null,null,null,384," ",null,null,null,null,null,384," ",null,null,null,null,null,384," ",null,null,null,null,null,384,"Pfaffenschlag bei Waidhofen an der Thaya",568,2.38,4423,-17,null,384," ",null,null,null,null,null,384," ",null,null,null,null,null,384," ",null,null,null,null,null,384," ",null,null,null,null,null,384," "]
[null,null,null,null,null,null,null,null,null,null,null,null,385,{"$f":"INDEX(X$23:CG$723,$M407,(Bundesland-1)*7+1)","v":" "},{"$f":"INDEX(Y$23:CH$723,$M407,(Bundesland-1)*7+1)","v":0},{"$f":"INDEX(Z$23:CI$723,$M407,(Bundesland-1)*7+1)","v":0},-8,{"$f":"INDEX(AA$23:CK$723,$M407,(Bundesland-1)*7+1)","v":0},{"$f":"INDEX(AB$23:CL$723,$M407,(Bundesland-1)*7+1)","v":0},null,null,null,385," ",null,null,null,null,null,385," ",null,null,null,null,null,385," ",null,null,null,null,null,385,"Pfaffstätten",217,3.76,3329,-13,null,385," ",null,null,null,null,null,385," ",null,null,null,null,null,385," ",null,null,null,null,null,385," ",null,null,null,null,null,385," "]
[null,null,null,null,null,null,null,null,null,null,null,null,386," ",0,0,{"$f":"MIN(S408+Zuschlag_A,-8)","v":-8},0,0,null,null,null,386," ",null,null,null,null,null,386," ",null,null,null,null,null,386," ",null,null,null,null,null,386,"Piesting",349,3.2,3729,-14,null,386," ",null,null,null,null,null,386," ",null,null,null,null,null,386," ",null,null,null,null,null,386," ",null,null,null,null,null,386," "]
[null,null,null,null,null,null,null,null,null,null,null,null,387," ",0,0,-8,0,0,null,null,null,387," ",null,null,null,null,null,387," ",null,null,null,null,null,387," ",null,null,null,null,null,387,"Pillichsdorf",166,3.31,3554,-14,null,387," ",null,null,null,null,null,387," ",null,null,null,null,null,387," ",null,null,null,null,null,387," ",null,null,null,null,null,387," "]
[null,null,null,null,null,null,null,null,null,null,null,null,388," ",0,0,-8,0,0,null,null,null,388," ",null,null,null,null,null,388," ",null,null,null,null,null,388," ",null,null,null,null,null,388,"Pirawarth",195,3.21,3609,-14,null,388," ",null,null,null,null,null,388," ",null,null,null,null,null,388," ",null,null,null,null,null,388," ",null,null,null,null,null,388," "]
[null,null,null,null,null,null,null,null,null,null,null,null,389," ",0,0,-8,0,0,null,null,null,389," ",null,null,null,null,null,389," ",null,null,null,null,null,389," ",null,null,null,null,null,389,"Pitten",327,3.27,3680,-14,null,389," ",null,null,null,null,null,389," ",null,null,null,null,null,389," ",null,null,null,null,null,389," ",null,null,null,null,null,389," "]
[null,null,null,null,null,null,null,null,null,null,null,null,390," ",0,0,-8,0,0,null,null,null,390," ",null,null,null,null,null,390," ",null,null,null,null,null,390," ",null,null,null,null,null,390,"Plank am Kamp",222,3.23,3656,-13,null,390," ",null,null,null,null,null,390," ",null,null,null,null,null,390," ",null,null,null,null,null,390," ",null,null,null,null,null,390," "]
[null,null,null,null,null,null,null,null,null,null,null,null,391," ",0,0,-8,0,0,null,null,null,391," ",null,null,null,null,null,391," ",null,null,null,null,null,391," ",null,null,null,null,null,391,"Pleißing",390,2.72,4027,-15,null,391," ",null,null,null,null,null,391," ",null,null,null,null,null,391," ",null,null,null,null,null,391," ",null,null,null,null,null,391," "]
[null,null,null,null,null,null,null,null,null,null,null,null,392," ",0,0,-8,0,0,null,null,null,392," ",null,null,null,null,null,392," ",null,null,null,null,null,392," ",null,null,null,null,null,392,"Pöchlarn",212,3.26,3717,-14,null,392," ",null,null,null,null,null,392," ",null,null,null,null,null,392," ",null,null,null,null,null,392," ",null,null,null,null,null,392," "]
[null,null,null,null,null,null,null,null,null,null,null,null,393," ",0,0,-8,0,0,null,null,null,393," ",null,null,null,null,null,393," ",null,null,null,null,null,393," ",null,null,null,null,null,393,"Pöggstall",460,2.69,4207,-15,null,393," ",null,null,null,null,null,393," ",null,null,null,null,null,393," ",null,null,null,null,null,393," ",null,null,null,null,null,393," "]
[null,null,null,null,null,null,null,null,null,null,null,null,394," ",0,0,-8,0,0,null,null,null,394," ",null,null,null,null,null,394," ",null,null,null,null,null,394," ",null,null,null,null,null,394,"Pottenbrunn",240,3.31,3606,-14,null,394," ",null,null,null,null,null,394," ",null,null,null,null,null,394," ",null,null,null,null,null,394," ",null,null,null,null,null,394," "]
[null,null,null,null,null,null,null,null,null,null,null,null,395," ",0,0,-8,0,0,null,null,null,395," ",null,null,null,null,null,395," ",null,null,null,null,null,395," ",null,null,null,null,null,395,"Pottendorf",218,3.55,3421,-13,null,395," ",null,null,null,null,null,395," ",null,null,null,null,null,395," ",null,null,null,null,null,395," ",null,null,null,null,null,395," "]
[null,null,null,null,null,null,null,null,null,null,null,null,396," ",0,0,-8,0,0,null,null,null,396," ",null,null,null,null,null,396," ",null,null,null,null,null,396," ",null,null,null,null,null,396,"Pottenstein",324,3.2,3712,-14,null,396," ",null,null,null,null,null,396," ",null,null,null,null,null,396," ",null,null,null,null,null,396," ",null,null,null,null,null,396," "]
[null,null,null,null,null,null,null,null,null,null,null,null,397," ",0,0,-8,0,0,null,null,null,397," ",null,null,null,null,null,397," ",null,null,null,null,null,397," ",null,null,null,null,null,397,"Pottschach",400,3.46,3622,-14,null,397," ",null,null,null,null,null,397," ",null,null,null,null,null,397," ",null,null,null,null,null,397," ",null,null,null,null,null,397," "]
[null,null,null,null,null,null,null,null,null,null,null,null,398," ",0,0,-8,0,0,null,null,null,398," ",null,null,null,null,null,398," ",null,null,null,null,null,398," ",null,null,null,null,null,398,"Poysbrunn",250,2.89,3832,-15,null,398," ",null,null,null,null,null,398," ",null,null,null,null,null,398," ",null,null,null,null,null,398," ",null,null,null,null,null,398," "]
[null,null,null,null,null,null,null,null,null,null,null,null,399," ",0,0,-8,0,0,null,null,null,399," ",null,null,null,null,null,399," ",null,null,null,null,null,399," ",null,null,null,null,null,399,"Poysdorf",205,3,3757,-14,null,399," ",null,null,null,null,null,399," ",null,null,null,null,null,399," ",null,null,null,null,null,399," ",null,null,null,null,null,399," "]
[null,null,null,null,null,null,null,null,null,null,null,null,400," ",0,0,-8,0,0,null,null,null,400," ",null,null,null,null,null,400," ",null,null,null,null,null,400," ",null,null,null,null,null,400,"Prein an der Rax",680,3,4250,-15,null,400," ",null,null,null,null,null,400," ",null,null,null,null,null,400," ",null,null,null,null,null,400," ",null,null,null,null,null,400," "]
[null,null,null,null,null,null,null,null,null,null,null,null,401," ",0,0,-8,0,0,null,null,null,401," ",null,null,null,null,null,401," ",null,null,null,null,null,401," ",null,null,null,null,null,401,"Prellenkirchen",174,3.39,3454,-14,null,401," ",null,null,null,null,null,401," ",null,null,null,null,null,401," ",null,null,null,null,null,401," ",null,null,null,null,null,401," "]
[null,null,null,null,null,null,null,null,null,null,null,null,402," ",0,0,-8,0,0,null,null,null,402," ",null,null,null,null,null,402," ",null,null,null,null,null,402," ",null,null,null,null,null,402,"Pressbaum",300,3.25,3701,-14,null,402," ",null,null,null,null,null,402," ",null,null,null,null,null,402," ",null,null,null,null,null,402," ",null,null,null,null,null,402," "]
[null,null,null,null,null,null,null,null,null,null,null,null,403," ",0,0,-8,0,0,null,null,null,403," ",null,null,null,null,null,403," ",null,null,null,null,null,403," ",null,null,null,null,null,403,"Prinzendorf an der Zaya",180,3.16,3570,-14,null,403," ",null,null,null,null,null,403," ",null,null,null,null,null,403," ",null,null,null,null,null,403," ",null,null,null,null,null,403," "]
[null,null,null,null,null,null,null,null,null,null,null,null,404," ",0,0,-8,0,0,null,null,null,404," ",null,null,null,null,null,404," ",null,null,null,null,null,404," ",null,null,null,null,null,404,"Prinzersdorf",250,3.32,3652,-14,null,404," ",null,null,null,null,null,404," ",null,null,null,null,null,404," ",null,null,null,null,null,404," ",null,null,null,null,null,404," "]
[null,null,null,null,null,null,null,null,null,null,null,null,405," ",0,0,-8,0,0,null,null,null,405," ",null,null,null,null,null,405," ",null,null,null,null,null,405," ",null,null,null,null,null,405,"Prottes",166,3.29,3525,-14,null,405," ",null,null,null,null,null,405," ",null,null,null,null,null,405," ",null,null,null,null,null,405," ",null,null,null,null,null,405," "]
[null,null,null,null,null,null,null,null,null,null,null,null,406," ",0,0,-8,0,0,null,null,null,406," ",null,null,null,null,null,406," ",null,null,null,null,null,406," ",null,null,null,null,null,406,"Puchberg am Schneeberg",578,3.07,4130,-15,null,406," ",null,null,null,null,null,406," ",null,null,null,null,null,406," ",null,null,null,null,null,406," ",null,null,null,null,null,406," "]
[null,null,null,null,null,null,null,null,null,null,null,null,407," ",0,0,-8,0,0,null,null,null,407," ",null,null,null,null,null,407," ",null,null,null,null,null,407," ",null,null,null,null,null,407,"Puchenstuben",850,3.21,4533,-16,null,407," ",null,null,null,null,null,407," ",null,null,null,null,null,407," ",null,null,null,null,null,407," ",null,null,null,null,null,407," "]
[null,null,null,null,null,null,null,null,null,null,null,null,408," ",0,0,-8,0,0,null,null,null,408," ",null,null,null,null,null,408," ",null,null,null,null,null,408," ",null,null,null,null,null,408,"Pulkau",280,3.04,3748,-14,null,408," ",null,null,null,null,null,408," ",null,null,null,null,null,408," ",null,null,null,null,null,408," ",null,null,null,null,null,408," "]
[null,null,null,null,null,null,null,null,null,null,null,null,409," ",0,0,-8,0,0,null,null,null,409," ",null,null,null,null,null,409," ",null,null,null,null,null,409," ",null,null,null,null,null,409,"Pürbach",525,2.5,4339,-17,null,409," ",null,null,null,null,null,409," ",null,null,null,null,null,409," ",null,null,null,null,null,409," ",null,null,null,null,null,409," "]
[null,null,null,null,null,null,null,null,null,null,null,null,410," ",0,0,-8,0,0,null,null,null,410," ",null,null,null,null,null,410," ",null,null,null,null,null,410," ",null,null,null,null,null,410,"Purgstall",299,3.18,3818,-14,null,410," ",null,null,null,null,null,410," ",null,null,null,null,null,410," ",null,null,null,null,null,410," ",null,null,null,null,null,410," "]
[null,null,null,null,null,null,null,null,null,null,null,null,411," ",0,0,-8,0,0,null,null,null,411," ",null,null,null,null,null,411," ",null,null,null,null,null,411," ",null,null,null,null,null,411,"Purkersdorf",246,3.4,3636,-14,null,411," ",null,null,null,null,null,411," ",null,null,null,null,null,411," ",null,null,null,null,null,411," ",null,null,null,null,null,411," "]
[null,null,null,null,null,null,null,null,null,null,null,null,412," ",0,0,-8,0,0,null,null,null,412," ",null,null,null,null,null,412," ",null,null,null,null,null,412," ",null,null,null,null,null,412,"Pyhra",292,3.22,3709,-14,null,412," ",null,null,null,null,null,412," ",null,null,null,null,null,412," ",null,null,null,null,null,412," ",null,null,null,null,null,412," "]
[null,null,null,null,null,null,null,null,null,null,null,null,413," ",0,0,-8,0,0,null,null,null,413," ",null,null,null,null,null,413," ",null,null,null,null,null,413," ",null,null,null,null,null,413,"Raabs an der Thaya",405,2.76,4051,-16,null,413," ",null,null,null,null,null,413," ",null,null,null,null,null,413," ",null,null,null,null,null,413," ",null,null,null,null,null,413," "]
[null,null,null,null,null,null,null,null,null,null,null,null,414," ",0,0,-8,0,0,null,null,null,414," ",null,null,null,null,null,414," ",null,null,null,null,null,414," ",null,null,null,null,null,414,"Raasdorf",156,3.44,3411,-14,null,414," ",null,null,null,null,null,414," ",null,null,null,null,null,414," ",null,null,null,null,null,414," ",null,null,null,null,null,414," "]
[null,null,null,null,null,null,null,null,null,null,null,null,415," ",0,0,-8,0,0,null,null,null,415," ",null,null,null,null,null,415," ",null,null,null,null,null,415," ",null,null,null,null,null,415,"Rabensburg",167,3.32,3602,-14,null,415," ",null,null,null,null,null,415," ",null,null,null,null,null,415," ",null,null,null,null,null,415," ",null,null,null,null,null,415," "]
[null,null,null,null,null,null,null,null,null,null,null,null,416," ",0,0,-8,0,0,null,null,null,416," ",null,null,null,null,null,416," ",null,null,null,null,null,416," ",null,null,null,null,null,416,"Rabenstein",339,3.28,3828,-14,null,416," ",null,null,null,null,null,416," ",null,null,null,null,null,416," ",null,null,null,null,null,416," ",null,null,null,null,null,416," "]
[null,null,null,null,null,null,null,null,null,null,null,null,417," ",0,0,-8,0,0,null,null,null,417," ",null,null,null,null,null,417," ",null,null,null,null,null,417," ",null,null,null,null,null,417,"Raggendorf",174,3.32,3553,-14,null,417," ",null,null,null,null,null,417," ",null,null,null,null,null,417," ",null,null,null,null,null,417," ",null,null,null,null,null,417," "]
[null,null,null,null,null,null,null,null,null,null,null,null,418," ",0,0,-8,0,0,null,null,null,418," ",null,null,null,null,null,418," ",null,null,null,null,null,418," ",null,null,null,null,null,418,"Rainfeld",380,3.31,3888,-14,null,418," ",null,null,null,null,null,418," ",null,null,null,null,null,418," ",null,null,null,null,null,418," ",null,null,null,null,null,418," "]
[null,null,null,null,null,null,null,null,null,null,null,null,419," ",0,0,-8,0,0,null,null,null,419," ",null,null,null,null,null,419," ",null,null,null,null,null,419," ",null,null,null,null,null,419,"Ramsau",465,3.1,4056,-15,null,419," ",null,null,null,null,null,419," ",null,null,null,null,null,419," ",null,null,null,null,null,419," ",null,null,null,null,null,419," "]
[null,null,null,null,null,null,null,null,null,null,null,null,420," ",0,0,-8,0,0,null,null,null,420," ",null,null,null,null,null,420," ",null,null,null,null,null,420," ",null,null,null,null,null,420,"Randegg",360,3.24,3837,-14,null,420," ",null,null,null,null,null,420," ",null,null,null,null,null,420," ",null,null,null,null,null,420," ",null,null,null,null,null,420," "]
[null,null,null,null,null,null,null,null,null,null,null,null,421," ",0,0,-8,0,0,null,null,null,421," ",null,null,null,null,null,421," ",null,null,null,null,null,421," ",null,null,null,null,null,421,"Rannersdorf bei Wien",163,3.57,3352,-13,null,421," ",null,null,null,null,null,421," ",null,null,null,null,null,421," ",null,null,null,null,null,421," ",null,null,null,null,null,421," "]
[null,null,null,null,null,null,null,null,null,null,null,null,422," ",0,0,-8,0,0,null,null,null,422," ",null,null,null,null,null,422," ",null,null,null,null,null,422," ",null,null,null,null,null,422,"Rappottenstein",672,2.23,4692,-17,null,422," ",null,null,null,null,null,422," ",null,null,null,null,null,422," ",null,null,null,null,null,422," ",null,null,null,null,null,422," "]
[null,null,null,null,null,null,null,null,null,null,null,null,423," ",0,0,-8,0,0,null,null,null,423," ",null,null,null,null,null,423," ",null,null,null,null,null,423," ",null,null,null,null,null,423,"Rastenfeld",570,2.42,4535,-17,null,423," ",null,null,null,null,null,423," ",null,null,null,null,null,423," ",null,null,null,null,null,423," ",null,null,null,null,null,423," "]
[null,null,null,null,null,null,null,null,null,null,null,null,424," ",0,0,-8,0,0,null,null,null,424," ",null,null,null,null,null,424," ",null,null,null,null,null,424," ",null,null,null,null,null,424,"Ravelsbach",270,3.13,3729,-14,null,424," ",null,null,null,null,null,424," ",null,null,null,null,null,424," ",null,null,null,null,null,424," ",null,null,null,null,null,424," "]
[null,null,null,null,null,null,null,null,null,null,null,null,425," ",0,0,-8,0,0,null,null,null,425," ",null,null,null,null,null,425," ",null,null,null,null,null,425," ",null,null,null,null,null,425,"Raxendorf",505,2.67,4210,-15,null,425," ",null,null,null,null,null,425," ",null,null,null,null,null,425," ",null,null,null,null,null,425," ",null,null,null,null,null,425," "]
[null,null,null,null,null,null,null,null,null,null,null,null,426," ",0,0,-8,0,0,null,null,null,426," ",null,null,null,null,null,426," ",null,null,null,null,null,426," ",null,null,null,null,null,426,"Regelsbrunn",180,3.29,3493,-14,null,426," ",null,null,null,null,null,426," ",null,null,null,null,null,426," ",null,null,null,null,null,426," ",null,null,null,null,null,426," "]
[null,null,null,null,null,null,null,null,null,null,null,null,427," ",0,0,-8,0,0,null,null,null,427," ",null,null,null,null,null,427," ",null,null,null,null,null,427," ",null,null,null,null,null,427,"Reichenau an der Rax",485,3.44,3858,-14,null,427," ",null,null,null,null,null,427," ",null,null,null,null,null,427," ",null,null,null,null,null,427," ",null,null,null,null,null,427," "]
[null,null,null,null,null,null,null,null,null,null,null,null,428," ",0,0,-8,0,0,null,null,null,428," ",null,null,null,null,null,428," ",null,null,null,null,null,428," ",null,null,null,null,null,428,"Reidling",205,3.33,3568,-13,null,428," ",null,null,null,null,null,428," ",null,null,null,null,null,428," ",null,null,null,null,null,428," ",null,null,null,null,null,428," "]
[null,null,null,null,null,null,null,null,null,null,null,null,429," ",0,0,-8,0,0,null,null,null,429," ",null,null,null,null,null,429," ",null,null,null,null,null,429," ",null,null,null,null,null,429,"Reingers",595,2.4,4523,-17,null,429," ",null,null,null,null,null,429," ",null,null,null,null,null,429," ",null,null,null,null,null,429," ",null,null,null,null,null,429," "]
[null,null,null,null,null,null,null,null,null,null,null,null,430," ",0,0,-8,0,0,null,null,null,430," ",null,null,null,null,null,430," ",null,null,null,null,null,430," ",null,null,null,null,null,430,"Reinthal",193,3.16,3654,-14,null,430," ",null,null,null,null,null,430," ",null,null,null,null,null,430," ",null,null,null,null,null,430," ",null,null,null,null,null,430," "]
[null,null,null,null,null,null,null,null,null,null,null,null,431," ",0,0,-8,0,0,null,null,null,431," ",null,null,null,null,null,431," ",null,null,null,null,null,431," ",null,null,null,null,null,431,"Rekawinkel",380,3.11,3867,-14,null,431," ",null,null,null,null,null,431," ",null,null,null,null,null,431," ",null,null,null,null,null,431," ",null,null,null,null,null,431," "]
[null,null,null,null,null,null,null,null,null,null,null,null,432," ",0,0,-8,0,0,null,null,null,432," ",null,null,null,null,null,432," ",null,null,null,null,null,432," ",null,null,null,null,null,432,"Retz",264,3.15,3691,-14,null,432," ",null,null,null,null,null,432," ",null,null,null,null,null,432," ",null,null,null,null,null,432," ",null,null,null,null,null,432," "]
[null,null,null,null,null,null,null,null,null,null,null,null,433," ",0,0,-8,0,0,null,null,null,433," ",null,null,null,null,null,433," ",null,null,null,null,null,433," ",null,null,null,null,null,433,"Ried am Riederberg",238,3.27,3613,-14,null,433," ",null,null,null,null,null,433," ",null,null,null,null,null,433," ",null,null,null,null,null,433," ",null,null,null,null,null,433," "]
[null,null,null,null,null,null,null,null,null,null,null,null,434," ",0,0,-8,0,0,null,null,null,434," ",null,null,null,null,null,434," ",null,null,null,null,null,434," ",null,null,null,null,null,434,"Riegersburg",449,2.52,4196,-16,null,434," ",null,null,null,null,null,434," ",null,null,null,null,null,434," ",null,null,null,null,null,434," ",null,null,null,null,null,434," "]
[null,null,null,null,null,null,null,null,null,null,null,null,435," ",0,0,-8,0,0,null,null,null,435," ",null,null,null,null,null,435," ",null,null,null,null,null,435," ",null,null,null,null,null,435,"Rohr im Gebirge",683,3.02,4501,-15,null,435," ",null,null,null,null,null,435," ",null,null,null,null,null,435," ",null,null,null,null,null,435," ",null,null,null,null,null,435," "]
[null,null,null,null,null,null,null,null,null,null,null,null,436," ",0,0,-8,0,0,null,null,null,436," ",null,null,null,null,null,436," ",null,null,null,null,null,436," ",null,null,null,null,null,436,"Rohrau",148,3.37,3426,-14,null,436," ",null,null,null,null,null,436," ",null,null,null,null,null,436," ",null,null,null,null,null,436," ",null,null,null,null,null,436," "]
[null,null,null,null,null,null,null,null,null,null,null,null,437," ",0,0,-8,0,0,null,null,null,437," ",null,null,null,null,null,437," ",null,null,null,null,null,437," ",null,null,null,null,null,437,"Rohrbach an der Gölsen",438,3.27,3998,-14,null,437," ",null,null,null,null,null,437," ",null,null,null,null,null,437," ",null,null,null,null,null,437," ",null,null,null,null,null,437," "]
[null,null,null,null,null,null,null,null,null,null,null,null,438," ",0,0,-8,0,0,null,null,null,438," ",null,null,null,null,null,438," ",null,null,null,null,null,438," ",null,null,null,null,null,438,"Röhrenbach",460,2.4700000000000002,4259,-16,null,438," ",null,null,null,null,null,438," ",null,null,null,null,null,438," ",null,null,null,null,null,438," ",null,null,null,null,null,438," "]
[null,null,null,null,null,null,null,null,null,null,null,null,439," ",0,0,-8,0,0,null,null,null,439," ",null,null,null,null,null,439," ",null,null,null,null,null,439," ",null,null,null,null,null,439,"Röschitz",268,3.09,3721,-14,null,439," ",null,null,null,null,null,439," ",null,null,null,null,null,439," ",null,null,null,null,null,439," ",null,null,null,null,null,439," "]
[null,null,null,null,null,null,null,null,null,null,null,null,440," ",0,0,-8,0,0,null,null,null,440," ",null,null,null,null,null,440," ",null,null,null,null,null,440," ",null,null,null,null,null,440,"Rosenau",320,3.22,3775,-14,null,440," ",null,null,null,null,null,440," ",null,null,null,null,null,440," ",null,null,null,null,null,440," ",null,null,null,null,null,440," "]
[null,null,null,null,null,null,null,null,null,null,null,null,441," ",0,0,-8,0,0,null,null,null,441," ",null,null,null,null,null,441," ",null,null,null,null,null,441," ",null,null,null,null,null,441,"Rosenau Schloß",610,2.4,4612,-17,null,441," ",null,null,null,null,null,441," ",null,null,null,null,null,441," ",null,null,null,null,null,441," ",null,null,null,null,null,441," "]
[null,null,null,null,null,null,null,null,null,null,null,null,442," ",0,0,-8,0,0,null,null,null,442," ",null,null,null,null,null,442," ",null,null,null,null,null,442," ",null,null,null,null,null,442,"Rosenburg",260,3.06,3760,-14,null,442," ",null,null,null,null,null,442," ",null,null,null,null,null,442," ",null,null,null,null,null,442," ",null,null,null,null,null,442," "]
[null,null,null,null,null,null,null,null,null,null,null,null,443," ",0,0,-8,0,0,null,null,null,443," ",null,null,null,null,null,443," ",null,null,null,null,null,443," ",null,null,null,null,null,443,"Rossatz",225,3.57,3515,-13,null,443," ",null,null,null,null,null,443," ",null,null,null,null,null,443," ",null,null,null,null,null,443," ",null,null,null,null,null,443," "]
[null,null,null,null,null,null,null,null,null,null,null,null,444," ",0,0,-8,0,0,null,null,null,444," ",null,null,null,null,null,444," ",null,null,null,null,null,444," ",null,null,null,null,null,444,"Rückersdorf-Harmannsdorf",175,3.41,3517,-13,null,444," ",null,null,null,null,null,444," ",null,null,null,null,null,444," ",null,null,null,null,null,444," ",null,null,null,null,null,444," "]
[null,null,null,null,null,null,null,null,null,null,null,null,445," ",0,0,-8,0,0,null,null,null,445," ",null,null,null,null,null,445," ",null,null,null,null,null,445," ",null,null,null,null,null,445,"Ruprechtshofen",243,3.12,3849,-14,null,445," ",null,null,null,null,null,445," ",null,null,null,null,null,445," ",null,null,null,null,null,445," ",null,null,null,null,null,445," "]
[null,null,null,null,null,null,null,null,null,null,null,null,446," ",0,0,-8,0,0,null,null,null,446," ",null,null,null,null,null,446," ",null,null,null,null,null,446," ",null,null,null,null,null,446,"Sallingberg",760,2.0099999999999998,4912,-18,null,446," ",null,null,null,null,null,446," ",null,null,null,null,null,446," ",null,null,null,null,null,446," ",null,null,null,null,null,446," "]
[null,null,null,null,null,null,null,null,null,null,null,null,447," ",0,0,-8,0,0,null,null,null,447," ",null,null,null,null,null,447," ",null,null,null,null,null,447," ",null,null,null,null,null,447,"Sankt Aegyd am Neuwalde",582,3.16,4244,-15,null,447," ",null,null,null,null,null,447," ",null,null,null,null,null,447," ",null,null,null,null,null,447," ",null,null,null,null,null,447," "]
[null,null,null,null,null,null,null,null,null,null,null,null,448," ",0,0,-8,0,0,null,null,null,448," ",null,null,null,null,null,448," ",null,null,null,null,null,448," ",null,null,null,null,null,448,"Sankt Andrä-Wördern",180,3.4,3470,-13,null,448," ",null,null,null,null,null,448," ",null,null,null,null,null,448," ",null,null,null,null,null,448," ",null,null,null,null,null,448," "]
[null,null,null,null,null,null,null,null,null,null,null,null,449,{"$f":"INDEX(X$23:CG$723,$M471,(Bundesland-1)*7+1)","v":" "},{"$f":"INDEX(Y$23:CH$723,$M471,(Bundesland-1)*7+1)","v":0},{"$f":"INDEX(Z$23:CI$723,$M471,(Bundesland-1)*7+1)","v":0},-8,{"$f":"INDEX(AA$23:CK$723,$M471,(Bundesland-1)*7+1)","v":0},{"$f":"INDEX(AB$23:CL$723,$M471,(Bundesland-1)*7+1)","v":0},null,null,null,449," ",null,null,null,null,null,449," ",null,null,null,null,null,449," ",null,null,null,null,null,449,"Sankt Anton an der Jeßnitz",400,3.13,3947,-15,null,449," ",null,null,null,null,null,449," ",null,null,null,null,null,449," ",null,null,null,null,null,449," ",null,null,null,null,null,449," "]
[null,null,null,null,null,null,null,null,null,null,null,null,450," ",0,0,{"$f":"MIN(S472+Zuschlag_A,-8)","v":-8},0,0,null,null,null,450," ",null,null,null,null,null,450," ",null,null,null,null,null,450," ",null,null,null,null,null,450,"Sankt Christophen",245,3.26,3633,-14,null,450," ",null,null,null,null,null,450," ",null,null,null,null,null,450," ",null,null,null,null,null,450," ",null,null,null,null,null,450," "]
[null,null,null,null,null,null,null,null,null,null,null,null,451," ",0,0,-8,0,0,null,null,null,451," ",null,null,null,null,null,451," ",null,null,null,null,null,451," ",null,null,null,null,null,451,"Sankt Georgen am Reith",500,2.99,4133,-16,null,451," ",null,null,null,null,null,451," ",null,null,null,null,null,451," ",null,null,null,null,null,451," ",null,null,null,null,null,451," "]
[null,null,null,null,null,null,null,null,null,null,null,null,452," ",0,0,-8,0,0,null,null,null,452," ",null,null,null,null,null,452," ",null,null,null,null,null,452," ",null,null,null,null,null,452,"Sankt Georgen am Steinfelde",300,3.22,3725,-14,null,452," ",null,null,null,null,null,452," ",null,null,null,null,null,452," ",null,null,null,null,null,452," ",null,null,null,null,null,452," "]
[null,null,null,null,null,null,null,null,null,null,null,null,453," ",0,0,-8,0,0,null,null,null,453," ",null,null,null,null,null,453," ",null,null,null,null,null,453," ",null,null,null,null,null,453,"Sankt Georgen an der Leys",377,3.1,3937,-15,null,453," ",null,null,null,null,null,453," ",null,null,null,null,null,453," ",null,null,null,null,null,453," ",null,null,null,null,null,453," "]
[null,null,null,null,null,null,null,null,null,null,null,null,454," ",0,0,-8,0,0,null,null,null,454," ",null,null,null,null,null,454," ",null,null,null,null,null,454," ",null,null,null,null,null,454,"Sankt Leonhard am Forst",248,3.03,3870,-14,null,454," ",null,null,null,null,null,454," ",null,null,null,null,null,454," ",null,null,null,null,null,454," ",null,null,null,null,null,454," "]
[null,null,null,null,null,null,null,null,null,null,null,null,455," ",0,0,-8,0,0,null,null,null,455," ",null,null,null,null,null,455," ",null,null,null,null,null,455," ",null,null,null,null,null,455,"Sankt Leonhard am Hornerwald",580,2.19,4578,-16,null,455," ",null,null,null,null,null,455," ",null,null,null,null,null,455," ",null,null,null,null,null,455," ",null,null,null,null,null,455," "]
[null,null,null,null,null,null,null,null,null,null,null,null,456," ",0,0,-8,0,0,null,null,null,456," ",null,null,null,null,null,456," ",null,null,null,null,null,456," ",null,null,null,null,null,456,"Sankt Margarethen an der Sierning",261,3.28,3695,-14,null,456," ",null,null,null,null,null,456," ",null,null,null,null,null,456," ",null,null,null,null,null,456," ",null,null,null,null,null,456," "]
[null,null,null,null,null,null,null,null,null,null,null,null,457," ",0,0,-8,0,0,null,null,null,457," ",null,null,null,null,null,457," ",null,null,null,null,null,457," ",null,null,null,null,null,457,"Sankt Martin",620,2.54,4434,-17,null,457," ",null,null,null,null,null,457," ",null,null,null,null,null,457," ",null,null,null,null,null,457," ",null,null,null,null,null,457," "]
[null,null,null,null,null,null,null,null,null,null,null,null,458," ",0,0,-8,0,0,null,null,null,458," ",null,null,null,null,null,458," ",null,null,null,null,null,458," ",null,null,null,null,null,458,"Sankt Oswald",650,2.5,4462,-16,null,458," ",null,null,null,null,null,458," ",null,null,null,null,null,458," ",null,null,null,null,null,458," ",null,null,null,null,null,458," "]
[null,null,null,null,null,null,null,null,null,null,null,null,459," ",0,0,-8,0,0,null,null,null,459," ",null,null,null,null,null,459," ",null,null,null,null,null,459," ",null,null,null,null,null,459,"Sankt Pantaleon",242,3.25,3584,-13,null,459," ",null,null,null,null,null,459," ",null,null,null,null,null,459," ",null,null,null,null,null,459," ",null,null,null,null,null,459," "]
[null,null,null,null,null,null,null,null,null,null,null,null,460," ",0,0,-8,0,0,null,null,null,460," ",null,null,null,null,null,460," ",null,null,null,null,null,460," ",null,null,null,null,null,460,"Sankt Peter in der Au Markt",348,3.2,3796,-14,null,460," ",null,null,null,null,null,460," ",null,null,null,null,null,460," ",null,null,null,null,null,460," ",null,null,null,null,null,460," "]
[null,null,null,null,null,null,null,null,null,null,null,null,461," ",0,0,-8,0,0,null,null,null,461," ",null,null,null,null,null,461," ",null,null,null,null,null,461," ",null,null,null,null,null,461,"Sankt Pölten",267,3.21,3660,-14,null,461," ",null,null,null,null,null,461," ",null,null,null,null,null,461," ",null,null,null,null,null,461," ",null,null,null,null,null,461," "]
[null,null,null,null,null,null,null,null,null,null,null,null,462," ",0,0,-8,0,0,null,null,null,462," ",null,null,null,null,null,462," ",null,null,null,null,null,462," ",null,null,null,null,null,462,"Sankt Valentin",266,3.24,3621,-14,null,462," ",null,null,null,null,null,462," ",null,null,null,null,null,462," ",null,null,null,null,null,462," ",null,null,null,null,null,462," "]
[null,null,null,null,null,null,null,null,null,null,null,null,463," ",0,0,-8,0,0,null,null,null,463," ",null,null,null,null,null,463," ",null,null,null,null,null,463," ",null,null,null,null,null,463,"Sankt Veit an der Gölsen",362,3.38,3855,-14,null,463," ",null,null,null,null,null,463," ",null,null,null,null,null,463," ",null,null,null,null,null,463," ",null,null,null,null,null,463," "]
[null,null,null,null,null,null,null,null,null,null,null,null,464," ",0,0,-8,0,0,null,null,null,464," ",null,null,null,null,null,464," ",null,null,null,null,null,464," ",null,null,null,null,null,464,"Säusenstein",220,3.39,3671,-14,null,464," ",null,null,null,null,null,464," ",null,null,null,null,null,464," ",null,null,null,null,null,464," ",null,null,null,null,null,464," "]
[null,null,null,null,null,null,null,null,null,null,null,null,465," ",0,0,-8,0,0,null,null,null,465," ",null,null,null,null,null,465," ",null,null,null,null,null,465," ",null,null,null,null,null,465,"Scheibbs",341,3.18,3869,-15,null,465," ",null,null,null,null,null,465," ",null,null,null,null,null,465," ",null,null,null,null,null,465," ",null,null,null,null,null,465," "]
[null,null,null,null,null,null,null,null,null,null,null,null,466," ",0,0,-8,0,0,null,null,null,466," ",null,null,null,null,null,466," ",null,null,null,null,null,466," ",null,null,null,null,null,466,"Schiltern",385,2.75,4036,-14,null,466," ",null,null,null,null,null,466," ",null,null,null,null,null,466," ",null,null,null,null,null,466," ",null,null,null,null,null,466," "]
[null,null,null,null,null,null,null,null,null,null,null,null,467," ",0,0,-8,0,0,null,null,null,467," ",null,null,null,null,null,467," ",null,null,null,null,null,467," ",null,null,null,null,null,467,"Schleinbach",210,3.23,3656,-14,null,467," ",null,null,null,null,null,467," ",null,null,null,null,null,467," ",null,null,null,null,null,467," ",null,null,null,null,null,467," "]
[null,null,null,null,null,null,null,null,null,null,null,null,468," ",0,0,-8,0,0,null,null,null,468," ",null,null,null,null,null,468," ",null,null,null,null,null,468," ",null,null,null,null,null,468,"Schönbach",735,2.17,4760,-17,null,468," ",null,null,null,null,null,468," ",null,null,null,null,null,468," ",null,null,null,null,null,468," ",null,null,null,null,null,468," "]
[null,null,null,null,null,null,null,null,null,null,null,null,469," ",0,0,-8,0,0,null,null,null,469," ",null,null,null,null,null,469," ",null,null,null,null,null,469," ",null,null,null,null,null,469,"Schönberg",218,3.18,3683,-13,null,469," ",null,null,null,null,null,469," ",null,null,null,null,null,469," ",null,null,null,null,null,469," ",null,null,null,null,null,469," "]
[null,null,null,null,null,null,null,null,null,null,null,null,470," ",0,0,-8,0,0,null,null,null,470," ",null,null,null,null,null,470," ",null,null,null,null,null,470," ",null,null,null,null,null,470,"Schönbühel an der Donau",208,3.45,3658,-13,null,470," ",null,null,null,null,null,470," ",null,null,null,null,null,470," ",null,null,null,null,null,470," ",null,null,null,null,null,470," "]
[null,null,null,null,null,null,null,null,null,null,null,null,471," ",0,0,-8,0,0,null,null,null,471," ",null,null,null,null,null,471," ",null,null,null,null,null,471," ",null,null,null,null,null,471,"Schönkirchen",160,3.31,3522,-14,null,471," ",null,null,null,null,null,471," ",null,null,null,null,null,471," ",null,null,null,null,null,471," ",null,null,null,null,null,471," "]
[null,null,null,null,null,null,null,null,null,null,null,null,472," ",0,0,-8,0,0,null,null,null,472," ",null,null,null,null,null,472," ",null,null,null,null,null,472," ",null,null,null,null,null,472,"Schottwien",569,3.21,3962,-15,null,472," ",null,null,null,null,null,472," ",null,null,null,null,null,472," ",null,null,null,null,null,472," ",null,null,null,null,null,472," "]
[null,null,null,null,null,null,null,null,null,null,null,null,473," ",0,0,-8,0,0,null,null,null,473," ",null,null,null,null,null,473," ",null,null,null,null,null,473," ",null,null,null,null,null,473,"Schrattenberg",199,3.02,3718,-14,null,473," ",null,null,null,null,null,473," ",null,null,null,null,null,473," ",null,null,null,null,null,473," ",null,null,null,null,null,473," "]
[null,null,null,null,null,null,null,null,null,null,null,null,474," ",0,0,-8,0,0,null,null,null,474," ",null,null,null,null,null,474," ",null,null,null,null,null,474," ",null,null,null,null,null,474,"Schrattenthal",266,3.09,3703,-14,null,474," ",null,null,null,null,null,474," ",null,null,null,null,null,474," ",null,null,null,null,null,474," ",null,null,null,null,null,474," "]
[null,null,null,null,null,null,null,null,null,null,null,null,475," ",0,0,-8,0,0,null,null,null,475," ",null,null,null,null,null,475," ",null,null,null,null,null,475," ",null,null,null,null,null,475,"Schrems",530,2.54,4347,-17,null,475," ",null,null,null,null,null,475," ",null,null,null,null,null,475," ",null,null,null,null,null,475," ",null,null,null,null,null,475," "]
[null,null,null,null,null,null,null,null,null,null,null,null,476," ",0,0,-8,0,0,null,null,null,476," ",null,null,null,null,null,476," ",null,null,null,null,null,476," ",null,null,null,null,null,476,"Schwadorf",164,3.52,3394,-13,null,476," ",null,null,null,null,null,476," ",null,null,null,null,null,476," ",null,null,null,null,null,476," ",null,null,null,null,null,476," "]
[null,null,null,null,null,null,null,null,null,null,null,null,477," ",0,0,-8,0,0,null,null,null,477," ",null,null,null,null,null,477," ",null,null,null,null,null,477," ",null,null,null,null,null,477,"Schwarzau am Steinfelde",329,3.32,3619,-14,null,477," ",null,null,null,null,null,477," ",null,null,null,null,null,477," ",null,null,null,null,null,477," ",null,null,null,null,null,477," "]
[null,null,null,null,null,null,null,null,null,null,null,null,478," ",0,0,-8,0,0,null,null,null,478," ",null,null,null,null,null,478," ",null,null,null,null,null,478," ",null,null,null,null,null,478,"Schwarzau im Gebirge",618,3.02,4416,-15,null,478," ",null,null,null,null,null,478," ",null,null,null,null,null,478," ",null,null,null,null,null,478," ",null,null,null,null,null,478," "]
[null,null,null,null,null,null,null,null,null,null,null,null,479," ",0,0,-8,0,0,null,null,null,479," ",null,null,null,null,null,479," ",null,null,null,null,null,479," ",null,null,null,null,null,479,"Schwarzenau",498,2.5,4411,-17,null,479," ",null,null,null,null,null,479," ",null,null,null,null,null,479," ",null,null,null,null,null,479," ",null,null,null,null,null,479," "]
[null,null,null,null,null,null,null,null,null,null,null,null,480," ",0,0,-8,0,0,null,null,null,480," ",null,null,null,null,null,480," ",null,null,null,null,null,480," ",null,null,null,null,null,480,"Schwarzenbach",380,3.22,3743,-14,null,480," ",null,null,null,null,null,480," ",null,null,null,null,null,480," ",null,null,null,null,null,480," ",null,null,null,null,null,480," "]
[null,null,null,null,null,null,null,null,null,null,null,null,481," ",0,0,-8,0,0,null,null,null,481," ",null,null,null,null,null,481," ",null,null,null,null,null,481," ",null,null,null,null,null,481,"Schwarzenbach an der Pielach",510,3.45,3972,-14,null,481," ",null,null,null,null,null,481," ",null,null,null,null,null,481," ",null,null,null,null,null,481," ",null,null,null,null,null,481," "]
[null,null,null,null,null,null,null,null,null,null,null,null,482," ",0,0,-8,0,0,null,null,null,482," ",null,null,null,null,null,482," ",null,null,null,null,null,482," ",null,null,null,null,null,482,"Schwechat",163,3.57,3352,-13,null,482," ",null,null,null,null,null,482," ",null,null,null,null,null,482," ",null,null,null,null,null,482," ",null,null,null,null,null,482," "]
[null,null,null,null,null,null,null,null,null,null,null,null,483," ",0,0,-8,0,0,null,null,null,483," ",null,null,null,null,null,483," ",null,null,null,null,null,483," ",null,null,null,null,null,483,"Schweiggers",640,2.36,4622,-17,null,483," ",null,null,null,null,null,483," ",null,null,null,null,null,483," ",null,null,null,null,null,483," ",null,null,null,null,null,483," "]
[null,null,null,null,null,null,null,null,null,null,null,null,484," ",0,0,-8,0,0,null,null,null,484," ",null,null,null,null,null,484," ",null,null,null,null,null,484," ",null,null,null,null,null,484,"Seebenstein",348,3.13,3812,-14,null,484," ",null,null,null,null,null,484," ",null,null,null,null,null,484," ",null,null,null,null,null,484," ",null,null,null,null,null,484," "]
[null,null,null,null,null,null,null,null,null,null,null,null,485," ",0,0,-8,0,0,null,null,null,485," ",null,null,null,null,null,485," ",null,null,null,null,null,485," ",null,null,null,null,null,485,"Seefeld",194,3.28,3595,-14,null,485," ",null,null,null,null,null,485," ",null,null,null,null,null,485," ",null,null,null,null,null,485," ",null,null,null,null,null,485," "]
[null,null,null,null,null,null,null,null,null,null,null,null,486," ",0,0,-8,0,0,null,null,null,486," ",null,null,null,null,null,486," ",null,null,null,null,null,486," ",null,null,null,null,null,486,"Seibersdorf",186,3.39,3471,-13,null,486," ",null,null,null,null,null,486," ",null,null,null,null,null,486," ",null,null,null,null,null,486," ",null,null,null,null,null,486," "]
[null,null,null,null,null,null,null,null,null,null,null,null,487," ",0,0,-8,0,0,null,null,null,487," ",null,null,null,null,null,487," ",null,null,null,null,null,487," ",null,null,null,null,null,487,"Seitenstetten Markt",345,3.18,3801,-14,null,487," ",null,null,null,null,null,487," ",null,null,null,null,null,487," ",null,null,null,null,null,487," ",null,null,null,null,null,487," "]
[null,null,null,null,null,null,null,null,null,null,null,null,488," ",0,0,-8,0,0,null,null,null,488," ",null,null,null,null,null,488," ",null,null,null,null,null,488," ",null,null,null,null,null,488,"Semmering Kurort",960,2.89,4500,-16,null,488," ",null,null,null,null,null,488," ",null,null,null,null,null,488," ",null,null,null,null,null,488," ",null,null,null,null,null,488," "]
[null,null,null,null,null,null,null,null,null,null,null,null,489," ",0,0,-8,0,0,null,null,null,489," ",null,null,null,null,null,489," ",null,null,null,null,null,489," ",null,null,null,null,null,489,"Senftenberg",254,3.51,3496,-13,null,489," ",null,null,null,null,null,489," ",null,null,null,null,null,489," ",null,null,null,null,null,489," ",null,null,null,null,null,489," "]
[null,null,null,null,null,null,null,null,null,null,null,null,490," ",0,0,-8,0,0,null,null,null,490," ",null,null,null,null,null,490," ",null,null,null,null,null,490," ",null,null,null,null,null,490,"Sieding",455,3.38,3722,-14,null,490," ",null,null,null,null,null,490," ",null,null,null,null,null,490," ",null,null,null,null,null,490," ",null,null,null,null,null,490," "]
[null,null,null,null,null,null,null,null,null,null,null,null,491," ",0,0,-8,0,0,null,null,null,491," ",null,null,null,null,null,491," ",null,null,null,null,null,491," ",null,null,null,null,null,491,"Sieghartskirchen",198,3.33,3551,-13,null,491," ",null,null,null,null,null,491," ",null,null,null,null,null,491," ",null,null,null,null,null,491," ",null,null,null,null,null,491," "]
[null,null,null,null,null,null,null,null,null,null,null,null,492," ",0,0,-8,0,0,null,null,null,492," ",null,null,null,null,null,492," ",null,null,null,null,null,492," ",null,null,null,null,null,492,"Sierndorf",187,3.25,3735,-14,null,492," ",null,null,null,null,null,492," ",null,null,null,null,null,492," ",null,null,null,null,null,492," ",null,null,null,null,null,492," "]
[null,null,null,null,null,null,null,null,null,null,null,null,493," ",0,0,-8,0,0,null,null,null,493," ",null,null,null,null,null,493," ",null,null,null,null,null,493," ",null,null,null,null,null,493,"Sigmundsherberg",422,2.57,4130,-15,null,493," ",null,null,null,null,null,493," ",null,null,null,null,null,493," ",null,null,null,null,null,493," ",null,null,null,null,null,493," "]
[null,null,null,null,null,null,null,null,null,null,null,null,494," ",0,0,-8,0,0,null,null,null,494," ",null,null,null,null,null,494," ",null,null,null,null,null,494," ",null,null,null,null,null,494,"Sittendorf bei Wien",370,3.35,3714,-14,null,494," ",null,null,null,null,null,494," ",null,null,null,null,null,494," ",null,null,null,null,null,494," ",null,null,null,null,null,494," "]
[null,null,null,null,null,null,null,null,null,null,null,null,495," ",0,0,-8,0,0,null,null,null,495," ",null,null,null,null,null,495," ",null,null,null,null,null,495," ",null,null,null,null,null,495,"Sitzendorf an der Schmida",247,3.29,3609,-14,null,495," ",null,null,null,null,null,495," ",null,null,null,null,null,495," ",null,null,null,null,null,495," ",null,null,null,null,null,495," "]
[null,null,null,null,null,null,null,null,null,null,null,null,496," ",0,0,-8,0,0,null,null,null,496," ",null,null,null,null,null,496," ",null,null,null,null,null,496," ",null,null,null,null,null,496,"Sollenau",271,3.42,3532,-13,null,496," ",null,null,null,null,null,496," ",null,null,null,null,null,496," ",null,null,null,null,null,496," ",null,null,null,null,null,496," "]
[null,null,null,null,null,null,null,null,null,null,null,null,497," ",0,0,-8,0,0,null,null,null,497," ",null,null,null,null,null,497," ",null,null,null,null,null,497," ",null,null,null,null,null,497,"Sommerein",200,3.42,3465,-14,null,497," ",null,null,null,null,null,497," ",null,null,null,null,null,497," ",null,null,null,null,null,497," ",null,null,null,null,null,497," "]
[null,null,null,null,null,null,null,null,null,null,null,null,498," ",0,0,-8,0,0,null,null,null,498," ",null,null,null,null,null,498," ",null,null,null,null,null,498," ",null,null,null,null,null,498,"Spannberg",168,3.26,3549,-14,null,498," ",null,null,null,null,null,498," ",null,null,null,null,null,498," ",null,null,null,null,null,498," ",null,null,null,null,null,498," "]
[null,null,null,null,null,null,null,null,null,null,null,null,499," ",0,0,-8,0,0,null,null,null,499," ",null,null,null,null,null,499," ",null,null,null,null,null,499," ",null,null,null,null,null,499,"Spillern",171,3.41,3484,-13,null,499," ",null,null,null,null,null,499," ",null,null,null,null,null,499," ",null,null,null,null,null,499," ",null,null,null,null,null,499," "]
[null,null,null,null,null,null,null,null,null,null,null,null,500," ",0,0,-8,0,0,null,null,null,500," ",null,null,null,null,null,500," ",null,null,null,null,null,500," ",null,null,null,null,null,500,"Spitz",210,3.62,3522,-13,null,500," ",null,null,null,null,null,500," ",null,null,null,null,null,500," ",null,null,null,null,null,500," ",null,null,null,null,null,500," "]
[null,null,null,null,null,null,null,null,null,null,null,null,501," ",0,0,-8,0,0,null,null,null,501," ",null,null,null,null,null,501," ",null,null,null,null,null,501," ",null,null,null,null,null,501,"Statzendorf",280,3.37,3641,-13,null,501," ",null,null,null,null,null,501," ",null,null,null,null,null,501," ",null,null,null,null,null,501," ",null,null,null,null,null,501," "]
[null,null,null,null,null,null,null,null,null,null,null,null,502," ",0,0,-8,0,0,null,null,null,502," ",null,null,null,null,null,502," ",null,null,null,null,null,502," ",null,null,null,null,null,502,"Steinabrückl",308,3.31,3606,-14,null,502," ",null,null,null,null,null,502," ",null,null,null,null,null,502," ",null,null,null,null,null,502," ",null,null,null,null,null,502," "]
[null,null,null,null,null,null,null,null,null,null,null,null,503," ",0,0,-8,0,0,null,null,null,503," ",null,null,null,null,null,503," ",null,null,null,null,null,503," ",null,null,null,null,null,503,"Steinakirchen am Forst",317,3.22,3808,-14,null,503," ",null,null,null,null,null,503," ",null,null,null,null,null,503," ",null,null,null,null,null,503," ",null,null,null,null,null,503," "]
[null,null,null,null,null,null,null,null,null,null,null,null,504," ",0,0,-8,0,0,null,null,null,504," ",null,null,null,null,null,504," ",null,null,null,null,null,504," ",null,null,null,null,null,504,"Stetteldorf am Wagram",210,3.41,3633,-13,null,504," ",null,null,null,null,null,504," ",null,null,null,null,null,504," ",null,null,null,null,null,504," ",null,null,null,null,null,504," "]
[null,null,null,null,null,null,null,null,null,null,null,null,505," ",0,0,-8,0,0,null,null,null,505," ",null,null,null,null,null,505," ",null,null,null,null,null,505," ",null,null,null,null,null,505,"Stillfried",158,3.32,3520,-14,null,505," ",null,null,null,null,null,505," ",null,null,null,null,null,505," ",null,null,null,null,null,505," ",null,null,null,null,null,505," "]
[null,null,null,null,null,null,null,null,null,null,null,null,506," ",0,0,-8,0,0,null,null,null,506," ",null,null,null,null,null,506," ",null,null,null,null,null,506," ",null,null,null,null,null,506,"Stixneusiedl",174,3.43,3429,-14,null,506," ",null,null,null,null,null,506," ",null,null,null,null,null,506," ",null,null,null,null,null,506," ",null,null,null,null,null,506," "]
[null,null,null,null,null,null,null,null,null,null,null,null,507," ",0,0,-8,0,0,null,null,null,507," ",null,null,null,null,null,507," ",null,null,null,null,null,507," ",null,null,null,null,null,507,"Stockerau",176,3.46,3522,-13,null,507," ",null,null,null,null,null,507," ",null,null,null,null,null,507," ",null,null,null,null,null,507," ",null,null,null,null,null,507," "]
[null,null,null,null,null,null,null,null,null,null,null,null,508," ",0,0,-8,0,0,null,null,null,508," ",null,null,null,null,null,508," ",null,null,null,null,null,508," ",null,null,null,null,null,508,"Stockern",406,2.58,4093,-15,null,508," ",null,null,null,null,null,508," ",null,null,null,null,null,508," ",null,null,null,null,null,508," ",null,null,null,null,null,508," "]
[null,null,null,null,null,null,null,null,null,null,null,null,509," ",0,0,-8,0,0,null,null,null,509," ",null,null,null,null,null,509," ",null,null,null,null,null,509," ",null,null,null,null,null,509,"Stössing",331,3.21,3795,-14,null,509," ",null,null,null,null,null,509," ",null,null,null,null,null,509," ",null,null,null,null,null,509," ",null,null,null,null,null,509," "]
[null,null,null,null,null,null,null,null,null,null,null,null,510," ",0,0,-8,0,0,null,null,null,510," ",null,null,null,null,null,510," ",null,null,null,null,null,510," ",null,null,null,null,null,510,"Straning",294,3.06,3777,-14,null,510," ",null,null,null,null,null,510," ",null,null,null,null,null,510," ",null,null,null,null,null,510," ",null,null,null,null,null,510," "]
[null,null,null,null,null,null,null,null,null,null,null,null,511," ",0,0,-8,0,0,null,null,null,511," ",null,null,null,null,null,511," ",null,null,null,null,null,511," ",null,null,null,null,null,511,"Straß im Straßertale",217,3.15,3691,-13,null,511," ",null,null,null,null,null,511," ",null,null,null,null,null,511," ",null,null,null,null,null,511," ",null,null,null,null,null,511," "]
[null,null,null,null,null,null,null,null,null,null,null,null,512," ",0,0,-8,0,0,null,null,null,512," ",null,null,null,null,null,512," ",null,null,null,null,null,512," ",null,null,null,null,null,512,"Strasshof an der Nordbahn",165,3.66,3447,-14,null,512," ",null,null,null,null,null,512," ",null,null,null,null,null,512," ",null,null,null,null,null,512," ",null,null,null,null,null,512," "]
[null,null,null,null,null,null,null,null,null,null,null,null,513,{"$f":"INDEX(X$23:CG$723,$M535,(Bundesland-1)*7+1)","v":" "},{"$f":"INDEX(Y$23:CH$723,$M535,(Bundesland-1)*7+1)","v":0},{"$f":"INDEX(Z$23:CI$723,$M535,(Bundesland-1)*7+1)","v":0},-8,{"$f":"INDEX(AA$23:CK$723,$M535,(Bundesland-1)*7+1)","v":0},{"$f":"INDEX(AB$23:CL$723,$M535,(Bundesland-1)*7+1)","v":0},null,null,null,513," ",null,null,null,null,null,513," ",null,null,null,null,null,513," ",null,null,null,null,null,513,"Strengberg",359,2.89,3884,-15,null,513," ",null,null,null,null,null,513," ",null,null,null,null,null,513," ",null,null,null,null,null,513," ",null,null,null,null,null,513," "]
[null,null,null,null,null,null,null,null,null,null,null,null,514," ",0,0,{"$f":"MIN(S536+Zuschlag_A,-8)","v":-8},0,0,null,null,null,514," ",null,null,null,null,null,514," ",null,null,null,null,null,514," ",null,null,null,null,null,514,"Stronsdorf",206,3.22,3574,-14,null,514," ",null,null,null,null,null,514," ",null,null,null,null,null,514," ",null,null,null,null,null,514," ",null,null,null,null,null,514," "]
[null,null,null,null,null,null,null,null,null,null,null,null,515," ",0,0,-8,0,0,null,null,null,515," ",null,null,null,null,null,515," ",null,null,null,null,null,515," ",null,null,null,null,null,515,"Sulz im Wienerwald",430,3.15,3910,-14,null,515," ",null,null,null,null,null,515," ",null,null,null,null,null,515," ",null,null,null,null,null,515," ",null,null,null,null,null,515," "]
[null,null,null,null,null,null,null,null,null,null,null,null,516," ",0,0,-8,0,0,null,null,null,516," ",null,null,null,null,null,516," ",null,null,null,null,null,516," ",null,null,null,null,null,516,"Tattendorf",227,3.56,3403,-13,null,516," ",null,null,null,null,null,516," ",null,null,null,null,null,516," ",null,null,null,null,null,516," ",null,null,null,null,null,516," "]
[null,null,null,null,null,null,null,null,null,null,null,null,517," ",0,0,-8,0,0,null,null,null,517," ",null,null,null,null,null,517," ",null,null,null,null,null,517," ",null,null,null,null,null,517,"Teesdorf",235,3.6,3412,-13,null,517," ",null,null,null,null,null,517," ",null,null,null,null,null,517," ",null,null,null,null,null,517," ",null,null,null,null,null,517," "]
[null,null,null,null,null,null,null,null,null,null,null,null,518," ",0,0,-8,0,0,null,null,null,518," ",null,null,null,null,null,518," ",null,null,null,null,null,518," ",null,null,null,null,null,518,"Ternitz",398,3.46,3622,-14,null,518," ",null,null,null,null,null,518," ",null,null,null,null,null,518," ",null,null,null,null,null,518," ",null,null,null,null,null,518," "]
[null,null,null,null,null,null,null,null,null,null,null,null,519," ",0,0,-8,0,0,null,null,null,519," ",null,null,null,null,null,519," ",null,null,null,null,null,519," ",null,null,null,null,null,519,"Texing",375,3.08,3943,-15,null,519," ",null,null,null,null,null,519," ",null,null,null,null,null,519," ",null,null,null,null,null,519," ",null,null,null,null,null,519," "]
[null,null,null,null,null,null,null,null,null,null,null,null,520," ",0,0,-8,0,0,null,null,null,520," ",null,null,null,null,null,520," ",null,null,null,null,null,520," ",null,null,null,null,null,520,"Thaya",486,2.65,4198,-16,null,520," ",null,null,null,null,null,520," ",null,null,null,null,null,520," ",null,null,null,null,null,520," ",null,null,null,null,null,520," "]
[null,null,null,null,null,null,null,null,null,null,null,null,521," ",0,0,-8,0,0,null,null,null,521," ",null,null,null,null,null,521," ",null,null,null,null,null,521," ",null,null,null,null,null,521,"Theras",419,2.59,4109,-15,null,521," ",null,null,null,null,null,521," ",null,null,null,null,null,521," ",null,null,null,null,null,521," ",null,null,null,null,null,521," "]
[null,null,null,null,null,null,null,null,null,null,null,null,522," ",0,0,-8,0,0,null,null,null,522," ",null,null,null,null,null,522," ",null,null,null,null,null,522," ",null,null,null,null,null,522,"Theresienfeld",282,3.38,3540,-13,null,522," ",null,null,null,null,null,522," ",null,null,null,null,null,522," ",null,null,null,null,null,522," ",null,null,null,null,null,522," "]
[null,null,null,null,null,null,null,null,null,null,null,null,523," ",0,0,-8,0,0,null,null,null,523," ",null,null,null,null,null,523," ",null,null,null,null,null,523," ",null,null,null,null,null,523,"Thernberg",402,3.14,3894,-14,null,523," ",null,null,null,null,null,523," ",null,null,null,null,null,523," ",null,null,null,null,null,523," ",null,null,null,null,null,523," "]
[null,null,null,null,null,null,null,null,null,null,null,null,524," ",0,0,-8,0,0,null,null,null,524," ",null,null,null,null,null,524," ",null,null,null,null,null,524," ",null,null,null,null,null,524,"Traisen",344,3.38,3822,-14,null,524," ",null,null,null,null,null,524," ",null,null,null,null,null,524," ",null,null,null,null,null,524," ",null,null,null,null,null,524," "]
[null,null,null,null,null,null,null,null,null,null,null,null,525," ",0,0,-8,0,0,null,null,null,525," ",null,null,null,null,null,525," ",null,null,null,null,null,525," ",null,null,null,null,null,525,"Traiskirchen",200,3.74,3300,-13,null,525," ",null,null,null,null,null,525," ",null,null,null,null,null,525," ",null,null,null,null,null,525," ",null,null,null,null,null,525," "]
[null,null,null,null,null,null,null,null,null,null,null,null,526," ",0,0,-8,0,0,null,null,null,526," ",null,null,null,null,null,526," ",null,null,null,null,null,526," ",null,null,null,null,null,526,"Traismauer",194,3.48,3502,-13,null,526," ",null,null,null,null,null,526," ",null,null,null,null,null,526," ",null,null,null,null,null,526," ",null,null,null,null,null,526," "]
[null,null,null,null,null,null,null,null,null,null,null,null,527," ",0,0,-8,0,0,null,null,null,527," ",null,null,null,null,null,527," ",null,null,null,null,null,527," ",null,null,null,null,null,527,"Trattenbach",777,2.92,4338,-15,null,527," ",null,null,null,null,null,527," ",null,null,null,null,null,527," ",null,null,null,null,null,527," ",null,null,null,null,null,527," "]
[null,null,null,null,null,null,null,null,null,null,null,null,528," ",0,0,-8,0,0,null,null,null,528," ",null,null,null,null,null,528," ",null,null,null,null,null,528," ",null,null,null,null,null,528,"Traunstein",905,1.87,5112,-17,null,528," ",null,null,null,null,null,528," ",null,null,null,null,null,528," ",null,null,null,null,null,528," ",null,null,null,null,null,528," "]
[null,null,null,null,null,null,null,null,null,null,null,null,529," ",0,0,-8,0,0,null,null,null,529," ",null,null,null,null,null,529," ",null,null,null,null,null,529," ",null,null,null,null,null,529,"Trautmannsdorf an der Leitha",167,3.46,3423,-14,null,529," ",null,null,null,null,null,529," ",null,null,null,null,null,529," ",null,null,null,null,null,529," ",null,null,null,null,null,529," "]
[null,null,null,null,null,null,null,null,null,null,null,null,530," ",0,0,-8,0,0,null,null,null,530," ",null,null,null,null,null,530," ",null,null,null,null,null,530," ",null,null,null,null,null,530,"Tribuswinkel",215,3.7,3325,-13,null,530," ",null,null,null,null,null,530," ",null,null,null,null,null,530," ",null,null,null,null,null,530," ",null,null,null,null,null,530," "]
[null,null,null,null,null,null,null,null,null,null,null,null,531," ",0,0,-8,0,0,null,null,null,531," ",null,null,null,null,null,531," ",null,null,null,null,null,531," ",null,null,null,null,null,531,"Trumau",202,3.59,3396,-13,null,531," ",null,null,null,null,null,531," ",null,null,null,null,null,531," ",null,null,null,null,null,531," ",null,null,null,null,null,531," "]
[null,null,null,null,null,null,null,null,null,null,null,null,532," ",0,0,-8,0,0,null,null,null,532," ",null,null,null,null,null,532," ",null,null,null,null,null,532," ",null,null,null,null,null,532,"Tulbing",206,3.34,3565,-13,null,532," ",null,null,null,null,null,532," ",null,null,null,null,null,532," ",null,null,null,null,null,532," ",null,null,null,null,null,532," "]
[null,null,null,null,null,null,null,null,null,null,null,null,533," ",0,0,-8,0,0,null,null,null,533," ",null,null,null,null,null,533," ",null,null,null,null,null,533," ",null,null,null,null,null,533,"Tulln",177,3.41,3533,-13,null,533," ",null,null,null,null,null,533," ",null,null,null,null,null,533," ",null,null,null,null,null,533," ",null,null,null,null,null,533," "]
[null,null,null,null,null,null,null,null,null,null,null,null,534," ",0,0,-8,0,0,null,null,null,534," ",null,null,null,null,null,534," ",null,null,null,null,null,534," ",null,null,null,null,null,534,"Tullnerbach",331,3.21,3762,-14,null,534," ",null,null,null,null,null,534," ",null,null,null,null,null,534," ",null,null,null,null,null,534," ",null,null,null,null,null,534," "]
[null,null,null,null,null,null,null,null,null,null,null,null,535," ",0,0,-8,0,0,null,null,null,535," ",null,null,null,null,null,535," ",null,null,null,null,null,535," ",null,null,null,null,null,535,"Türnitz",461,3.47,3902,-14,null,535," ",null,null,null,null,null,535," ",null,null,null,null,null,535," ",null,null,null,null,null,535," ",null,null,null,null,null,535," "]
[null,null,null,null,null,null,null,null,null,null,null,null,536," ",0,0,-8,0,0,null,null,null,536," ",null,null,null,null,null,536," ",null,null,null,null,null,536," ",null,null,null,null,null,536,"Ulmerfeld",323,3.31,3705,-13,null,536," ",null,null,null,null,null,536," ",null,null,null,null,null,536," ",null,null,null,null,null,536," ",null,null,null,null,null,536," "]
[null,null,null,null,null,null,null,null,null,null,null,null,537," ",0,0,-8,0,0,null,null,null,537," ",null,null,null,null,null,537," ",null,null,null,null,null,537," ",null,null,null,null,null,537,"Ulrichskirchen",185,3.26,3616,-14,null,537," ",null,null,null,null,null,537," ",null,null,null,null,null,537," ",null,null,null,null,null,537," ",null,null,null,null,null,537," "]
[null,null,null,null,null,null,null,null,null,null,null,null,538," ",0,0,-8,0,0,null,null,null,538," ",null,null,null,null,null,538," ",null,null,null,null,null,538," ",null,null,null,null,null,538,"Unterretzbach",242,3.22,3642,-14,null,538," ",null,null,null,null,null,538," ",null,null,null,null,null,538," ",null,null,null,null,null,538," ",null,null,null,null,null,538," "]
[null,null,null,null,null,null,null,null,null,null,null,null,539," ",0,0,-8,0,0,null,null,null,539," ",null,null,null,null,null,539," ",null,null,null,null,null,539," ",null,null,null,null,null,539,"Untersiebenbrunn",150,3.3,3506,-14,null,539," ",null,null,null,null,null,539," ",null,null,null,null,null,539," ",null,null,null,null,null,539," ",null,null,null,null,null,539," "]
[null,null,null,null,null,null,null,null,null,null,null,null,540," ",0,0,-8,0,0,null,null,null,540," ",null,null,null,null,null,540," ",null,null,null,null,null,540," ",null,null,null,null,null,540,"Unterstinkenbrunn",198,3.22,3541,-14,null,540," ",null,null,null,null,null,540," ",null,null,null,null,null,540," ",null,null,null,null,null,540," ",null,null,null,null,null,540," "]
[null,null,null,null,null,null,null,null,null,null,null,null,541," ",0,0,-8,0,0,null,null,null,541," ",null,null,null,null,null,541," ",null,null,null,null,null,541," ",null,null,null,null,null,541,"Untertullnerbach",288,3.25,3685,-14,null,541," ",null,null,null,null,null,541," ",null,null,null,null,null,541," ",null,null,null,null,null,541," ",null,null,null,null,null,541," "]
[null,null,null,null,null,null,null,null,null,null,null,null,542," ",0,0,-8,0,0,null,null,null,542," ",null,null,null,null,null,542," ",null,null,null,null,null,542," ",null,null,null,null,null,542,"Unterwaltersdorf",198,3.48,3452,-13,null,542," ",null,null,null,null,null,542," ",null,null,null,null,null,542," ",null,null,null,null,null,542," ",null,null,null,null,null,542," "]
[null,null,null,null,null,null,null,null,null,null,null,null,543," ",0,0,-8,0,0,null,null,null,543," ",null,null,null,null,null,543," ",null,null,null,null,null,543," ",null,null,null,null,null,543,"Urschendorf",340,3.31,3639,-14,null,543," ",null,null,null,null,null,543," ",null,null,null,null,null,543," ",null,null,null,null,null,543," ",null,null,null,null,null,543," "]
[null,null,null,null,null,null,null,null,null,null,null,null,544," ",0,0,-8,0,0,null,null,null,544," ",null,null,null,null,null,544," ",null,null,null,null,null,544," ",null,null,null,null,null,544,"Velm-Götzendorf",183,3.22,3575,-14,null,544," ",null,null,null,null,null,544," ",null,null,null,null,null,544," ",null,null,null,null,null,544," ",null,null,null,null,null,544," "]
[null,null,null,null,null,null,null,null,null,null,null,null,545," ",0,0,-8,0,0,null,null,null,545," ",null,null,null,null,null,545," ",null,null,null,null,null,545," ",null,null,null,null,null,545,"Viehdorf",359,3.22,3759,-14,null,545," ",null,null,null,null,null,545," ",null,null,null,null,null,545," ",null,null,null,null,null,545," ",null,null,null,null,null,545," "]
[null,null,null,null,null,null,null,null,null,null,null,null,546," ",0,0,-8,0,0,null,null,null,546," ",null,null,null,null,null,546," ",null,null,null,null,null,546," ",null,null,null,null,null,546,"Vitis",529,2.44,4372,-17,null,546," ",null,null,null,null,null,546," ",null,null,null,null,null,546," ",null,null,null,null,null,546," ",null,null,null,null,null,546," "]
[null,null,null,null,null,null,null,null,null,null,null,null,547," ",0,0,-8,0,0,null,null,null,547," ",null,null,null,null,null,547," ",null,null,null,null,null,547," ",null,null,null,null,null,547,"Vösendorf",194,3.56,3486,-13,null,547," ",null,null,null,null,null,547," ",null,null,null,null,null,547," ",null,null,null,null,null,547," ",null,null,null,null,null,547," "]
[null,null,null,null,null,null,null,null,null,null,null,null,548," ",0,0,-8,0,0,null,null,null,548," ",null,null,null,null,null,548," ",null,null,null,null,null,548," ",null,null,null,null,null,548,"Waidhofen an der Thaya",510,2.6,4229,-16,null,548," ",null,null,null,null,null,548," ",null,null,null,null,null,548," ",null,null,null,null,null,548," ",null,null,null,null,null,548," "]
[null,null,null,null,null,null,null,null,null,null,null,null,549," ",0,0,-8,0,0,null,null,null,549," ",null,null,null,null,null,549," ",null,null,null,null,null,549," ",null,null,null,null,null,549,"Waidhofen an der Ybbs",355,3.2,3830,-14,null,549," ",null,null,null,null,null,549," ",null,null,null,null,null,549," ",null,null,null,null,null,549," ",null,null,null,null,null,549," "]
[null,null,null,null,null,null,null,null,null,null,null,null,550," ",0,0,-8,0,0,null,null,null,550," ",null,null,null,null,null,550," ",null,null,null,null,null,550," ",null,null,null,null,null,550,"Wald",330,3.2,3779,-14,null,550," ",null,null,null,null,null,550," ",null,null,null,null,null,550," ",null,null,null,null,null,550," ",null,null,null,null,null,550," "]
[null,null,null,null,null,null,null,null,null,null,null,null,551," ",0,0,-8,0,0,null,null,null,551," ",null,null,null,null,null,551," ",null,null,null,null,null,551," ",null,null,null,null,null,551,"Waldegg",370,3.18,3767,-14,null,551," ",null,null,null,null,null,551," ",null,null,null,null,null,551," ",null,null,null,null,null,551," ",null,null,null,null,null,551," "]
[null,null,null,null,null,null,null,null,null,null,null,null,552," ",0,0,-8,0,0,null,null,null,552," ",null,null,null,null,null,552," ",null,null,null,null,null,552," ",null,null,null,null,null,552,"Waldenstein",565,2.61,4347,-17,null,552," ",null,null,null,null,null,552," ",null,null,null,null,null,552," ",null,null,null,null,null,552," ",null,null,null,null,null,552," "]
[null,null,null,null,null,null,null,null,null,null,null,null,553," ",0,0,-8,0,0,null,null,null,553," ",null,null,null,null,null,553," ",null,null,null,null,null,553," ",null,null,null,null,null,553,"Waldhausen",670,2.21,4767,-18,null,553," ",null,null,null,null,null,553," ",null,null,null,null,null,553," ",null,null,null,null,null,553," ",null,null,null,null,null,553," "]
[null,null,null,null,null,null,null,null,null,null,null,null,554," ",0,0,-8,0,0,null,null,null,554," ",null,null,null,null,null,554," ",null,null,null,null,null,554," ",null,null,null,null,null,554,"Waldkirchen an der Thaya",475,2.6,4212,-16,null,554," ",null,null,null,null,null,554," ",null,null,null,null,null,554," ",null,null,null,null,null,554," ",null,null,null,null,null,554," "]
[null,null,null,null,null,null,null,null,null,null,null,null,555," ",0,0,-8,0,0,null,null,null,555," ",null,null,null,null,null,555," ",null,null,null,null,null,555," ",null,null,null,null,null,555,"Walkenstein",449,2.46,4192,-16,null,555," ",null,null,null,null,null,555," ",null,null,null,null,null,555," ",null,null,null,null,null,555," ",null,null,null,null,null,555," "]
[null,null,null,null,null,null,null,null,null,null,null,null,556," ",0,0,-8,0,0,null,null,null,556," ",null,null,null,null,null,556," ",null,null,null,null,null,556," ",null,null,null,null,null,556,"Wallsee",275,2.98,3761,-14,null,556," ",null,null,null,null,null,556," ",null,null,null,null,null,556," ",null,null,null,null,null,556," ",null,null,null,null,null,556," "]
[null,null,null,null,null,null,null,null,null,null,null,null,557," ",0,0,-8,0,0,null,null,null,557," ",null,null,null,null,null,557," ",null,null,null,null,null,557," ",null,null,null,null,null,557,"Wampersdorf",209,3.55,3406,-13,null,557," ",null,null,null,null,null,557," ",null,null,null,null,null,557," ",null,null,null,null,null,557," ",null,null,null,null,null,557," "]
[null,null,null,null,null,null,null,null,null,null,null,null,558," ",0,0,-8,0,0,null,null,null,558," ",null,null,null,null,null,558," ",null,null,null,null,null,558," ",null,null,null,null,null,558,"Wang",330,3.25,3802,-14,null,558," ",null,null,null,null,null,558," ",null,null,null,null,null,558," ",null,null,null,null,null,558," ",null,null,null,null,null,558," "]
[null,null,null,null,null,null,null,null,null,null,null,null,559," ",0,0,-8,0,0,null,null,null,559," ",null,null,null,null,null,559," ",null,null,null,null,null,559," ",null,null,null,null,null,559,"Warth",377,3.17,3821,-14,null,559," ",null,null,null,null,null,559," ",null,null,null,null,null,559," ",null,null,null,null,null,559," ",null,null,null,null,null,559," "]
[null,null,null,null,null,null,null,null,null,null,null,null,560," ",0,0,-8,0,0,null,null,null,560," ",null,null,null,null,null,560," ",null,null,null,null,null,560," ",null,null,null,null,null,560,"Weikendorf",149,3.32,3503,-14,null,560," ",null,null,null,null,null,560," ",null,null,null,null,null,560," ",null,null,null,null,null,560," ",null,null,null,null,null,560," "]
[null,null,null,null,null,null,null,null,null,null,null,null,561," ",0,0,-8,0,0,null,null,null,561," ",null,null,null,null,null,561," ",null,null,null,null,null,561," ",null,null,null,null,null,561,"Weikertschlag an der Thaya",440,2.64,4132,-16,null,561," ",null,null,null,null,null,561," ",null,null,null,null,null,561," ",null,null,null,null,null,561," ",null,null,null,null,null,561," "]
[null,null,null,null,null,null,null,null,null,null,null,null,562," ",0,0,-8,0,0,null,null,null,562," ",null,null,null,null,null,562," ",null,null,null,null,null,562," ",null,null,null,null,null,562,"Weißenbach an der Triesting",361,3.03,3936,-14,null,562," ",null,null,null,null,null,562," ",null,null,null,null,null,562," ",null,null,null,null,null,562," ",null,null,null,null,null,562," "]
[null,null,null,null,null,null,null,null,null,null,null,null,563," ",0,0,-8,0,0,null,null,null,563," ",null,null,null,null,null,563," ",null,null,null,null,null,563," ",null,null,null,null,null,563,"Weißenkirchen in der Wachau",205,3.61,3524,-12,null,563," ",null,null,null,null,null,563," ",null,null,null,null,null,563," ",null,null,null,null,null,563," ",null,null,null,null,null,563," "]
[null,null,null,null,null,null,null,null,null,null,null,null,564," ",0,0,-8,0,0,null,null,null,564," ",null,null,null,null,null,564," ",null,null,null,null,null,564," ",null,null,null,null,null,564,"Weistrach",355,3.21,3794,-14,null,564," ",null,null,null,null,null,564," ",null,null,null,null,null,564," ",null,null,null,null,null,564," ",null,null,null,null,null,564," "]
[null,null,null,null,null,null,null,null,null,null,null,null,565," ",0,0,-8,0,0,null,null,null,565," ",null,null,null,null,null,565," ",null,null,null,null,null,565," ",null,null,null,null,null,565,"Weiten",330,3.1,3870,-14,null,565," ",null,null,null,null,null,565," ",null,null,null,null,null,565," ",null,null,null,null,null,565," ",null,null,null,null,null,565," "]
[null,null,null,null,null,null,null,null,null,null,null,null,566," ",0,0,-8,0,0,null,null,null,566," ",null,null,null,null,null,566," ",null,null,null,null,null,566," ",null,null,null,null,null,566,"Weitersfeld",438,2.56,4150,-15,null,566," ",null,null,null,null,null,566," ",null,null,null,null,null,566," ",null,null,null,null,null,566," ",null,null,null,null,null,566," "]
[null,null,null,null,null,null,null,null,null,null,null,null,567," ",0,0,-8,0,0,null,null,null,567," ",null,null,null,null,null,567," ",null,null,null,null,null,567," ",null,null,null,null,null,567,"Weitra",570,2.7,4326,-17,null,567," ",null,null,null,null,null,567," ",null,null,null,null,null,567," ",null,null,null,null,null,567," ",null,null,null,null,null,567," "]
[null,null,null,null,null,null,null,null,null,null,null,null,568," ",0,0,-8,0,0,null,null,null,568," ",null,null,null,null,null,568," ",null,null,null,null,null,568," ",null,null,null,null,null,568,"Wiener Neudorf",201,3.66,3350,-13,null,568," ",null,null,null,null,null,568," ",null,null,null,null,null,568," ",null,null,null,null,null,568," ",null,null,null,null,null,568," "]
[null,null,null,null,null,null,null,null,null,null,null,null,569," ",0,0,-8,0,0,null,null,null,569," ",null,null,null,null,null,569," ",null,null,null,null,null,569," ",null,null,null,null,null,569,"Wiener Neustadt",265,3.41,3501,-13,null,569," ",null,null,null,null,null,569," ",null,null,null,null,null,569," ",null,null,null,null,null,569," ",null,null,null,null,null,569," "]
[null,null,null,null,null,null,null,null,null,null,null,null,570," ",0,0,-8,0,0,null,null,null,570," ",null,null,null,null,null,570," ",null,null,null,null,null,570," ",null,null,null,null,null,570,"Wienerbruck",800,3.22,4447,-15,null,570," ",null,null,null,null,null,570," ",null,null,null,null,null,570," ",null,null,null,null,null,570," ",null,null,null,null,null,570," "]
[null,null,null,null,null,null,null,null,null,null,null,null,571," ",0,0,-8,0,0,null,null,null,571," ",null,null,null,null,null,571," ",null,null,null,null,null,571," ",null,null,null,null,null,571,"Wieselburg",260,3.24,3755,-14,null,571," ",null,null,null,null,null,571," ",null,null,null,null,null,571," ",null,null,null,null,null,571," ",null,null,null,null,null,571," "]
[null,null,null,null,null,null,null,null,null,null,null,null,572," ",0,0,-8,0,0,null,null,null,572," ",null,null,null,null,null,572," ",null,null,null,null,null,572," ",null,null,null,null,null,572,"Wiesmath",695,2.9,4327,-15,null,572," ",null,null,null,null,null,572," ",null,null,null,null,null,572," ",null,null,null,null,null,572," ",null,null,null,null,null,572," "]
[null,null,null,null,null,null,null,null,null,null,null,null,573," ",0,0,-8,0,0,null,null,null,573," ",null,null,null,null,null,573," ",null,null,null,null,null,573," ",null,null,null,null,null,573,"Wildendürnbach",204,3.13,3593,-14,null,573," ",null,null,null,null,null,573," ",null,null,null,null,null,573," ",null,null,null,null,null,573," ",null,null,null,null,null,573," "]
[null,null,null,null,null,null,null,null,null,null,null,null,574," ",0,0,-8,0,0,null,null,null,574," ",null,null,null,null,null,574," ",null,null,null,null,null,574," ",null,null,null,null,null,574,"Wilfersdorf",190,3.12,3579,-14,null,574," ",null,null,null,null,null,574," ",null,null,null,null,null,574," ",null,null,null,null,null,574," ",null,null,null,null,null,574," "]
[null,null,null,null,null,null,null,null,null,null,null,null,575," ",0,0,-8,0,0,null,null,null,575," ",null,null,null,null,null,575," ",null,null,null,null,null,575," ",null,null,null,null,null,575,"Wilfleinsdorf",159,3.45,3425,-14,null,575," ",null,null,null,null,null,575," ",null,null,null,null,null,575," ",null,null,null,null,null,575," ",null,null,null,null,null,575," "]
[null,null,null,null,null,null,null,null,null,null,null,null,576," ",0,0,-8,0,0,null,null,null,576," ",null,null,null,null,null,576," ",null,null,null,null,null,576," ",null,null,null,null,null,576,"Wilhelmsburg",320,3.36,3778,-14,null,576," ",null,null,null,null,null,576," ",null,null,null,null,null,576," ",null,null,null,null,null,576," ",null,null,null,null,null,576," "]
[null,null,null,null,null,null,null,null,null,null,null,null,577,{"$f":"INDEX(X$23:CG$723,$M599,(Bundesland-1)*7+1)","v":" "},{"$f":"INDEX(Y$23:CH$723,$M599,(Bundesland-1)*7+1)","v":0},{"$f":"INDEX(Z$23:CI$723,$M599,(Bundesland-1)*7+1)","v":0},-8,{"$f":"INDEX(AA$23:CK$723,$M599,(Bundesland-1)*7+1)","v":0},{"$f":"INDEX(AB$23:CL$723,$M599,(Bundesland-1)*7+1)","v":0},null,null,null,577," ",null,null,null,null,null,577," ",null,null,null,null,null,577," ",null,null,null,null,null,577,"Willendorf",400,3.3,3723,-14,null,577," ",null,null,null,null,null,577," ",null,null,null,null,null,577," ",null,null,null,null,null,577," ",null,null,null,null,null,577," "]
[null,null,null,null,null,null,null,null,null,null,null,null,578," ",0,0,{"$f":"MIN(S600+Zuschlag_A,-8)","v":-8},0,0,null,null,null,578," ",null,null,null,null,null,578," ",null,null,null,null,null,578," ",null,null,null,null,null,578,"Wimpassing",396,3.42,3615,-14,null,578," ",null,null,null,null,null,578," ",null,null,null,null,null,578," ",null,null,null,null,null,578," ",null,null,null,null,null,578," "]
[null,null,null,null,null,null,null,null,null,null,null,null,579," ",0,0,-8,0,0,null,null,null,579," ",null,null,null,null,null,579," ",null,null,null,null,null,579," ",null,null,null,null,null,579,"Windigsteig",497,2.4700000000000002,4434,-17,null,579," ",null,null,null,null,null,579," ",null,null,null,null,null,579," ",null,null,null,null,null,579," ",null,null,null,null,null,579," "]
[null,null,null,null,null,null,null,null,null,null,null,null,580," ",0,0,-8,0,0,null,null,null,580," ",null,null,null,null,null,580," ",null,null,null,null,null,580," ",null,null,null,null,null,580,"Winzendorf",327,3.28,3628,-14,null,580," ",null,null,null,null,null,580," ",null,null,null,null,null,580," ",null,null,null,null,null,580," ",null,null,null,null,null,580," "]
[null,null,null,null,null,null,null,null,null,null,null,null,581," ",0,0,-8,0,0,null,null,null,581," ",null,null,null,null,null,581," ",null,null,null,null,null,581," ",null,null,null,null,null,581,"Wolfsbach",384,3.01,3891,-14,null,581," ",null,null,null,null,null,581," ",null,null,null,null,null,581," ",null,null,null,null,null,581," ",null,null,null,null,null,581," "]
[null,null,null,null,null,null,null,null,null,null,null,null,582," ",0,0,-8,0,0,null,null,null,582," ",null,null,null,null,null,582," ",null,null,null,null,null,582," ",null,null,null,null,null,582,"Wolfsgraben",323,3.27,3730,-14,null,582," ",null,null,null,null,null,582," ",null,null,null,null,null,582," ",null,null,null,null,null,582," ",null,null,null,null,null,582," "]
[null,null,null,null,null,null,null,null,null,null,null,null,583," ",0,0,-8,0,0,null,null,null,583," ",null,null,null,null,null,583," ",null,null,null,null,null,583," ",null,null,null,null,null,583,"Wolfsthal",150,3.38,3424,-14,null,583," ",null,null,null,null,null,583," ",null,null,null,null,null,583," ",null,null,null,null,null,583," ",null,null,null,null,null,583," "]
[null,null,null,null,null,null,null,null,null,null,null,null,584," ",0,0,-8,0,0,null,null,null,584," ",null,null,null,null,null,584," ",null,null,null,null,null,584," ",null,null,null,null,null,584,"Wolkersdorf",176,3.28,3595,-14,null,584," ",null,null,null,null,null,584," ",null,null,null,null,null,584," ",null,null,null,null,null,584," ",null,null,null,null,null,584," "]
[null,null,null,null,null,null,null,null,null,null,null,null,585," ",0,0,-8,0,0,null,null,null,585," ",null,null,null,null,null,585," ",null,null,null,null,null,585," ",null,null,null,null,null,585,"Wöllersdorf",315,3.3,3641,-14,null,585," ",null,null,null,null,null,585," ",null,null,null,null,null,585," ",null,null,null,null,null,585," ",null,null,null,null,null,585," "]
[null,null,null,null,null,null,null,null,null,null,null,null,586," ",0,0,-8,0,0,null,null,null,586," ",null,null,null,null,null,586," ",null,null,null,null,null,586," ",null,null,null,null,null,586,"Wullersdorf",248,3.25,3634,-14,null,586," ",null,null,null,null,null,586," ",null,null,null,null,null,586," ",null,null,null,null,null,586," ",null,null,null,null,null,586," "]
[null,null,null,null,null,null,null,null,null,null,null,null,587," ",0,0,-8,0,0,null,null,null,587," ",null,null,null,null,null,587," ",null,null,null,null,null,587," ",null,null,null,null,null,587,"Wulzeshofen",184,3.26,3515,-14,null,587," ",null,null,null,null,null,587," ",null,null,null,null,null,587," ",null,null,null,null,null,587," ",null,null,null,null,null,587," "]
[null,null,null,null,null,null,null,null,null,null,null,null,588," ",0,0,-8,0,0,null,null,null,588," ",null,null,null,null,null,588," ",null,null,null,null,null,588," ",null,null,null,null,null,588,"Würmla",230,3.25,3619,-14,null,588," ",null,null,null,null,null,588," ",null,null,null,null,null,588," ",null,null,null,null,null,588," ",null,null,null,null,null,588," "]
[null,null,null,null,null,null,null,null,null,null,null,null,589," ",0,0,-8,0,0,null,null,null,589," ",null,null,null,null,null,589," ",null,null,null,null,null,589," ",null,null,null,null,null,589,"Würnitz",269,3.05,3746,-14,null,589," ",null,null,null,null,null,589," ",null,null,null,null,null,589," ",null,null,null,null,null,589," ",null,null,null,null,null,589," "]
[null,null,null,null,null,null,null,null,null,null,null,null,590," ",0,0,-8,0,0,null,null,null,590," ",null,null,null,null,null,590," ",null,null,null,null,null,590," ",null,null,null,null,null,590,"Ybbs an der Donau",220,3.44,3660,-13,null,590," ",null,null,null,null,null,590," ",null,null,null,null,null,590," ",null,null,null,null,null,590," ",null,null,null,null,null,590," "]
[null,null,null,null,null,null,null,null,null,null,null,null,591," ",0,0,-8,0,0,null,null,null,591," ",null,null,null,null,null,591," ",null,null,null,null,null,591," ",null,null,null,null,null,591,"Ybbsitz",414,3.1,3937,-15,null,591," ",null,null,null,null,null,591," ",null,null,null,null,null,591," ",null,null,null,null,null,591," ",null,null,null,null,null,591," "]
[null,null,null,null,null,null,null,null,null,null,null,null,592," ",0,0,-8,0,0,null,null,null,592," ",null,null,null,null,null,592," ",null,null,null,null,null,592," ",null,null,null,null,null,592,"Yspertal",495,2.77,4186,-15,null,592," ",null,null,null,null,null,592," ",null,null,null,null,null,592," ",null,null,null,null,null,592," ",null,null,null,null,null,592," "]
[null,null,null,null,null,null,null,null,null,null,null,null,593," ",0,0,-8,0,0,null,null,null,593," ",null,null,null,null,null,593," ",null,null,null,null,null,593," ",null,null,null,null,null,593,"Zeillern",297,3.28,3662,-13,null,593," ",null,null,null,null,null,593," ",null,null,null,null,null,593," ",null,null,null,null,null,593," ",null,null,null,null,null,593," "]
[null,null,null,null,null,null,null,null,null,null,null,null,594," ",0,0,-8,0,0,null,null,null,594," ",null,null,null,null,null,594," ",null,null,null,null,null,594," ",null,null,null,null,null,594,"Zeiselmauer",175,3.42,3498,-13,null,594," ",null,null,null,null,null,594," ",null,null,null,null,null,594," ",null,null,null,null,null,594," ",null,null,null,null,null,594," "]
[null,null,null,null,null,null,null,null,null,null,null,null,595," ",0,0,-8,0,0,null,null,null,595," ",null,null,null,null,null,595," ",null,null,null,null,null,595," ",null,null,null,null,null,595,"Zellerndorf",223,3.27,3614,-14,null,595," ",null,null,null,null,null,595," ",null,null,null,null,null,595," ",null,null,null,null,null,595," ",null,null,null,null,null,595," "]
[null,null,null,null,null,null,null,null,null,null,null,null,596," ",0,0,-8,0,0,null,null,null,596," ",null,null,null,null,null,596," ",null,null,null,null,null,596," ",null,null,null,null,null,596,"Ziersdorf",227,3.35,3579,-13,null,596," ",null,null,null,null,null,596," ",null,null,null,null,null,596," ",null,null,null,null,null,596," ",null,null,null,null,null,596," "]
[null,null,null,null,null,null,null,null,null,null,null,null,597," ",0,0,-8,0,0,null,null,null,597," ",null,null,null,null,null,597," ",null,null,null,null,null,597," ",null,null,null,null,null,597,"Zissersdorf",470,2.56,4202,-16,null,597," ",null,null,null,null,null,597," ",null,null,null,null,null,597," ",null,null,null,null,null,597," ",null,null,null,null,null,597," "]
[null,null,null,null,null,null,null,null,null,null,null,null,598," ",0,0,-8,0,0,null,null,null,598," ",null,null,null,null,null,598," ",null,null,null,null,null,598," ",null,null,null,null,null,598,"Zistersdorf",198,3.14,3607,-14,null,598," ",null,null,null,null,null,598," ",null,null,null,null,null,598," ",null,null,null,null,null,598," ",null,null,null,null,null,598," "]
[null,null,null,null,null,null,null,null,null,null,null,null,599," ",0,0,-8,0,0,null,null,null,599," ",null,null,null,null,null,599," ",null,null,null,null,null,599," ",null,null,null,null,null,599,"Zöbern",591,2.87,4249,-14,null,599," ",null,null,null,null,null,599," ",null,null,null,null,null,599," ",null,null,null,null,null,599," ",null,null,null,null,null,599," "]
[null,null,null,null,null,null,null,null,null,null,null,null,600," ",0,0,-8,0,0,null,null,null,600," ",null,null,null,null,null,600," ",null,null,null,null,null,600," ",null,null,null,null,null,600,"Zöbing",210,3.23,3673,-13,null,600," ",null,null,null,null,null,600," ",null,null,null,null,null,600," ",null,null,null,null,null,600," ",null,null,null,null,null,600," "]
[null,null,null,null,null,null,null,null,null,null,null,null,601," ",0,0,-8,0,0,null,null,null,601," ",null,null,null,null,null,601," ",null,null,null,null,null,601," ",null,null,null,null,null,601,"Zwentendorf an der Donau",182,3.34,3531,-13,null,601," ",null,null,null,null,null,601," ",null,null,null,null,null,601," ",null,null,null,null,null,601," ",null,null,null,null,null,601," "]
[null,null,null,null,null,null,null,null,null,null,null,null,602," ",0,0,-8,0,0,null,null,null,602," ",null,null,null,null,null,602," ",null,null,null,null,null,602," ",null,null,null,null,null,602,"Zwettl Stadt",515,2.5499999999999998,4449,-17,null,602," ",null,null,null,null,null,602," ",null,null,null,null,null,602," ",null,null,null,null,null,602," ",null,null,null,null,null,602," "]
[null,null,null,null,null,null,null,null,null,null,null,null,603," ",0,0,-8,0,0,null,null,null,603," ",null,null,null,null,null,603," ",null,null,null,null,null,603," ",null,null,null,null,null,603,"Zwingendorf",186,3.31,3554,-14,null,603," ",null,null,null,null,null,603," ",null,null,null,null,null,603," ",null,null,null,null,null,603," ",null,null,null,null,null,603," "]
[null,null,null,null,null,null,null,null,null,null,null,null,604," ",0,0,-8,0,0,null,null,null,604," ",null,null,null,null,null,604," ",null,null,null,null,null,604," ",null,null,null,null,null,604," ",null,null,null,null,null,604," ",null,null,null,null,null,604," ",null,null,null,null,null,604," ",null,null,null,null,null,604," ",null,null,null,null,null,604," "]
[null,null,null,null,null,null,null,null,null,null,null,null,605," ",0,0,-8,0,0,null,null,null,605," ",null,null,null,null,null,605," ",null,null,null,null,null,605," ",null,null,null,null,null,605," ",null,null,null,null,null,605," ",null,null,null,null,null,605," ",null,null,null,null,null,605," ",null,null,null,null,null,605," ",null,null,null,null,null,605," "]
[null,null,null,null,null,null,null,null,null,null,null,null,606," ",0,0,-8,0,0,null,null,null,606," ",null,null,null,null,null,606," ",null,null,null,null,null,606," ",null,null,null,null,null,606," ",null,null,null,null,null,606," ",null,null,null,null,null,606," ",null,null,null,null,null,606," ",null,null,null,null,null,606," ",null,null,null,null,null,606," "]
[null,null,null,null,null,null,null,null,null,null,null,null,607," ",0,0,-8,0,0,null,null,null,607," ",null,null,null,null,null,607," ",null,null,null,null,null,607," ",null,null,null,null,null,607," ",null,null,null,null,null,607," ",null,null,null,null,null,607," ",null,null,null,null,null,607," ",null,null,null,null,null,607," ",null,null,null,null,null,607," "]
[null,null,null,null,null,null,null,null,null,null,null,null,608," ",0,0,-8,0,0,null,null,null,608," ",null,null,null,null,null,608," ",null,null,null,null,null,608," ",null,null,null,null,null,608," ",null,null,null,null,null,608," ",null,null,null,null,null,608," ",null,null,null,null,null,608," ",null,null,null,null,null,608," ",null,null,null,null,null,608," "]
[null,null,null,null,null,null,null,null,null,null,null,null,609," ",0,0,-8,0,0,null,null,null,609," ",null,null,null,null,null,609," ",null,null,null,null,null,609," ",null,null,null,null,null,609," ",null,null,null,null,null,609," ",null,null,null,null,null,609," ",null,null,null,null,null,609," ",null,null,null,null,null,609," ",null,null,null,null,null,609," "]
[null,null,null,null,null,null,null,null,null,null,null,null,610," ",0,0,-8,0,0,null,null,null,610," ",null,null,null,null,null,610," ",null,null,null,null,null,610," ",null,null,null,null,null,610," ",null,null,null,null,null,610," ",null,null,null,null,null,610," ",null,null,null,null,null,610," ",null,null,null,null,null,610," ",null,null,null,null,null,610," "]
[null,null,null,null,null,null,null,null,null,null,null,null,611," ",0,0,-8,0,0,null,null,null,611," ",null,null,null,null,null,611," ",null,null,null,null,null,611," ",null,null,null,null,null,611," ",null,null,null,null,null,611," ",null,null,null,null,null,611," ",null,null,null,null,null,611," ",null,null,null,null,null,611," ",null,null,null,null,null,611," "]
[null,null,null,null,null,null,null,null,null,null,null,null,612," ",0,0,-8,0,0,null,null,null,612," ",null,null,null,null,null,612," ",null,null,null,null,null,612," ",null,null,null,null,null,612," ",null,null,null,null,null,612," ",null,null,null,null,null,612," ",null,null,null,null,null,612," ",null,null,null,null,null,612," ",null,null,null,null,null,612," "]
[null,null,null,null,null,null,null,null,null,null,null,null,613," ",0,0,-8,0,0,null,null,null,613," ",null,null,null,null,null,613," ",null,null,null,null,null,613," ",null,null,null,null,null,613," ",null,null,null,null,null,613," ",null,null,null,null,null,613," ",null,null,null,null,null,613," ",null,null,null,null,null,613," ",null,null,null,null,null,613," "]
[null,null,null,null,null,null,null,null,null,null,null,null,614," ",0,0,-8,0,0,null,null,null,614," ",null,null,null,null,null,614," ",null,null,null,null,null,614," ",null,null,null,null,null,614," ",null,null,null,null,null,614," ",null,null,null,null,null,614," ",null,null,null,null,null,614," ",null,null,null,null,null,614," ",null,null,null,null,null,614," "]
[null,null,null,null,null,null,null,null,null,null,null,null,615," ",0,0,-8,0,0,null,null,null,615," ",null,null,null,null,null,615," ",null,null,null,null,null,615," ",null,null,null,null,null,615," ",null,null,null,null,null,615," ",null,null,null,null,null,615," ",null,null,null,null,null,615," ",null,null,null,null,null,615," ",null,null,null,null,null,615," "]
[null,null,null,null,null,null,null,null,null,null,null,null,616," ",0,0,-8,0,0,null,null,null,616," ",null,null,null,null,null,616," ",null,null,null,null,null,616," ",null,null,null,null,null,616," ",null,null,null,null,null,616," ",null,null,null,null,null,616," ",null,null,null,null,null,616," ",null,null,null,null,null,616," ",null,null,null,null,null,616," "]
[null,null,null,null,null,null,null,null,null,null,null,null,617," ",0,0,-8,0,0,null,null,null,617," ",null,null,null,null,null,617," ",null,null,null,null,null,617," ",null,null,null,null,null,617," ",null,null,null,null,null,617," ",null,null,null,null,null,617," ",null,null,null,null,null,617," ",null,null,null,null,null,617," ",null,null,null,null,null,617," "]
[null,null,null,null,null,null,null,null,null,null,null,null,618," ",0,0,-8,0,0,null,null,null,618," ",null,null,null,null,null,618," ",null,null,null,null,null,618," ",null,null,null,null,null,618," ",null,null,null,null,null,618," ",null,null,null,null,null,618," ",null,null,null,null,null,618," ",null,null,null,null,null,618," ",null,null,null,null,null,618," "]
[null,null,null,null,null,null,null,null,null,null,null,null,619," ",0,0,-8,0,0,null,null,null,619," ",null,null,null,null,null,619," ",null,null,null,null,null,619," ",null,null,null,null,null,619," ",null,null,null,null,null,619," ",null,null,null,null,null,619," ",null,null,null,null,null,619," ",null,null,null,null,null,619," ",null,null,null,null,null,619," "]
[null,null,null,null,null,null,null,null,null,null,null,null,620," ",0,0,-8,0,0,null,null,null,620," ",null,null,null,null,null,620," ",null,null,null,null,null,620," ",null,null,null,null,null,620," ",null,null,null,null,null,620," ",null,null,null,null,null,620," ",null,null,null,null,null,620," ",null,null,null,null,null,620," ",null,null,null,null,null,620," "]
[null,null,null,null,null,null,null,null,null,null,null,null,621," ",0,0,-8,0,0,null,null,null,621," ",null,null,null,null,null,621," ",null,null,null,null,null,621," ",null,null,null,null,null,621," ",null,null,null,null,null,621," ",null,null,null,null,null,621," ",null,null,null,null,null,621," ",null,null,null,null,null,621," ",null,null,null,null,null,621," "]
[null,null,null,null,null,null,null,null,null,null,null,null,622," ",0,0,-8,0,0,null,null,null,622," ",null,null,null,null,null,622," ",null,null,null,null,null,622," ",null,null,null,null,null,622," ",null,null,null,null,null,622," ",null,null,null,null,null,622," ",null,null,null,null,null,622," ",null,null,null,null,null,622," ",null,null,null,null,null,622," "]
[null,null,null,null,null,null,null,null,null,null,null,null,623," ",0,0,-8,0,0,null,null,null,623," ",null,null,null,null,null,623," ",null,null,null,null,null,623," ",null,null,null,null,null,623," ",null,null,null,null,null,623," ",null,null,null,null,null,623," ",null,null,null,null,null,623," ",null,null,null,null,null,623," ",null,null,null,null,null,623," "]
[null,null,null,null,null,null,null,null,null,null,null,null,624," ",0,0,-8,0,0,null,null,null,624," ",null,null,null,null,null,624," ",null,null,null,null,null,624," ",null,null,null,null,null,624," ",null,null,null,null,null,624," ",null,null,null,null,null,624," ",null,null,null,null,null,624," ",null,null,null,null,null,624," ",null,null,null,null,null,624," "]
[null,null,null,null,null,null,null,null,null,null,null,null,625," ",0,0,-8,0,0,null,null,null,625," ",null,null,null,null,null,625," ",null,null,null,null,null,625," ",null,null,null,null,null,625," ",null,null,null,null,null,625," ",null,null,null,null,null,625," ",null,null,null,null,null,625," ",null,null,null,null,null,625," ",null,null,null,null,null,625," "]
[null,null,null,null,null,null,null,null,null,null,null,null,626," ",0,0,-8,0,0,null,null,null,626," ",null,null,null,null,null,626," ",null,null,null,null,null,626," ",null,null,null,null,null,626," ",null,null,null,null,null,626," ",null,null,null,null,null,626," ",null,null,null,null,null,626," ",null,null,null,null,null,626," ",null,null,null,null,null,626," "]
[null,null,null,null,null,null,null,null,null,null,null,null,627," ",0,0,-8,0,0,null,null,null,627," ",null,null,null,null,null,627," ",null,null,null,null,null,627," ",null,null,null,null,null,627," ",null,null,null,null,null,627," ",null,null,null,null,null,627," ",null,null,null,null,null,627," ",null,null,null,null,null,627," ",null,null,null,null,null,627," "]
[null,null,null,null,null,null,null,null,null,null,null,null,628," ",0,0,-8,0,0,null,null,null,628," ",null,null,null,null,null,628," ",null,null,null,null,null,628," ",null,null,null,null,null,628," ",null,null,null,null,null,628," ",null,null,null,null,null,628," ",null,null,null,null,null,628," ",null,null,null,null,null,628," ",null,null,null,null,null,628," "]
[null,null,null,null,null,null,null,null,null,null,null,null,629," ",0,0,-8,0,0,null,null,null,629," ",null,null,null,null,null,629," ",null,null,null,null,null,629," ",null,null,null,null,null,629," ",null,null,null,null,null,629," ",null,null,null,null,null,629," ",null,null,null,null,null,629," ",null,null,null,null,null,629," ",null,null,null,null,null,629," "]
[null,null,null,null,null,null,null,null,null,null,null,null,630," ",0,0,-8,0,0,null,null,null,630," ",null,null,null,null,null,630," ",null,null,null,null,null,630," ",null,null,null,null,null,630," ",null,null,null,null,null,630," ",null,null,null,null,null,630," ",null,null,null,null,null,630," ",null,null,null,null,null,630," ",null,null,null,null,null,630," "]
[null,null,null,null,null,null,null,null,null,null,null,null,631," ",0,0,-8,0,0,null,null,null,631," ",null,null,null,null,null,631," ",null,null,null,null,null,631," ",null,null,null,null,null,631," ",null,null,null,null,null,631," ",null,null,null,null,null,631," ",null,null,null,null,null,631," ",null,null,null,null,null,631," ",null,null,null,null,null,631," "]
[null,null,null,null,null,null,null,null,null,null,null,null,632," ",0,0,-8,0,0,null,null,null,632," ",null,null,null,null,null,632," ",null,null,null,null,null,632," ",null,null,null,null,null,632," ",null,null,null,null,null,632," ",null,null,null,null,null,632," ",null,null,null,null,null,632," ",null,null,null,null,null,632," ",null,null,null,null,null,632," "]
[null,null,null,null,null,null,null,null,null,null,null,null,633," ",0,0,-8,0,0,null,null,null,633," ",null,null,null,null,null,633," ",null,null,null,null,null,633," ",null,null,null,null,null,633," ",null,null,null,null,null,633," ",null,null,null,null,null,633," ",null,null,null,null,null,633," ",null,null,null,null,null,633," ",null,null,null,null,null,633," "]
[null,null,null,null,null,null,null,null,null,null,null,null,634," ",0,0,-8,0,0,null,null,null,634," ",null,null,null,null,null,634," ",null,null,null,null,null,634," ",null,null,null,null,null,634," ",null,null,null,null,null,634," ",null,null,null,null,null,634," ",null,null,null,null,null,634," ",null,null,null,null,null,634," ",null,null,null,null,null,634," "]
[null,null,null,null,null,null,null,null,null,null,null,null,635," ",0,0,-8,0,0,null,null,null,635," ",null,null,null,null,null,635," ",null,null,null,null,null,635," ",null,null,null,null,null,635," ",null,null,null,null,null,635," ",null,null,null,null,null,635," ",null,null,null,null,null,635," ",null,null,null,null,null,635," ",null,null,null,null,null,635," "]
[null,null,null,null,null,null,null,null,null,null,null,null,636," ",0,0,-8,0,0,null,null,null,636," ",null,null,null,null,null,636," ",null,null,null,null,null,636," ",null,null,null,null,null,636," ",null,null,null,null,null,636," ",null,null,null,null,null,636," ",null,null,null,null,null,636," ",null,null,null,null,null,636," ",null,null,null,null,null,636," "]
[null,null,null,null,null,null,null,null,null,null,null,null,637," ",0,0,-8,0,0,null,null,null,637," ",null,null,null,null,null,637," ",null,null,null,null,null,637," ",null,null,null,null,null,637," ",null,null,null,null,null,637," ",null,null,null,null,null,637," ",null,null,null,null,null,637," ",null,null,null,null,null,637," ",null,null,null,null,null,637," "]
[null,null,null,null,null,null,null,null,null,null,null,null,638," ",0,0,-8,0,0,null,null,null,638," ",null,null,null,null,null,638," ",null,null,null,null,null,638," ",null,null,null,null,null,638," ",null,null,null,null,null,638," ",null,null,null,null,null,638," ",null,null,null,null,null,638," ",null,null,null,null,null,638," ",null,null,null,null,null,638," "]
[null,null,null,null,null,null,null,null,null,null,null,null,639," ",0,0,-8,0,0,null,null,null,639," ",null,null,null,null,null,639," ",null,null,null,null,null,639," ",null,null,null,null,null,639," ",null,null,null,null,null,639," ",null,null,null,null,null,639," ",null,null,null,null,null,639," ",null,null,null,null,null,639," ",null,null,null,null,null,639," "]
[null,null,null,null,null,null,null,null,null,null,null,null,640," ",0,0,-8,0,0,null,null,null,640," ",null,null,null,null,null,640," ",null,null,null,null,null,640," ",null,null,null,null,null,640," ",null,null,null,null,null,640," ",null,null,null,null,null,640," ",null,null,null,null,null,640," ",null,null,null,null,null,640," ",null,null,null,null,null,640," "]
[null,null,null,null,null,null,null,null,null,null,null,null,641,{"$f":"INDEX(X$23:CG$723,$M663,(Bundesland-1)*7+1)","v":" "},{"$f":"INDEX(Y$23:CH$723,$M663,(Bundesland-1)*7+1)","v":0},{"$f":"INDEX(Z$23:CI$723,$M663,(Bundesland-1)*7+1)","v":0},-8,{"$f":"INDEX(AA$23:CK$723,$M663,(Bundesland-1)*7+1)","v":0},{"$f":"INDEX(AB$23:CL$723,$M663,(Bundesland-1)*7+1)","v":0},null,null,null,641," ",null,null,null,null,null,641," ",null,null,null,null,null,641," ",null,null,null,null,null,641," ",null,null,null,null,null,641," ",null,null,null,null,null,641," ",null,null,null,null,null,641," ",null,null,null,null,null,641," ",null,null,null,null,null,641," "]
[null,null,null,null,null,null,null,null,null,null,null,null,642," ",0,0,{"$f":"MIN(S664+Zuschlag_A,-8)","v":-8},0,0,null,null,null,642," ",null,null,null,null,null,642," ",null,null,null,null,null,642," ",null,null,null,null,null,642," ",null,null,null,null,null,642," ",null,null,null,null,null,642," ",null,null,null,null,null,642," ",null,null,null,null,null,642," ",null,null,null,null,null,642," "]
[null,null,null,null,null,null,null,null,null,null,null,null,643," ",0,0,-8,0,0,null,null,null,643," ",null,null,null,null,null,643," ",null,null,null,null,null,643," ",null,null,null,null,null,643," ",null,null,null,null,null,643," ",null,null,null,null,null,643," ",null,null,null,null,null,643," ",null,null,null,null,null,643," ",null,null,null,null,null,643," "]
[null,null,null,null,null,null,null,null,null,null,null,null,644," ",0,0,-8,0,0,null,null,null,644," ",null,null,null,null,null,644," ",null,null,null,null,null,644," ",null,null,null,null,null,644," ",null,null,null,null,null,644," ",null,null,null,null,null,644," ",null,null,null,null,null,644," ",null,null,null,null,null,644," ",null,null,null,null,null,644," "]
[null,null,null,null,null,null,null,null,null,null,null,null,645," ",0,0,-8,0,0,null,null,null,645," ",null,null,null,null,null,645," ",null,null,null,null,null,645," ",null,null,null,null,null,645," ",null,null,null,null,null,645," ",null,null,null,null,null,645," ",null,null,null,null,null,645," ",null,null,null,null,null,645," ",null,null,null,null,null,645," "]
[null,null,null,null,null,null,null,null,null,null,null,null,646," ",0,0,-8,0,0,null,null,null,646," ",null,null,null,null,null,646," ",null,null,null,null,null,646," ",null,null,null,null,null,646," ",null,null,null,null,null,646," ",null,null,null,null,null,646," ",null,null,null,null,null,646," ",null,null,null,null,null,646," ",null,null,null,null,null,646," "]
[null,null,null,null,null,null,null,null,null,null,null,null,647," ",0,0,-8,0,0,null,null,null,647," ",null,null,null,null,null,647," ",null,null,null,null,null,647," ",null,null,null,null,null,647," ",null,null,null,null,null,647," ",null,null,null,null,null,647," ",null,null,null,null,null,647," ",null,null,null,null,null,647," ",null,null,null,null,null,647," "]
[null,null,null,null,null,null,null,null,null,null,null,null,648," ",0,0,-8,0,0,null,null,null,648," ",null,null,null,null,null,648," ",null,null,null,null,null,648," ",null,null,null,null,null,648," ",null,null,null,null,null,648," ",null,null,null,null,null,648," ",null,null,null,null,null,648," ",null,null,null,null,null,648," ",null,null,null,null,null,648," "]
[null,null,null,null,null,null,null,null,null,null,null,null,649," ",0,0,-8,0,0,null,null,null,649," ",null,null,null,null,null,649," ",null,null,null,null,null,649," ",null,null,null,null,null,649," ",null,null,null,null,null,649," ",null,null,null,null,null,649," ",null,null,null,null,null,649," ",null,null,null,null,null,649," ",null,null,null,null,null,649," "]
[null,null,null,null,null,null,null,null,null,null,null,null,650," ",0,0,-8,0,0,null,null,null,650," ",null,null,null,null,null,650," ",null,null,null,null,null,650," ",null,null,null,null,null,650," ",null,null,null,null,null,650," ",null,null,null,null,null,650," ",null,null,null,null,null,650," ",null,null,null,null,null,650," ",null,null,null,null,null,650," "]
[null,null,null,null,null,null,null,null,null,null,null,null,651," ",0,0,-8,0,0,null,null,null,651," ",null,null,null,null,null,651," ",null,null,null,null,null,651," ",null,null,null,null,null,651," ",null,null,null,null,null,651," ",null,null,null,null,null,651," ",null,null,null,null,null,651," ",null,null,null,null,null,651," ",null,null,null,null,null,651," "]
[null,null,null,null,null,null,null,null,null,null,null,null,652," ",0,0,-8,0,0,null,null,null,652," ",null,null,null,null,null,652," ",null,null,null,null,null,652," ",null,null,null,null,null,652," ",null,null,null,null,null,652," ",null,null,null,null,null,652," ",null,null,null,null,null,652," ",null,null,null,null,null,652," ",null,null,null,null,null,652," "]
[null,null,null,null,null,null,null,null,null,null,null,null,653," ",0,0,-8,0,0,null,null,null,653," ",null,null,null,null,null,653," ",null,null,null,null,null,653," ",null,null,null,null,null,653," ",null,null,null,null,null,653," ",null,null,null,null,null,653," ",null,null,null,null,null,653," ",null,null,null,null,null,653," ",null,null,null,null,null,653," "]
[null,null,null,null,null,null,null,null,null,null,null,null,654," ",0,0,-8,0,0,null,null,null,654," ",null,null,null,null,null,654," ",null,null,null,null,null,654," ",null,null,null,null,null,654," ",null,null,null,null,null,654," ",null,null,null,null,null,654," ",null,null,null,null,null,654," ",null,null,null,null,null,654," ",null,null,null,null,null,654," "]
[null,null,null,null,null,null,null,null,null,null,null,null,655," ",0,0,-8,0,0,null,null,null,655," ",null,null,null,null,null,655," ",null,null,null,null,null,655," ",null,null,null,null,null,655," ",null,null,null,null,null,655," ",null,null,null,null,null,655," ",null,null,null,null,null,655," ",null,null,null,null,null,655," ",null,null,null,null,null,655," "]
[null,null,null,null,null,null,null,null,null,null,null,null,656," ",0,0,-8,0,0,null,null,null,656," ",null,null,null,null,null,656," ",null,null,null,null,null,656," ",null,null,null,null,null,656," ",null,null,null,null,null,656," ",null,null,null,null,null,656," ",null,null,null,null,null,656," ",null,null,null,null,null,656," ",null,null,null,null,null,656," "]
[null,null,null,null,null,null,null,null,null,null,null,null,657," ",0,0,-8,0,0,null,null,null,657," ",null,null,null,null,null,657," ",null,null,null,null,null,657," ",null,null,null,null,null,657," ",null,null,null,null,null,657," ",null,null,null,null,null,657," ",null,null,null,null,null,657," ",null,null,null,null,null,657," ",null,null,null,null,null,657," "]
[null,null,null,null,null,null,null,null,null,null,null,null,658," ",0,0,-8,0,0,null,null,null,658," ",null,null,null,null,null,658," ",null,null,null,null,null,658," ",null,null,null,null,null,658," ",null,null,null,null,null,658," ",null,null,null,null,null,658," ",null,null,null,null,null,658," ",null,null,null,null,null,658," ",null,null,null,null,null,658," "]
[null,null,null,null,null,null,null,null,null,null,null,null,659," ",0,0,-8,0,0,null,null,null,659," ",null,null,null,null,null,659," ",null,null,null,null,null,659," ",null,null,null,null,null,659," ",null,null,null,null,null,659," ",null,null,null,null,null,659," ",null,null,null,null,null,659," ",null,null,null,null,null,659," ",null,null,null,null,null,659," "]
[null,null,null,null,null,null,null,null,null,null,null,null,660," ",0,0,-8,0,0,null,null,null,660," ",null,null,null,null,null,660," ",null,null,null,null,null,660," ",null,null,null,null,null,660," ",null,null,null,null,null,660," ",null,null,null,null,null,660," ",null,null,null,null,null,660," ",null,null,null,null,null,660," ",null,null,null,null,null,660," "]
[null,null,null,null,null,null,null,null,null,null,null,null,661," ",0,0,-8,0,0,null,null,null,661," ",null,null,null,null,null,661," ",null,null,null,null,null,661," ",null,null,null,null,null,661," ",null,null,null,null,null,661," ",null,null,null,null,null,661," ",null,null,null,null,null,661," ",null,null,null,null,null,661," ",null,null,null,null,null,661," "]
[null,null,null,null,null,null,null,null,null,null,null,null,662," ",0,0,-8,0,0,null,null,null,662," ",null,null,null,null,null,662," ",null,null,null,null,null,662," ",null,null,null,null,null,662," ",null,null,null,null,null,662," ",null,null,null,null,null,662," ",null,null,null,null,null,662," ",null,null,null,null,null,662," ",null,null,null,null,null,662," "]
[null,null,null,null,null,null,null,null,null,null,null,null,663," ",0,0,-8,0,0,null,null,null,663," ",null,null,null,null,null,663," ",null,null,null,null,null,663," ",null,null,null,null,null,663," ",null,null,null,null,null,663," ",null,null,null,null,null,663," ",null,null,null,null,null,663," ",null,null,null,null,null,663," ",null,null,null,null,null,663," "]
[null,null,null,null,null,null,null,null,null,null,null,null,664," ",0,0,-8,0,0,null,null,null,664," ",null,null,null,null,null,664," ",null,null,null,null,null,664," ",null,null,null,null,null,664," ",null,null,null,null,null,664," ",null,null,null,null,null,664," ",null,null,null,null,null,664," ",null,null,null,null,null,664," ",null,null,null,null,null,664," "]
[null,null,null,null,null,null,null,null,null,null,null,null,665," ",0,0,-8,0,0,null,null,null,665," ",null,null,null,null,null,665," ",null,null,null,null,null,665," ",null,null,null,null,null,665," ",null,null,null,null,null,665," ",null,null,null,null,null,665," ",null,null,null,null,null,665," ",null,null,null,null,null,665," ",null,null,null,null,null,665," "]
[null,null,null,null,null,null,null,null,null,null,null,null,666," ",0,0,-8,0,0,null,null,null,666," ",null,null,null,null,null,666," ",null,null,null,null,null,666," ",null,null,null,null,null,666," ",null,null,null,null,null,666," ",null,null,null,null,null,666," ",null,null,null,null,null,666," ",null,null,null,null,null,666," ",null,null,null,null,null,666," "]
[null,null,null,null,null,null,null,null,null,null,null,null,667," ",0,0,-8,0,0,null,null,null,667," ",null,null,null,null,null,667," ",null,null,null,null,null,667," ",null,null,null,null,null,667," ",null,null,null,null,null,667," ",null,null,null,null,null,667," ",null,null,null,null,null,667," ",null,null,null,null,null,667," ",null,null,null,null,null,667," "]
[null,null,null,null,null,null,null,null,null,null,null,null,668," ",0,0,-8,0,0,null,null,null,668," ",null,null,null,null,null,668," ",null,null,null,null,null,668," ",null,null,null,null,null,668," ",null,null,null,null,null,668," ",null,null,null,null,null,668," ",null,null,null,null,null,668," ",null,null,null,null,null,668," ",null,null,null,null,null,668," "]
[null,null,null,null,null,null,null,null,null,null,null,null,669," ",0,0,-8,0,0,null,null,null,669," ",null,null,null,null,null,669," ",null,null,null,null,null,669," ",null,null,null,null,null,669," ",null,null,null,null,null,669," ",null,null,null,null,null,669," ",null,null,null,null,null,669," ",null,null,null,null,null,669," ",null,null,null,null,null,669," "]
[null,null,null,null,null,null,null,null,null,null,null,null,670," ",0,0,-8,0,0,null,null,null,670," ",null,null,null,null,null,670," ",null,null,null,null,null,670," ",null,null,null,null,null,670," ",null,null,null,null,null,670," ",null,null,null,null,null,670," ",null,null,null,null,null,670," ",null,null,null,null,null,670," ",null,null,null,null,null,670," "]
[null,null,null,null,null,null,null,null,null,null,null,null,671," ",0,0,-8,0,0,null,null,null,671," ",null,null,null,null,null,671," ",null,null,null,null,null,671," ",null,null,null,null,null,671," ",null,null,null,null,null,671," ",null,null,null,null,null,671," ",null,null,null,null,null,671," ",null,null,null,null,null,671," ",null,null,null,null,null,671," "]
[null,null,null,null,null,null,null,null,null,null,null,null,672," ",0,0,-8,0,0,null,null,null,672," ",null,null,null,null,null,672," ",null,null,null,null,null,672," ",null,null,null,null,null,672," ",null,null,null,null,null,672," ",null,null,null,null,null,672," ",null,null,null,null,null,672," ",null,null,null,null,null,672," ",null,null,null,null,null,672," "]
[null,null,null,null,null,null,null,null,null,null,null,null,673," ",0,0,-8,0,0,null,null,null,673," ",null,null,null,null,null,673," ",null,null,null,null,null,673," ",null,null,null,null,null,673," ",null,null,null,null,null,673," ",null,null,null,null,null,673," ",null,null,null,null,null,673," ",null,null,null,null,null,673," ",null,null,null,null,null,673," "]
[null,null,null,null,null,null,null,null,null,null,null,null,674," ",0,0,-8,0,0,null,null,null,674," ",null,null,null,null,null,674," ",null,null,null,null,null,674," ",null,null,null,null,null,674," ",null,null,null,null,null,674," ",null,null,null,null,null,674," ",null,null,null,null,null,674," ",null,null,null,null,null,674," ",null,null,null,null,null,674," "]
[null,null,null,null,null,null,null,null,null,null,null,null,675," ",0,0,-8,0,0,null,null,null,675," ",null,null,null,null,null,675," ",null,null,null,null,null,675," ",null,null,null,null,null,675," ",null,null,null,null,null,675," ",null,null,null,null,null,675," ",null,null,null,null,null,675," ",null,null,null,null,null,675," ",null,null,null,null,null,675," "]
[null,null,null,null,null,null,null,null,null,null,null,null,676," ",0,0,-8,0,0,null,null,null,676," ",null,null,null,null,null,676," ",null,null,null,null,null,676," ",null,null,null,null,null,676," ",null,null,null,null,null,676," ",null,null,null,null,null,676," ",null,null,null,null,null,676," ",null,null,null,null,null,676," ",null,null,null,null,null,676," "]
[null,null,null,null,null,null,null,null,null,null,null,null,677," ",0,0,-8,0,0,null,null,null,677," ",null,null,null,null,null,677," ",null,null,null,null,null,677," ",null,null,null,null,null,677," ",null,null,null,null,null,677," ",null,null,null,null,null,677," ",null,null,null,null,null,677," ",null,null,null,null,null,677," ",null,null,null,null,null,677," "]
[null,null,null,null,null,null,null,null,null,null,null,null,678," ",0,0,-8,0,0,null,null,null,678," ",null,null,null,null,null,678," ",null,null,null,null,null,678," ",null,null,null,null,null,678," ",null,null,null,null,null,678," ",null,null,null,null,null,678," ",null,null,null,null,null,678," ",null,null,null,null,null,678," ",null,null,null,null,null,678," "]
[null,null,null,null,null,null,null,null,null,null,null,null,679," ",0,0,-8,0,0,null,null,null,679," ",null,null,null,null,null,679," ",null,null,null,null,null,679," ",null,null,null,null,null,679," ",null,null,null,null,null,679," ",null,null,null,null,null,679," ",null,null,null,null,null,679," ",null,null,null,null,null,679," ",null,null,null,null,null,679," "]
[null,null,null,null,null,null,null,null,null,null,null,null,680," ",0,0,-8,0,0,null,null,null,680," ",null,null,null,null,null,680," ",null,null,null,null,null,680," ",null,null,null,null,null,680," ",null,null,null,null,null,680," ",null,null,null,null,null,680," ",null,null,null,null,null,680," ",null,null,null,null,null,680," ",null,null,null,null,null,680," "]
[null,null,null,null,null,null,null,null,null,null,null,null,681," ",0,0,-8,0,0,null,null,null,681," ",null,null,null,null,null,681," ",null,null,null,null,null,681," ",null,null,null,null,null,681," ",null,null,null,null,null,681," ",null,null,null,null,null,681," ",null,null,null,null,null,681," ",null,null,null,null,null,681," ",null,null,null,null,null,681," "]
[null,null,null,null,null,null,null,null,null,null,null,null,682," ",0,0,-8,0,0,null,null,null,682," ",null,null,null,null,null,682," ",null,null,null,null,null,682," ",null,null,null,null,null,682," ",null,null,null,null,null,682," ",null,null,null,null,null,682," ",null,null,null,null,null,682," ",null,null,null,null,null,682," ",null,null,null,null,null,682," "]
[null,null,null,null,null,null,null,null,null,null,null,null,683," ",0,0,-8,0,0,null,null,null,683," ",null,null,null,null,null,683," ",null,null,null,null,null,683," ",null,null,null,null,null,683," ",null,null,null,null,null,683," ",null,null,null,null,null,683," ",null,null,null,null,null,683," ",null,null,null,null,null,683," ",null,null,null,null,null,683," "]
[null,null,null,null,null,null,null,null,null,null,null,null,684," ",0,0,-8,0,0,null,null,null,684," ",null,null,null,null,null,684," ",null,null,null,null,null,684," ",null,null,null,null,null,684," ",null,null,null,null,null,684," ",null,null,null,null,null,684," ",null,null,null,null,null,684," ",null,null,null,null,null,684," ",null,null,null,null,null,684," "]
[null,null,null,null,null,null,null,null,null,null,null,null,685," ",0,0,-8,0,0,null,null,null,685," ",null,null,null,null,null,685," ",null,null,null,null,null,685," ",null,null,null,null,null,685," ",null,null,null,null,null,685," ",null,null,null,null,null,685," ",null,null,null,null,null,685," ",null,null,null,null,null,685," ",null,null,null,null,null,685," "]
[null,null,null,null,null,null,null,null,null,null,null,null,686," ",0,0,-8,0,0,null,null,null,686," ",null,null,null,null,null,686," ",null,null,null,null,null,686," ",null,null,null,null,null,686," ",null,null,null,null,null,686," ",null,null,null,null,null,686," ",null,null,null,null,null,686," ",null,null,null,null,null,686," ",null,null,null,null,null,686," "]
[null,null,null,null,null,null,null,null,null,null,null,null,687," ",0,0,-8,0,0,null,null,null,687," ",null,null,null,null,null,687," ",null,null,null,null,null,687," ",null,null,null,null,null,687," ",null,null,null,null,null,687," ",null,null,null,null,null,687," ",null,null,null,null,null,687," ",null,null,null,null,null,687," ",null,null,null,null,null,687," "]
[null,null,null,null,null,null,null,null,null,null,null,null,688," ",0,0,-8,0,0,null,null,null,688," ",null,null,null,null,null,688," ",null,null,null,null,null,688," ",null,null,null,null,null,688," ",null,null,null,null,null,688," ",null,null,null,null,null,688," ",null,null,null,null,null,688," ",null,null,null,null,null,688," ",null,null,null,null,null,688," "]
[null,null,null,null,null,null,null,null,null,null,null,null,689," ",0,0,-8,0,0,null,null,null,689," ",null,null,null,null,null,689," ",null,null,null,null,null,689," ",null,null,null,null,null,689," ",null,null,null,null,null,689," ",null,null,null,null,null,689," ",null,null,null,null,null,689," ",null,null,null,null,null,689," ",null,null,null,null,null,689," "]
[null,null,null,null,null,null,null,null,null,null,null,null,690," ",0,0,-8,0,0,null,null,null,690," ",null,null,null,null,null,690," ",null,null,null,null,null,690," ",null,null,null,null,null,690," ",null,null,null,null,null,690," ",null,null,null,null,null,690," ",null,null,null,null,null,690," ",null,null,null,null,null,690," ",null,null,null,null,null,690," "]
[null,null,null,null,null,null,null,null,null,null,null,null,691," ",0,0,-8,0,0,null,null,null,691," ",null,null,null,null,null,691," ",null,null,null,null,null,691," ",null,null,null,null,null,691," ",null,null,null,null,null,691," ",null,null,null,null,null,691," ",null,null,null,null,null,691," ",null,null,null,null,null,691," ",null,null,null,null,null,691," "]
[null,null,null,null,null,null,null,null,null,null,null,null,692," ",0,0,-8,0,0,null,null,null,692," ",null,null,null,null,null,692," ",null,null,null,null,null,692," ",null,null,null,null,null,692," ",null,null,null,null,null,692," ",null,null,null,null,null,692," ",null,null,null,null,null,692," ",null,null,null,null,null,692," ",null,null,null,null,null,692," "]
[null,null,null,null,null,null,null,null,null,null,null,null,693," ",0,0,-8,0,0,null,null,null,693," ",null,null,null,null,null,693," ",null,null,null,null,null,693," ",null,null,null,null,null,693," ",null,null,null,null,null,693," ",null,null,null,null,null,693," ",null,null,null,null,null,693," ",null,null,null,null,null,693," ",null,null,null,null,null,693," "]
[null,null,null,null,null,null,null,null,null,null,null,null,694," ",0,0,-8,0,0,null,null,null,694," ",null,null,null,null,null,694," ",null,null,null,null,null,694," ",null,null,null,null,null,694," ",null,null,null,null,null,694," ",null,null,null,null,null,694," ",null,null,null,null,null,694," ",null,null,null,null,null,694," ",null,null,null,null,null,694," "]
[null,null,null,null,null,null,null,null,null,null,null,null,695," ",0,0,-8,0,0,null,null,null,695," ",null,null,null,null,null,695," ",null,null,null,null,null,695," ",null,null,null,null,null,695," ",null,null,null,null,null,695," ",null,null,null,null,null,695," ",null,null,null,null,null,695," ",null,null,null,null,null,695," ",null,null,null,null,null,695," "]
[null,null,null,null,null,null,null,null,null,null,null,null,696," ",0,0,-8,0,0,null,null,null,696," ",null,null,null,null,null,696," ",null,null,null,null,null,696," ",null,null,null,null,null,696," ",null,null,null,null,null,696," ",null,null,null,null,null,696," ",null,null,null,null,null,696," ",null,null,null,null,null,696," ",null,null,null,null,null,696," "]
[null,null,null,null,null,null,null,null,null,null,null,null,697," ",0,0,-8,0,0,null,null,null,697," ",null,null,null,null,null,697," ",null,null,null,null,null,697," ",null,null,null,null,null,697," ",null,null,null,null,null,697," ",null,null,null,null,null,697," ",null,null,null,null,null,697," ",null,null,null,null,null,697," ",null,null,null,null,null,697," "]
[null,null,null,null,null,null,null,null,null,null,null,null,698," ",0,0,-8,0,0,null,null,null,698," ",null,null,null,null,null,698," ",null,null,null,null,null,698," ",null,null,null,null,null,698," ",null,null,null,null,null,698," ",null,null,null,null,null,698," ",null,null,null,null,null,698," ",null,null,null,null,null,698," ",null,null,null,null,null,698," "]
[null,null,null,null,null,null,null,null,null,null,null,null,699," ",0,0,-8,0,0,null,null,null,699," ",null,null,null,null,null,699," ",null,null,null,null,null,699," ",null,null,null,null,null,699," ",null,null,null,null,null,699," ",null,null,null,null,null,699," ",null,null,null,null,null,699," ",null,null,null,null,null,699," ",null,null,null,null,null,699," "]
[null,null,null,null,null,null,null,null,null,null,null,null,700,null,{"$f":"INDEX(Y$23:CH$723,$M722,(Bundesland-1)*7+1)","v":0},{"$f":"INDEX(Z$23:CI$723,$M722,(Bundesland-1)*7+1)","v":0},-8,0,0,null,null,null,700," ",null,null,null,null,null,700," ",null,null,null,null,null,700," ",null,null,null,null,null,700," ",null,null,null,null,null,700," ",null,null,null,null,null,700," ",null,null,null,null,null,700," ",null,null,null,null,null,700," ",null,null,null,null,null,700," "]
[null,null,null,null,null,null,null,null,null,null,null,null,null,{"$f":"INDEX(N22:N722,N21,1)","v":0},{"$f":"INDEX(O22:O722,N21,1)","v":0},{"$f":"INDEX(P22:P722,N21,1)","v":0},{"$f":"INDEX(Q22:Q722,N21,1)","v":0},{"$f":"INDEX(R22:R722,N21,1)","v":0},{"$f":"INDEX(S22:S722,N21,1)","v":0}]

{"sheet":"WP_BIN","index":5,"n_rows":86,"n_cols":86,"rows_kept":86,"cut":false,"hidden":true,"merged":[]}
[null,"Ermittlung der Arbeitspunkte pro BIN",null,null,null,null,null,null,null,null,null,null,null,null,null,null,null,null,"Interpolation Berechnung Luft/Wasser WP/ Spez WP"]
[null,"WP Art",{"$f":"WPArt","v":1},"-->",{"$f":"OFFSET('WP1'!Q4,WPArt,0)","v":" "},null,null,null,null,null,null,null,null,null,null,null,null,null,"Auswahl der für die Quellentemperatur relevanten Stützunkte"]
[null,null,null,null,null,null,null,null,null,null,null,null,null,null,null,null,null,null,"Index 1 (Q1)",{"$f":"MATCH(T39,$D$30:$J$30,1)","v":1},1,1,1,1,1,1,1,1,1,2,2,2,2,2,2,2,2,3,3,3,3,3,3,3,3,3,4,4,4,4,4,{"$f":"MATCH(AZ39,$D$30:$J$30,1)","v":5},5,5,5,5,5,5,5,5,5,5,5,5,6,6,6,6,6,6,6,6,6,6,6,6,6,6,6,6,6,6,6,6,6]
[null,"WP-Daten Luft-Wasser WP",null,null,null,null,null,null,null,null,null,null,null,null,null,null,null,null,"Index 2 (Q2)",{"$f":"T3+1","v":2},{"$f":"U3+1","v":2},{"$f":"V3+1","v":2},2,2,2,2,2,2,2,3,3,3,3,3,3,3,3,4,4,4,4,4,4,4,4,4,5,5,5,5,5,6,6,6,6,6,6,6,6,6,6,6,6,6,7,7,7,7,7,7,7,7,7,7,7,7,7,7,7,7,7,7,7,7,7]
[null,null,null,null,null,null,null,null,null,null,null,null,null,null,null,null,null,null,"Tv 1",{"$f":"$B$31","v":35},35,35,35,35,35,35,35,35,35,35,35,35,35,35,35,35,35,35,35,35,35,35,35,35,35,35,35,35,35,35,35,{"$f":"$B$31","v":35},35,35,35,35,35,35,35,35,35,35,35,35,35,35,35,35,35,35,35,35,35,35,35,35,35,35,35,35,35,35,35,35,35]
[null,"Bezeichnung:",null,{"$f":"'WP1'!F17&'WP1'!C18&\" \"&'WP1'!G18&\" \"&'WP1'!G19","v":"0 0 0"},null,null,null,null,null,null,null,null,null,null,null,null,null,null,"Ta 1",{"$f":"OFFSET($C$30,0,T3)","v":-25},-25,-25,-25,-25,-25,-25,-25,-25,-25,-15,-15,-15,-15,-15,-15,-15,-15,-7,-7,-7,-7,-7,-7,-7,-7,-7,2,2,2,2,2,{"$f":"OFFSET($C$30,0,AZ3)","v":7},7,7,7,7,7,7,7,7,7,7,7,7,20,20,20,20,20,20,20,20,20,20,20,20,20,20,20,20,20,20,20,20,20]
[null,null,null,null,null,null,null,null,null,null,null,null,null,null,null,null,null,null,"Tv 2",{"$f":"$B$34","v":55},55,55,55,55,55,55,55,55,55,55,55,55,55,55,55,55,55,55,55,55,55,55,55,55,55,55,55,55,55,55,55,{"$f":"$B$34","v":55},55,55,55,55,55,55,55,55,55,55,55,55,55,55,55,55,55,55,55,55,55,55,55,55,55,55,55,55,55,55,55,55,55]
[null,"Messstellen gemäss Norm 14511 Reglement 2011",null,null,null,null,null,null,null,null,null,null,null,null,null,null,null,null,"Ta 2",{"$f":"OFFSET($C$30,0,T4)","v":-15},-15,-15,-15,-15,-15,-15,-15,-15,-15,-7,-7,-7,-7,-7,-7,-7,-7,2,2,2,2,2,2,2,2,2,7,7,7,7,7,{"$f":"OFFSET($C$30,0,AZ4)","v":20},20,20,20,20,20,20,20,20,20,20,20,20,60,60,60,60,60,60,60,60,60,60,60,60,60,60,60,60,60,60,60,60,60]
[null,null,null,"TQuelle [°C]",null,null,null,null,null,null,null,null,"TQuelle [°C] Maximalwert vorhandene Messdaten",null,null,null,null,null,"Q Heiz. a1,v1",{"$f":"OFFSET($C$31,0,T$3)","v":0},0,0,0,0,0,0,0,0,0,0,0,0,0,0,0,0,0,0,0,0,0,0,0,0,0,0,0,0,0,0,0,{"$f":"OFFSET($C$31,0,AZ$3)","v":0},0,0,0,0,0,0,0,0,0,0,0,0,0,0,0,0,0,0,0,0,0,0,0,0,0,0,0,0,0,0,0,0,0]
[null,"TV [°C]",null,-15,-7,2,7,20,null,null,null,null,{"$f":"IF(N27=1,H10,Spez!T10)","v":20},null,null,null,null,null,"Q Heiz. a2,v1",{"$f":"OFFSET($C$31,0,T$4)","v":0},0,0,0,0,0,0,0,0,0,0,0,0,0,0,0,0,0,0,0,0,0,0,0,0,0,0,0,0,0,0,0,{"$f":"OFFSET($C$31,0,AZ$4)","v":0},0,0,0,0,0,0,0,0,0,0,0,0,0,0,0,0,0,0,0,0,0,0,0,0,0,0,0,0,0,0,0,0,0]
[null,35,"Q Heiz.",{"$f":"WP_Daten!G5","v":0},{"$f":"WP_Daten!I5","v":0},{"$f":"WP_Daten!K5","v":0},{"$f":"WP_Daten!M5","v":0},{"$f":"WP_Daten!O5","v":0},null,null,null,null,null,null,null,null,null,null,"Q Heiz. a1,v2",{"$f":"OFFSET($C$34,0,T$3)","v":0},0,0,0,0,0,0,0,0,0,0,0,0,0,0,0,0,0,0,0,0,0,0,0,0,0,0,0,0,0,0,0,{"$f":"OFFSET($C$34,0,AZ$3)","v":0},0,0,0,0,0,0,0,0,0,0,0,0,0,0,0,0,0,0,0,0,0,0,0,0,0,0,0,0,0,0,0,0,0]
[null,null,"COP",{"$f":"WP_Daten!H5","v":0},{"$f":"WP_Daten!J5","v":0},{"$f":"WP_Daten!L5","v":0},{"$f":"WP_Daten!N5","v":0},{"$f":"WP_Daten!P5","v":0},null,null,null,null,null,null,null,null,null,null,"Q Heiz. a2,v2",{"$f":"OFFSET($C$34,0,T$4)","v":0},0,0,0,0,0,0,0,0,0,0,0,0,0,0,0,0,0,0,0,0,0,0,0,0,0,0,0,0,0,0,0,{"$f":"OFFSET($C$34,0,AZ$4)","v":0},0,0,0,0,0,0,0,0,0,0,0,0,0,0,0,0,0,0,0,0,0,0,0,0,0,0,0,0,0,0,0,0,0]
[null,55,"Q Heiz.",null,{"$f":"WP_Daten!Q5","v":0},null,{"$f":"WP_Daten!S5","v":0},{"$f":"WP_Daten!U5","v":0},null,null,null,null,null,null,null,null,null,null,"COP a1,v1",{"$f":"OFFSET($C$32,0,T$3)","v":0},{"$f":"OFFSET($C$32,0,U$3)","v":0},0,0,0,0,0,0,0,0,0,0,0,0,0,0,0,0,0,0,0,0,0,0,0,0,0,0,0,0,0,0,0,0,0,0,0,0,0,0,0,0,0,0,0,0,0,0,0,0,0,0,0,0,0,0,0,0,0,0,0,0,0,0,0,{"$f":"OFFSET($C$32,0,CG$3)","v":0}]
[null,null,"COP",null,{"$f":"WP_Daten!R5","v":0},null,{"$f":"WP_Daten!T5","v":0},{"$f":"WP_Daten!V5","v":0},null,null,null,null,null,null,null,null,null,null,"COP a2,v1",{"$f":"OFFSET($C$32,0,T$4)","v":0},{"$f":"OFFSET($C$32,0,U$4)","v":0},0,0,0,0,0,0,0,0,0,0,0,0,0,0,0,0,0,0,0,0,0,0,0,0,0,0,0,0,0,0,0,0,0,0,0,0,0,0,0,0,0,0,0,0,0,0,0,0,0,0,0,0,0,0,0,0,0,0,0,0,0,0,0,{"$f":"OFFSET($C$32,0,CG$4)","v":0}]
[null,null,null,null,null,null,null,null,null,null,null,null,null,null,null,null,null,null,"COP a1,v2",{"$f":"OFFSET($C$35,0,T$3)","v":0},{"$f":"OFFSET($C$35,0,U$3)","v":0},0,0,0,0,0,0,0,0,0,0,0,0,0,0,0,0,0,0,0,0,0,0,0,0,0,0,0,0,0,0,0,0,0,0,0,0,0,0,0,0,0,0,0,0,0,0,0,0,0,0,0,0,0,0,0,0,0,0,0,0,0,0,0,{"$f":"OFFSET($C$35,0,CG$3)","v":0}]
[null,"Interpolation weiterer Stützpunkte",null,null,null,null,null,null,null,null,null,null,null,null,null,null,null,null,"COP a2,v2",{"$f":"OFFSET($C$35,0,T$4)","v":0},{"$f":"OFFSET($C$35,0,U$4)","v":0},0,0,0,0,0,0,0,0,0,0,0,0,0,0,0,0,0,0,0,0,0,0,0,0,0,0,0,0,0,0,0,0,0,0,0,0,0,0,0,0,0,0,0,0,0,0,0,0,0,0,0,0,0,0,0,0,0,0,0,0,0,0,0,{"$f":"OFFSET($C$35,0,CG$4)","v":0}]
[null,null,null,"TQuelle [°C]",null,null,null,null,null,null,null,"Hilfsgrössen",null,null,null,null,null,null,"COP a0,v1",{"$f":"T13+((T14-T13)/(T8-T6))*(T39-T6)","v":0},0,0,0,0,0,0,0,0,0,0,0,0,0,0,0,0,0,0,0,0,0,0,0,0,0,0,0,0,0,0,0,{"$f":"AZ13+((AZ14-AZ13)/(AZ8-AZ6))*(AZ39-AZ6)","v":0},0,0,0,0,0,0,0,0,0,0,0,0,0,0,0,0,0,0,0,0,0,0,0,0,0,0,0,0,0,0,0,0,0]
[null,"TV [°C]",null,-25,-15,-7,2,7,20,60,null,null,null,null,null,null,null,null,"COP a0,v2",{"$f":"T15+((T16-T15)/(T8-T6))*(T39-T6)","v":0},0,0,0,0,0,0,0,0,0,0,0,0,0,0,0,0,0,0,0,0,0,0,0,0,0,0,0,0,0,0,0,{"$f":"AZ15+((AZ16-AZ15)/(AZ8-AZ6))*(AZ39-AZ6)","v":0},0,0,0,0,0,0,0,0,0,0,0,0,0,0,0,0,0,0,0,0,0,0,0,0,0,0,0,0,0,0,0,0,0]
[null,35,"Q Heiz.",{"$f":"E19-N19*(E18-D18)","v":0},{"$f":"D11","v":0},0,0,0,{"$f":"IF(H11>0,H11,H19+N22*(I18-H18))","v":0},{"$f":"I19","v":0},null,"Steigung A-15/A-7","P Heiz",{"$f":"(F19-E19)/($F$18-$E$18)","v":0},null,null,null,null,"h a0,v1",{"$f":"IF(T17=0,0,T17/((T5+273.15)/(T5-T39)))","v":0},{"$f":"IF(U17=0,0,U17/((U5+273.15)/(U5-U39)))","v":0},0,0,0,0,0,0,0,0,0,0,0,0,0,0,0,0,0,0,0,0,0,0,0,0,0,0,0,0,0,0,0,0,0,0,0,0,0,0,0,0,0,0,0,0,0,0,0,0,0,0,0,0,0,0,0,0,0,0,0,0,0,0,0,{"$f":"IF(CG17=0,0,CG17/((CG5+273.15)/(CG5-CG39)))","v":0}]
[null,null,"COP",{"$f":"(($B19+273.15)/($B19-D$18))*D21","v":0},0,0,0,0,{"$f":"IF(H12>0,H12,H20+N23*(I18-H18))","v":0},{"$f":"I20","v":0},null,null,"COP",{"$f":"(F20-E20)/($F$18-$E$18)","v":0},null,null,null,null,"h a0,v2",{"$f":"IF(T18=0,0,T18/((T7+273.15)/(T7-T39)))","v":0},{"$f":"IF(U18=0,0,U18/((U7+273.15)/(U7-U39)))","v":0},0,0,0,0,0,0,0,0,0,0,0,0,0,0,0,0,0,0,0,0,0,0,0,0,0,0,0,0,0,0,0,0,0,0,0,0,0,0,0,0,0,0,0,0,0,0,0,0,0,0,0,0,0,0,0,0,0,0,0,0,0,0,0,{"$f":"IF(CG18=0,0,CG18/((CG7+273.15)/(CG7-CG39)))","v":0}]
[null,null,"h ",{"$f":"E21","v":0},{"$f":"E20/(($B19+273.15)/($B19-E$18))","v":0},0,0,0,0,0]
[null,55,"Q Heiz.",{"$f":"E22-N19*(E18-D18)","v":0},{"$f":"F22-N19*(F18-E18)","v":0},{"$f":"E13","v":0},{"$f":"F22+Q23*(G18-F18)","v":0},{"$f":"G13","v":0},{"$f":"IF(H13=0,G13,H13)","v":0},{"$f":"I22","v":0},null,"Steigung A7/A20","P Heiz",{"$f":"(I22-H22)/($I$18-$H$18)","v":0},"Stg A-7/A7","P El."]
[null,null,"COP",{"$f":"(($B22+273.15)/($B22-D$18))*D24","v":0},{"$f":"F23-N20*(F18-E18)","v":0},{"$f":"E14","v":0},{"$f":"F23+Q24*(G18-F18)","v":0},{"$f":"G14","v":0},{"$f":"IF(H14=0,G14,H14)","v":0},{"$f":"I23","v":0},null,null,"COP",{"$f":"(I23-H23)/($I$18-$H$18)","v":0},null,"COP",{"$f":"(H22-F22)/($H$18-$F$18)","v":0},null,"Interpolationstherme Heizung"]
[null,null,"h ",{"$f":"E24","v":0},{"$f":"E23/(($B22+273.15)/($B22-E$18))","v":0},0,0,0,0,0,null,null,null,null,null,null,{"$f":"(H23-F23)/($H$18-$F$18)","v":0},null,"Therm a1,v1",{"$f":"1-((T39-T6)/(T8-T6))-((T43-T5)/(T7-T5))+T27","v":{"$error":"#DIV/0!"}},{"$error":"#DIV/0!"},{"$error":"#DIV/0!"},{"$error":"#DIV/0!"},{"$error":"#DIV/0!"},{"$error":"#DIV/0!"},{"$error":"#DIV/0!"},{"$error":"#DIV/0!"},{"$error":"#DIV/0!"},{"$error":"#DIV/0!"},{"$error":"#DIV/0!"},{"$error":"#DIV/0!"},{"$error":"#DIV/0!"},{"$error":"#DIV/0!"},{"$error":"#DIV/0!"},{"$error":"#DIV/0!"},{"$error":"#DIV/0!"},0.13750000000000001,{"$error":"#DIV/0!"},{"$error":"#DIV/0!"},{"$error":"#DIV/0!"},{"$error":"#DIV/0!"},{"$error":"#DIV/0!"},{"$error":"#DIV/0!"},{"$error":"#DIV/0!"},{"$error":"#DIV/0!"},{"$error":"#DIV/0!"},{"$error":"#DIV/0!"},{"$error":"#DIV/0!"},{"$error":"#DIV/0!"},{"$error":"#DIV/0!"},{"$error":"#DIV/0!"},{"$f":"1-((AZ39-AZ6)/(AZ8-AZ6))-((AZ43-AZ5)/(AZ7-AZ5))+AZ27","v":{"$error":"#DIV/0!"}},{"$error":"#DIV/0!"},{"$error":"#DIV/0!"},{"$error":"#DIV/0!"},{"$error":"#DIV/0!"},{"$error":"#DIV/0!"},{"$error":"#DIV/0!"},{"$error":"#DIV/0!"},{"$error":"#DIV/0!"},{"$error":"#DIV/0!"},{"$error":"#DIV/0!"},{"$error":"#DIV/0!"},{"$error":"#DIV/0!"},{"$error":"#DIV/0!"},{"$error":"#DIV/0!"},{"$error":"#DIV/0!"},{"$error":"#DIV/0!"},{"$error":"#DIV/0!"},{"$error":"#DIV/0!"},{"$error":"#DIV/0!"},{"$error":"#DIV/0!"},{"$error":"#DIV/0!"},{"$error":"#DIV/0!"},{"$error":"#DIV/0!"},{"$error":"#DIV/0!"},{"$error":"#DIV/0!"},{"$error":"#DIV/0!"},{"$error":"#DIV/0!"},{"$error":"#DIV/0!"},{"$error":"#DIV/0!"},{"$error":"#DIV/0!"},{"$error":"#DIV/0!"},{"$error":"#DIV/0!"},{"$error":"#DIV/0!"}]
[null,null,null,null,null,null,null,null,null,null,null,null,null,null,null,null,null,null,"Therm a2,v1",{"$f":"((T39-T6)/(T8-T6))-T27","v":{"$error":"#DIV/0!"}},{"$error":"#DIV/0!"},{"$error":"#DIV/0!"},{"$error":"#DIV/0!"},{"$error":"#DIV/0!"},{"$error":"#DIV/0!"},{"$error":"#DIV/0!"},{"$error":"#DIV/0!"},{"$error":"#DIV/0!"},{"$error":"#DIV/0!"},{"$error":"#DIV/0!"},{"$error":"#DIV/0!"},{"$error":"#DIV/0!"},{"$error":"#DIV/0!"},{"$error":"#DIV/0!"},{"$error":"#DIV/0!"},{"$error":"#DIV/0!"},0.96250000000000002,{"$error":"#DIV/0!"},{"$error":"#DIV/0!"},{"$error":"#DIV/0!"},{"$error":"#DIV/0!"},{"$error":"#DIV/0!"},{"$error":"#DIV/0!"},{"$error":"#DIV/0!"},{"$error":"#DIV/0!"},{"$error":"#DIV/0!"},{"$error":"#DIV/0!"},{"$error":"#DIV/0!"},{"$error":"#DIV/0!"},{"$error":"#DIV/0!"},{"$error":"#DIV/0!"},{"$f":"((AZ39-AZ6)/(AZ8-AZ6))-AZ27","v":{"$error":"#DIV/0!"}},{"$error":"#DIV/0!"},{"$error":"#DIV/0!"},{"$error":"#DIV/0!"},{"$error":"#DIV/0!"},{"$error":"#DIV/0!"},{"$error":"#DIV/0!"},{"$error":"#DIV/0!"},{"$error":"#DIV/0!"},{"$error":"#DIV/0!"},{"$error":"#DIV/0!"},{"$error":"#DIV/0!"},{"$error":"#DIV/0!"},{"$error":"#DIV/0!"},{"$error":"#DIV/0!"},{"$error":"#DIV/0!"},{"$error":"#DIV/0!"},{"$error":"#DIV/0!"},{"$error":"#DIV/0!"},{"$error":"#DIV/0!"},{"$error":"#DIV/0!"},{"$error":"#DIV/0!"},{"$error":"#DIV/0!"},{"$error":"#DIV/0!"},{"$error":"#DIV/0!"},{"$error":"#DIV/0!"},{"$error":"#DIV/0!"},{"$error":"#DIV/0!"},{"$error":"#DIV/0!"},{"$error":"#DIV/0!"},{"$error":"#DIV/0!"},{"$error":"#DIV/0!"},{"$error":"#DIV/0!"},{"$error":"#DIV/0!"}]
[null,null,null,null,null,null,null,null,null,null,null,null,null,null,null,null,null,null,"Therm a1,v2",{"$f":"((T43-T5)/(T7-T5))-T27","v":{"$error":"#DIV/0!"}},{"$error":"#DIV/0!"},{"$error":"#DIV/0!"},{"$error":"#DIV/0!"},{"$error":"#DIV/0!"},{"$error":"#DIV/0!"},{"$error":"#DIV/0!"},{"$error":"#DIV/0!"},{"$error":"#DIV/0!"},{"$error":"#DIV/0!"},{"$error":"#DIV/0!"},{"$error":"#DIV/0!"},{"$error":"#DIV/0!"},{"$error":"#DIV/0!"},{"$error":"#DIV/0!"},{"$error":"#DIV/0!"},{"$error":"#DIV/0!"},-1.2500000000000011E-2,{"$error":"#DIV/0!"},{"$error":"#DIV/0!"},{"$error":"#DIV/0!"},{"$error":"#DIV/0!"},{"$error":"#DIV/0!"},{"$error":"#DIV/0!"},{"$error":"#DIV/0!"},{"$error":"#DIV/0!"},{"$error":"#DIV/0!"},{"$error":"#DIV/0!"},{"$error":"#DIV/0!"},{"$error":"#DIV/0!"},{"$error":"#DIV/0!"},{"$error":"#DIV/0!"},{"$f":"((AZ43-AZ5)/(AZ7-AZ5))-AZ27","v":{"$error":"#DIV/0!"}},{"$error":"#DIV/0!"},{"$error":"#DIV/0!"},{"$error":"#DIV/0!"},{"$error":"#DIV/0!"},{"$error":"#DIV/0!"},{"$error":"#DIV/0!"},{"$error":"#DIV/0!"},{"$error":"#DIV/0!"},{"$error":"#DIV/0!"},{"$error":"#DIV/0!"},{"$error":"#DIV/0!"},{"$error":"#DIV/0!"},{"$error":"#DIV/0!"},{"$error":"#DIV/0!"},{"$error":"#DIV/0!"},{"$error":"#DIV/0!"},{"$error":"#DIV/0!"},{"$error":"#DIV/0!"},{"$error":"#DIV/0!"},{"$error":"#DIV/0!"},{"$error":"#DIV/0!"},{"$error":"#DIV/0!"},{"$error":"#DIV/0!"},{"$error":"#DIV/0!"},{"$error":"#DIV/0!"},{"$error":"#DIV/0!"},{"$error":"#DIV/0!"},{"$error":"#DIV/0!"},{"$error":"#DIV/0!"},{"$error":"#DIV/0!"},{"$error":"#DIV/0!"},{"$f":"((CF43-CF5)/(CF7-CF5))-CF27","v":{"$error":"#DIV/0!"}},{"$f":"((CG43-CG5)/(CG7-CG5))-CG27","v":{"$error":"#DIV/0!"}}]
[null,"Verwendete WP-Daten",null,null,null,null,null,null,null,null,null,"Flag verwendete Daten",null,{"$f":"IF(SpezWP,2,1)","v":1},"(1=Luft/Wasser, 2=Spez)",null,null,null,"Therm a2,v2",{"$f":"(((T39-T6)*(T43-T5))/((T8-T6)*(T7-T5)))","v":{"$error":"#DIV/0!"}},{"$error":"#DIV/0!"},{"$error":"#DIV/0!"},{"$error":"#DIV/0!"},{"$error":"#DIV/0!"},{"$error":"#DIV/0!"},{"$error":"#DIV/0!"},{"$error":"#DIV/0!"},{"$error":"#DIV/0!"},{"$error":"#DIV/0!"},{"$error":"#DIV/0!"},{"$error":"#DIV/0!"},{"$error":"#DIV/0!"},{"$error":"#DIV/0!"},{"$error":"#DIV/0!"},{"$error":"#DIV/0!"},{"$f":"(((AJ39-AJ6)*(AJ43-AJ5))/((AJ8-AJ6)*(AJ7-AJ5)))","v":{"$error":"#DIV/0!"}},-8.7499999999999994E-2,{"$error":"#DIV/0!"},{"$error":"#DIV/0!"},{"$error":"#DIV/0!"},{"$error":"#DIV/0!"},{"$error":"#DIV/0!"},{"$error":"#DIV/0!"},{"$error":"#DIV/0!"},{"$error":"#DIV/0!"},{"$error":"#DIV/0!"},{"$error":"#DIV/0!"},{"$error":"#DIV/0!"},{"$error":"#DIV/0!"},{"$error":"#DIV/0!"},{"$error":"#DIV/0!"},{"$f":"(((AZ39-AZ6)*(AZ43-AZ5))/((AZ8-AZ6)*(AZ7-AZ5)))","v":{"$error":"#DIV/0!"}},{"$error":"#DIV/0!"},{"$error":"#DIV/0!"},{"$error":"#DIV/0!"},{"$error":"#DIV/0!"},{"$error":"#DIV/0!"},{"$error":"#DIV/0!"},{"$error":"#DIV/0!"},{"$error":"#DIV/0!"},{"$error":"#DIV/0!"},{"$error":"#DIV/0!"},{"$error":"#DIV/0!"},{"$error":"#DIV/0!"},{"$error":"#DIV/0!"},{"$error":"#DIV/0!"},{"$error":"#DIV/0!"},{"$error":"#DIV/0!"},{"$error":"#DIV/0!"},{"$error":"#DIV/0!"},{"$error":"#DIV/0!"},{"$error":"#DIV/0!"},{"$error":"#DIV/0!"},{"$error":"#DIV/0!"},{"$error":"#DIV/0!"},{"$error":"#DIV/0!"},{"$error":"#DIV/0!"},{"$error":"#DIV/0!"},{"$error":"#DIV/0!"},{"$error":"#DIV/0!"},{"$error":"#DIV/0!"},{"$error":"#DIV/0!"},{"$error":"#DIV/0!"},{"$error":"#DIV/0!"},{"$error":"#DIV/0!"}]
[null,null,null,null,null,null,null,null,null,null,null,null,null,null,null,null,null,null,"Interpolationstherme Warmwasser"]
[null,null,null,"TQuelle [°C]",null,null,null,null,null,null,null,"Hilfsgrössen",null,null,null,null,null,null,"Therm a1,v1",{"$f":"1-((T39-T6)/(T8-T6))-((T50-T5)/(T7-T5))+T32","v":-0.25},-0.22499999999999998,-0.19999999999999996,-0.17500000000000004,-0.15000000000000002,-0.125,-9.9999999999999978E-2,-7.4999999999999956E-2,-5.0000000000000044E-2,-2.4999999999999911E-2,-0.25,-0.21875,-0.1875,-0.15625,-0.125,-9.375E-2,-6.25E-2,-3.125E-2,-0.25,-0.22222222222222227,-0.19444444444444442,-0.16666666666666657,-0.13888888888888884,-0.11111111111111116,-8.3333333333333259E-2,-5.5555555555555469E-2,-2.7777777777777679E-2,-0.25,-0.19999999999999996,-0.15000000000000002,-9.9999999999999978E-2,-5.0000000000000044E-2,{"$f":"1-((AZ39-AZ6)/(AZ8-AZ6))-((AZ50-AZ5)/(AZ7-AZ5))+AZ32","v":-0.25},-0.23076923076923073,-0.21153846153846154,-0.1923076923076924,-0.17307692307692307,-0.1538461538461538,-0.13461538461538469,-0.11538461538461531,-9.6153846153846145E-2,-7.6923076923076872E-2,-5.7692307692307598E-2,-3.8461538461538547E-2,-1.9230769230769384E-2,-0.25,-0.25,-0.25,-0.25,-0.25,-0.25,-0.25,-0.25,-0.25,-0.25,-0.25,-0.25,-0.25,-0.25,-0.25,-0.25,-0.25,-0.25,-0.25,-0.25,-0.25]
[null,"TV [°C]",null,{"$f":"IF($N$27=1,D18,Spez!W20)","v":-25},{"$f":"IF($N$27=1,E18,Spez!X20)","v":-15},{"$f":"IF($N$27=1,F18,Spez!Y20)","v":-7},{"$f":"IF($N$27=1,G18,Spez!Z20)","v":2},{"$f":"IF($N$27=1,H18,Spez!AA20)","v":7},{"$f":"IF($N$27=1,I18,Spez!AB20)","v":20},{"$f":"IF($N$27=1,J18,Spez!AC20)","v":60},null,null,null,null,null,null,null,null,"Therm a2,v1",{"$f":"((T39-T6)/(T8-T6))-T32","v":0},-2.4999999999999994E-2,-4.9999999999999989E-2,-7.5000000000000011E-2,-9.9999999999999978E-2,-0.125,-0.15000000000000002,-0.17500000000000004,-0.19999999999999996,-0.22499999999999998,0,-3.125E-2,-6.25E-2,-9.375E-2,-0.125,-0.15625,-0.1875,-0.21875,0,-2.777777777777779E-2,-5.555555555555558E-2,-8.333333333333337E-2,-0.11111111111111116,-0.13888888888888884,-0.16666666666666674,-0.19444444444444442,-0.22222222222222232,0,-4.9999999999999989E-2,-9.9999999999999978E-2,-0.15000000000000002,-0.19999999999999996,{"$f":"((AZ39-AZ6)/(AZ8-AZ6))-AZ32","v":0},-1.9230769230769232E-2,-3.8461538461538464E-2,-5.7692307692307654E-2,-7.6923076923076927E-2,-9.6153846153846145E-2,-0.11538461538461531,-0.13461538461538469,-0.15384615384615385,-0.17307692307692313,-0.19230769230769229,-0.21153846153846156,-0.23076923076923062,0,0,0,0,0,0,0,0,0,0,0,0,0,0,0,0,0,0,0,0,0]
[null,{"$f":"IF($N$27=1,B19,Spez!U21)","v":35},"Q Heiz.",{"$f":"IF($N$27=1,D19,Spez!W21)","v":0},{"$f":"IF($N$27=1,E19,Spez!X21)","v":0},{"$f":"IF($N$27=1,F19,Spez!Y21)","v":0},{"$f":"IF($N$27=1,G19,Spez!Z21)","v":0},{"$f":"IF($N$27=1,H19,Spez!AA21)","v":0},{"$f":"IF($N$27=1,I19,Spez!AB21)","v":0},{"$f":"IF($N$27=1,J19,Spez!AC21)","v":0},null,"Steigung A-15/A-7","P Heiz",{"$f":"(F31-E31)/($F$30-$E$30)","v":0},null,null,null,null,"Therm a1,v2",{"$f":"((T50-T5)/(T7-T5))-T32","v":1.25},1.125,1,0.875,0.75,0.625,0.5,0.375,0.25,0.125,1.25,1.09375,0.9375,0.78125,0.625,0.46875,0.3125,0.15625,1.25,1.1111111111111112,0.97222222222222221,0.83333333333333326,0.69444444444444442,0.55555555555555558,0.41666666666666663,0.27777777777777779,0.13888888888888884,1.25,1,0.75,0.5,0.25,{"$f":"((AZ50-AZ5)/(AZ7-AZ5))-AZ32","v":1.25},1.1538461538461537,1.0576923076923077,0.96153846153846156,0.86538461538461542,0.76923076923076916,0.67307692307692313,0.57692307692307687,0.48076923076923073,0.38461538461538458,0.28846153846153844,0.19230769230769229,9.6153846153846256E-2,1.25,1.25,1.25,1.25,1.25,1.25,1.25,1.25,1.25,1.25,1.25,1.25,1.25,1.25,1.25,1.25,1.25,1.25,1.25,{"$f":"((CF50-CF5)/(CF7-CF5))-CF32","v":1.25},{"$f":"((CG50-CG5)/(CG7-CG5))-CG32","v":1.25}]
[null,null,"COP",{"$f":"IF($N$27=1,D20,Spez!W22)","v":0},{"$f":"IF($N$27=1,E20,Spez!X22)","v":0},{"$f":"IF($N$27=1,F20,Spez!Y22)","v":0},{"$f":"IF($N$27=1,G20,Spez!Z22)","v":0},{"$f":"IF($N$27=1,H20,Spez!AA22)","v":0},{"$f":"IF($N$27=1,I20,Spez!AB22)","v":0},{"$f":"IF($N$27=1,J20,Spez!AC22)","v":0},null,null,"COP",{"$f":"(F32-E32)/($F$30-$E$30)","v":0},null,null,null,null,"Therm a2,v2",{"$f":"(((T39-T6)*(T50-T5))/((T8-T6)*(T7-T5)))","v":0},0.125,0.25,0.375,0.5,0.625,0.75,0.875,1,1.125,0,0.15625,0.3125,0.46875,0.625,0.78125,0.9375,1.09375,0,0.1388888888888889,0.27777777777777779,0.41666666666666669,0.55555555555555558,0.69444444444444442,0.83333333333333337,0.97222222222222221,1.1111111111111112,0,0.25,0.5,0.75,1,{"$f":"(((AZ39-AZ6)*(AZ50-AZ5))/((AZ8-AZ6)*(AZ7-AZ5)))","v":0},9.6153846153846159E-2,0.19230769230769232,0.28846153846153844,0.38461538461538464,0.48076923076923078,0.57692307692307687,0.67307692307692313,0.76923076923076927,0.86538461538461542,0.96153846153846156,1.0576923076923077,1.1538461538461537,0,0,0,0,0,0,0,0,0,0,0,0,0,0,0,0,0,0,0,0,0]
[null,null,"h ",{"$f":"IF($N$27=1,D21,Spez!W23)","v":0},{"$f":"IF($N$27=1,E21,Spez!X23)","v":0},{"$f":"IF($N$27=1,F21,Spez!Y23)","v":0},{"$f":"IF($N$27=1,G21,Spez!Z23)","v":0},{"$f":"IF($N$27=1,H21,Spez!AA23)","v":0},{"$f":"IF($N$27=1,I21,Spez!AB23)","v":0},{"$f":"IF($N$27=1,J21,Spez!AC23)","v":0}]
[null,{"$f":"IF($N$27=1,B22,Spez!U24)","v":55},"Q Heiz.",{"$f":"IF($N$27=1,D22,Spez!W24)","v":0},{"$f":"IF($N$27=1,E22,Spez!X24)","v":0},{"$f":"IF($N$27=1,F22,Spez!Y24)","v":0},{"$f":"IF($N$27=1,G22,Spez!Z24)","v":0},{"$f":"IF($N$27=1,H22,Spez!AA24)","v":0},{"$f":"IF($N$27=1,I22,Spez!AB24)","v":0},{"$f":"IF($N$27=1,J22,Spez!AC24)","v":0},null,"Steigung A7/A20","P Heiz",{"$f":"(I34-H34)/($I$30-$H$30)","v":0},"Stg A-7/A7","P El.",{"$f":"(H34-F34)/($H$30-$F$30)","v":0},null,"Berechnung der Quellentemperatur"]
[null,null,"COP",{"$f":"IF($N$27=1,D23,Spez!W25)","v":0},{"$f":"IF($N$27=1,E23,Spez!X25)","v":0},{"$f":"IF($N$27=1,F23,Spez!Y25)","v":0},{"$f":"IF($N$27=1,G23,Spez!Z25)","v":0},{"$f":"IF($N$27=1,H23,Spez!AA25)","v":0},{"$f":"IF($N$27=1,I23,Spez!AB25)","v":0},{"$f":"IF($N$27=1,J23,Spez!AC25)","v":0},null,null,"COP",{"$f":"(I35-H35)/($I$30-$H$30)","v":0},null,"COP",{"$f":"(H35-F35)/($H$30-$F$30)","v":0},null,"Bin Temperatur",-25,{"$f":"T35+1","v":-24},{"$f":"U35+1","v":-23},-22,-21,-20,-19,-18,-17,-16,-15,-14,-13,-12,-11,-10,-9,-8,-7,-6,-5,-4,-3,-2,-1,0,1,2,3,4,5,6,7,8,9,10,11,12,13,14,15,16,17,18,19,20,21,22,23,24,25,26,27,28,29,30,31,32,33,34,35,36,37,38,39,40]
[null,null,"h ",{"$f":"IF($N$27=1,D24,Spez!W26)","v":0},{"$f":"IF($N$27=1,E24,Spez!X26)","v":0},{"$f":"IF($N$27=1,F24,Spez!Y26)","v":0},{"$f":"IF($N$27=1,G24,Spez!Z26)","v":0},{"$f":"IF($N$27=1,H24,Spez!AA26)","v":0},{"$f":"IF($N$27=1,I24,Spez!AB26)","v":0},{"$f":"IF($N$27=1,J24,Spez!AC26)","v":0},null,null,null,null,null,null,null,null,"Bin h",{"$f":"INDEX('WP1'!$W$60:$W$125,T75,1)","v":0},{"$f":"INDEX('WP1'!$W$60:$W$125,U75,1)","v":0},{"$f":"INDEX('WP1'!$W$60:$W$125,V75,1)","v":0},{"$f":"INDEX('WP1'!$W$60:$W$125,W75,1)","v":0},{"$f":"INDEX('WP1'!$W$60:$W$125,X75,1)","v":0},{"$f":"INDEX('WP1'!$W$60:$W$125,Y75,1)","v":0},{"$f":"INDEX('WP1'!$W$60:$W$125,Z75,1)","v":0},{"$f":"INDEX('WP1'!$W$60:$W$125,AA75,1)","v":0},{"$f":"INDEX('WP1'!$W$60:$W$125,AB75,1)","v":0},{"$f":"INDEX('WP1'!$W$60:$W$125,AC75,1)","v":0},{"$f":"INDEX('WP1'!$W$60:$W$125,AD75,1)","v":0},{"$f":"INDEX('WP1'!$W$60:$W$125,AE75,1)","v":0},{"$f":"INDEX('WP1'!$W$60:$W$125,AF75,1)","v":0},{"$f":"INDEX('WP1'!$W$60:$W$125,AG75,1)","v":0},{"$f":"INDEX('WP1'!$W$60:$W$125,AH75,1)","v":0},{"$f":"INDEX('WP1'!$W$60:$W$125,AI75,1)","v":0},{"$f":"INDEX('WP1'!$W$60:$W$125,AJ75,1)","v":0},{"$f":"INDEX('WP1'!$W$60:$W$125,AK75,1)","v":{"$error":"#VALUE!"}},{"$f":"INDEX('WP1'!$W$60:$W$125,AL75,1)","v":{"$error":"#VALUE!"}},{"$f":"INDEX('WP1'!$W$60:$W$125,AM75,1)","v":{"$error":"#VALUE!"}},{"$f":"INDEX('WP1'!$W$60:$W$125,AN75,1)","v":{"$error":"#VALUE!"}},{"$f":"INDEX('WP1'!$W$60:$W$125,AO75,1)","v":{"$error":"#VALUE!"}},{"$f":"INDEX('WP1'!$W$60:$W$125,AP75,1)","v":{"$error":"#VALUE!"}},{"$f":"INDEX('WP1'!$W$60:$W$125,AQ75,1)","v":{"$error":"#VALUE!"}},{"$f":"INDEX('WP1'!$W$60:$W$125,AR75,1)","v":{"$error":"#VALUE!"}},{"$f":"INDEX('WP1'!$W$60:$W$125,AS75,1)","v":{"$error":"#VALUE!"}},{"$f":"INDEX('WP1'!$W$60:$W$125,AT75,1)","v":{"$error":"#VALUE!"}},{"$f":"INDEX('WP1'!$W$60:$W$125,AU75,1)","v":{"$error":"#VALUE!"}},{"$f":"INDEX('WP1'!$W$60:$W$125,AV75,1)","v":{"$error":"#VALUE!"}},{"$f":"INDEX('WP1'!$W$60:$W$125,AW75,1)","v":{"$error":"#VALUE!"}},{"$f":"INDEX('WP1'!$W$60:$W$125,AX75,1)","v":{"$error":"#VALUE!"}},{"$f":"INDEX('WP1'!$W$60:$W$125,AY75,1)","v":{"$error":"#VALUE!"}},{"$f":"INDEX('WP1'!$W$60:$W$125,AZ75,1)","v":{"$error":"#VALUE!"}},{"$f":"INDEX('WP1'!$W$60:$W$125,BA75,1)","v":0},{"$f":"INDEX('WP1'!$W$60:$W$125,BB75,1)","v":0},{"$f":"INDEX('WP1'!$W$60:$W$125,BC75,1)","v":0},{"$f":"INDEX('WP1'!$W$60:$W$125,BD75,1)","v":0},{"$f":"INDEX('WP1'!$W$60:$W$125,BE75,1)","v":0},{"$f":"INDEX('WP1'!$W$60:$W$125,BF75,1)","v":0},{"$f":"INDEX('WP1'!$W$60:$W$125,BG75,1)","v":0},{"$f":"INDEX('WP1'!$W$60:$W$125,BH75,1)","v":0},{"$f":"INDEX('WP1'!$W$60:$W$125,BI75,1)","v":0},{"$f":"INDEX('WP1'!$W$60:$W$125,BJ75,1)","v":0},{"$f":"INDEX('WP1'!$W$60:$W$125,BK75,1)","v":0},{"$f":"INDEX('WP1'!$W$60:$W$125,BL75,1)","v":0},{"$f":"INDEX('WP1'!$W$60:$W$125,BM75,1)","v":0},{"$f":"INDEX('WP1'!$W$60:$W$125,BN75,1)","v":0},{"$f":"INDEX('WP1'!$W$60:$W$125,BO75,1)","v":0},{"$f":"INDEX('WP1'!$W$60:$W$125,BP75,1)","v":0},{"$f":"INDEX('WP1'!$W$60:$W$125,BQ75,1)","v":0},{"$f":"INDEX('WP1'!$W$60:$W$125,BR75,1)","v":0},{"$f":"INDEX('WP1'!$W$60:$W$125,BS75,1)","v":0},{"$f":"INDEX('WP1'!$W$60:$W$125,BT75,1)","v":0},{"$f":"INDEX('WP1'!$W$60:$W$125,BU75,1)","v":0},{"$f":"INDEX('WP1'!$W$60:$W$125,BV75,1)","v":0},{"$f":"INDEX('WP1'!$W$60:$W$125,BW75,1)","v":0},{"$f":"INDEX('WP1'!$W$60:$W$125,BX75,1)","v":0},{"$f":"INDEX('WP1'!$W$60:$W$125,BY75,1)","v":0},{"$f":"INDEX('WP1'!$W$60:$W$125,BZ75,1)","v":0},{"$f":"INDEX('WP1'!$W$60:$W$125,CA75,1)","v":0},{"$f":"INDEX('WP1'!$W$60:$W$125,CB75,1)","v":0},{"$f":"INDEX('WP1'!$W$60:$W$125,CC75,1)","v":0},{"$f":"INDEX('WP1'!$W$60:$W$125,CD75,1)","v":0},{"$f":"INDEX('WP1'!$W$60:$W$125,CE75,1)","v":0},{"$f":"INDEX('WP1'!$W$60:$W$125,CF75,1)","v":0},{"$f":"INDEX('WP1'!$W$60:$W$125,CG75,1)","v":0},{"$f":"SUM(T36:CG36)","v":{"$error":"#VALUE!"}}]
[null,null,null,null,null,null,null,null,null,null,null,null,null,null,null,null,null,null,null,0,0,0,0,0,0,0,0,0,0,0,0,0,0,0,0,0,0,0,0,0,0,0,0,0,0,0,0,0,0,0,0,0,0,0,0,0,0,0,0,0,0,0,0,0,0,0,0,0,0,0,0,0,0,0,0,0,0,0,0,0,0,0,0,0,0]
[null,null,null,null,null,null,null,null,null,null,null,null,null,null,null,null,null,null,"Ta0 (Quelle)",{"$f":"T35+T37","v":-25},-24,-23,-22,-21,-20,-19,-18,-17,-16,-15,-14,-13,-12,-11,-10,-9,-8,-7,-6,-5,-4,-3,-2,-1,0,1,2,3,4,5,6,{"$f":"AZ35+AZ37","v":7},8,9,10,11,12,13,14,15,16,17,18,19,20,21,22,23,24,25,26,27,28,29,30,31,32,33,34,35,36,37,38,{"$f":"CF35+CF37","v":39},{"$f":"CG35+CG37","v":40}]
[null,null,null,null,null,null,null,null,null,null,null,null,null,null,null,null,null,null,"Ta0 begrenzt TQuelle max",{"$f":"MIN(T38,$M$10)","v":-25},-24,-23,-22,-21,-20,-19,-18,-17,-16,-15,-14,-13,-12,-11,-10,-9,-8,-7,-6,-5,-4,-3,-2,-1,0,1,2,3,4,5,6,{"$f":"MIN(AZ38,$M$10)","v":7},8,9,10,11,12,13,14,15,16,17,18,19,20,20,20,20,20,20,20,20,20,20,20,20,20,20,20,20,20,20,20,{"$f":"MIN(CF38,$M$10)","v":20},{"$f":"MIN(CG38,$M$10)","v":20}]
[null,null,null,null,null,null,null,null,null,null,null,null,null,null,null,null,null,null,"Offset Quelle",{"$f":"$AL$40","v":0},{"$f":"$AL$40","v":0},0,0,0,0,0,0,0,0,0,0,0,0,0,0,0,0,{"$f":"Spez!J56","v":0},{"$f":"$AL$40+($AU$40-$AL$40)/9*(AM35-$AL$35)","v":0},{"$f":"$AL$40+($AU$40-$AL$40)/9*(AN35-$AL$35)","v":0},0,0,0,0,0,0,{"$f":"Spez!J57","v":0},{"$f":"$AU$40+($AZ$40-$AU$40)/5*(AV$35-$AU$35)","v":0},{"$f":"$AU$40+($AZ$40-$AU$40)/5*(AW$35-$AU$35)","v":0},0,0,{"$f":"Spez!J58","v":0},{"$f":"$AZ$40","v":0},{"$f":"$AZ$40","v":0},0,0,0,0,0,0,0,0,0,0,0,0,0,0,0,0,0,0,0,0,0,0,0,0,0,0,0,0,0,0,0]
[null,null,null,null,null,null,null,null,null,null,null,null,null,null,null,null,null,null,"Arbeitspunkte Luft/Wasser WP/ Spez WP"]
[null,null,null,null,null,null,null,null,null,null,null,null,null,null,null,null,null,null,"Heizung"]
[null,null,null,null,null,null,null,null,null,null,null,null,null,null,null,null,null,null,"Tv0 (Vorlauf Heizung)",{"$f":"T77","v":{"$error":"#DIV/0!"}},{"$f":"U77","v":{"$error":"#DIV/0!"}},{"$error":"#DIV/0!"},{"$error":"#DIV/0!"},{"$error":"#DIV/0!"},{"$error":"#DIV/0!"},{"$error":"#DIV/0!"},{"$error":"#DIV/0!"},{"$error":"#DIV/0!"},{"$error":"#DIV/0!"},{"$error":"#DIV/0!"},{"$error":"#DIV/0!"},{"$error":"#DIV/0!"},{"$error":"#DIV/0!"},{"$error":"#DIV/0!"},{"$error":"#DIV/0!"},{"$error":"#DIV/0!"},33,{"$error":"#DIV/0!"},{"$error":"#DIV/0!"},{"$error":"#DIV/0!"},{"$error":"#DIV/0!"},{"$error":"#DIV/0!"},{"$error":"#DIV/0!"},{"$error":"#DIV/0!"},{"$error":"#DIV/0!"},{"$error":"#DIV/0!"},{"$error":"#DIV/0!"},{"$error":"#DIV/0!"},{"$error":"#DIV/0!"},{"$error":"#DIV/0!"},{"$error":"#DIV/0!"},{"$error":"#DIV/0!"},{"$error":"#DIV/0!"},{"$error":"#DIV/0!"},{"$error":"#DIV/0!"},{"$error":"#DIV/0!"},{"$error":"#DIV/0!"},{"$error":"#DIV/0!"},{"$error":"#DIV/0!"},{"$error":"#DIV/0!"},{"$error":"#DIV/0!"},{"$error":"#DIV/0!"},{"$error":"#DIV/0!"},{"$error":"#DIV/0!"},{"$error":"#DIV/0!"},{"$error":"#DIV/0!"},{"$error":"#DIV/0!"},{"$error":"#DIV/0!"},{"$error":"#DIV/0!"},{"$error":"#DIV/0!"},{"$error":"#DIV/0!"},{"$error":"#DIV/0!"},{"$error":"#DIV/0!"},{"$error":"#DIV/0!"},{"$error":"#DIV/0!"},{"$error":"#DIV/0!"},{"$error":"#DIV/0!"},{"$error":"#DIV/0!"},{"$error":"#DIV/0!"},{"$error":"#DIV/0!"},{"$error":"#DIV/0!"},{"$error":"#DIV/0!"},{"$error":"#DIV/0!"},{"$error":"#DIV/0!"},{"$f":"CG77","v":{"$error":"#DIV/0!"}}]
[null,null,null,null,null,null,null,null,null,null,null,null,null,null,null,null,null,null,"Q Heiz. a0,v0",{"$f":"T9*T24+T10*T25+T11*T26+T12*T27","v":{"$error":"#DIV/0!"}},{"$error":"#DIV/0!"},{"$error":"#DIV/0!"},{"$error":"#DIV/0!"},{"$error":"#DIV/0!"},{"$error":"#DIV/0!"},{"$error":"#DIV/0!"},{"$error":"#DIV/0!"},{"$error":"#DIV/0!"},{"$error":"#DIV/0!"},{"$error":"#DIV/0!"},{"$error":"#DIV/0!"},{"$error":"#DIV/0!"},{"$error":"#DIV/0!"},{"$error":"#DIV/0!"},{"$error":"#DIV/0!"},{"$error":"#DIV/0!"},0,{"$error":"#DIV/0!"},{"$error":"#DIV/0!"},{"$error":"#DIV/0!"},{"$error":"#DIV/0!"},{"$error":"#DIV/0!"},{"$error":"#DIV/0!"},{"$error":"#DIV/0!"},{"$error":"#DIV/0!"},{"$error":"#DIV/0!"},{"$error":"#DIV/0!"},{"$error":"#DIV/0!"},{"$error":"#DIV/0!"},{"$error":"#DIV/0!"},{"$error":"#DIV/0!"},{"$f":"AZ9*AZ24+AZ10*AZ25+AZ11*AZ26+AZ12*AZ27","v":{"$error":"#DIV/0!"}},{"$error":"#DIV/0!"},{"$error":"#DIV/0!"},{"$error":"#DIV/0!"},{"$error":"#DIV/0!"},{"$error":"#DIV/0!"},{"$error":"#DIV/0!"},{"$error":"#DIV/0!"},{"$error":"#DIV/0!"},{"$error":"#DIV/0!"},{"$error":"#DIV/0!"},{"$error":"#DIV/0!"},{"$error":"#DIV/0!"},{"$error":"#DIV/0!"},{"$error":"#DIV/0!"},{"$error":"#DIV/0!"},{"$error":"#DIV/0!"},{"$error":"#DIV/0!"},{"$error":"#DIV/0!"},{"$error":"#DIV/0!"},{"$error":"#DIV/0!"},{"$error":"#DIV/0!"},{"$error":"#DIV/0!"},{"$error":"#DIV/0!"},{"$error":"#DIV/0!"},{"$error":"#DIV/0!"},{"$error":"#DIV/0!"},{"$error":"#DIV/0!"},{"$error":"#DIV/0!"},{"$error":"#DIV/0!"},{"$error":"#DIV/0!"},{"$error":"#DIV/0!"},{"$error":"#DIV/0!"},{"$error":"#DIV/0!"}]
[null,null,null,null,null,null,null,null,null,null,null,null,null,null,null,null,null,null,"h a0,v0",{"$f":"T19+((T20-T19)/(T7-T5))*(T43-T5)","v":{"$error":"#DIV/0!"}},{"$error":"#DIV/0!"},{"$error":"#DIV/0!"},{"$error":"#DIV/0!"},{"$error":"#DIV/0!"},{"$error":"#DIV/0!"},{"$error":"#DIV/0!"},{"$error":"#DIV/0!"},{"$error":"#DIV/0!"},{"$error":"#DIV/0!"},{"$error":"#DIV/0!"},{"$error":"#DIV/0!"},{"$error":"#DIV/0!"},{"$error":"#DIV/0!"},{"$error":"#DIV/0!"},{"$error":"#DIV/0!"},{"$error":"#DIV/0!"},0,{"$error":"#DIV/0!"},{"$error":"#DIV/0!"},{"$error":"#DIV/0!"},{"$error":"#DIV/0!"},{"$error":"#DIV/0!"},{"$error":"#DIV/0!"},{"$error":"#DIV/0!"},{"$error":"#DIV/0!"},{"$error":"#DIV/0!"},{"$error":"#DIV/0!"},{"$error":"#DIV/0!"},{"$error":"#DIV/0!"},{"$error":"#DIV/0!"},{"$error":"#DIV/0!"},{"$f":"AZ19+((AZ20-AZ19)/(AZ7-AZ5))*(AZ43-AZ5)","v":{"$error":"#DIV/0!"}},{"$error":"#DIV/0!"},{"$error":"#DIV/0!"},{"$error":"#DIV/0!"},{"$error":"#DIV/0!"},{"$error":"#DIV/0!"},{"$error":"#DIV/0!"},{"$error":"#DIV/0!"},{"$error":"#DIV/0!"},{"$error":"#DIV/0!"},{"$error":"#DIV/0!"},{"$error":"#DIV/0!"},{"$error":"#DIV/0!"},{"$error":"#DIV/0!"},{"$error":"#DIV/0!"},{"$error":"#DIV/0!"},{"$error":"#DIV/0!"},{"$error":"#DIV/0!"},{"$error":"#DIV/0!"},{"$error":"#DIV/0!"},{"$error":"#DIV/0!"},{"$error":"#DIV/0!"},{"$error":"#DIV/0!"},{"$error":"#DIV/0!"},{"$error":"#DIV/0!"},{"$error":"#DIV/0!"},{"$error":"#DIV/0!"},{"$error":"#DIV/0!"},{"$error":"#DIV/0!"},{"$error":"#DIV/0!"},{"$error":"#DIV/0!"},{"$error":"#DIV/0!"},{"$error":"#DIV/0!"},{"$error":"#DIV/0!"}]
[null,null,null,null,null,null,null,null,null,null,null,null,null,null,null,null,null,null,"COP carnot",{"$f":"(T43+273.15)/(T43-T39-T40)","v":{"$error":"#DIV/0!"}},{"$f":"(U43+273.15)/(U43-U39-U40)","v":{"$error":"#DIV/0!"}},{"$error":"#DIV/0!"},{"$error":"#DIV/0!"},{"$error":"#DIV/0!"},{"$error":"#DIV/0!"},{"$error":"#DIV/0!"},{"$error":"#DIV/0!"},{"$error":"#DIV/0!"},{"$error":"#DIV/0!"},{"$error":"#DIV/0!"},{"$error":"#DIV/0!"},{"$error":"#DIV/0!"},{"$error":"#DIV/0!"},{"$error":"#DIV/0!"},{"$error":"#DIV/0!"},{"$error":"#DIV/0!"},7.4670731707317071,{"$error":"#DIV/0!"},{"$error":"#DIV/0!"},{"$error":"#DIV/0!"},{"$error":"#DIV/0!"},{"$error":"#DIV/0!"},{"$error":"#DIV/0!"},{"$error":"#DIV/0!"},{"$error":"#DIV/0!"},{"$error":"#DIV/0!"},{"$error":"#DIV/0!"},{"$error":"#DIV/0!"},{"$error":"#DIV/0!"},{"$error":"#DIV/0!"},{"$error":"#DIV/0!"},{"$error":"#DIV/0!"},{"$error":"#DIV/0!"},{"$error":"#DIV/0!"},{"$error":"#DIV/0!"},{"$error":"#DIV/0!"},{"$error":"#DIV/0!"},{"$error":"#DIV/0!"},{"$error":"#DIV/0!"},{"$error":"#DIV/0!"},{"$error":"#DIV/0!"},{"$error":"#DIV/0!"},{"$error":"#DIV/0!"},{"$error":"#DIV/0!"},{"$error":"#DIV/0!"},{"$error":"#DIV/0!"},{"$error":"#DIV/0!"},{"$error":"#DIV/0!"},{"$error":"#DIV/0!"},{"$error":"#DIV/0!"},{"$error":"#DIV/0!"},{"$error":"#DIV/0!"},{"$error":"#DIV/0!"},{"$error":"#DIV/0!"},{"$error":"#DIV/0!"},{"$error":"#DIV/0!"},{"$error":"#DIV/0!"},{"$error":"#DIV/0!"},{"$error":"#DIV/0!"},{"$error":"#DIV/0!"},{"$error":"#DIV/0!"},{"$error":"#DIV/0!"},{"$error":"#DIV/0!"},{"$error":"#DIV/0!"},{"$error":"#DIV/0!"}]
[null,null,null,null,null,null,null,null,null,null,null,null,null,null,null,null,null,null,"COP a0, v0",{"$f":"T46*T45","v":{"$error":"#DIV/0!"}},{"$error":"#DIV/0!"},{"$error":"#DIV/0!"},{"$error":"#DIV/0!"},{"$error":"#DIV/0!"},{"$error":"#DIV/0!"},{"$error":"#DIV/0!"},{"$error":"#DIV/0!"},{"$error":"#DIV/0!"},{"$error":"#DIV/0!"},{"$error":"#DIV/0!"},{"$error":"#DIV/0!"},{"$error":"#DIV/0!"},{"$error":"#DIV/0!"},{"$error":"#DIV/0!"},{"$error":"#DIV/0!"},{"$error":"#DIV/0!"},0,{"$error":"#DIV/0!"},{"$error":"#DIV/0!"},{"$error":"#DIV/0!"},{"$error":"#DIV/0!"},{"$error":"#DIV/0!"},{"$error":"#DIV/0!"},{"$error":"#DIV/0!"},{"$error":"#DIV/0!"},{"$error":"#DIV/0!"},{"$error":"#DIV/0!"},{"$error":"#DIV/0!"},{"$error":"#DIV/0!"},{"$error":"#DIV/0!"},{"$error":"#DIV/0!"},{"$f":"AZ46*AZ45","v":{"$error":"#DIV/0!"}},{"$error":"#DIV/0!"},{"$error":"#DIV/0!"},{"$error":"#DIV/0!"},{"$error":"#DIV/0!"},{"$error":"#DIV/0!"},{"$error":"#DIV/0!"},{"$error":"#DIV/0!"},{"$error":"#DIV/0!"},{"$error":"#DIV/0!"},{"$error":"#DIV/0!"},{"$error":"#DIV/0!"},{"$error":"#DIV/0!"},{"$error":"#DIV/0!"},{"$error":"#DIV/0!"},{"$error":"#DIV/0!"},{"$error":"#DIV/0!"},{"$error":"#DIV/0!"},{"$error":"#DIV/0!"},{"$error":"#DIV/0!"},{"$error":"#DIV/0!"},{"$error":"#DIV/0!"},{"$error":"#DIV/0!"},{"$error":"#DIV/0!"},{"$error":"#DIV/0!"},{"$error":"#DIV/0!"},{"$error":"#DIV/0!"},{"$error":"#DIV/0!"},{"$error":"#DIV/0!"},{"$error":"#DIV/0!"},{"$error":"#DIV/0!"},{"$error":"#DIV/0!"},{"$f":"CF46*CF45","v":{"$error":"#DIV/0!"}},{"$f":"CG46*CG45","v":{"$error":"#DIV/0!"}}]
[]
[null,null,null,null,null,null,null,null,null,null,null,null,null,null,null,null,null,null,"Warmwasser"]
[null,null,null,null,null,null,null,null,null,null,null,null,null,null,null,null,null,null,"Tv0 (Vorlauf WW)",{"$f":"IF(_Tww1>0,_Tww1,60)","v":60},{"$f":"T50","v":60},{"$f":"U50","v":60},60,60,60,60,60,60,60,60,60,60,60,60,60,60,60,60,60,60,60,60,60,60,60,60,60,60,60,60,60,60,60,60,60,60,60,60,60,60,60,60,60,60,60,60,60,60,60,60,60,60,60,60,60,60,60,60,60,60,60,60,60,60,60]
[null,null,null,null,null,null,null,null,null,null,null,null,null,null,null,null,null,null,"Q Heiz. a0,v0",{"$f":"T9*T29+T10*T30+T11*T31+T12*T32","v":0},0,0,0,0,0,0,0,0,0,0,0,0,0,0,0,0,0,0,0,0,0,0,0,0,0,0,0,0,0,0,0,{"$f":"AZ9*AZ29+AZ10*AZ30+AZ11*AZ31+AZ12*AZ32","v":0},0,0,0,0,0,0,0,0,0,0,0,0,0,0,0,0,0,0,0,0,0,0,0,0,0,0,0,0,0,0,0,0,0]
[null,null,null,null,null,null,null,null,null,null,null,null,null,null,null,null,null,null,"h a0,v0",{"$f":"T19+((T20-T19)/(T7-T5))*(T50-T5)","v":0},0,0,0,0,0,0,0,0,0,0,0,0,0,0,0,0,0,0,0,0,0,0,0,0,0,0,0,0,0,0,0,{"$f":"AZ19+((AZ20-AZ19)/(AZ7-AZ5))*(AZ50-AZ5)","v":0},0,0,0,0,0,0,0,0,0,0,0,0,0,0,0,0,0,0,0,0,0,0,0,0,0,0,0,0,0,0,0,0,0]
[null,null,null,null,null,null,null,null,null,null,null,null,null,null,null,null,null,null,"COP carnot",{"$f":"(T50+273.15)/MAX((T50-T39-T40),10)","v":3.9194117647058819},{"$f":"(U50+273.15)/MAX((U50-U39-U40),10)","v":3.9660714285714285},{"$f":"(V50+273.15)/MAX((V50-V39-V40),10)","v":4.0138554216867464},4.0628048780487802,4.1129629629629623,4.1643749999999997,4.2170886075949365,4.2711538461538456,4.3266233766233766,4.3835526315789473,4.4419999999999993,4.5020270270270268,4.5636986301369857,4.6270833333333332,4.6922535211267604,4.7592857142857143,4.8282608695652174,4.8992647058823522,4.9723880597014922,5.047727272727272,5.1253846153846148,5.2054687499999996,5.288095238095238,5.3733870967741932,5.4614754098360656,5.5524999999999993,5.6466101694915247,5.7439655172413788,5.844736842105263,5.9491071428571427,6.0572727272727267,6.1694444444444443,6.285849056603773,6.4067307692307685,6.5323529411764705,6.6629999999999994,6.7989795918367344,6.9406249999999998,7.0882978723404246,7.2423913043478256,7.4033333333333324,7.5715909090909088,7.7476744186046504,7.9321428571428569,8.1256097560975604,8.3287499999999994,8.3287499999999994,8.3287499999999994,8.3287499999999994,8.3287499999999994,8.3287499999999994,8.3287499999999994,8.3287499999999994,8.3287499999999994,8.3287499999999994,8.3287499999999994,8.3287499999999994,8.3287499999999994,8.3287499999999994,8.3287499999999994,8.3287499999999994,8.3287499999999994,8.3287499999999994,8.3287499999999994,8.3287499999999994,8.3287499999999994]
[null,null,null,null,null,null,null,null,null,null,null,null,null,null,null,null,null,null,"COP a0, v0",{"$f":"T53*T52","v":0},0,0,0,0,0,0,0,0,0,0,0,0,0,0,0,0,0,0,0,0,0,0,0,0,0,0,0,0,0,0,0,{"$f":"AZ53*AZ52","v":0},0,0,0,0,0,0,0,0,0,0,0,0,0,0,0,0,0,0,0,0,0,0,0,0,0,0,0,0,0,0,0,{"$f":"CF53*CF52","v":0},{"$f":"CG53*CG52","v":0}]
[]
[]
[null,null,null,null,null,null,null,null,null,null,null,null,null,null,null,null,null,null,"Arbeitspunkte Erdsonden WP / Wasser-Wasser-WP / Erdkollektor-WP / Abluft-WP"]
[]
[null,null,null,null,null,null,null,null,null,null,null,null,null,null,null,null,null,null,{"$f":"S35","v":"Bin Temperatur"},{"$f":"T35","v":-25},{"$f":"U35","v":-24},-23,-22,-21,-20,-19,-18,-17,-16,-15,-14,-13,-12,-11,-10,-9,-8,-7,-6,-5,-4,-3,-2,-1,0,1,2,3,4,5,6,7,8,9,10,11,12,13,14,15,16,17,18,19,20,21,22,23,24,25,26,27,28,29,30,31,32,33,34,35,36,37,38,39,{"$f":"CG35","v":40}]
[null,null,null,null,null,null,null,null,null,null,null,null,null,null,null,null,null,null,"TQuelle",{"$f":"G68","v":10},{"$f":"T60","v":10},10,10,10,10,10,10,10,10,10,10,10,10,10,10,10,10,10,10,10,10,10,10,10,10,10,10,10,10,10,10,10,{"$f":"AZ60","v":10},10,10,10,10,10,10,10,10,10,10,10,10,10,10,10,10,10,10,10,10,10,10,10,10,10,10,10,10,10,10,10,10]
[null,null,null,null,null,null,null,null,null,null,null,null,null,null,null,null,null,null,"Heizung"]
[null,null,null,null,null,null,null,null,null,null,null,null,null,null,null,null,null,null,"Tv (Vorlauf Heizung)",{"$f":"T77","v":{"$error":"#DIV/0!"}},{"$f":"U77","v":{"$error":"#DIV/0!"}},{"$error":"#DIV/0!"},{"$error":"#DIV/0!"},{"$error":"#DIV/0!"},{"$error":"#DIV/0!"},{"$error":"#DIV/0!"},{"$error":"#DIV/0!"},{"$error":"#DIV/0!"},{"$error":"#DIV/0!"},{"$error":"#DIV/0!"},{"$error":"#DIV/0!"},{"$error":"#DIV/0!"},{"$error":"#DIV/0!"},{"$error":"#DIV/0!"},{"$error":"#DIV/0!"},{"$error":"#DIV/0!"},33,{"$error":"#DIV/0!"},{"$error":"#DIV/0!"},{"$error":"#DIV/0!"},{"$error":"#DIV/0!"},{"$error":"#DIV/0!"},{"$error":"#DIV/0!"},{"$error":"#DIV/0!"},{"$error":"#DIV/0!"},{"$error":"#DIV/0!"},{"$error":"#DIV/0!"},{"$error":"#DIV/0!"},{"$error":"#DIV/0!"},{"$error":"#DIV/0!"},{"$error":"#DIV/0!"},{"$error":"#DIV/0!"},{"$error":"#DIV/0!"},{"$error":"#DIV/0!"},{"$error":"#DIV/0!"},{"$error":"#DIV/0!"},{"$error":"#DIV/0!"},{"$error":"#DIV/0!"},{"$error":"#DIV/0!"},{"$error":"#DIV/0!"},{"$error":"#DIV/0!"},{"$error":"#DIV/0!"},{"$error":"#DIV/0!"},{"$error":"#DIV/0!"},{"$error":"#DIV/0!"},{"$error":"#DIV/0!"},{"$error":"#DIV/0!"},{"$error":"#DIV/0!"},{"$error":"#DIV/0!"},{"$error":"#DIV/0!"},{"$error":"#DIV/0!"},{"$error":"#DIV/0!"},{"$error":"#DIV/0!"},{"$error":"#DIV/0!"},{"$error":"#DIV/0!"},{"$error":"#DIV/0!"},{"$error":"#DIV/0!"},{"$error":"#DIV/0!"},{"$error":"#DIV/0!"},{"$error":"#DIV/0!"},{"$error":"#DIV/0!"},{"$error":"#DIV/0!"},{"$error":"#DIV/0!"},{"$error":"#DIV/0!"},{"$f":"CG77","v":{"$error":"#DIV/0!"}}]
[null,"Werteschema Erdsonden und Wasser-Wasser WP",null,null,null,null,null,null,null,null,null,null,null,null,null,null,null,null,"Q Heiz.",{"$f":"G70","v":0},{"$f":"T63","v":0},{"$f":"U63","v":0},{"$f":"V63","v":0},0,0,0,0,0,0,0,0,0,0,0,0,0,0,0,0,0,0,0,0,0,0,0,0,0,0,0,0,0,0,0,0,0,0,0,0,0,0,0,0,0,0,0,0,0,0,0,0,0,0,0,0,0,0,0,0,0,0,0,0,0,0]
[null,null,null,null,null,null,null,null,null,null,null,null,null,null,null,null,null,null,"P Heiz.",{"$f":"T63/T67","v":{"$error":"#DIV/0!"}},{"$f":"U63/U67","v":{"$error":"#DIV/0!"}},{"$error":"#DIV/0!"},{"$error":"#DIV/0!"},{"$error":"#DIV/0!"},{"$error":"#DIV/0!"},{"$error":"#DIV/0!"},{"$error":"#DIV/0!"},{"$error":"#DIV/0!"},{"$error":"#DIV/0!"},{"$error":"#DIV/0!"},{"$error":"#DIV/0!"},{"$error":"#DIV/0!"},{"$error":"#DIV/0!"},{"$error":"#DIV/0!"},{"$error":"#DIV/0!"},{"$error":"#DIV/0!"},{"$error":"#DIV/0!"},{"$error":"#DIV/0!"},{"$error":"#DIV/0!"},{"$error":"#DIV/0!"},{"$error":"#DIV/0!"},{"$error":"#DIV/0!"},{"$error":"#DIV/0!"},{"$error":"#DIV/0!"},{"$error":"#DIV/0!"},{"$error":"#DIV/0!"},{"$error":"#DIV/0!"},{"$error":"#DIV/0!"},{"$error":"#DIV/0!"},{"$error":"#DIV/0!"},{"$error":"#DIV/0!"},{"$error":"#DIV/0!"},{"$error":"#DIV/0!"},{"$error":"#DIV/0!"},{"$error":"#DIV/0!"},{"$error":"#DIV/0!"},{"$error":"#DIV/0!"},{"$error":"#DIV/0!"},{"$error":"#DIV/0!"},{"$error":"#DIV/0!"},{"$error":"#DIV/0!"},{"$error":"#DIV/0!"},{"$error":"#DIV/0!"},{"$error":"#DIV/0!"},{"$error":"#DIV/0!"},{"$error":"#DIV/0!"},{"$error":"#DIV/0!"},{"$error":"#DIV/0!"},{"$error":"#DIV/0!"},{"$error":"#DIV/0!"},{"$error":"#DIV/0!"},{"$error":"#DIV/0!"},{"$error":"#DIV/0!"},{"$error":"#DIV/0!"},{"$error":"#DIV/0!"},{"$error":"#DIV/0!"},{"$error":"#DIV/0!"},{"$error":"#DIV/0!"},{"$error":"#DIV/0!"},{"$error":"#DIV/0!"},{"$error":"#DIV/0!"},{"$error":"#DIV/0!"},{"$error":"#DIV/0!"},{"$error":"#DIV/0!"},{"$f":"CG63/CG67","v":{"$error":"#DIV/0!"}}]
[null,{"$f":"IF(OR(WPArt=3,WPArt=5),\"Betriebspunkt aus Blatt WP und Umrechnung auf Mittlerre Erdsondenteperatur (+2K der Auslegungstemperatur)\",\"Messpunkg aus Blatt WP und Umrechnung auf Quellentemperatur\")","v":"Messpunkg aus Blatt WP und Umrechnung auf Quellentemperatur"},null,null,null,null,null,null,null,null,null,null,null,null,null,null,null,null,"h ",{"$f":"G73","v":0},{"$f":"T65","v":0},{"$f":"U65","v":0},0,0,0,0,0,0,0,0,0,0,0,0,0,0,0,0,0,0,0,0,0,0,0,0,0,0,0,0,0,0,0,0,0,0,0,0,0,0,0,0,0,0,0,0,0,0,0,0,0,0,0,0,0,0,0,0,0,0,0,0,0,0,0]
[null,null,null,null,null,null,null,null,null,null,null,null,null,null,null,null,null,null,"COP carnot",{"$f":"(T62+273.15)/(T62-T60)","v":{"$error":"#DIV/0!"}},{"$f":"(U62+273.15)/(U62-U60)","v":{"$error":"#DIV/0!"}},{"$error":"#DIV/0!"},{"$error":"#DIV/0!"},{"$error":"#DIV/0!"},{"$error":"#DIV/0!"},{"$error":"#DIV/0!"},{"$error":"#DIV/0!"},{"$error":"#DIV/0!"},{"$error":"#DIV/0!"},{"$error":"#DIV/0!"},{"$error":"#DIV/0!"},{"$error":"#DIV/0!"},{"$error":"#DIV/0!"},{"$error":"#DIV/0!"},{"$error":"#DIV/0!"},{"$error":"#DIV/0!"},13.31086956521739,{"$error":"#DIV/0!"},{"$error":"#DIV/0!"},{"$error":"#DIV/0!"},{"$error":"#DIV/0!"},{"$error":"#DIV/0!"},{"$error":"#DIV/0!"},{"$error":"#DIV/0!"},{"$error":"#DIV/0!"},{"$error":"#DIV/0!"},{"$error":"#DIV/0!"},{"$error":"#DIV/0!"},{"$error":"#DIV/0!"},{"$error":"#DIV/0!"},{"$error":"#DIV/0!"},{"$error":"#DIV/0!"},{"$error":"#DIV/0!"},{"$error":"#DIV/0!"},{"$error":"#DIV/0!"},{"$error":"#DIV/0!"},{"$error":"#DIV/0!"},{"$error":"#DIV/0!"},{"$error":"#DIV/0!"},{"$error":"#DIV/0!"},{"$error":"#DIV/0!"},{"$error":"#DIV/0!"},{"$error":"#DIV/0!"},{"$error":"#DIV/0!"},{"$error":"#DIV/0!"},{"$error":"#DIV/0!"},{"$error":"#DIV/0!"},{"$error":"#DIV/0!"},{"$error":"#DIV/0!"},{"$error":"#DIV/0!"},{"$error":"#DIV/0!"},{"$error":"#DIV/0!"},{"$error":"#DIV/0!"},{"$error":"#DIV/0!"},{"$error":"#DIV/0!"},{"$error":"#DIV/0!"},{"$error":"#DIV/0!"},{"$error":"#DIV/0!"},{"$error":"#DIV/0!"},{"$error":"#DIV/0!"},{"$error":"#DIV/0!"},{"$error":"#DIV/0!"},{"$error":"#DIV/0!"},{"$error":"#DIV/0!"},{"$f":"(CG62+273.15)/(CG62-CG60)","v":{"$error":"#DIV/0!"}}]
[null,"Heizung",null,null,{"$f":"IF(OR(WPArt=3,WPArt=5),\"Auslegung\",\"Messpunkt\")","v":"Messpunkt"},null,"Umr auf Mittl.Quellent.",null,null,null,"Warmwasser",null,"Messpunkt WW",null,{"$f":"G67","v":"Umr auf Mittl.Quellent."},null,null,null,"COP v0",{"$f":"T65*T66","v":{"$error":"#DIV/0!"}},{"$f":"U65*U66","v":{"$error":"#DIV/0!"}},{"$error":"#DIV/0!"},{"$error":"#DIV/0!"},{"$error":"#DIV/0!"},{"$error":"#DIV/0!"},{"$error":"#DIV/0!"},{"$error":"#DIV/0!"},{"$error":"#DIV/0!"},{"$error":"#DIV/0!"},{"$error":"#DIV/0!"},{"$error":"#DIV/0!"},{"$error":"#DIV/0!"},{"$error":"#DIV/0!"},{"$error":"#DIV/0!"},{"$error":"#DIV/0!"},{"$error":"#DIV/0!"},0,{"$error":"#DIV/0!"},{"$error":"#DIV/0!"},{"$error":"#DIV/0!"},{"$error":"#DIV/0!"},{"$error":"#DIV/0!"},{"$error":"#DIV/0!"},{"$error":"#DIV/0!"},{"$error":"#DIV/0!"},{"$error":"#DIV/0!"},{"$error":"#DIV/0!"},{"$error":"#DIV/0!"},{"$error":"#DIV/0!"},{"$error":"#DIV/0!"},{"$error":"#DIV/0!"},{"$error":"#DIV/0!"},{"$error":"#DIV/0!"},{"$error":"#DIV/0!"},{"$error":"#DIV/0!"},{"$error":"#DIV/0!"},{"$error":"#DIV/0!"},{"$error":"#DIV/0!"},{"$error":"#DIV/0!"},{"$error":"#DIV/0!"},{"$error":"#DIV/0!"},{"$error":"#DIV/0!"},{"$error":"#DIV/0!"},{"$error":"#DIV/0!"},{"$error":"#DIV/0!"},{"$error":"#DIV/0!"},{"$error":"#DIV/0!"},{"$error":"#DIV/0!"},{"$error":"#DIV/0!"},{"$error":"#DIV/0!"},{"$error":"#DIV/0!"},{"$error":"#DIV/0!"},{"$error":"#DIV/0!"},{"$error":"#DIV/0!"},{"$error":"#DIV/0!"},{"$error":"#DIV/0!"},{"$error":"#DIV/0!"},{"$error":"#DIV/0!"},{"$error":"#DIV/0!"},{"$error":"#DIV/0!"},{"$error":"#DIV/0!"},{"$error":"#DIV/0!"},{"$error":"#DIV/0!"},{"$error":"#DIV/0!"},{"$f":"CG65*CG66","v":{"$error":"#DIV/0!"}}]
[null,"Sondentemperatur",null,null,{"$f":"IF(OR(WPArt=3,WPArt=5),'WP1'!F33,'WP1'!H25)","v":20},"°C",{"$f":"IF(OR(WPArt=3,WPArt=5),E68+2,IF(ISNUMBER('WP1'!H33),'WP1'!H33,10))","v":10},"°C",null,null,"Sondentemperatur",null,{"$f":"'WP1'!H25","v":20},"°C",{"$f":"G68","v":10},"°C",null,null,"Warmwasser"]
[null,"Tv Auslegung",null,null,35,"°C",{"$f":"E69","v":35},"°C",null,null,"Tv Auslegung",null,55,"°C",{"$f":"M69","v":55},"°C",null,null,"Tv (Vorlauf Warmwasser)",{"$f":"IF(_Tww1>0,_Tww1,60)","v":60},{"$f":"T69","v":60},{"$f":"U69","v":60},60,60,60,60,60,60,60,60,60,60,60,60,60,60,60,60,60,60,60,60,60,60,60,60,60,60,60,60,60,60,60,60,60,60,60,60,60,60,60,60,60,60,60,60,60,60,60,60,60,60,60,60,60,60,60,60,60,60,60,60,60,60,60]
[null,"Heizleistung",null,null,{"$f":"IF(OR(WPArt=3,WPArt=5),'WP1'!M41,'WP1'!W52)","v":0},"kW",{"$f":"E70","v":0},"kW",null,null,"Heizleistung",null,{"$f":"'WP1'!W53","v":0},"kW",{"$f":"M70","v":0},"kW",null,null,"Q Heiz.",{"$f":"O70","v":0},{"$f":"T70","v":0},{"$f":"U70","v":0},0,0,0,0,0,0,0,0,0,0,0,0,0,0,0,0,0,0,0,0,0,0,0,0,0,0,0,0,0,0,0,0,0,0,0,0,0,0,0,0,0,0,0,0,0,0,0,0,0,0,0,0,0,0,0,0,0,0,0,0,0,0,0]
[null,"COP",null,null,{"$f":"IF(OR(WPArt=3,WPArt=5),'WP1'!M42,'WP1'!W50)","v":0},"--",{"$f":"G72*G73","v":0},"--",null,null,"COP ",null,{"$f":"IF(SpezWP,CH85,'WP1'!W51)","v":0},"--",{"$f":"O72*O73","v":0},"--",null,null,"h ",{"$f":"O73","v":0},{"$f":"T71","v":0},{"$f":"U71","v":0},0,0,0,0,0,0,0,0,0,0,0,0,0,0,0,0,0,0,0,0,0,0,0,0,0,0,0,0,0,0,0,0,0,0,0,0,0,0,0,0,0,0,0,0,0,0,0,0,0,0,0,0,0,0,0,0,0,0,0,0,0,0,0]
[null,"COP Carnot",null,null,{"$f":"(E69+273.15)/(E69-E68)","v":20.543333333333333},"--",{"$f":"(G69+273.15)/(G69-G68)","v":12.325999999999999},"--",null,null,"COP Carnot",null,{"$f":"(M69+273.15)/(M69-M68)","v":9.3757142857142846},"--",{"$f":"(O69+273.15)/(O69-O68)","v":7.2922222222222217},"--",null,null,"COP carnot",{"$f":"(T69+273.15)/(T69-T60)","v":6.6629999999999994},6.6629999999999994,6.6629999999999994,6.6629999999999994,6.6629999999999994,6.6629999999999994,6.6629999999999994,6.6629999999999994,6.6629999999999994,6.6629999999999994,6.6629999999999994,6.6629999999999994,6.6629999999999994,6.6629999999999994,6.6629999999999994,6.6629999999999994,6.6629999999999994,6.6629999999999994,6.6629999999999994,6.6629999999999994,6.6629999999999994,6.6629999999999994,6.6629999999999994,6.6629999999999994,6.6629999999999994,6.6629999999999994,6.6629999999999994,6.6629999999999994,6.6629999999999994,6.6629999999999994,6.6629999999999994,6.6629999999999994,6.6629999999999994,6.6629999999999994,6.6629999999999994,6.6629999999999994,6.6629999999999994,6.6629999999999994,6.6629999999999994,6.6629999999999994,6.6629999999999994,6.6629999999999994,6.6629999999999994,6.6629999999999994,6.6629999999999994,6.6629999999999994,6.6629999999999994,6.6629999999999994,6.6629999999999994,6.6629999999999994,6.6629999999999994,6.6629999999999994,6.6629999999999994,6.6629999999999994,6.6629999999999994,6.6629999999999994,6.6629999999999994,6.6629999999999994,6.6629999999999994,6.6629999999999994,6.6629999999999994,6.6629999999999994,6.6629999999999994,6.6629999999999994,{"$f":"(CF69+273.15)/(CF69-CF60)","v":6.6629999999999994},{"$f":"(CG69+273.15)/(CG69-CG60)","v":6.6629999999999994}]
[null,"Gütegrad",null,null,{"$f":"E71/E72","v":0},"--",{"$f":"E73","v":0},"--",null,null,"Gütegrad",null,{"$f":"M71/M72","v":0},"--",{"$f":"M73","v":0},"--",null,null,"COP v0",{"$f":"T71*T72","v":0},{"$f":"U71*U72","v":0},0,0,0,0,0,0,0,0,0,0,0,0,0,0,0,0,0,0,0,0,0,0,0,0,0,0,0,0,0,0,0,0,0,0,0,0,0,0,0,0,0,0,0,0,0,0,0,0,0,0,0,0,0,0,0,0,0,0,0,0,0,0,0,{"$f":"CG71*CG72","v":0}]
[]
[null,null,null,null,null,null,null,null,null,null,null,null,null,null,null,null,null,null,"Hilfstabellen:",1,2,3,4,5,6,7,8,9,10,11,12,13,14,15,16,17,18,19,20,21,22,23,24,25,26,27,28,29,30,31,32,33,34,35,36,37,38,39,40,41,42,43,44,45,46,47,48,49,50,51,52,53,54,55,56,57,58,59,60,61,62,63,64,65,66]
[null,null,null,null,null,null,null,null,null,null,null,null,null,null,null,null,null,null,"BIN (Ta [°C])",{"$f":"T59","v":-25},{"$f":"U59","v":-24},-23,-22,-21,-20,-19,-18,-17,-16,-15,-14,-13,-12,-11,-10,-9,-8,-7,-6,-5,-4,-3,-2,-1,0,1,2,3,4,5,6,7,8,9,10,11,12,13,14,15,16,17,18,19,20,21,22,23,24,25,26,27,28,29,30,31,32,33,34,35,36,37,38,39,{"$f":"CG59","v":40}]
[null,null,null,null,null,null,null,null,null,null,null,null,null,null,null,null,null,null,"TVL",{"$f":"MAX(U77+($AK$77-$AK$78)/28,T78+($AK$77-$AK$78)/$AK$81*T81)","v":{"$error":"#DIV/0!"}},{"$f":"MAX(V77+($AK$77-$AK$78)/28,U78+($AK$77-$AK$78)/$AK$81*U81)","v":{"$error":"#DIV/0!"}},{"$error":"#DIV/0!"},{"$error":"#DIV/0!"},{"$error":"#DIV/0!"},{"$error":"#DIV/0!"},{"$error":"#DIV/0!"},{"$error":"#DIV/0!"},{"$error":"#DIV/0!"},{"$error":"#DIV/0!"},{"$error":"#DIV/0!"},{"$error":"#DIV/0!"},{"$error":"#DIV/0!"},{"$error":"#DIV/0!"},{"$error":"#DIV/0!"},{"$error":"#DIV/0!"},{"$error":"#DIV/0!"},{"$f":"MAX(_TVL1,AK78+dTNutzer,AK78+(TVL-TRL))","v":33},{"$f":"MAX(AK77-($AK$77-$AK$78)/28,AL78+($AK$77-$AK$78)/$AK$81*AL81)","v":{"$error":"#DIV/0!"}},{"$f":"MAX(AL77-($AK$77-$AK$78)/28,AM78+($AK$77-$AK$78)/$AK$81*AM81)","v":{"$error":"#DIV/0!"}},{"$error":"#DIV/0!"},{"$error":"#DIV/0!"},{"$error":"#DIV/0!"},{"$error":"#DIV/0!"},{"$error":"#DIV/0!"},{"$error":"#DIV/0!"},{"$error":"#DIV/0!"},{"$error":"#DIV/0!"},{"$error":"#DIV/0!"},{"$error":"#DIV/0!"},{"$error":"#DIV/0!"},{"$error":"#DIV/0!"},{"$error":"#DIV/0!"},{"$error":"#DIV/0!"},{"$error":"#DIV/0!"},{"$error":"#DIV/0!"},{"$error":"#DIV/0!"},{"$error":"#DIV/0!"},{"$error":"#DIV/0!"},{"$error":"#DIV/0!"},{"$error":"#DIV/0!"},{"$error":"#DIV/0!"},{"$error":"#DIV/0!"},{"$error":"#DIV/0!"},{"$error":"#DIV/0!"},{"$error":"#DIV/0!"},{"$error":"#DIV/0!"},{"$error":"#DIV/0!"},{"$error":"#DIV/0!"},{"$error":"#DIV/0!"},{"$error":"#DIV/0!"},{"$error":"#DIV/0!"},{"$error":"#DIV/0!"},{"$error":"#DIV/0!"},{"$error":"#DIV/0!"},{"$error":"#DIV/0!"},{"$error":"#DIV/0!"},{"$error":"#DIV/0!"},{"$error":"#DIV/0!"},{"$error":"#DIV/0!"},{"$error":"#DIV/0!"},{"$error":"#DIV/0!"},{"$error":"#DIV/0!"},{"$error":"#DIV/0!"},{"$error":"#DIV/0!"},{"$error":"#DIV/0!"}]
[null,null,null,null,null,null,null,null,null,null,null,null,null,null,null,null,null,null,"TRL",{"$f":"U78+($AK$78-$BM$78)/28","v":29.21428571428574},29.142857142857167,29.071428571428594,29.000000000000021,28.928571428571448,28.857142857142875,28.785714285714302,28.71428571428573,28.642857142857157,28.571428571428584,28.500000000000011,28.428571428571438,28.357142857142865,28.285714285714292,28.214285714285719,28.142857142857146,{"$f":"AK78+($AK$78-$BM$78)/28","v":28.071428571428573},{"$f":"'WP1'!M25","v":28},{"$f":"AM78+($AK$78-$BM$78)/28","v":27.92857142857147},27.857142857142897,27.785714285714324,27.714285714285751,27.642857142857178,27.571428571428605,27.500000000000032,27.428571428571459,27.357142857142886,27.285714285714313,27.21428571428574,27.142857142857167,27.071428571428594,27.000000000000021,26.928571428571448,26.857142857142875,26.785714285714302,26.71428571428573,26.642857142857157,26.571428571428584,26.500000000000011,26.428571428571438,26.357142857142865,26.285714285714292,26.214285714285719,26.142857142857146,{"$f":"BM78+($AK$78-$BM$78)/28","v":26.071428571428573},{"$f":"'WP1'!R34","v":26},{"$f":"BM78","v":26},{"$f":"BN78","v":26},26,26,26,26,26,26,26,26,26,26,26,26,26,26,26,26,26,26]
[null,null,null,null,null,null,null,null,null,null,null,null,null,null,null,null,null,null,"Heizleistung WP Qheiz",{"$f":"IF(OR(WPArt=3,WPArt=5,WPArt=4,WPArt=6),T63,IF(OR(WPArt=2),T44,))","v":0},{"$f":"IF(OR(WPArt=3,WPArt=5,WPArt=4,WPArt=6),U63,IF(OR(WPArt=2),U44,))","v":0},0,0,0,0,0,0,0,0,0,0,0,0,0,0,0,0,0,0,0,0,0,0,0,0,0,0,0,0,0,0,0,0,0,0,0,0,0,0,0,0,0,0,0,0,0,0,0,0,0,0,0,0,0,0,0,0,0,0,0,0,0,0,0,{"$f":"IF(OR(WPArt=3,WPArt=5,WPArt=4,WPArt=6),CG63,IF(OR(WPArt=2),CG44,))","v":0}]
[null,null,null,null,null,null,null,null,null,null,null,null,null,null,null,null,null,null,"Qheiz mit Sperrzeit/Verlust",{"$f":"T79*(Etah*wh+Etaw*www)*(24-IF(Sperrzeit<>\"\",Sperrzeit,0))/24","v":0},{"$f":"U79*(Etah*wh+Etaw*www)*(24-IF(Sperrzeit<>\"\",Sperrzeit,0))/24","v":0},0,0,0,0,0,0,0,0,0,0,0,0,0,0,0,0,0,0,0,0,0,0,0,0,0,0,0,0,0,0,0,0,0,0,0,0,0,0,0,0,0,0,0,0,0,0,0,0,0,0,0,0,0,0,0,0,0,0,0,0,0,0,0,{"$f":"CG79*(Etah*wh+Etaw*www)*(24-IF(Sperrzeit<>\"\",Sperrzeit,0))/24","v":0}]
[null,null,null,null,null,null,null,null,null,null,null,null,null,null,null,null,null,null,{"$f":"\"Qheiz Schätzung \"&B31&\"°C\"","v":"Qheiz Schätzung 35°C"},{"$f":"IF(OR(WPArt=2,WPArt=6),IF(T$76<=$D$30,$D$31,IF(T$76<=$E$30,$D$31+($E$31-$D$31)/($E$30-$D$30)*(T$76-$D$30),IF(T$76<=$F$30,$E$31+($F$31-$E$31)/($F$30-$E$30)*(T$76-$E$30),IF(T$76<=$G$30,$F$31+($G$31-$F$31)/($G$30-$F$30)*(T$76-$F$30),IF(T$76<=$H$30,$G$31+($H$31-$G$31)/($H$30-$G$30)*(T$76-$G$30),IF(T$76<=$I$30,$H$31+($I$31-$H$31)/($I$30-$H$30)*(T$76-$H$30),IF(T$76<=$J$30,$I$31+($J$31-$I$31)/($J$30-$I$30)*(T$76-$I$30),$J$31))))))),$G$70)","v":0},0,0,0,0,0,0,0,0,0,0,0,0,0,0,0,0,0,0,0,0,0,0,0,0,0,0,0,0,0,0,0,{"$f":"IF(OR(WPArt=2,WPArt=6),IF(AZ$76<=$D$30,$D$31,IF(AZ$76<=$E$30,$D$31+($E$31-$D$31)/($E$30-$D$30)*(AZ$76-$D$30),IF(AZ$76<=$F$30,$E$31+($F$31-$E$31)/($F$30-$E$30)*(AZ$76-$E$30),IF(AZ$76<=$G$30,$F$31+($G$31-$F$31)/($G$30-$F$30)*(AZ$76-$F$30),IF(AZ$76<=$H$30,$G$31+($H$31-$G$31)/($H$30-$G$30)*(AZ$76-$G$30),IF(AZ$76<=$I$30,$H$31+($I$31-$H$31)/($I$30-$H$30)*(AZ$76-$H$30),IF(AZ$76<=$J$30,$I$31+($J$31-$I$31)/($J$30-$I$30)*(AZ$76-$I$30),$J$31))))))),$G$70)","v":0},0,0,0,0,0,0,0,0,0,0,0,0,0,0,0,0,0,0,0,0,0,0,0,0,0,0,0,0,0,0,0,0,0]
[null,null,null,null,null,null,null,null,null,null,null,null,null,null,null,null,null,null,{"$f":"\"COP \"&B31&\"°C\"","v":"COP 35°C"},{"$f":"IF(T$76<=$D$30,$D$32,IF(T$76<=$E$30,$D$32+($E$32-$D$32)/($E$30-$D$30)*(T$76-$D$30),IF(T$76<=$F$30,$E$32+($F$32-$E$32)/($F$30-$E$30)*(T$76-$E$30),IF(T$76<=$G$30,$F$32+($G$32-$F$32)/($G$30-$F$30)*(T$76-$F$30),IF(T$76<=$H$30,$G$32+($H$32-$G$32)/($H$30-$G$30)*(T$76-$G$30),IF(T$76<=$I$30,$H$32+($I$32-$H$32)/($I$30-$H$30)*(T$76-$H$30),IF(T$76<=$J$30,$I$32+($J$32-$I$32)/($J$30-$I$30)*(T$76-$I$30),$J$32)))))))","v":0},{"$f":"IF(U$76<=$D$30,$D$32,IF(U$76<=$E$30,$D$32+($E$32-$D$32)/($E$30-$D$30)*(U$76-$D$30),IF(U$76<=$F$30,$E$32+($F$32-$E$32)/($F$30-$E$30)*(U$76-$E$30),IF(U$76<=$G$30,$F$32+($G$32-$F$32)/($G$30-$F$30)*(U$76-$F$30),IF(U$76<=$H$30,$G$32+($H$32-$G$32)/($H$30-$G$30)*(U$76-$G$30),IF(U$76<=$I$30,$H$32+($I$32-$H$32)/($I$30-$H$30)*(U$76-$H$30),IF(U$76<=$J$30,$I$32+($J$32-$I$32)/($J$30-$I$30)*(U$76-$I$30),$J$32)))))))","v":0},0,0,0,0,0,0,0,0,0,0,0,0,0,0,0,0,0,0,0,0,0,0,0,0,0,0,0,0,0,0,0,0,0,0,0,0,0,0,0,0,0,0,0,0,0,0,0,0,0,0,0,0,0,0,0,0,0,0,0,0,0,0,0,{"$f":"IF(CG$76<=$D$30,$D$32,IF(CG$76<=$E$30,$D$32+($E$32-$D$32)/($E$30-$D$30)*(CG$76-$D$30),IF(CG$76<=$F$30,$E$32+($F$32-$E$32)/($F$30-$E$30)*(CG$76-$E$30),IF(CG$76<=$G$30,$F$32+($G$32-$F$32)/($G$30-$F$30)*(CG$76-$F$30),IF(CG$76<=$H$30,$G$32+($H$32-$G$32)/($H$30-$G$30)*(CG$76-$G$30),IF(CG$76<=$I$30,$H$32+($I$32-$H$32)/($I$30-$H$30)*(CG$76-$H$30),IF(CG$76<=$J$30,$I$32+($J$32-$I$32)/($J$30-$I$30)*(CG$76-$I$30),$J$32)))))))","v":0}]
[null,null,null,null,null,null,null,null,null,null,null,null,null,null,null,null,null,null,"COP Mittelwert",{"$f":"T82*T36","v":0},{"$f":"U82*U36","v":0},0,0,0,0,0,0,0,0,0,0,0,0,0,0,0,{"$error":"#VALUE!"},{"$error":"#VALUE!"},{"$error":"#VALUE!"},{"$error":"#VALUE!"},{"$error":"#VALUE!"},{"$error":"#VALUE!"},{"$error":"#VALUE!"},{"$error":"#VALUE!"},{"$error":"#VALUE!"},{"$error":"#VALUE!"},{"$error":"#VALUE!"},{"$error":"#VALUE!"},{"$error":"#VALUE!"},{"$error":"#VALUE!"},{"$error":"#VALUE!"},{"$error":"#VALUE!"},0,0,0,0,0,0,0,0,0,0,0,0,0,0,0,0,0,0,0,0,0,0,0,0,0,0,0,0,0,0,0,0,{"$f":"CG82*CG36","v":0}]
[null,null,null,null,null,null,null,null,null,null,null,null,null,null,null,null,null,null,{"$f":"\"COP \"&B34&\"°C\"","v":"COP 55°C"},{"$f":"IF(T$76<=$D$30,$D$35,IF(T$76<=$E$30,$D$35+($E$35-$D$35)/($E$30-$D$30)*(T$76-$D$30),IF(T$76<=$F$30,$E$35+($F$35-$E$35)/($F$30-$E$30)*(T$76-$E$30),IF(T$76<=$G$30,$F$35+($G$35-$F$35)/($G$30-$F$30)*(T$76-$F$30),IF(T$76<=$H$30,$G$35+($H$35-$G$35)/($H$30-$G$30)*(T$76-$G$30),IF(T$76<=$I$30,$H$35+($I$35-$H$35)/($I$30-$H$30)*(T$76-$H$30),IF(T$76<=$J$30,$I$35+($J$35-$I$35)/($J$30-$I$30)*(T$76-$I$30),$J$35)))))))","v":0},0,0,0,0,0,0,0,0,0,0,0,0,0,0,0,0,0,0,0,0,0,0,0,0,0,0,0,0,0,0,0,{"$f":"IF(AZ$76<=$D$30,$D$35,IF(AZ$76<=$E$30,$D$35+($E$35-$D$35)/($E$30-$D$30)*(AZ$76-$D$30),IF(AZ$76<=$F$30,$E$35+($F$35-$E$35)/($F$30-$E$30)*(AZ$76-$E$30),IF(AZ$76<=$G$30,$F$35+($G$35-$F$35)/($G$30-$F$30)*(AZ$76-$F$30),IF(AZ$76<=$H$30,$G$35+($H$35-$G$35)/($H$30-$G$30)*(AZ$76-$G$30),IF(AZ$76<=$I$30,$H$35+($I$35-$H$35)/($I$30-$H$30)*(AZ$76-$H$30),IF(AZ$76<=$J$30,$I$35+($J$35-$I$35)/($J$30-$I$30)*(AZ$76-$I$30),$J$35)))))))","v":0},0,0,0,0,0,0,0,0,0,0,0,0,0,0,0,0,0,0,0,0,0,0,0,0,0,0,0,0,0,0,0,0,0]
[null,null,null,null,null,null,null,null,null,null,null,null,null,null,null,null,null,null,"COP Mittelwert",{"$f":"T84*T36","v":0},0,0,0,0,0,0,0,0,0,0,0,0,0,0,0,0,{"$error":"#VALUE!"},{"$error":"#VALUE!"},{"$error":"#VALUE!"},{"$error":"#VALUE!"},{"$error":"#VALUE!"},{"$error":"#VALUE!"},{"$error":"#VALUE!"},{"$error":"#VALUE!"},{"$error":"#VALUE!"},{"$error":"#VALUE!"},{"$error":"#VALUE!"},{"$error":"#VALUE!"},{"$error":"#VALUE!"},{"$error":"#VALUE!"},{"$error":"#VALUE!"},{"$f":"AZ84*AZ36","v":{"$error":"#VALUE!"}},0,0,0,0,0,0,0,0,0,0,0,0,0,0,0,0,0,0,0,0,0,0,0,0,0,0,0,0,0,0,0,{"$f":"CF84*CF36","v":0},{"$f":"CG84*CG36","v":0},{"$f":"SUM(T85:CG85)/CH36","v":{"$error":"#VALUE!"}}]
[null,null,null,null,null,null,null,null,null,null,null,null,null,null,null,null,null,null,"Heizleistung WP Qww",{"$f":"IF(OR(WPArt=3,WPArt=5,WPArt=4,WPArt=6),T70,IF(OR(WPArt=2),T51,))","v":0},{"$f":"IF(OR(WPArt=3,WPArt=5,WPArt=4,WPArt=6),U70,IF(OR(WPArt=2),U51,))","v":0},0,0,0,0,0,0,0,0,0,0,0,0,0,0,0,0,0,0,0,0,0,0,0,0,0,0,0,0,0,0,0,0,0,0,0,0,0,0,0,0,0,0,0,0,0,0,0,0,0,0,0,0,0,0,0,0,0,0,0,0,0,0,0,{"$f":"IF(OR(WPArt=3,WPArt=5,WPArt=4,WPArt=6),CG70,IF(OR(WPArt=2),CG51,))","v":0}]

{"sheet":"Grafik","index":6,"n_rows":93,"n_cols":32,"rows_kept":93,"cut":false,"hidden":false,"merged":[[1,7,1,10],[51,2,51,10],[3,1,3,4],[4,1,4,4]]}
[null,null,null,null,null,null,null,null,null,null,null,null,"ausblenden:",true]
[null,{"$f":"Sprache!B211","v":"Calcul de la courbe de charge"},null,null,null,null,null,{"$f":"Sprache!B8","v":"WPesti / V 8.3.33 / 27.09.2024                valable jusqu'à 31.12.2025"}]
[]
[null,{"$f":"IF('WP1'!B3<>\"\",'WP1'!B3,\"\")","v":""}]
[]
[null,{"$f":"Sprache!B212","v":"Climat et profil de charge:"},null,null,{"$f":"Sprache!B223","v":"Besoin d'énergie:"},null,null,{"$f":"Sprache!B233","v":"Couverture des besoins et COP's:"}]
[null,{"$f":"Sprache!B213","v":"Station climatique"},{"$f":"Wetterstation","v":""},null,{"$f":"Sprache!B224","v":"Besoins de chaleur"},{"$f":"IF('WP1'!BH57=3,0,IF(AND(Qh>0,EBF>0),EBF*'WP1'!H9/3.6,))","v":0},"kWh",{"$f":"Sprache!B234","v":"Taux couverture solaire (chauf.)"},null,null,{"$f":"IF(Kategorie>1,Kollektor,0)","v":0}]
[null,{"$f":"Sprache!B216","v":"Besoins de chaleur "},{"$f":"IF('WP1'!J21<>3,EBF*'WP1'!H9/3.6,0)","v":0},"kWh",{"$f":"Sprache!B225","v":"Distribution chauffage"},{"$f":"IF('WP1'!BH57=3,0,IF(AND(Qh>0,EBF>0),Verteilverluste*'WP1'!H9*EBF/3.6,))","v":0},"kWh",{"$f":"Sprache!B235","v":"Taux couverture solaire (ECS)"},null,null,{"$f":"KollektorWW","v":0}]
[null,{"$f":"Sprache!B217","v":"Gains de chaleur"},{"$f":"IF(Solarant<>1,C8/(1-Solarant)*Solarant,)","v":0},"kWh",{"$f":"Sprache!B226","v":"Besoins chaleur ECS"},{"$f":"IF(AND(Qww>0,EBF>0,Kategorie>1),Qww/(1+EtaWW)*EBF/3.6,)","v":0},"kWh",{"$f":"Sprache!B236","v":"Taux couverture PAC (chauf)"},null,null,{"$f":"IF(Kategorie>1,IF('WP1'!F62=\"\",0,'WP1'!F62),0)","v":0}]
[null,{"$f":"Sprache!B218","v":"\"Part solaire:\""},{"$f":"IF(Heizung,1-'WP1'!T130,0)","v":0},null,{"$f":"Sprache!B227","v":"Distribution ECS"},{"$f":"IF(AND(Qww>0,EBF>0),Qww/(1+EtaWW)*EBF*EtaWW/3.6,)","v":0},"kWh",{"$f":"Sprache!B237","v":"Taux couverture PAC (ECS)"},null,null,{"$f":"IF('WP1'!F63<>\"\",'WP1'!F63,0)","v":0}]
[null,{"$f":"Sprache!B219","v":"P nécessaire ECS"},{"$f":"IF(WW,IF(AND(Qww>0,EBF>0),Qww/3.6*EBF/8760,0),0)","v":0},"kW",{"$f":"Sprache!B228","v":"Besoins totaux:"},{"$f":"IF(OR(Qh<>\"\",Qww<>\"\"),SUM(F7:F10),)","v":0},"kWh",{"$f":"Sprache!B238","v":"COPA PAC (chauffage)"},null,null,{"$f":"IF(JAZcalc,jazsh,jazh)","v":0}]
[null,{"$f":"Sprache!B221","v":"Durée marche PAC"},{"$f":"IF(Kategorie>1,'WP1'!AI128*(24-Sperrzeit)/24,)","v":0},"h/a",null,null,null,{"$f":"Sprache!B239","v":"COPA PAC (ECS)"},null,null,{"$f":"IF(JAZcalc,jazsww,jazww)","v":0}]
[null,{"$f":"Sprache!B222","v":"Besoin d'électricité PAC"},{"$f":"IF(EBF>0,IF(K11>0,(F7+F8)*K9/K11,0)+IF(K12>0,(F9+F10)*K10/K12,0),0)","v":0},"kWh",null,null,null,{"$f":"IF(JAZcalc,\"JAZ total (inkl. Elektrozusatz)\",\"\")","v":""},null,null,{"$f":"IF(JAZcalc,JAZcalc!I64,\"\")","v":""}]
[null,null,null,null,{"$f":"Sprache!B229","v":"Besoin de puissance de chauffage (sans ECS)"},null,null,{"$f":"Sprache!B240","v":"PAC pour chauffage:"},null,null,{"$f":"IF(Kategorie>1,'WP1'!AK128,0)","v":0}]
[null,{"$f":"IF(JAZcalc,\"Energiekosten:\",\"\")","v":""},null,null,{"$f":"IF(JAZcalc,\"Vorschlag bei \"&TaMinVorarlberg&\" °C\",Sprache!B230)","v":"Proposition à °C"},{"$f":"IF(JAZcalc,'WP1'!M31/(20-TaMin)*(20-TaMinVorarlberg),'WP1'!M31)","v":0},"kW",{"$f":"Sprache!B241","v":"PAC pour ECS:"},null,null,{"$f":"IF(WW,IF(OR(Qww<>0),'WP1'!AG128,),0)*K10","v":0}]
[null,{"$f":"IF(JAZcalc,\"Wärmepumpe\",\"\")","v":""},{"$f":"IF(JAZcalc,IF(EBF>0,IF(jazsh>0,(F7+F8)*K9/K11,0)*Kosten!C9+IF(jazsww>0,(F9+F10)*K10/K12,0)*Kosten!C9,0),\"\")","v":""},{"$f":"IF(JAZcalc,\"Euro\",\"\")","v":""},{"$f":"IF(JAZcalc,\"Rechenwert bei \"&TaMinVorarlberg&\" °C\",Sprache!B231)","v":"P calculée à °C"},{"$f":"IF(Kategorie>1,IF(OR(Qh<>\"\",Qww<>\"\"),IF(JAZcalc,'WP1'!M32/28*(20-TaMinVorarlberg),'WP1'!M32/28*(20-TaMin)),0),)","v":0},"kW",{"$f":"Sprache!B242","v":"Chauffage d'appoint ECS:"},null,null,{"$f":"IF(WW,IF(OR(Qww<>0),'WP1'!AG128,),0)*(1-K10)","v":0},"kWh"]
[null,{"$f":"IF(JAZcalc,\"Heizstab WW\",\"\")","v":""},{"$f":"IF(JAZcalc,IF(elWW,(F9+F10)*(1-K10-K8)*Kosten!C9,0),\"\")","v":""},{"$f":"IF(JAZcalc,\"Euro\",\"\")","v":""},{"$f":"Sprache!B232","v":"P calculée à -8°C "},{"$f":"IF(Kategorie>1,IF(Heizung,'WP1'!M32,0),)","v":0},"kW",{"$f":"Sprache!B243","v":"Appoint au chauffage:"},null,null,{"$f":"IF(Heizung,IF(Kategorie>1,IF(OR(Qh<>\"\",Qww<>\"\"),Max_Zusatzheizung-K16,),0),0)","v":0},"kWh"]
[null,{"$f":"IF(JAZcalc,\"Zusatzheizung\",\"\")","v":""},{"$f":"IF(JAZcalc,(F7+F8)*(1-K9-K7)*IF('WP1'!J23=4,Kosten!C14,Kosten!C9),\"\")","v":""},{"$f":"IF(JAZcalc,\"Euro\",\"\")","v":""},null,null,null,{"$f":"Sprache!B244","v":"Pertes:"},null,null,{"$f":"IF(Kategorie>1,-IF(OR(Qh<>\"\",Qww<>\"\"),IF('WP1'!AD139>2,K14+K15+K16+K17-F11-Max_Zusatzheizung+Zusatzheizung_total,),),0)","v":0},"kWh"]
[null,{"$f":"IF(JAZcalc,\"Energie total\",\"\")","v":""},{"$f":"IF(JAZcalc,IF(EBF>0,C16+C17+C18,0),\"\")","v":""},{"$f":"IF(JAZcalc,\"Euro\",\"\")","v":""},null,null,null,{"$f":"Sprache!B245","v":"Couverture des besoins:"},null,null,{"$f":"IF(OR(Qh<>\"\",Qww<>\"\"),K14+K15+K16+K17+K18,)","v":0},"kWh"]
[]
[null,null,null,null,null,null,null,null,null,null,null,null,null,{"$f":"Sprache!B246","v":"Temp extérieure\nTa"},{"$f":"Sprache!B247","v":"Puissance\nnécessaire"},{"$f":"Sprache!B248","v":"Distribution\nBIN"},{"$f":"Sprache!B249","v":"Courbe de charge\nsans gains de chaleur"},{"$f":"Sprache!B250","v":"Fréquence\ncumulée"},{"$f":"Sprache!B251","v":"Courbe de charge\navec gains chaleur"},{"$f":"Sprache!B250","v":"Fréquence\ncumulée"},{"$f":"Sprache!B252","v":"Apport chaleur\nPAC"},"Zusatzheizung",{"$f":"Sprache!B253","v":"PAC + chauffage d'appoint"},"Lastkurve ","Summen-","Kollektoren","WP ohne\nZusatzheiz","WP mit\nZusatzheiz","Ta","TVL","TRL"]
[null,null,null,null,null,null,null,null,null,null,null,null,null,null,null,null,null,null,null,null,null,null,null,"o. Kollektoren","häufigkeit",null,"Solaranlage","+ Zusatzheiz."]
[null,null,null,null,null,null,null,null,null,null,null,null,null,"[°C]","[kW]","[%]","[h]","[h]","[h]","[h]","[kW]","[kW]","[kW]","[h]","[h]","[kW]","[kW]","[kW]","[°C]","[°C]","[°C]"]
[null,null,null,null,null,null,null,null,null,null,null,null,null,null,{"$f":"IF(Heizung,MAX(Leistung,IF(Leistung>0,F15*0.9,F15))/(20-TaMin)*28,0)","v":0},null,null,null,null,null,0,null,{"$f":"IF(Nutzungsgrad<>1,\"Energiebedarf Zusatzheizung\",\"\")","v":""},null,null,null,null,{"$f":"W24","v":""}]
[null,null,null,null,null,null,null,null,null,null,null,null,null,null,null,null,0,null,0,null,null,null,null,{"$f":"Q25*(1-Solarant)","v":0}]
[null,null,null,null,null,null,null,null,null,null,null,null,null,-25,{"$f":"IF(Qh>0,IF(P26>0,IF(Heizung,'WP1'!Z60,0)+IF(WW,Qww*EBF/3.6/8760,0),0),)","v":0},{"$f":"'WP1'!W60/8760","v":0},{"$f":"P26*8760","v":0},{"$f":"R25+Q26","v":0},{"$f":"'WP1'!Y60","v":{"$error":"#REF!"}},{"$f":"T25+S26","v":{"$error":"#REF!"}},{"$f":"IF(Bivalenzpunkt<N26,IF('WP1'!AB60<O26,'WP1'!AB60,O26),0)","v":0},{"$f":"MIN(Kesselleistung,IF(Laufzeit_Zusatzheizung>=T26,(O26-U26)/Nutzungsgrad+Kesselleistung*'WP1'!$H$45,0))","v":{"$error":"#REF!"}},{"$f":"IF(Kategorie>1,IF(V26>0,U26+V26,IF(Laufzeit_Zusatzheizung>=T26,O26,U26)),0)","v":0},{"$f":"'WP1'!Y60/(1-Kollektor)","v":{"$error":"#REF!"}},{"$f":"X25+X26","v":{"$error":"#REF!"}},{"$f":"IF(Qh>0,IF(P26>0,IF(Heizung,'WP1'!Z60,0),0)+IF(WW,Qww*EBF/3.6/8760,0),)","v":0},{"$f":"IF(P26>0,O26,\"\")","v":""},{"$f":"IF('WP1'!$J$23>2,IF(P26>0,W26,\"\"),0)","v":0},{"$f":"INDEX('WP1'!$AW$60:$AW$125,AF26,1)","v":-25},{"$f":"IF(WPArt>1,INDEX('WP1'!$AY$60:$AY$125,AF26,1),0)","v":0},{"$f":"IF(WPArt>1,INDEX('WP1'!$AX$60:$AX$125,AF26,1),0)","v":0},1]
[null,null,null,null,null,null,null,null,null,null,null,null,null,-24,{"$f":"IF(Qh>0,IF(P27>0,IF(Heizung,'WP1'!Z61,0)+IF(WW,Qww*EBF/3.6/8760,0),0),)","v":0},{"$f":"'WP1'!W61/8760","v":0},{"$f":"P27*8760","v":0},{"$f":"R26+Q27","v":0},{"$f":"'WP1'!Y61","v":{"$error":"#REF!"}},{"$f":"T26+S27","v":{"$error":"#REF!"}},{"$f":"IF(Bivalenzpunkt<N27,IF('WP1'!AB61<O27,'WP1'!AB61,O27),0)","v":0},{"$f":"MIN(Kesselleistung,IF(Laufzeit_Zusatzheizung>=T27,(O27-U27)/Nutzungsgrad+Kesselleistung*'WP1'!$H$45,0))","v":{"$error":"#REF!"}},{"$f":"IF(Kategorie>1,IF(V27>0,U27+V27,IF(Laufzeit_Zusatzheizung>=T27,O27,U27)),0)","v":0},{"$f":"'WP1'!Y61/(1-Kollektor)","v":{"$error":"#REF!"}},{"$f":"Y26+X27","v":{"$error":"#REF!"}},{"$f":"IF(Qh>0,IF(P27>0,IF(Heizung,'WP1'!Z61,0),0)+IF(WW,Qww*EBF/3.6/8760,0),)","v":0},"",{"$f":"IF('WP1'!$J$23>2,IF(P27>0,W27,\"\"),0)","v":0},{"$f":"INDEX('WP1'!$AW$60:$AW$125,AF27,1)","v":-24},{"$f":"IF(WPArt>1,INDEX('WP1'!$AY$60:$AY$125,AF27,1),0)","v":0},{"$f":"IF(WPArt>1,INDEX('WP1'!$AX$60:$AX$125,AF27,1),0)","v":0},2]
[null,null,null,null,null,null,null,null,null,null,null,null,null,-23,{"$f":"IF(Qh>0,IF(P28>0,IF(Heizung,'WP1'!Z62,0)+IF(WW,Qww*EBF/3.6/8760,0),0),)","v":0},{"$f":"'WP1'!W62/8760","v":0},0,{"$f":"R27+Q28","v":0},{"$f":"'WP1'!Y62","v":{"$error":"#REF!"}},{"$f":"T27+S28","v":{"$error":"#REF!"}},{"$f":"IF(Bivalenzpunkt<N28,IF('WP1'!AB62<O28,'WP1'!AB62,O28),0)","v":0},{"$f":"MIN(Kesselleistung,IF(Laufzeit_Zusatzheizung>=T28,(O28-U28)/Nutzungsgrad+Kesselleistung*'WP1'!$H$45,0))","v":{"$error":"#REF!"}},{"$f":"IF(Kategorie>1,IF(V28>0,U28+V28,IF(Laufzeit_Zusatzheizung>=T28,O28,U28)),0)","v":0},{"$f":"'WP1'!Y62/(1-Kollektor)","v":{"$error":"#REF!"}},{"$f":"Y27+X28","v":{"$error":"#REF!"}},{"$f":"IF(Qh>0,IF(P28>0,IF(Heizung,'WP1'!Z62,0),0)+IF(WW,Qww*EBF/3.6/8760,0),)","v":0},"",{"$f":"IF('WP1'!$J$23>2,IF(P28>0,W28,\"\"),0)","v":0},{"$f":"INDEX('WP1'!$AW$60:$AW$125,AF28,1)","v":-23},{"$f":"IF(WPArt>1,INDEX('WP1'!$AY$60:$AY$125,AF28,1),0)","v":0},{"$f":"IF(WPArt>1,INDEX('WP1'!$AX$60:$AX$125,AF28,1),0)","v":0},3]
[null,null,null,null,null,null,null,null,null,null,null,null,null,-22,{"$f":"IF(Qh>0,IF(P29>0,IF(Heizung,'WP1'!Z63,0)+IF(WW,Qww*EBF/3.6/8760,0),0),)","v":0},{"$f":"'WP1'!W63/8760","v":0},0,0,{"$f":"'WP1'!Y63","v":{"$error":"#REF!"}},{"$error":"#REF!"},{"$f":"IF(Bivalenzpunkt<N29,IF('WP1'!AB63<O29,'WP1'!AB63,O29),0)","v":0},{"$f":"MIN(Kesselleistung,IF(Laufzeit_Zusatzheizung>=T29,(O29-U29)/Nutzungsgrad+Kesselleistung*'WP1'!$H$45,0))","v":{"$error":"#REF!"}},0,{"$f":"'WP1'!Y63/(1-Kollektor)","v":{"$error":"#REF!"}},{"$error":"#REF!"},{"$f":"IF(Qh>0,IF(P29>0,IF(Heizung,'WP1'!Z63,0),0)+IF(WW,Qww*EBF/3.6/8760,0),)","v":0},"",{"$f":"IF('WP1'!$J$23>2,IF(P29>0,W29,\"\"),0)","v":0},{"$f":"INDEX('WP1'!$AW$60:$AW$125,AF29,1)","v":-22},{"$f":"IF(WPArt>1,INDEX('WP1'!$AY$60:$AY$125,AF29,1),0)","v":0},{"$f":"IF(WPArt>1,INDEX('WP1'!$AX$60:$AX$125,AF29,1),0)","v":0},4]
[null,null,null,null,null,null,null,null,null,null,null,null,null,-21,{"$f":"IF(Qh>0,IF(P30>0,IF(Heizung,'WP1'!Z64,0)+IF(WW,Qww*EBF/3.6/8760,0),0),)","v":0},{"$f":"'WP1'!W64/8760","v":0},0,0,{"$f":"'WP1'!Y64","v":{"$error":"#REF!"}},{"$error":"#REF!"},{"$f":"IF(Bivalenzpunkt<N30,IF('WP1'!AB64<O30,'WP1'!AB64,O30),0)","v":0},{"$f":"MIN(Kesselleistung,IF(Laufzeit_Zusatzheizung>=T30,(O30-U30)/Nutzungsgrad+Kesselleistung*'WP1'!$H$45,0))","v":{"$error":"#REF!"}},0,{"$f":"'WP1'!Y64/(1-Kollektor)","v":{"$error":"#REF!"}},{"$error":"#REF!"},{"$f":"IF(Qh>0,IF(P30>0,IF(Heizung,'WP1'!Z64,0),0)+IF(WW,Qww*EBF/3.6/8760,0),)","v":0},"",{"$f":"IF('WP1'!$J$23>2,IF(P30>0,W30,\"\"),0)","v":0},{"$f":"INDEX('WP1'!$AW$60:$AW$125,AF30,1)","v":-21},{"$f":"IF(WPArt>1,INDEX('WP1'!$AY$60:$AY$125,AF30,1),0)","v":0},{"$f":"IF(WPArt>1,INDEX('WP1'!$AX$60:$AX$125,AF30,1),0)","v":0},5]
[null,null,null,null,null,null,null,null,null,null,null,null,null,-20,{"$f":"IF(Qh>0,IF(P31>0,IF(Heizung,'WP1'!Z65,0)+IF(WW,Qww*EBF/3.6/8760,0),0),)","v":0},{"$f":"'WP1'!W65/8760","v":0},0,0,{"$f":"'WP1'!Y65","v":{"$error":"#REF!"}},{"$error":"#REF!"},{"$f":"IF(Bivalenzpunkt<N31,IF('WP1'!AB65<O31,'WP1'!AB65,O31),0)","v":0},{"$f":"MIN(Kesselleistung,IF(Laufzeit_Zusatzheizung>=T31,(O31-U31)/Nutzungsgrad+Kesselleistung*'WP1'!$H$45,0))","v":{"$error":"#REF!"}},0,{"$f":"'WP1'!Y65/(1-Kollektor)","v":{"$error":"#REF!"}},{"$error":"#REF!"},{"$f":"IF(Qh>0,IF(P31>0,IF(Heizung,'WP1'!Z65,0),0)+IF(WW,Qww*EBF/3.6/8760,0),)","v":0},"",{"$f":"IF('WP1'!$J$23>2,IF(P31>0,W31,\"\"),0)","v":0},{"$f":"INDEX('WP1'!$AW$60:$AW$125,AF31,1)","v":-20},{"$f":"IF(WPArt>1,INDEX('WP1'!$AY$60:$AY$125,AF31,1),0)","v":0},{"$f":"IF(WPArt>1,INDEX('WP1'!$AX$60:$AX$125,AF31,1),0)","v":0},6]
[null,null,null,null,null,null,null,null,null,null,null,null,null,-19,{"$f":"IF(Qh>0,IF(P32>0,IF(Heizung,'WP1'!Z66,0)+IF(WW,Qww*EBF/3.6/8760,0),0),)","v":0},{"$f":"'WP1'!W66/8760","v":0},0,0,{"$f":"'WP1'!Y66","v":{"$error":"#REF!"}},{"$error":"#REF!"},{"$f":"IF(Bivalenzpunkt<N32,IF('WP1'!AB66<O32,'WP1'!AB66,O32),0)","v":0},{"$f":"MIN(Kesselleistung,IF(Laufzeit_Zusatzheizung>=T32,(O32-U32)/Nutzungsgrad+Kesselleistung*'WP1'!$H$45,0))","v":{"$error":"#REF!"}},0,{"$f":"'WP1'!Y66/(1-Kollektor)","v":{"$error":"#REF!"}},{"$error":"#REF!"},{"$f":"IF(Qh>0,IF(P32>0,IF(Heizung,'WP1'!Z66,0),0)+IF(WW,Qww*EBF/3.6/8760,0),)","v":0},"",{"$f":"IF('WP1'!$J$23>2,IF(P32>0,W32,\"\"),0)","v":0},{"$f":"INDEX('WP1'!$AW$60:$AW$125,AF32,1)","v":-19},{"$f":"IF(WPArt>1,INDEX('WP1'!$AY$60:$AY$125,AF32,1),0)","v":0},{"$f":"IF(WPArt>1,INDEX('WP1'!$AX$60:$AX$125,AF32,1),0)","v":0},7]
[null,null,null,null,null,null,null,null,null,null,null,null,null,-18,{"$f":"IF(Qh>0,IF(P33>0,IF(Heizung,'WP1'!Z67,0)+IF(WW,Qww*EBF/3.6/8760,0),0),)","v":0},{"$f":"'WP1'!W67/8760","v":0},0,0,{"$f":"'WP1'!Y67","v":{"$error":"#REF!"}},{"$error":"#REF!"},{"$f":"IF(Bivalenzpunkt<N33,IF('WP1'!AB67<O33,'WP1'!AB67,O33),0)","v":0},{"$f":"MIN(Kesselleistung,IF(Laufzeit_Zusatzheizung>=T33,(O33-U33)/Nutzungsgrad+Kesselleistung*'WP1'!$H$45,0))","v":{"$error":"#REF!"}},0,{"$f":"'WP1'!Y67/(1-Kollektor)","v":{"$error":"#REF!"}},{"$error":"#REF!"},{"$f":"IF(Qh>0,IF(P33>0,IF(Heizung,'WP1'!Z67,0),0)+IF(WW,Qww*EBF/3.6/8760,0),)","v":0},"",{"$f":"IF('WP1'!$J$23>2,IF(P33>0,W33,\"\"),0)","v":0},{"$f":"INDEX('WP1'!$AW$60:$AW$125,AF33,1)","v":-18},{"$f":"IF(WPArt>1,INDEX('WP1'!$AY$60:$AY$125,AF33,1),0)","v":0},{"$f":"IF(WPArt>1,INDEX('WP1'!$AX$60:$AX$125,AF33,1),0)","v":0},8]
[null,null,null,null,null,null,null,null,null,null,null,null,null,-17,{"$f":"IF(Qh>0,IF(P34>0,IF(Heizung,'WP1'!Z68,0)+IF(WW,Qww*EBF/3.6/8760,0),0),)","v":0},{"$f":"'WP1'!W68/8760","v":0},0,0,{"$f":"'WP1'!Y68","v":{"$error":"#REF!"}},{"$error":"#REF!"},{"$f":"IF(Bivalenzpunkt<N34,IF('WP1'!AB68<O34,'WP1'!AB68,O34),0)","v":0},{"$f":"MIN(Kesselleistung,IF(Laufzeit_Zusatzheizung>=T34,(O34-U34)/Nutzungsgrad+Kesselleistung*'WP1'!$H$45,0))","v":{"$error":"#REF!"}},0,{"$f":"'WP1'!Y68/(1-Kollektor)","v":{"$error":"#REF!"}},{"$error":"#REF!"},{"$f":"IF(Qh>0,IF(P34>0,IF(Heizung,'WP1'!Z68,0),0)+IF(WW,Qww*EBF/3.6/8760,0),)","v":0},"",{"$f":"IF('WP1'!$J$23>2,IF(P34>0,W34,\"\"),0)","v":0},{"$f":"INDEX('WP1'!$AW$60:$AW$125,AF34,1)","v":-17},{"$f":"IF(WPArt>1,INDEX('WP1'!$AY$60:$AY$125,AF34,1),0)","v":0},{"$f":"IF(WPArt>1,INDEX('WP1'!$AX$60:$AX$125,AF34,1),0)","v":0},9]
[null,null,null,null,null,null,null,null,null,null,null,null,null,-16,{"$f":"IF(Qh>0,IF(P35>0,IF(Heizung,'WP1'!Z69,0)+IF(WW,Qww*EBF/3.6/8760,0),0),)","v":0},{"$f":"'WP1'!W69/8760","v":0},0,0,{"$f":"'WP1'!Y69","v":{"$error":"#REF!"}},{"$error":"#REF!"},{"$f":"IF(Bivalenzpunkt<N35,IF('WP1'!AB69<O35,'WP1'!AB69,O35),0)","v":0},{"$f":"MIN(Kesselleistung,IF(Laufzeit_Zusatzheizung>=T35,(O35-U35)/Nutzungsgrad+Kesselleistung*'WP1'!$H$45,0))","v":{"$error":"#REF!"}},0,{"$f":"'WP1'!Y69/(1-Kollektor)","v":{"$error":"#REF!"}},{"$error":"#REF!"},{"$f":"IF(Qh>0,IF(P35>0,IF(Heizung,'WP1'!Z69,0),0)+IF(WW,Qww*EBF/3.6/8760,0),)","v":0},"",{"$f":"IF('WP1'!$J$23>2,IF(P35>0,W35,\"\"),0)","v":0},{"$f":"INDEX('WP1'!$AW$60:$AW$125,AF35,1)","v":-16},{"$f":"IF(WPArt>1,INDEX('WP1'!$AY$60:$AY$125,AF35,1),0)","v":0},{"$f":"IF(WPArt>1,INDEX('WP1'!$AX$60:$AX$125,AF35,1),0)","v":0},10]
[null,null,null,null,null,null,null,null,null,null,null,null,null,-15,{"$f":"IF(Qh>0,IF(P36>0,IF(Heizung,'WP1'!Z70,0)+IF(WW,Qww*EBF/3.6/8760,0),0),)","v":0},{"$f":"'WP1'!W70/8760","v":0},0,0,{"$f":"'WP1'!Y70","v":{"$error":"#REF!"}},{"$error":"#REF!"},{"$f":"IF(Bivalenzpunkt<N36,IF('WP1'!AB70<O36,'WP1'!AB70,O36),0)","v":0},{"$f":"MIN(Kesselleistung,IF(Laufzeit_Zusatzheizung>=T36,(O36-U36)/Nutzungsgrad+Kesselleistung*'WP1'!$H$45,0))","v":{"$error":"#REF!"}},0,{"$f":"'WP1'!Y70/(1-Kollektor)","v":{"$error":"#REF!"}},{"$error":"#REF!"},{"$f":"IF(Qh>0,IF(P36>0,IF(Heizung,'WP1'!Z70,0),0)+IF(WW,Qww*EBF/3.6/8760,0),)","v":0},"",{"$f":"IF('WP1'!$J$23>2,IF(P36>0,W36,\"\"),0)","v":0},{"$f":"INDEX('WP1'!$AW$60:$AW$125,AF36,1)","v":-15},{"$f":"IF(WPArt>1,INDEX('WP1'!$AY$60:$AY$125,AF36,1),0)","v":0},{"$f":"IF(WPArt>1,INDEX('WP1'!$AX$60:$AX$125,AF36,1),0)","v":0},11]
[null,null,null,null,null,null,null,null,null,null,null,null,null,-14,{"$f":"IF(Qh>0,IF(P37>0,IF(Heizung,'WP1'!Z71,0)+IF(WW,Qww*EBF/3.6/8760,0),0),)","v":0},{"$f":"'WP1'!W71/8760","v":0},0,0,{"$f":"'WP1'!Y71","v":{"$error":"#REF!"}},{"$error":"#REF!"},{"$f":"IF(Bivalenzpunkt<N37,IF('WP1'!AB71<O37,'WP1'!AB71,O37),0)","v":0},{"$f":"MIN(Kesselleistung,IF(Laufzeit_Zusatzheizung>=T37,(O37-U37)/Nutzungsgrad+Kesselleistung*'WP1'!$H$45,0))","v":{"$error":"#REF!"}},0,{"$f":"'WP1'!Y71/(1-Kollektor)","v":{"$error":"#REF!"}},{"$error":"#REF!"},{"$f":"IF(Qh>0,IF(P37>0,IF(Heizung,'WP1'!Z71,0),0)+IF(WW,Qww*EBF/3.6/8760,0),)","v":0},"",{"$f":"IF('WP1'!$J$23>2,IF(P37>0,W37,\"\"),0)","v":0},{"$f":"INDEX('WP1'!$AW$60:$AW$125,AF37,1)","v":-14},{"$f":"IF(WPArt>1,INDEX('WP1'!$AY$60:$AY$125,AF37,1),0)","v":0},{"$f":"IF(WPArt>1,INDEX('WP1'!$AX$60:$AX$125,AF37,1),0)","v":0},12]
[null,null,null,null,null,null,null,null,null,null,null,null,null,-13,{"$f":"IF(Qh>0,IF(P38>0,IF(Heizung,'WP1'!Z72,0)+IF(WW,Qww*EBF/3.6/8760,0),0),)","v":0},{"$f":"'WP1'!W72/8760","v":0},0,0,{"$f":"'WP1'!Y72","v":{"$error":"#REF!"}},{"$error":"#REF!"},{"$f":"IF(Bivalenzpunkt<N38,IF('WP1'!AB72<O38,'WP1'!AB72,O38),0)","v":0},{"$f":"MIN(Kesselleistung,IF(Laufzeit_Zusatzheizung>=T38,(O38-U38)/Nutzungsgrad+Kesselleistung*'WP1'!$H$45,0))","v":{"$error":"#REF!"}},0,{"$f":"'WP1'!Y72/(1-Kollektor)","v":{"$error":"#REF!"}},{"$error":"#REF!"},{"$f":"IF(Qh>0,IF(P38>0,IF(Heizung,'WP1'!Z72,0),0)+IF(WW,Qww*EBF/3.6/8760,0),)","v":0},"",{"$f":"IF('WP1'!$J$23>2,IF(P38>0,W38,\"\"),0)","v":0},{"$f":"INDEX('WP1'!$AW$60:$AW$125,AF38,1)","v":-13},{"$f":"IF(WPArt>1,INDEX('WP1'!$AY$60:$AY$125,AF38,1),0)","v":0},{"$f":"IF(WPArt>1,INDEX('WP1'!$AX$60:$AX$125,AF38,1),0)","v":0},13]
[null,null,null,null,null,null,null,null,null,null,null,null,null,-12,{"$f":"IF(Qh>0,IF(P39>0,IF(Heizung,'WP1'!Z73,0)+IF(WW,Qww*EBF/3.6/8760,0),0),)","v":0},{"$f":"'WP1'!W73/8760","v":0},0,0,{"$f":"'WP1'!Y73","v":{"$error":"#REF!"}},{"$error":"#REF!"},{"$f":"IF(Bivalenzpunkt<N39,IF('WP1'!AB73<O39,'WP1'!AB73,O39),0)","v":0},{"$f":"MIN(Kesselleistung,IF(Laufzeit_Zusatzheizung>=T39,(O39-U39)/Nutzungsgrad+Kesselleistung*'WP1'!$H$45,0))","v":{"$error":"#REF!"}},0,{"$f":"'WP1'!Y73/(1-Kollektor)","v":{"$error":"#REF!"}},{"$error":"#REF!"},{"$f":"IF(Qh>0,IF(P39>0,IF(Heizung,'WP1'!Z73,0),0)+IF(WW,Qww*EBF/3.6/8760,0),)","v":0},"",{"$f":"IF('WP1'!$J$23>2,IF(P39>0,W39,\"\"),0)","v":0},{"$f":"INDEX('WP1'!$AW$60:$AW$125,AF39,1)","v":-12},{"$f":"IF(WPArt>1,INDEX('WP1'!$AY$60:$AY$125,AF39,1),0)","v":0},{"$f":"IF(WPArt>1,INDEX('WP1'!$AX$60:$AX$125,AF39,1),0)","v":0},14]
[null,null,null,null,null,null,null,null,null,null,null,null,null,-11,{"$f":"IF(Qh>0,IF(P40>0,IF(Heizung,'WP1'!Z74,0)+IF(WW,Qww*EBF/3.6/8760,0),0),)","v":0},{"$f":"'WP1'!W74/8760","v":0},0,0,{"$f":"'WP1'!Y74","v":{"$error":"#REF!"}},{"$error":"#REF!"},{"$f":"IF(Bivalenzpunkt<N40,IF('WP1'!AB74<O40,'WP1'!AB74,O40),0)","v":0},{"$f":"MIN(Kesselleistung,IF(Laufzeit_Zusatzheizung>=T40,(O40-U40)/Nutzungsgrad+Kesselleistung*'WP1'!$H$45,0))","v":{"$error":"#REF!"}},0,{"$f":"'WP1'!Y74/(1-Kollektor)","v":{"$error":"#REF!"}},{"$error":"#REF!"},{"$f":"IF(Qh>0,IF(P40>0,IF(Heizung,'WP1'!Z74,0),0)+IF(WW,Qww*EBF/3.6/8760,0),)","v":0},"",{"$f":"IF('WP1'!$J$23>2,IF(P40>0,W40,\"\"),0)","v":0},{"$f":"INDEX('WP1'!$AW$60:$AW$125,AF40,1)","v":-11},{"$f":"IF(WPArt>1,INDEX('WP1'!$AY$60:$AY$125,AF40,1),0)","v":0},{"$f":"IF(WPArt>1,INDEX('WP1'!$AX$60:$AX$125,AF40,1),0)","v":0},15]
[null,null,null,null,null,null,null,null,null,null,null,null,null,-10,{"$f":"IF(Qh>0,IF(P41>0,IF(Heizung,'WP1'!Z75,0)+IF(WW,Qww*EBF/3.6/8760,0),0),)","v":0},{"$f":"'WP1'!W75/8760","v":0},0,0,{"$f":"'WP1'!Y75","v":{"$error":"#REF!"}},{"$error":"#REF!"},{"$f":"IF(Bivalenzpunkt<N41,IF('WP1'!AB75<O41,'WP1'!AB75,O41),0)","v":0},{"$f":"MIN(Kesselleistung,IF(Laufzeit_Zusatzheizung>=T41,(O41-U41)/Nutzungsgrad+Kesselleistung*'WP1'!$H$45,0))","v":{"$error":"#REF!"}},0,{"$f":"'WP1'!Y75/(1-Kollektor)","v":{"$error":"#REF!"}},{"$error":"#REF!"},{"$f":"IF(Qh>0,IF(P41>0,IF(Heizung,'WP1'!Z75,0),0)+IF(WW,Qww*EBF/3.6/8760,0),)","v":0},"",{"$f":"IF('WP1'!$J$23>2,IF(P41>0,W41,\"\"),0)","v":0},{"$f":"INDEX('WP1'!$AW$60:$AW$125,AF41,1)","v":-10},{"$f":"IF(WPArt>1,INDEX('WP1'!$AY$60:$AY$125,AF41,1),0)","v":0},{"$f":"IF(WPArt>1,INDEX('WP1'!$AX$60:$AX$125,AF41,1),0)","v":0},16]
[null,null,null,null,null,null,null,null,null,null,null,null,null,-9,{"$f":"IF(Qh>0,IF(P42>0,IF(Heizung,'WP1'!Z76,0)+IF(WW,Qww*EBF/3.6/8760,0),0),)","v":0},{"$f":"'WP1'!W76/8760","v":0},0,0,{"$f":"'WP1'!Y76","v":{"$error":"#REF!"}},{"$error":"#REF!"},{"$f":"IF(Bivalenzpunkt<N42,IF('WP1'!AB76<O42,'WP1'!AB76,O42),0)","v":0},{"$f":"MIN(Kesselleistung,IF(Laufzeit_Zusatzheizung>=T42,(O42-U42)/Nutzungsgrad+Kesselleistung*'WP1'!$H$45,0))","v":{"$error":"#REF!"}},0,{"$f":"'WP1'!Y76/(1-Kollektor)","v":{"$error":"#REF!"}},{"$error":"#REF!"},{"$f":"IF(Qh>0,IF(P42>0,IF(Heizung,'WP1'!Z76,0),0)+IF(WW,Qww*EBF/3.6/8760,0),)","v":0},"",{"$f":"IF('WP1'!$J$23>2,IF(P42>0,W42,\"\"),0)","v":0},{"$f":"INDEX('WP1'!$AW$60:$AW$125,AF42,1)","v":-9},{"$f":"IF(WPArt>1,INDEX('WP1'!$AY$60:$AY$125,AF42,1),0)","v":0},{"$f":"IF(WPArt>1,INDEX('WP1'!$AX$60:$AX$125,AF42,1),0)","v":0},17]
[null,null,null,null,null,null,null,null,null,null,null,null,null,-8,{"$f":"IF(Qh>0,IF(P43>0,IF(Heizung,'WP1'!Z77,0)+IF(WW,Qww*EBF/3.6/8760,0),0),)","v":0},{"$f":"'WP1'!W77/8760","v":{"$error":"#VALUE!"}},{"$error":"#VALUE!"},{"$error":"#VALUE!"},{"$f":"'WP1'!Y77","v":{"$error":"#REF!"}},{"$error":"#REF!"},{"$f":"IF(Bivalenzpunkt<N43,IF('WP1'!AB77<O43,'WP1'!AB77,O43),0)","v":0},{"$f":"MIN(Kesselleistung,IF(Laufzeit_Zusatzheizung>=T43,(O43-U43)/Nutzungsgrad+Kesselleistung*'WP1'!$H$45,0))","v":{"$error":"#REF!"}},0,{"$f":"'WP1'!Y77/(1-Kollektor)","v":{"$error":"#REF!"}},{"$error":"#REF!"},{"$f":"IF(Qh>0,IF(P43>0,IF(Heizung,'WP1'!Z77,0),0)+IF(WW,Qww*EBF/3.6/8760,0),)","v":0},{"$error":"#VALUE!"},{"$f":"IF('WP1'!$J$23>2,IF(P43>0,W43,\"\"),0)","v":0},{"$f":"INDEX('WP1'!$AW$60:$AW$125,AF43,1)","v":-8},{"$f":"IF(WPArt>1,INDEX('WP1'!$AY$60:$AY$125,AF43,1),0)","v":0},{"$f":"IF(WPArt>1,INDEX('WP1'!$AX$60:$AX$125,AF43,1),0)","v":0},18]
[null,null,null,null,null,null,null,null,null,null,null,null,null,-7,{"$f":"IF(Qh>0,IF(P44>0,IF(Heizung,'WP1'!Z78,0)+IF(WW,Qww*EBF/3.6/8760,0),0),)","v":0},{"$f":"'WP1'!W78/8760","v":{"$error":"#VALUE!"}},{"$error":"#VALUE!"},{"$error":"#VALUE!"},{"$f":"'WP1'!Y78","v":{"$error":"#REF!"}},{"$error":"#REF!"},{"$f":"IF(Bivalenzpunkt<N44,IF('WP1'!AB78<O44,'WP1'!AB78,O44),0)","v":0},{"$f":"MIN(Kesselleistung,IF(Laufzeit_Zusatzheizung>=T44,(O44-U44)/Nutzungsgrad+Kesselleistung*'WP1'!$H$45,0))","v":{"$error":"#REF!"}},0,{"$f":"'WP1'!Y78/(1-Kollektor)","v":{"$error":"#REF!"}},{"$error":"#REF!"},{"$f":"IF(Qh>0,IF(P44>0,IF(Heizung,'WP1'!Z78,0),0)+IF(WW,Qww*EBF/3.6/8760,0),)","v":0},{"$error":"#VALUE!"},{"$f":"IF('WP1'!$J$23>2,IF(P44>0,W44,\"\"),0)","v":0},{"$f":"INDEX('WP1'!$AW$60:$AW$125,AF44,1)","v":-7},{"$f":"IF(WPArt>1,INDEX('WP1'!$AY$60:$AY$125,AF44,1),0)","v":0},{"$f":"IF(WPArt>1,INDEX('WP1'!$AX$60:$AX$125,AF44,1),0)","v":0},19]
[null,null,null,null,null,null,null,null,null,null,null,null,null,-6,{"$f":"IF(Qh>0,IF(P45>0,IF(Heizung,'WP1'!Z79,0)+IF(WW,Qww*EBF/3.6/8760,0),0),)","v":0},{"$f":"'WP1'!W79/8760","v":{"$error":"#VALUE!"}},{"$error":"#VALUE!"},{"$error":"#VALUE!"},{"$f":"'WP1'!Y79","v":{"$error":"#REF!"}},{"$error":"#REF!"},{"$f":"IF(Bivalenzpunkt<N45,IF('WP1'!AB79<O45,'WP1'!AB79,O45),0)","v":0},{"$f":"MIN(Kesselleistung,IF(Laufzeit_Zusatzheizung>=T45,(O45-U45)/Nutzungsgrad+Kesselleistung*'WP1'!$H$45,0))","v":{"$error":"#REF!"}},0,{"$f":"'WP1'!Y79/(1-Kollektor)","v":{"$error":"#REF!"}},{"$error":"#REF!"},{"$f":"IF(Qh>0,IF(P45>0,IF(Heizung,'WP1'!Z79,0),0)+IF(WW,Qww*EBF/3.6/8760,0),)","v":0},{"$error":"#VALUE!"},{"$f":"IF('WP1'!$J$23>2,IF(P45>0,W45,\"\"),0)","v":0},{"$f":"INDEX('WP1'!$AW$60:$AW$125,AF45,1)","v":-6},{"$f":"IF(WPArt>1,INDEX('WP1'!$AY$60:$AY$125,AF45,1),0)","v":0},{"$f":"IF(WPArt>1,INDEX('WP1'!$AX$60:$AX$125,AF45,1),0)","v":0},20]
[null,null,null,null,null,null,null,null,null,null,null,null,null,-5,{"$f":"IF(Qh>0,IF(P46>0,IF(Heizung,'WP1'!Z80,0)+IF(WW,Qww*EBF/3.6/8760,0),0),)","v":0},{"$f":"'WP1'!W80/8760","v":{"$error":"#VALUE!"}},{"$error":"#VALUE!"},{"$error":"#VALUE!"},{"$f":"'WP1'!Y80","v":{"$error":"#REF!"}},{"$error":"#REF!"},{"$f":"IF(Bivalenzpunkt<N46,IF('WP1'!AB80<O46,'WP1'!AB80,O46),0)","v":0},{"$f":"MIN(Kesselleistung,IF(Laufzeit_Zusatzheizung>=T46,(O46-U46)/Nutzungsgrad+Kesselleistung*'WP1'!$H$45,0))","v":{"$error":"#REF!"}},0,{"$f":"'WP1'!Y80/(1-Kollektor)","v":{"$error":"#REF!"}},{"$error":"#REF!"},{"$f":"IF(Qh>0,IF(P46>0,IF(Heizung,'WP1'!Z80,0),0)+IF(WW,Qww*EBF/3.6/8760,0),)","v":0},{"$error":"#VALUE!"},{"$f":"IF('WP1'!$J$23>2,IF(P46>0,W46,\"\"),0)","v":0},{"$f":"INDEX('WP1'!$AW$60:$AW$125,AF46,1)","v":-5},{"$f":"IF(WPArt>1,INDEX('WP1'!$AY$60:$AY$125,AF46,1),0)","v":0},{"$f":"IF(WPArt>1,INDEX('WP1'!$AX$60:$AX$125,AF46,1),0)","v":0},21]
[null,null,null,null,null,null,null,null,null,null,null,null,null,-4,{"$f":"IF(Qh>0,IF(P47>0,IF(Heizung,'WP1'!Z81,0)+IF(WW,Qww*EBF/3.6/8760,0),0),)","v":0},{"$f":"'WP1'!W81/8760","v":{"$error":"#VALUE!"}},{"$error":"#VALUE!"},{"$error":"#VALUE!"},{"$f":"'WP1'!Y81","v":{"$error":"#REF!"}},{"$error":"#REF!"},{"$f":"IF(Bivalenzpunkt<N47,IF('WP1'!AB81<O47,'WP1'!AB81,O47),0)","v":0},{"$f":"MIN(Kesselleistung,IF(Laufzeit_Zusatzheizung>=T47,(O47-U47)/Nutzungsgrad+Kesselleistung*'WP1'!$H$45,0))","v":{"$error":"#REF!"}},0,{"$f":"'WP1'!Y81/(1-Kollektor)","v":{"$error":"#REF!"}},{"$error":"#REF!"},{"$f":"IF(Qh>0,IF(P47>0,IF(Heizung,'WP1'!Z81,0),0)+IF(WW,Qww*EBF/3.6/8760,0),)","v":0},{"$error":"#VALUE!"},{"$f":"IF('WP1'!$J$23>2,IF(P47>0,W47,\"\"),0)","v":0},{"$f":"INDEX('WP1'!$AW$60:$AW$125,AF47,1)","v":-4},{"$f":"IF(WPArt>1,INDEX('WP1'!$AY$60:$AY$125,AF47,1),0)","v":0},{"$f":"IF(WPArt>1,INDEX('WP1'!$AX$60:$AX$125,AF47,1),0)","v":0},22]
[null,null,null,null,null,null,null,null,null,null,null,null,null,-3,{"$f":"IF(Qh>0,IF(P48>0,IF(Heizung,'WP1'!Z82,0)+IF(WW,Qww*EBF/3.6/8760,0),0),)","v":0},{"$f":"'WP1'!W82/8760","v":{"$error":"#VALUE!"}},{"$error":"#VALUE!"},{"$error":"#VALUE!"},{"$f":"'WP1'!Y82","v":{"$error":"#REF!"}},{"$error":"#REF!"},{"$f":"IF(Bivalenzpunkt<N48,IF('WP1'!AB82<O48,'WP1'!AB82,O48),0)","v":0},{"$f":"MIN(Kesselleistung,IF(Laufzeit_Zusatzheizung>=T48,(O48-U48)/Nutzungsgrad+Kesselleistung*'WP1'!$H$45,0))","v":{"$error":"#REF!"}},0,{"$f":"'WP1'!Y82/(1-Kollektor)","v":{"$error":"#REF!"}},{"$error":"#REF!"},{"$f":"IF(Qh>0,IF(P48>0,IF(Heizung,'WP1'!Z82,0),0)+IF(WW,Qww*EBF/3.6/8760,0),)","v":0},{"$error":"#VALUE!"},{"$f":"IF('WP1'!$J$23>2,IF(P48>0,W48,\"\"),0)","v":0},{"$f":"INDEX('WP1'!$AW$60:$AW$125,AF48,1)","v":-3},{"$f":"IF(WPArt>1,INDEX('WP1'!$AY$60:$AY$125,AF48,1),0)","v":0},{"$f":"IF(WPArt>1,INDEX('WP1'!$AX$60:$AX$125,AF48,1),0)","v":0},23]
[null,null,null,null,null,null,null,null,null,null,null,null,null,-2,{"$f":"IF(Qh>0,IF(P49>0,IF(Heizung,'WP1'!Z83,0)+IF(WW,Qww*EBF/3.6/8760,0),0),)","v":0},{"$f":"'WP1'!W83/8760","v":{"$error":"#VALUE!"}},{"$error":"#VALUE!"},{"$error":"#VALUE!"},{"$f":"'WP1'!Y83","v":{"$error":"#REF!"}},{"$error":"#REF!"},{"$f":"IF(Bivalenzpunkt<N49,IF('WP1'!AB83<O49,'WP1'!AB83,O49),0)","v":0},{"$f":"MIN(Kesselleistung,IF(Laufzeit_Zusatzheizung>=T49,(O49-U49)/Nutzungsgrad+Kesselleistung*'WP1'!$H$45,0))","v":{"$error":"#REF!"}},0,{"$f":"'WP1'!Y83/(1-Kollektor)","v":{"$error":"#REF!"}},{"$error":"#REF!"},{"$f":"IF(Qh>0,IF(P49>0,IF(Heizung,'WP1'!Z83,0),0)+IF(WW,Qww*EBF/3.6/8760,0),)","v":0},{"$error":"#VALUE!"},{"$f":"IF('WP1'!$J$23>2,IF(P49>0,W49,\"\"),0)","v":0},{"$f":"INDEX('WP1'!$AW$60:$AW$125,AF49,1)","v":-2},{"$f":"IF(WPArt>1,INDEX('WP1'!$AY$60:$AY$125,AF49,1),0)","v":0},{"$f":"IF(WPArt>1,INDEX('WP1'!$AX$60:$AX$125,AF49,1),0)","v":0},24]
[null,null,null,null,null,null,null,null,null,null,null,null,null,-1,{"$f":"IF(Qh>0,IF(P50>0,IF(Heizung,'WP1'!Z84,0)+IF(WW,Qww*EBF/3.6/8760,0),0),)","v":0},{"$f":"'WP1'!W84/8760","v":{"$error":"#VALUE!"}},{"$error":"#VALUE!"},{"$error":"#VALUE!"},{"$f":"'WP1'!Y84","v":{"$error":"#REF!"}},{"$error":"#REF!"},{"$f":"IF(Bivalenzpunkt<N50,IF('WP1'!AB84<O50,'WP1'!AB84,O50),0)","v":0},{"$f":"MIN(Kesselleistung,IF(Laufzeit_Zusatzheizung>=T50,(O50-U50)/Nutzungsgrad+Kesselleistung*'WP1'!$H$45,0))","v":{"$error":"#REF!"}},0,{"$f":"'WP1'!Y84/(1-Kollektor)","v":{"$error":"#REF!"}},{"$error":"#REF!"},{"$f":"IF(Qh>0,IF(P50>0,IF(Heizung,'WP1'!Z84,0),0)+IF(WW,Qww*EBF/3.6/8760,0),)","v":0},{"$error":"#VALUE!"},{"$f":"IF('WP1'!$J$23>2,IF(P50>0,W50,\"\"),0)","v":0},{"$f":"INDEX('WP1'!$AW$60:$AW$125,AF50,1)","v":-1},{"$f":"IF(WPArt>1,INDEX('WP1'!$AY$60:$AY$125,AF50,1),0)","v":0},{"$f":"IF(WPArt>1,INDEX('WP1'!$AX$60:$AX$125,AF50,1),0)","v":0},25]
[null,null,null,null,null,null,null,null,null,null,null,null,null,0,{"$f":"IF(Qh>0,IF(P51>0,IF(Heizung,'WP1'!Z85,0)+IF(WW,Qww*EBF/3.6/8760,0),0),)","v":0},{"$f":"'WP1'!W85/8760","v":{"$error":"#VALUE!"}},{"$error":"#VALUE!"},{"$error":"#VALUE!"},{"$f":"'WP1'!Y85","v":{"$error":"#REF!"}},{"$error":"#REF!"},{"$f":"IF(Bivalenzpunkt<N51,IF('WP1'!AB85<O51,'WP1'!AB85,O51),0)","v":0},{"$f":"MIN(Kesselleistung,IF(Laufzeit_Zusatzheizung>=T51,(O51-U51)/Nutzungsgrad+Kesselleistung*'WP1'!$H$45,0))","v":{"$error":"#REF!"}},0,{"$f":"'WP1'!Y85/(1-Kollektor)","v":{"$error":"#REF!"}},{"$error":"#REF!"},{"$f":"IF(Qh>0,IF(P51>0,IF(Heizung,'WP1'!Z85,0),0)+IF(WW,Qww*EBF/3.6/8760,0),)","v":0},{"$error":"#VALUE!"},{"$f":"IF('WP1'!$J$23>2,IF(P51>0,W51,\"\"),0)","v":0},{"$f":"INDEX('WP1'!$AW$60:$AW$125,AF51,1)","v":0},{"$f":"IF(WPArt>1,INDEX('WP1'!$AY$60:$AY$125,AF51,1),0)","v":0},{"$f":"IF(WPArt>1,INDEX('WP1'!$AX$60:$AX$125,AF51,1),0)","v":0},26]
[null,{"$f":"Sprache!B254","v":"Abréviations:"},{"$f":"Sprache!B255","v":"PAC = pompe à chaleur; ECS = eau chaude sanitaire;  h = rendement;  COPA = coefficient de perf annuel (sans chauffage d'appoint ni résistance électrique)"},null,null,null,null,null,null,null,null,null,null,1,{"$f":"IF(Qh>0,IF(P52>0,IF(Heizung,'WP1'!Z86,0)+IF(WW,Qww*EBF/3.6/8760,0),0),)","v":0},{"$f":"'WP1'!W86/8760","v":{"$error":"#VALUE!"}},{"$error":"#VALUE!"},{"$error":"#VALUE!"},{"$f":"'WP1'!Y86","v":{"$error":"#REF!"}},{"$error":"#REF!"},{"$f":"IF(Bivalenzpunkt<N52,IF('WP1'!AB86<O52,'WP1'!AB86,O52),0)","v":0},{"$f":"MIN(Kesselleistung,IF(Laufzeit_Zusatzheizung>=T52,(O52-U52)/Nutzungsgrad+Kesselleistung*'WP1'!$H$45,0))","v":{"$error":"#REF!"}},0,{"$f":"'WP1'!Y86/(1-Kollektor)","v":{"$error":"#REF!"}},{"$error":"#REF!"},{"$f":"IF(Qh>0,IF(P52>0,IF(Heizung,'WP1'!Z86,0),0)+IF(WW,Qww*EBF/3.6/8760,0),)","v":0},{"$error":"#VALUE!"},{"$f":"IF('WP1'!$J$23>2,IF(P52>0,W52,\"\"),0)","v":0},{"$f":"INDEX('WP1'!$AW$60:$AW$125,AF52,1)","v":1},{"$f":"IF(WPArt>1,INDEX('WP1'!$AY$60:$AY$125,AF52,1),0)","v":0},{"$f":"IF(WPArt>1,INDEX('WP1'!$AX$60:$AX$125,AF52,1),0)","v":0},27]
[null,null,null,null,null,null,null,null,null,null,null,null,null,2,{"$f":"IF(Qh>0,IF(P53>0,IF(Heizung,'WP1'!Z87,0)+IF(WW,Qww*EBF/3.6/8760,0),0),)","v":0},{"$f":"'WP1'!W87/8760","v":{"$error":"#VALUE!"}},{"$error":"#VALUE!"},{"$error":"#VALUE!"},{"$f":"'WP1'!Y87","v":{"$error":"#REF!"}},{"$error":"#REF!"},{"$f":"IF(Bivalenzpunkt<N53,IF('WP1'!AB87<O53,'WP1'!AB87,O53),0)","v":0},{"$f":"MIN(Kesselleistung,IF(Laufzeit_Zusatzheizung>=T53,(O53-U53)/Nutzungsgrad+Kesselleistung*'WP1'!$H$45,0))","v":{"$error":"#REF!"}},0,{"$f":"'WP1'!Y87/(1-Kollektor)","v":{"$error":"#REF!"}},{"$error":"#REF!"},{"$f":"IF(Qh>0,IF(P53>0,IF(Heizung,'WP1'!Z87,0),0)+IF(WW,Qww*EBF/3.6/8760,0),)","v":0},{"$error":"#VALUE!"},{"$f":"IF('WP1'!$J$23>2,IF(P53>0,W53,\"\"),0)","v":0},{"$f":"INDEX('WP1'!$AW$60:$AW$125,AF53,1)","v":2},{"$f":"IF(WPArt>1,INDEX('WP1'!$AY$60:$AY$125,AF53,1),0)","v":0},{"$f":"IF(WPArt>1,INDEX('WP1'!$AX$60:$AX$125,AF53,1),0)","v":0},28]
[null,null,null,null,null,null,null,null,null,null,null,null,null,3,{"$f":"IF(Qh>0,IF(P54>0,IF(Heizung,'WP1'!Z88,0)+IF(WW,Qww*EBF/3.6/8760,0),0),)","v":0},{"$f":"'WP1'!W88/8760","v":{"$error":"#VALUE!"}},{"$error":"#VALUE!"},{"$error":"#VALUE!"},{"$f":"'WP1'!Y88","v":{"$error":"#REF!"}},{"$error":"#REF!"},{"$f":"IF(Bivalenzpunkt<N54,IF('WP1'!AB88<O54,'WP1'!AB88,O54),0)","v":0},{"$f":"MIN(Kesselleistung,IF(Laufzeit_Zusatzheizung>=T54,(O54-U54)/Nutzungsgrad+Kesselleistung*'WP1'!$H$45,0))","v":{"$error":"#REF!"}},0,{"$f":"'WP1'!Y88/(1-Kollektor)","v":{"$error":"#REF!"}},{"$error":"#REF!"},{"$f":"IF(Qh>0,IF(P54>0,IF(Heizung,'WP1'!Z88,0),0)+IF(WW,Qww*EBF/3.6/8760,0),)","v":0},{"$error":"#VALUE!"},{"$f":"IF('WP1'!$J$23>2,IF(P54>0,W54,\"\"),0)","v":0},{"$f":"INDEX('WP1'!$AW$60:$AW$125,AF54,1)","v":3},{"$f":"IF(WPArt>1,INDEX('WP1'!$AY$60:$AY$125,AF54,1),0)","v":0},{"$f":"IF(WPArt>1,INDEX('WP1'!$AX$60:$AX$125,AF54,1),0)","v":0},29]
[null,null,null,null,null,null,null,null,null,null,null,null,null,4,{"$f":"IF(Qh>0,IF(P55>0,IF(Heizung,'WP1'!Z89,0)+IF(WW,Qww*EBF/3.6/8760,0),0),)","v":0},{"$f":"'WP1'!W89/8760","v":{"$error":"#VALUE!"}},{"$error":"#VALUE!"},{"$error":"#VALUE!"},{"$f":"'WP1'!Y89","v":{"$error":"#REF!"}},{"$error":"#REF!"},{"$f":"IF(Bivalenzpunkt<N55,IF('WP1'!AB89<O55,'WP1'!AB89,O55),0)","v":0},{"$f":"MIN(Kesselleistung,IF(Laufzeit_Zusatzheizung>=T55,(O55-U55)/Nutzungsgrad+Kesselleistung*'WP1'!$H$45,0))","v":{"$error":"#REF!"}},0,{"$f":"'WP1'!Y89/(1-Kollektor)","v":{"$error":"#REF!"}},{"$error":"#REF!"},{"$f":"IF(Qh>0,IF(P55>0,IF(Heizung,'WP1'!Z89,0),0)+IF(WW,Qww*EBF/3.6/8760,0),)","v":0},{"$error":"#VALUE!"},{"$f":"IF('WP1'!$J$23>2,IF(P55>0,W55,\"\"),0)","v":0},{"$f":"INDEX('WP1'!$AW$60:$AW$125,AF55,1)","v":4},{"$f":"IF(WPArt>1,INDEX('WP1'!$AY$60:$AY$125,AF55,1),0)","v":0},{"$f":"IF(WPArt>1,INDEX('WP1'!$AX$60:$AX$125,AF55,1),0)","v":0},30]
[null,null,null,null,null,null,null,null,null,null,null,null,null,5,{"$f":"IF(Qh>0,IF(P56>0,IF(Heizung,'WP1'!Z90,0)+IF(WW,Qww*EBF/3.6/8760,0),0),)","v":0},{"$f":"'WP1'!W90/8760","v":{"$error":"#VALUE!"}},{"$error":"#VALUE!"},{"$error":"#VALUE!"},{"$f":"'WP1'!Y90","v":{"$error":"#REF!"}},{"$error":"#REF!"},{"$f":"IF(Bivalenzpunkt<N56,IF('WP1'!AB90<O56,'WP1'!AB90,O56),0)","v":0},{"$f":"MIN(Kesselleistung,IF(Laufzeit_Zusatzheizung>=T56,(O56-U56)/Nutzungsgrad+Kesselleistung*'WP1'!$H$45,0))","v":{"$error":"#REF!"}},0,{"$f":"'WP1'!Y90/(1-Kollektor)","v":{"$error":"#REF!"}},{"$error":"#REF!"},{"$f":"IF(Qh>0,IF(P56>0,IF(Heizung,'WP1'!Z90,0),0)+IF(WW,Qww*EBF/3.6/8760,0),)","v":0},{"$error":"#VALUE!"},{"$f":"IF('WP1'!$J$23>2,IF(P56>0,W56,\"\"),0)","v":0},{"$f":"INDEX('WP1'!$AW$60:$AW$125,AF56,1)","v":5},{"$f":"IF(WPArt>1,INDEX('WP1'!$AY$60:$AY$125,AF56,1),0)","v":0},{"$f":"IF(WPArt>1,INDEX('WP1'!$AX$60:$AX$125,AF56,1),0)","v":0},31]
[null,null,null,null,null,null,null,null,null,null,null,null,null,6,{"$f":"IF(Qh>0,IF(P57>0,IF(Heizung,'WP1'!Z91,0)+IF(WW,Qww*EBF/3.6/8760,0),0),)","v":0},{"$f":"'WP1'!W91/8760","v":{"$error":"#VALUE!"}},{"$error":"#VALUE!"},{"$error":"#VALUE!"},{"$f":"'WP1'!Y91","v":{"$error":"#REF!"}},{"$error":"#REF!"},{"$f":"IF(Bivalenzpunkt<N57,IF('WP1'!AB91<O57,'WP1'!AB91,O57),0)","v":0},{"$f":"MIN(Kesselleistung,IF(Laufzeit_Zusatzheizung>=T57,(O57-U57)/Nutzungsgrad+Kesselleistung*'WP1'!$H$45,0))","v":{"$error":"#REF!"}},0,{"$f":"'WP1'!Y91/(1-Kollektor)","v":{"$error":"#REF!"}},{"$error":"#REF!"},{"$f":"IF(Qh>0,IF(P57>0,IF(Heizung,'WP1'!Z91,0),0)+IF(WW,Qww*EBF/3.6/8760,0),)","v":0},{"$error":"#VALUE!"},{"$f":"IF('WP1'!$J$23>2,IF(P57>0,W57,\"\"),0)","v":0},{"$f":"INDEX('WP1'!$AW$60:$AW$125,AF57,1)","v":6},{"$f":"IF(WPArt>1,INDEX('WP1'!$AY$60:$AY$125,AF57,1),0)","v":0},{"$f":"IF(WPArt>1,INDEX('WP1'!$AX$60:$AX$125,AF57,1),0)","v":0},32]
[null,null,null,null,null,null,null,null,null,null,null,null,null,7,{"$f":"IF(Qh>0,IF(P58>0,IF(Heizung,'WP1'!Z92,0)+IF(WW,Qww*EBF/3.6/8760,0),0),)","v":0},{"$f":"'WP1'!W92/8760","v":{"$error":"#VALUE!"}},{"$error":"#VALUE!"},{"$error":"#VALUE!"},{"$f":"'WP1'!Y92","v":{"$error":"#REF!"}},{"$error":"#REF!"},{"$f":"IF(Bivalenzpunkt<N58,IF('WP1'!AB92<O58,'WP1'!AB92,O58),0)","v":0},{"$f":"MIN(Kesselleistung,IF(Laufzeit_Zusatzheizung>=T58,(O58-U58)/Nutzungsgrad+Kesselleistung*'WP1'!$H$45,0))","v":{"$error":"#REF!"}},0,{"$f":"'WP1'!Y92/(1-Kollektor)","v":{"$error":"#REF!"}},{"$error":"#REF!"},{"$f":"IF(Qh>0,IF(P58>0,IF(Heizung,'WP1'!Z92,0),0)+IF(WW,Qww*EBF/3.6/8760,0),)","v":0},{"$f":"IF(P58>0,O58,\"\")","v":{"$error":"#VALUE!"}},{"$f":"IF('WP1'!$J$23>2,IF(P58>0,W58,\"\"),0)","v":0},{"$f":"INDEX('WP1'!$AW$60:$AW$125,AF58,1)","v":7},{"$f":"IF(WPArt>1,INDEX('WP1'!$AY$60:$AY$125,AF58,1),0)","v":0},{"$f":"IF(WPArt>1,INDEX('WP1'!$AX$60:$AX$125,AF58,1),0)","v":0},33]
[null,null,null,null,null,null,null,null,null,null,null,null,null,8,{"$f":"IF(Qh>0,IF(P59>0,IF(Heizung,'WP1'!Z93,0)+IF(WW,Qww*EBF/3.6/8760,0),0),)","v":0},{"$f":"'WP1'!W93/8760","v":0},0,{"$error":"#VALUE!"},{"$f":"'WP1'!Y93","v":{"$error":"#REF!"}},{"$error":"#REF!"},{"$f":"IF(Bivalenzpunkt<N59,IF('WP1'!AB93<O59,'WP1'!AB93,O59),0)","v":0},{"$f":"MIN(Kesselleistung,IF(Laufzeit_Zusatzheizung>=T59,(O59-U59)/Nutzungsgrad+Kesselleistung*'WP1'!$H$45,0))","v":{"$error":"#REF!"}},0,{"$f":"'WP1'!Y93/(1-Kollektor)","v":{"$error":"#REF!"}},{"$error":"#REF!"},{"$f":"IF(Qh>0,IF(P59>0,IF(Heizung,'WP1'!Z93,0),0)+IF(WW,Qww*EBF/3.6/8760,0),)","v":0},"",{"$f":"IF('WP1'!$J$23>2,IF(P59>0,W59,\"\"),0)","v":0},{"$f":"INDEX('WP1'!$AW$60:$AW$125,AF59,1)","v":8},{"$f":"IF(WPArt>1,INDEX('WP1'!$AY$60:$AY$125,AF59,1),0)","v":0},{"$f":"IF(WPArt>1,INDEX('WP1'!$AX$60:$AX$125,AF59,1),0)","v":0},34]
[null,null,null,null,null,null,null,null,null,null,null,null,null,9,{"$f":"IF(Qh>0,IF(P60>0,IF(Heizung,'WP1'!Z94,0)+IF(WW,Qww*EBF/3.6/8760,0),0),)","v":0},{"$f":"'WP1'!W94/8760","v":0},0,{"$error":"#VALUE!"},{"$f":"'WP1'!Y94","v":{"$error":"#REF!"}},{"$error":"#REF!"},{"$f":"IF(Bivalenzpunkt<N60,IF('WP1'!AB94<O60,'WP1'!AB94,O60),0)","v":0},{"$f":"MIN(Kesselleistung,IF(Laufzeit_Zusatzheizung>=T60,(O60-U60)/Nutzungsgrad+Kesselleistung*'WP1'!$H$45,0))","v":{"$error":"#REF!"}},0,{"$f":"'WP1'!Y94/(1-Kollektor)","v":{"$error":"#REF!"}},{"$error":"#REF!"},{"$f":"IF(Qh>0,IF(P60>0,IF(Heizung,'WP1'!Z94,0),0)+IF(WW,Qww*EBF/3.6/8760,0),)","v":0},"",{"$f":"IF('WP1'!$J$23>2,IF(P60>0,W60,\"\"),0)","v":0},{"$f":"INDEX('WP1'!$AW$60:$AW$125,AF60,1)","v":9},{"$f":"IF(WPArt>1,INDEX('WP1'!$AY$60:$AY$125,AF60,1),0)","v":0},{"$f":"IF(WPArt>1,INDEX('WP1'!$AX$60:$AX$125,AF60,1),0)","v":0},35]
[null,null,null,null,null,null,null,null,null,null,null,null,null,10,{"$f":"IF(Qh>0,IF(P61>0,IF(Heizung,'WP1'!Z95,0)+IF(WW,Qww*EBF/3.6/8760,0),0),)","v":0},{"$f":"'WP1'!W95/8760","v":0},0,{"$error":"#VALUE!"},{"$f":"'WP1'!Y95","v":{"$error":"#REF!"}},{"$error":"#REF!"},{"$f":"IF(Bivalenzpunkt<N61,IF('WP1'!AB95<O61,'WP1'!AB95,O61),0)","v":0},{"$f":"MIN(Kesselleistung,IF(Laufzeit_Zusatzheizung>=T61,(O61-U61)/Nutzungsgrad+Kesselleistung*'WP1'!$H$45,0))","v":{"$error":"#REF!"}},0,{"$f":"'WP1'!Y95/(1-Kollektor)","v":{"$error":"#REF!"}},{"$error":"#REF!"},{"$f":"IF(Qh>0,IF(P61>0,IF(Heizung,'WP1'!Z95,0),0)+IF(WW,Qww*EBF/3.6/8760,0),)","v":0},"",{"$f":"IF('WP1'!$J$23>2,IF(P61>0,W61,\"\"),0)","v":0},{"$f":"INDEX('WP1'!$AW$60:$AW$125,AF61,1)","v":10},{"$f":"IF(WPArt>1,INDEX('WP1'!$AY$60:$AY$125,AF61,1),0)","v":0},{"$f":"IF(WPArt>1,INDEX('WP1'!$AX$60:$AX$125,AF61,1),0)","v":0},36]
[null,null,null,null,null,null,null,null,null,null,null,null,null,11,{"$f":"IF(Qh>0,IF(P62>0,IF(Heizung,'WP1'!Z96,0)+IF(WW,Qww*EBF/3.6/8760,0),0),)","v":0},{"$f":"'WP1'!W96/8760","v":0},0,{"$error":"#VALUE!"},{"$f":"'WP1'!Y96","v":{"$error":"#REF!"}},{"$error":"#REF!"},{"$f":"IF(Bivalenzpunkt<N62,IF('WP1'!AB96<O62,'WP1'!AB96,O62),0)","v":0},{"$f":"MIN(Kesselleistung,IF(Laufzeit_Zusatzheizung>=T62,(O62-U62)/Nutzungsgrad+Kesselleistung*'WP1'!$H$45,0))","v":{"$error":"#REF!"}},0,{"$f":"'WP1'!Y96/(1-Kollektor)","v":{"$error":"#REF!"}},{"$error":"#REF!"},{"$f":"IF(Qh>0,IF(P62>0,IF(Heizung,'WP1'!Z96,0),0)+IF(WW,Qww*EBF/3.6/8760,0),)","v":0},"",{"$f":"IF('WP1'!$J$23>2,IF(P62>0,W62,\"\"),0)","v":0},{"$f":"INDEX('WP1'!$AW$60:$AW$125,AF62,1)","v":11},{"$f":"IF(WPArt>1,INDEX('WP1'!$AY$60:$AY$125,AF62,1),0)","v":0},{"$f":"IF(WPArt>1,INDEX('WP1'!$AX$60:$AX$125,AF62,1),0)","v":0},37]
[null,null,null,null,null,null,null,null,null,null,null,null,null,12,{"$f":"IF(Qh>0,IF(P63>0,IF(Heizung,'WP1'!Z97,0)+IF(WW,Qww*EBF/3.6/8760,0),0),)","v":0},{"$f":"'WP1'!W97/8760","v":0},0,{"$error":"#VALUE!"},{"$f":"'WP1'!Y97","v":{"$error":"#REF!"}},{"$error":"#REF!"},{"$f":"IF(Bivalenzpunkt<N63,IF('WP1'!AB97<O63,'WP1'!AB97,O63),0)","v":0},{"$f":"MIN(Kesselleistung,IF(Laufzeit_Zusatzheizung>=T63,(O63-U63)/Nutzungsgrad+Kesselleistung*'WP1'!$H$45,0))","v":{"$error":"#REF!"}},0,{"$f":"'WP1'!Y97/(1-Kollektor)","v":{"$error":"#REF!"}},{"$error":"#REF!"},{"$f":"IF(Qh>0,IF(P63>0,IF(Heizung,'WP1'!Z97,0),0)+IF(WW,Qww*EBF/3.6/8760,0),)","v":0},"",{"$f":"IF('WP1'!$J$23>2,IF(P63>0,W63,\"\"),0)","v":0},{"$f":"INDEX('WP1'!$AW$60:$AW$125,AF63,1)","v":12},{"$f":"IF(WPArt>1,INDEX('WP1'!$AY$60:$AY$125,AF63,1),0)","v":0},{"$f":"IF(WPArt>1,INDEX('WP1'!$AX$60:$AX$125,AF63,1),0)","v":0},38]
[null,null,null,null,null,null,null,null,null,null,null,null,null,13,{"$f":"IF(Qh>0,IF(P64>0,IF(Heizung,'WP1'!Z98,0)+IF(WW,Qww*EBF/3.6/8760,0),0),)","v":0},{"$f":"'WP1'!W98/8760","v":0},0,{"$error":"#VALUE!"},{"$f":"'WP1'!Y98","v":{"$error":"#REF!"}},{"$error":"#REF!"},{"$f":"IF(Bivalenzpunkt<N64,IF('WP1'!AB98<O64,'WP1'!AB98,O64),0)","v":0},{"$f":"MIN(Kesselleistung,IF(Laufzeit_Zusatzheizung>=T64,(O64-U64)/Nutzungsgrad+Kesselleistung*'WP1'!$H$45,0))","v":{"$error":"#REF!"}},0,{"$f":"'WP1'!Y98/(1-Kollektor)","v":{"$error":"#REF!"}},{"$error":"#REF!"},{"$f":"IF(Qh>0,IF(P64>0,IF(Heizung,'WP1'!Z98,0),0)+IF(WW,Qww*EBF/3.6/8760,0),)","v":0},"",{"$f":"IF('WP1'!$J$23>2,IF(P64>0,W64,\"\"),0)","v":0},{"$f":"INDEX('WP1'!$AW$60:$AW$125,AF64,1)","v":13},{"$f":"IF(WPArt>1,INDEX('WP1'!$AY$60:$AY$125,AF64,1),0)","v":0},{"$f":"IF(WPArt>1,INDEX('WP1'!$AX$60:$AX$125,AF64,1),0)","v":0},39]
[null,null,null,null,null,null,null,null,null,null,null,null,null,14,{"$f":"IF(Qh>0,IF(P65>0,IF(Heizung,'WP1'!Z99,0)+IF(WW,Qww*EBF/3.6/8760,0),0),)","v":0},{"$f":"'WP1'!W99/8760","v":0},0,{"$error":"#VALUE!"},{"$f":"'WP1'!Y99","v":{"$error":"#REF!"}},{"$error":"#REF!"},{"$f":"IF(Bivalenzpunkt<N65,IF('WP1'!AB99<O65,'WP1'!AB99,O65),0)","v":0},{"$f":"MIN(Kesselleistung,IF(Laufzeit_Zusatzheizung>=T65,(O65-U65)/Nutzungsgrad+Kesselleistung*'WP1'!$H$45,0))","v":{"$error":"#REF!"}},0,{"$f":"'WP1'!Y99/(1-Kollektor)","v":{"$error":"#REF!"}},{"$error":"#REF!"},{"$f":"IF(Qh>0,IF(P65>0,IF(Heizung,'WP1'!Z99,0),0)+IF(WW,Qww*EBF/3.6/8760,0),)","v":0},"",{"$f":"IF('WP1'!$J$23>2,IF(P65>0,W65,\"\"),0)","v":0},{"$f":"INDEX('WP1'!$AW$60:$AW$125,AF65,1)","v":14},{"$f":"IF(WPArt>1,INDEX('WP1'!$AY$60:$AY$125,AF65,1),0)","v":0},{"$f":"IF(WPArt>1,INDEX('WP1'!$AX$60:$AX$125,AF65,1),0)","v":0},40]
[null,null,null,null,null,null,null,null,null,null,null,null,null,15,{"$f":"IF(Qh>0,IF(P66>0,IF(Heizung,'WP1'!Z100,0)+IF(WW,Qww*EBF/3.6/8760,0),0),)","v":0},{"$f":"'WP1'!W100/8760","v":0},0,{"$error":"#VALUE!"},{"$f":"'WP1'!Y100","v":{"$error":"#REF!"}},{"$error":"#REF!"},{"$f":"IF(Bivalenzpunkt<N66,IF('WP1'!AB100<O66,'WP1'!AB100,O66),0)","v":0},{"$f":"MIN(Kesselleistung,IF(Laufzeit_Zusatzheizung>=T66,(O66-U66)/Nutzungsgrad+Kesselleistung*'WP1'!$H$45,0))","v":{"$error":"#REF!"}},0,{"$f":"'WP1'!Y100/(1-Kollektor)","v":{"$error":"#REF!"}},{"$error":"#REF!"},{"$f":"IF(Qh>0,IF(P66>0,IF(Heizung,'WP1'!Z100,0),0)+IF(WW,Qww*EBF/3.6/8760,0),)","v":0},"",{"$f":"IF('WP1'!$J$23>2,IF(P66>0,W66,\"\"),0)","v":0},{"$f":"INDEX('WP1'!$AW$60:$AW$125,AF66,1)","v":15},{"$f":"IF(WPArt>1,INDEX('WP1'!$AY$60:$AY$125,AF66,1),0)","v":0},{"$f":"IF(WPArt>1,INDEX('WP1'!$AX$60:$AX$125,AF66,1),0)","v":0},41]
[null,null,null,null,null,null,null,null,null,null,null,null,null,16,{"$f":"IF(Qh>0,IF(P67>0,IF(Heizung,'WP1'!Z101,0)+IF(WW,Qww*EBF/3.6/8760,0),0),)","v":0},{"$f":"'WP1'!W101/8760","v":0},0,{"$error":"#VALUE!"},{"$f":"'WP1'!Y101","v":{"$error":"#REF!"}},{"$error":"#REF!"},{"$f":"IF(Bivalenzpunkt<N67,IF('WP1'!AB101<O67,'WP1'!AB101,O67),0)","v":0},{"$f":"MIN(Kesselleistung,IF(Laufzeit_Zusatzheizung>=T67,(O67-U67)/Nutzungsgrad+Kesselleistung*'WP1'!$H$45,0))","v":{"$error":"#REF!"}},0,{"$f":"'WP1'!Y101/(1-Kollektor)","v":{"$error":"#REF!"}},{"$error":"#REF!"},{"$f":"IF(Qh>0,IF(P67>0,IF(Heizung,'WP1'!Z101,0),0)+IF(WW,Qww*EBF/3.6/8760,0),)","v":0},"",{"$f":"IF('WP1'!$J$23>2,IF(P67>0,W67,\"\"),0)","v":0},{"$f":"INDEX('WP1'!$AW$60:$AW$125,AF67,1)","v":16},{"$f":"IF(WPArt>1,INDEX('WP1'!$AY$60:$AY$125,AF67,1),0)","v":0},{"$f":"IF(WPArt>1,INDEX('WP1'!$AX$60:$AX$125,AF67,1),0)","v":0},42]
[null,null,null,null,null,null,null,null,null,null,null,null,null,17,{"$f":"IF(Qh>0,IF(P68>0,IF(Heizung,'WP1'!Z102,0)+IF(WW,Qww*EBF/3.6/8760,0),0),)","v":0},{"$f":"'WP1'!W102/8760","v":0},0,{"$error":"#VALUE!"},{"$f":"'WP1'!Y102","v":{"$error":"#REF!"}},{"$error":"#REF!"},{"$f":"IF(Bivalenzpunkt<N68,IF('WP1'!AB102<O68,'WP1'!AB102,O68),0)","v":0},{"$f":"MIN(Kesselleistung,IF(Laufzeit_Zusatzheizung>=T68,(O68-U68)/Nutzungsgrad+Kesselleistung*'WP1'!$H$45,0))","v":{"$error":"#REF!"}},0,{"$f":"'WP1'!Y102/(1-Kollektor)","v":{"$error":"#REF!"}},{"$error":"#REF!"},{"$f":"IF(Qh>0,IF(P68>0,IF(Heizung,'WP1'!Z102,0),0)+IF(WW,Qww*EBF/3.6/8760,0),)","v":0},"",{"$f":"IF('WP1'!$J$23>2,IF(P68>0,W68,\"\"),0)","v":0},{"$f":"INDEX('WP1'!$AW$60:$AW$125,AF68,1)","v":17},{"$f":"IF(WPArt>1,INDEX('WP1'!$AY$60:$AY$125,AF68,1),0)","v":0},{"$f":"IF(WPArt>1,INDEX('WP1'!$AX$60:$AX$125,AF68,1),0)","v":0},43]
[null,null,null,null,null,null,null,null,null,null,null,null,null,18,{"$f":"IF(Qh>0,IF(P69>0,IF(Heizung,'WP1'!Z103,0)+IF(WW,Qww*EBF/3.6/8760,0),0),)","v":0},{"$f":"'WP1'!W103/8760","v":0},0,{"$error":"#VALUE!"},{"$f":"'WP1'!Y103","v":{"$error":"#REF!"}},{"$error":"#REF!"},{"$f":"IF(Bivalenzpunkt<N69,IF('WP1'!AB103<O69,'WP1'!AB103,O69),0)","v":0},{"$f":"MIN(Kesselleistung,IF(Laufzeit_Zusatzheizung>=T69,(O69-U69)/Nutzungsgrad+Kesselleistung*'WP1'!$H$45,0))","v":{"$error":"#REF!"}},0,{"$f":"'WP1'!Y103/(1-Kollektor)","v":{"$error":"#REF!"}},{"$error":"#REF!"},{"$f":"IF(Qh>0,IF(P69>0,IF(Heizung,'WP1'!Z103,0),0)+IF(WW,Qww*EBF/3.6/8760,0),)","v":0},"",{"$f":"IF('WP1'!$J$23>2,IF(P69>0,W69,\"\"),0)","v":0},{"$f":"INDEX('WP1'!$AW$60:$AW$125,AF69,1)","v":18},{"$f":"IF(WPArt>1,INDEX('WP1'!$AY$60:$AY$125,AF69,1),0)","v":0},{"$f":"IF(WPArt>1,INDEX('WP1'!$AX$60:$AX$125,AF69,1),0)","v":0},44]
[null,null,null,null,null,null,null,null,null,null,null,null,null,19,{"$f":"IF(Qh>0,IF(P70>0,IF(Heizung,'WP1'!Z104,0)+IF(WW,Qww*EBF/3.6/8760,0),0),)","v":0},{"$f":"'WP1'!W104/8760","v":0},0,{"$error":"#VALUE!"},{"$f":"'WP1'!Y104","v":{"$error":"#REF!"}},{"$error":"#REF!"},{"$f":"IF(Bivalenzpunkt<N70,IF('WP1'!AB104<O70,'WP1'!AB104,O70),0)","v":0},{"$f":"MIN(Kesselleistung,IF(Laufzeit_Zusatzheizung>=T70,(O70-U70)/Nutzungsgrad+Kesselleistung*'WP1'!$H$45,0))","v":{"$error":"#REF!"}},0,{"$f":"'WP1'!Y104/(1-Kollektor)","v":{"$error":"#REF!"}},{"$error":"#REF!"},{"$f":"IF(Qh>0,IF(P70>0,IF(Heizung,'WP1'!Z104,0),0)+IF(WW,Qww*EBF/3.6/8760,0),)","v":0},"",{"$f":"IF('WP1'!$J$23>2,IF(P70>0,W70,\"\"),0)","v":0},{"$f":"INDEX('WP1'!$AW$60:$AW$125,AF70,1)","v":19},{"$f":"IF(WPArt>1,INDEX('WP1'!$AY$60:$AY$125,AF70,1),0)","v":0},{"$f":"IF(WPArt>1,INDEX('WP1'!$AX$60:$AX$125,AF70,1),0)","v":0},45]
[null,null,null,null,null,null,null,null,null,null,null,null,null,20,{"$f":"IF(Qh>0,IF(P71>0,IF(Heizung,'WP1'!Z105,0)+IF(WW,Qww*EBF/3.6/8760,0),0),)","v":0},{"$f":"'WP1'!W105/8760","v":0},0,{"$error":"#VALUE!"},{"$f":"'WP1'!Y105","v":{"$error":"#REF!"}},{"$error":"#REF!"},{"$f":"IF(Bivalenzpunkt<N71,IF('WP1'!AB105<O71,'WP1'!AB105,O71),0)","v":0},{"$f":"MIN(Kesselleistung,IF(Laufzeit_Zusatzheizung>=T71,(O71-U71)/Nutzungsgrad+Kesselleistung*'WP1'!$H$45,0))","v":{"$error":"#REF!"}},0,{"$f":"'WP1'!Y105/(1-Kollektor)","v":{"$error":"#REF!"}},{"$error":"#REF!"},{"$f":"IF(Qh>0,IF(P71>0,IF(Heizung,'WP1'!Z105,0),0)+IF(WW,Qww*EBF/3.6/8760,0),)","v":0},"",{"$f":"IF('WP1'!$J$23>2,IF(P71>0,W71,\"\"),0)","v":0},{"$f":"INDEX('WP1'!$AW$60:$AW$125,AF71,1)","v":20},{"$f":"IF(WPArt>1,INDEX('WP1'!$AY$60:$AY$125,AF71,1),0)","v":0},{"$f":"IF(WPArt>1,INDEX('WP1'!$AX$60:$AX$125,AF71,1),0)","v":0},46]
[null,null,null,null,null,null,null,null,null,null,null,null,null,21,{"$f":"IF(Qh>0,IF(P72>0,IF(Heizung,'WP1'!Z106,0)+IF(WW,Qww*EBF/3.6/8760,0),0),)","v":0},{"$f":"'WP1'!W106/8760","v":0},0,{"$error":"#VALUE!"},{"$f":"'WP1'!Y106","v":{"$error":"#REF!"}},{"$f":"IF(SolWW<8760,SolWW,IF(Laufzeit_Zusatzheizung>Grafik!T92,MIN(8760,Laufzeit_Zusatzheizung),8760))","v":8760},{"$f":"IF(Bivalenzpunkt<N72,IF('WP1'!AB106<O72,'WP1'!AB106,O72),0)","v":0},{"$f":"MIN(Kesselleistung,IF(Laufzeit_Zusatzheizung>=T72,(O72-U72)/Nutzungsgrad+Kesselleistung*'WP1'!$H$45,0))","v":0},0,{"$f":"'WP1'!Y106/(1-Kollektor)","v":{"$error":"#REF!"}},{"$error":"#REF!"},{"$f":"IF(Qh>0,IF(P72>0,IF(Heizung,'WP1'!Z106,0),0)+IF(WW,Qww*EBF/3.6/8760,0),)","v":0},"",{"$f":"IF('WP1'!$J$23>2,IF(P72>0,W72,\"\"),0)","v":0},{"$f":"INDEX('WP1'!$AW$60:$AW$125,AF72,1)","v":21},{"$f":"IF(WPArt>1,INDEX('WP1'!$AY$60:$AY$125,AF72,1),0)","v":0},{"$f":"IF(WPArt>1,INDEX('WP1'!$AX$60:$AX$125,AF72,1),0)","v":0},47]
[null,null,null,null,null,null,null,null,null,null,null,null,null,22,{"$f":"IF(Qh>0,IF(P73>0,IF(Heizung,'WP1'!Z107,0)+IF(WW,Qww*EBF/3.6/8760,0),0),)","v":0},{"$f":"'WP1'!W107/8760","v":0},0,{"$error":"#VALUE!"},{"$f":"'WP1'!Y107","v":{"$error":"#REF!"}},{"$f":"T72","v":8760},{"$f":"IF(Bivalenzpunkt<N73,IF('WP1'!AB107<O73,'WP1'!AB107,O73),0)","v":0},{"$f":"MIN(Kesselleistung,IF(Laufzeit_Zusatzheizung>=T73,(O73-U73)/Nutzungsgrad+Kesselleistung*'WP1'!$H$45,0))","v":0},0,{"$f":"'WP1'!Y107/(1-Kollektor)","v":{"$error":"#REF!"}},{"$error":"#REF!"},{"$f":"IF(Qh>0,IF(P73>0,IF(Heizung,'WP1'!Z107,0),0)+IF(WW,Qww*EBF/3.6/8760,0),)","v":0},"",{"$f":"IF('WP1'!$J$23>2,IF(P73>0,W73,\"\"),0)","v":0},{"$f":"INDEX('WP1'!$AW$60:$AW$125,AF73,1)","v":22},{"$f":"IF(WPArt>1,INDEX('WP1'!$AY$60:$AY$125,AF73,1),0)","v":0},{"$f":"IF(WPArt>1,INDEX('WP1'!$AX$60:$AX$125,AF73,1),0)","v":0},48]
[null,null,null,null,null,null,null,null,null,null,null,null,null,23,{"$f":"IF(Qh>0,IF(P74>0,IF(Heizung,'WP1'!Z108,0)+IF(WW,Qww*EBF/3.6/8760,0),0),)","v":0},{"$f":"'WP1'!W108/8760","v":0},0,{"$error":"#VALUE!"},{"$f":"'WP1'!Y108","v":{"$error":"#REF!"}},{"$f":"T73","v":8760},{"$f":"IF(Bivalenzpunkt<N74,IF('WP1'!AB108<O74,'WP1'!AB108,O74),0)","v":0},{"$f":"MIN(Kesselleistung,IF(Laufzeit_Zusatzheizung>=T74,(O74-U74)/Nutzungsgrad+Kesselleistung*'WP1'!$H$45,0))","v":0},0,{"$f":"'WP1'!Y108/(1-Kollektor)","v":{"$error":"#REF!"}},{"$error":"#REF!"},{"$f":"IF(Qh>0,IF(P74>0,IF(Heizung,'WP1'!Z108,0),0)+IF(WW,Qww*EBF/3.6/8760,0),)","v":0},"",{"$f":"IF('WP1'!$J$23>2,IF(P74>0,W74,\"\"),0)","v":0},{"$f":"INDEX('WP1'!$AW$60:$AW$125,AF74,1)","v":23},{"$f":"IF(WPArt>1,INDEX('WP1'!$AY$60:$AY$125,AF74,1),0)","v":0},{"$f":"IF(WPArt>1,INDEX('WP1'!$AX$60:$AX$125,AF74,1),0)","v":0},49]
[null,null,null,null,null,null,null,null,null,null,null,null,null,24,{"$f":"IF(Qh>0,IF(P75>0,IF(Heizung,'WP1'!Z109,0)+IF(WW,Qww*EBF/3.6/8760,0),0),)","v":0},{"$f":"'WP1'!W109/8760","v":0},0,{"$error":"#VALUE!"},{"$f":"'WP1'!Y109","v":{"$error":"#REF!"}},8760,{"$f":"IF(Bivalenzpunkt<N75,IF('WP1'!AB109<O75,'WP1'!AB109,O75),0)","v":0},{"$f":"MIN(Kesselleistung,IF(Laufzeit_Zusatzheizung>=T75,(O75-U75)/Nutzungsgrad+Kesselleistung*'WP1'!$H$45,0))","v":0},0,{"$f":"'WP1'!Y109/(1-Kollektor)","v":{"$error":"#REF!"}},{"$error":"#REF!"},{"$f":"IF(Qh>0,IF(P75>0,IF(Heizung,'WP1'!Z109,0),0)+IF(WW,Qww*EBF/3.6/8760,0),)","v":0},"",{"$f":"IF('WP1'!$J$23>2,IF(P75>0,W75,\"\"),0)","v":0},{"$f":"INDEX('WP1'!$AW$60:$AW$125,AF75,1)","v":24},{"$f":"IF(WPArt>1,INDEX('WP1'!$AY$60:$AY$125,AF75,1),0)","v":0},{"$f":"IF(WPArt>1,INDEX('WP1'!$AX$60:$AX$125,AF75,1),0)","v":0},50]
[null,null,null,null,null,null,null,null,null,null,null,null,null,25,{"$f":"IF(Qh>0,IF(P76>0,IF(Heizung,'WP1'!Z110,0)+IF(WW,Qww*EBF/3.6/8760,0),0),)","v":0},{"$f":"'WP1'!W110/8760","v":0},0,{"$error":"#VALUE!"},{"$f":"'WP1'!Y110","v":{"$error":"#REF!"}},8760,{"$f":"IF(Bivalenzpunkt<N76,IF('WP1'!AB110<O76,'WP1'!AB110,O76),0)","v":0},{"$f":"MIN(Kesselleistung,IF(Laufzeit_Zusatzheizung>=T76,(O76-U76)/Nutzungsgrad+Kesselleistung*'WP1'!$H$45,0))","v":0},0,{"$f":"'WP1'!Y110/(1-Kollektor)","v":{"$error":"#REF!"}},{"$error":"#REF!"},{"$f":"IF(Qh>0,IF(P76>0,IF(Heizung,'WP1'!Z110,0),0)+IF(WW,Qww*EBF/3.6/8760,0),)","v":0},"",{"$f":"IF('WP1'!$J$23>2,IF(P76>0,W76,\"\"),0)","v":0},{"$f":"INDEX('WP1'!$AW$60:$AW$125,AF76,1)","v":25},{"$f":"IF(WPArt>1,INDEX('WP1'!$AY$60:$AY$125,AF76,1),0)","v":0},{"$f":"IF(WPArt>1,INDEX('WP1'!$AX$60:$AX$125,AF76,1),0)","v":0},51]
[null,null,null,null,null,null,null,null,null,null,null,null,null,26,{"$f":"IF(Qh>0,IF(P77>0,IF(Heizung,'WP1'!Z111,0)+IF(WW,Qww*EBF/3.6/8760,0),0),)","v":0},{"$f":"'WP1'!W111/8760","v":0},0,{"$error":"#VALUE!"},{"$f":"'WP1'!Y111","v":{"$error":"#REF!"}},8760,{"$f":"IF(Bivalenzpunkt<N77,IF('WP1'!AB111<O77,'WP1'!AB111,O77),0)","v":0},{"$f":"MIN(Kesselleistung,IF(Laufzeit_Zusatzheizung>=T77,(O77-U77)/Nutzungsgrad+Kesselleistung*'WP1'!$H$45,0))","v":0},0,{"$f":"'WP1'!Y111/(1-Kollektor)","v":{"$error":"#REF!"}},{"$error":"#REF!"},{"$f":"IF(Qh>0,IF(P77>0,IF(Heizung,'WP1'!Z111,0),0)+IF(WW,Qww*EBF/3.6/8760,0),)","v":0},"",{"$f":"IF('WP1'!$J$23>2,IF(P77>0,W77,\"\"),0)","v":0},{"$f":"INDEX('WP1'!$AW$60:$AW$125,AF77,1)","v":26},{"$f":"IF(WPArt>1,INDEX('WP1'!$AY$60:$AY$125,AF77,1),0)","v":0},{"$f":"IF(WPArt>1,INDEX('WP1'!$AX$60:$AX$125,AF77,1),0)","v":0},52]
[null,null,null,null,null,null,null,null,null,null,null,null,null,27,{"$f":"IF(Qh>0,IF(P78>0,IF(Heizung,'WP1'!Z112,0)+IF(WW,Qww*EBF/3.6/8760,0),0),)","v":0},{"$f":"'WP1'!W112/8760","v":0},0,{"$error":"#VALUE!"},{"$f":"'WP1'!Y112","v":{"$error":"#REF!"}},8760,{"$f":"IF(Bivalenzpunkt<N78,IF('WP1'!AB112<O78,'WP1'!AB112,O78),0)","v":0},{"$f":"MIN(Kesselleistung,IF(Laufzeit_Zusatzheizung>=T78,(O78-U78)/Nutzungsgrad+Kesselleistung*'WP1'!$H$45,0))","v":0},0,{"$f":"'WP1'!Y112/(1-Kollektor)","v":{"$error":"#REF!"}},{"$error":"#REF!"},{"$f":"IF(Qh>0,IF(P78>0,IF(Heizung,'WP1'!Z112,0),0)+IF(WW,Qww*EBF/3.6/8760,0),)","v":0},"",{"$f":"IF('WP1'!$J$23>2,IF(P78>0,W78,\"\"),0)","v":0},{"$f":"INDEX('WP1'!$AW$60:$AW$125,AF78,1)","v":27},{"$f":"IF(WPArt>1,INDEX('WP1'!$AY$60:$AY$125,AF78,1),0)","v":0},{"$f":"IF(WPArt>1,INDEX('WP1'!$AX$60:$AX$125,AF78,1),0)","v":0},53]
[null,null,null,null,null,null,null,null,null,null,null,null,null,28,{"$f":"IF(Qh>0,IF(P79>0,IF(Heizung,'WP1'!Z113,0)+IF(WW,Qww*EBF/3.6/8760,0),0),)","v":0},{"$f":"'WP1'!W113/8760","v":0},0,{"$error":"#VALUE!"},{"$f":"'WP1'!Y113","v":{"$error":"#REF!"}},8760,{"$f":"IF(Bivalenzpunkt<N79,IF('WP1'!AB113<O79,'WP1'!AB113,O79),0)","v":0},{"$f":"MIN(Kesselleistung,IF(Laufzeit_Zusatzheizung>=T79,(O79-U79)/Nutzungsgrad+Kesselleistung*'WP1'!$H$45,0))","v":0},0,{"$f":"'WP1'!Y113/(1-Kollektor)","v":{"$error":"#REF!"}},{"$error":"#REF!"},{"$f":"IF(Qh>0,IF(P79>0,IF(Heizung,'WP1'!Z113,0),0)+IF(WW,Qww*EBF/3.6/8760,0),)","v":0},"",{"$f":"IF('WP1'!$J$23>2,IF(P79>0,W79,\"\"),0)","v":0},{"$f":"INDEX('WP1'!$AW$60:$AW$125,AF79,1)","v":28},{"$f":"IF(WPArt>1,INDEX('WP1'!$AY$60:$AY$125,AF79,1),0)","v":0},{"$f":"IF(WPArt>1,INDEX('WP1'!$AX$60:$AX$125,AF79,1),0)","v":0},54]
[null,null,null,null,null,null,null,null,null,null,null,null,null,29,{"$f":"IF(Qh>0,IF(P80>0,IF(Heizung,'WP1'!Z114,0)+IF(WW,Qww*EBF/3.6/8760,0),0),)","v":0},{"$f":"'WP1'!W114/8760","v":0},0,{"$error":"#VALUE!"},{"$f":"'WP1'!Y114","v":{"$error":"#REF!"}},8760,{"$f":"IF(Bivalenzpunkt<N80,IF('WP1'!AB114<O80,'WP1'!AB114,O80),0)","v":0},{"$f":"MIN(Kesselleistung,IF(Laufzeit_Zusatzheizung>=T80,(O80-U80)/Nutzungsgrad+Kesselleistung*'WP1'!$H$45,0))","v":0},0,{"$f":"'WP1'!Y114/(1-Kollektor)","v":{"$error":"#REF!"}},{"$error":"#REF!"},{"$f":"IF(Qh>0,IF(P80>0,IF(Heizung,'WP1'!Z114,0),0)+IF(WW,Qww*EBF/3.6/8760,0),)","v":0},"",{"$f":"IF('WP1'!$J$23>2,IF(P80>0,W80,\"\"),0)","v":0},{"$f":"INDEX('WP1'!$AW$60:$AW$125,AF80,1)","v":29},{"$f":"IF(WPArt>1,INDEX('WP1'!$AY$60:$AY$125,AF80,1),0)","v":0},{"$f":"IF(WPArt>1,INDEX('WP1'!$AX$60:$AX$125,AF80,1),0)","v":0},55]
[null,null,null,null,null,null,null,null,null,null,null,null,null,30,{"$f":"IF(Qh>0,IF(P81>0,IF(Heizung,'WP1'!Z115,0)+IF(WW,Qww*EBF/3.6/8760,0),0),)","v":0},{"$f":"'WP1'!W115/8760","v":0},0,{"$error":"#VALUE!"},{"$f":"'WP1'!Y115","v":{"$error":"#REF!"}},8760,{"$f":"IF(Bivalenzpunkt<N81,IF('WP1'!AB115<O81,'WP1'!AB115,O81),0)","v":0},{"$f":"MIN(Kesselleistung,IF(Laufzeit_Zusatzheizung>=T81,(O81-U81)/Nutzungsgrad+Kesselleistung*'WP1'!$H$45,0))","v":0},0,{"$f":"'WP1'!Y115/(1-Kollektor)","v":{"$error":"#REF!"}},{"$error":"#REF!"},{"$f":"IF(Qh>0,IF(P81>0,IF(Heizung,'WP1'!Z115,0),0)+IF(WW,Qww*EBF/3.6/8760,0),)","v":0},"",{"$f":"IF('WP1'!$J$23>2,IF(P81>0,W81,\"\"),0)","v":0},{"$f":"INDEX('WP1'!$AW$60:$AW$125,AF81,1)","v":30},{"$f":"IF(WPArt>1,INDEX('WP1'!$AY$60:$AY$125,AF81,1),0)","v":0},{"$f":"IF(WPArt>1,INDEX('WP1'!$AX$60:$AX$125,AF81,1),0)","v":0},56]
[null,null,null,null,null,null,null,null,null,null,null,null,null,31,{"$f":"IF(Qh>0,IF(P82>0,IF(Heizung,'WP1'!Z116,0)+IF(WW,Qww*EBF/3.6/8760,0),0),)","v":0},{"$f":"'WP1'!W116/8760","v":0},0,{"$error":"#VALUE!"},{"$f":"'WP1'!Y116","v":{"$error":"#REF!"}},8760,{"$f":"IF(Bivalenzpunkt<N82,IF('WP1'!AB116<O82,'WP1'!AB116,O82),0)","v":0},{"$f":"MIN(Kesselleistung,IF(Laufzeit_Zusatzheizung>=T82,(O82-U82)/Nutzungsgrad+Kesselleistung*'WP1'!$H$45,0))","v":0},0,{"$f":"'WP1'!Y116/(1-Kollektor)","v":{"$error":"#REF!"}},{"$error":"#REF!"},{"$f":"IF(Qh>0,IF(P82>0,IF(Heizung,'WP1'!Z116,0),0)+IF(WW,Qww*EBF/3.6/8760,0),)","v":0},"",{"$f":"IF('WP1'!$J$23>2,IF(P82>0,W82,\"\"),0)","v":0},{"$f":"INDEX('WP1'!$AW$60:$AW$125,AF82,1)","v":31},{"$f":"IF(WPArt>1,INDEX('WP1'!$AY$60:$AY$125,AF82,1),0)","v":0},{"$f":"IF(WPArt>1,INDEX('WP1'!$AX$60:$AX$125,AF82,1),0)","v":0},57]
[null,null,null,null,null,null,null,null,null,null,null,null,null,32,{"$f":"IF(Qh>0,IF(P83>0,IF(Heizung,'WP1'!Z117,0)+IF(WW,Qww*EBF/3.6/8760,0),0),)","v":0},{"$f":"'WP1'!W117/8760","v":0},0,{"$error":"#VALUE!"},{"$f":"'WP1'!Y117","v":{"$error":"#REF!"}},8760,{"$f":"IF(Bivalenzpunkt<N83,IF('WP1'!AB117<O83,'WP1'!AB117,O83),0)","v":0},{"$f":"MIN(Kesselleistung,IF(Laufzeit_Zusatzheizung>=T83,(O83-U83)/Nutzungsgrad+Kesselleistung*'WP1'!$H$45,0))","v":0},0,{"$f":"'WP1'!Y117/(1-Kollektor)","v":{"$error":"#REF!"}},{"$error":"#REF!"},{"$f":"IF(Qh>0,IF(P83>0,IF(Heizung,'WP1'!Z117,0),0)+IF(WW,Qww*EBF/3.6/8760,0),)","v":0},"",{"$f":"IF('WP1'!$J$23>2,IF(P83>0,W83,\"\"),0)","v":0},{"$f":"INDEX('WP1'!$AW$60:$AW$125,AF83,1)","v":32},{"$f":"IF(WPArt>1,INDEX('WP1'!$AY$60:$AY$125,AF83,1),0)","v":0},{"$f":"IF(WPArt>1,INDEX('WP1'!$AX$60:$AX$125,AF83,1),0)","v":0},58]
[null,null,null,null,null,null,null,null,null,null,null,null,null,33,{"$f":"IF(Qh>0,IF(P84>0,IF(Heizung,'WP1'!Z118,0)+IF(WW,Qww*EBF/3.6/8760,0),0),)","v":0},{"$f":"'WP1'!W118/8760","v":0},0,{"$error":"#VALUE!"},{"$f":"'WP1'!Y118","v":{"$error":"#REF!"}},8760,{"$f":"IF(Bivalenzpunkt<N84,IF('WP1'!AB118<O84,'WP1'!AB118,O84),0)","v":0},{"$f":"MIN(Kesselleistung,IF(Laufzeit_Zusatzheizung>=T84,(O84-U84)/Nutzungsgrad+Kesselleistung*'WP1'!$H$45,0))","v":0},0,{"$f":"'WP1'!Y118/(1-Kollektor)","v":{"$error":"#REF!"}},{"$error":"#REF!"},{"$f":"IF(Qh>0,IF(P84>0,IF(Heizung,'WP1'!Z118,0),0)+IF(WW,Qww*EBF/3.6/8760,0),)","v":0},"",{"$f":"IF('WP1'!$J$23>2,IF(P84>0,W84,\"\"),0)","v":0},{"$f":"INDEX('WP1'!$AW$60:$AW$125,AF84,1)","v":33},{"$f":"IF(WPArt>1,INDEX('WP1'!$AY$60:$AY$125,AF84,1),0)","v":0},{"$f":"IF(WPArt>1,INDEX('WP1'!$AX$60:$AX$125,AF84,1),0)","v":0},59]
[null,null,null,null,null,null,null,null,null,null,null,null,null,34,{"$f":"IF(Qh>0,IF(P85>0,IF(Heizung,'WP1'!Z119,0)+IF(WW,Qww*EBF/3.6/8760,0),0),)","v":0},{"$f":"'WP1'!W119/8760","v":0},0,{"$error":"#VALUE!"},{"$f":"'WP1'!Y119","v":{"$error":"#REF!"}},8760,{"$f":"IF(Bivalenzpunkt<N85,IF('WP1'!AB119<O85,'WP1'!AB119,O85),0)","v":0},{"$f":"MIN(Kesselleistung,IF(Laufzeit_Zusatzheizung>=T85,(O85-U85)/Nutzungsgrad+Kesselleistung*'WP1'!$H$45,0))","v":0},0,{"$f":"'WP1'!Y119/(1-Kollektor)","v":{"$error":"#REF!"}},{"$error":"#REF!"},{"$f":"IF(Qh>0,IF(P85>0,IF(Heizung,'WP1'!Z119,0),0)+IF(WW,Qww*EBF/3.6/8760,0),)","v":0},"",{"$f":"IF('WP1'!$J$23>2,IF(P85>0,W85,\"\"),0)","v":0},{"$f":"INDEX('WP1'!$AW$60:$AW$125,AF85,1)","v":34},{"$f":"IF(WPArt>1,INDEX('WP1'!$AY$60:$AY$125,AF85,1),0)","v":0},{"$f":"IF(WPArt>1,INDEX('WP1'!$AX$60:$AX$125,AF85,1),0)","v":0},60]
[null,null,null,null,null,null,null,null,null,null,null,null,null,35,{"$f":"IF(Qh>0,IF(P86>0,IF(Heizung,'WP1'!Z120,0)+IF(WW,Qww*EBF/3.6/8760,0),0),)","v":0},{"$f":"'WP1'!W120/8760","v":0},0,{"$error":"#VALUE!"},{"$f":"'WP1'!Y120","v":{"$error":"#REF!"}},8760,{"$f":"IF(Bivalenzpunkt<N86,IF('WP1'!AB120<O86,'WP1'!AB120,O86),0)","v":0},{"$f":"MIN(Kesselleistung,IF(Laufzeit_Zusatzheizung>=T86,(O86-U86)/Nutzungsgrad+Kesselleistung*'WP1'!$H$45,0))","v":0},0,{"$f":"'WP1'!Y120/(1-Kollektor)","v":{"$error":"#REF!"}},{"$error":"#REF!"},{"$f":"IF(Qh>0,IF(P86>0,IF(Heizung,'WP1'!Z120,0),0)+IF(WW,Qww*EBF/3.6/8760,0),)","v":0},"",{"$f":"IF('WP1'!$J$23>2,IF(P86>0,W86,\"\"),0)","v":0},{"$f":"INDEX('WP1'!$AW$60:$AW$125,AF86,1)","v":35},{"$f":"IF(WPArt>1,INDEX('WP1'!$AY$60:$AY$125,AF86,1),0)","v":0},{"$f":"IF(WPArt>1,INDEX('WP1'!$AX$60:$AX$125,AF86,1),0)","v":0},61]
[null,null,null,null,null,null,null,null,null,null,null,null,null,36,{"$f":"IF(Qh>0,IF(P87>0,IF(Heizung,'WP1'!Z121,0)+IF(WW,Qww*EBF/3.6/8760,0),0),)","v":0},{"$f":"'WP1'!W121/8760","v":0},0,{"$error":"#VALUE!"},{"$f":"'WP1'!Y121","v":{"$error":"#REF!"}},8760,{"$f":"IF(Bivalenzpunkt<N87,IF('WP1'!AB121<O87,'WP1'!AB121,O87),0)","v":0},{"$f":"MIN(Kesselleistung,IF(Laufzeit_Zusatzheizung>=T87,(O87-U87)/Nutzungsgrad+Kesselleistung*'WP1'!$H$45,0))","v":0},0,{"$f":"'WP1'!Y121/(1-Kollektor)","v":{"$error":"#REF!"}},{"$error":"#REF!"},{"$f":"IF(Qh>0,IF(P87>0,IF(Heizung,'WP1'!Z121,0),0)+IF(WW,Qww*EBF/3.6/8760,0),)","v":0},"",{"$f":"IF('WP1'!$J$23>2,IF(P87>0,W87,\"\"),0)","v":0},{"$f":"INDEX('WP1'!$AW$60:$AW$125,AF87,1)","v":36},{"$f":"IF(WPArt>1,INDEX('WP1'!$AY$60:$AY$125,AF87,1),0)","v":0},{"$f":"IF(WPArt>1,INDEX('WP1'!$AX$60:$AX$125,AF87,1),0)","v":0},62]
[null,null,null,null,null,null,null,null,null,null,null,null,null,37,{"$f":"IF(Qh>0,IF(P88>0,IF(Heizung,'WP1'!Z122,0)+IF(WW,Qww*EBF/3.6/8760,0),0),)","v":0},{"$f":"'WP1'!W122/8760","v":0},0,{"$error":"#VALUE!"},{"$f":"'WP1'!Y122","v":{"$error":"#REF!"}},8760,{"$f":"IF(Bivalenzpunkt<N88,IF('WP1'!AB122<O88,'WP1'!AB122,O88),0)","v":0},{"$f":"MIN(Kesselleistung,IF(Laufzeit_Zusatzheizung>=T88,(O88-U88)/Nutzungsgrad+Kesselleistung*'WP1'!$H$45,0))","v":0},0,{"$f":"'WP1'!Y122/(1-Kollektor)","v":{"$error":"#REF!"}},{"$error":"#REF!"},{"$f":"IF(Qh>0,IF(P88>0,IF(Heizung,'WP1'!Z122,0),0)+IF(WW,Qww*EBF/3.6/8760,0),)","v":0},"",{"$f":"IF('WP1'!$J$23>2,IF(P88>0,W88,\"\"),0)","v":0},{"$f":"INDEX('WP1'!$AW$60:$AW$125,AF88,1)","v":37},{"$f":"IF(WPArt>1,INDEX('WP1'!$AY$60:$AY$125,AF88,1),0)","v":0},{"$f":"IF(WPArt>1,INDEX('WP1'!$AX$60:$AX$125,AF88,1),0)","v":0},63]
[null,null,null,null,null,null,null,null,null,null,null,null,null,38,{"$f":"IF(Qh>0,IF(P89>0,IF(Heizung,'WP1'!Z123,0)+IF(WW,Qww*EBF/3.6/8760,0),0),)","v":0},{"$f":"'WP1'!W123/8760","v":0},0,{"$error":"#VALUE!"},{"$f":"'WP1'!Y123","v":{"$error":"#REF!"}},8760,{"$f":"IF(Bivalenzpunkt<N89,IF('WP1'!AB123<O89,'WP1'!AB123,O89),0)","v":0},{"$f":"MIN(Kesselleistung,IF(Laufzeit_Zusatzheizung>=T89,(O89-U89)/Nutzungsgrad+Kesselleistung*'WP1'!$H$45,0))","v":0},0,{"$f":"'WP1'!Y123/(1-Kollektor)","v":{"$error":"#REF!"}},{"$error":"#REF!"},{"$f":"IF(Qh>0,IF(P89>0,IF(Heizung,'WP1'!Z123,0),0)+IF(WW,Qww*EBF/3.6/8760,0),)","v":0},"",{"$f":"IF('WP1'!$J$23>2,IF(P89>0,W89,\"\"),0)","v":0},{"$f":"INDEX('WP1'!$AW$60:$AW$125,AF89,1)","v":38},{"$f":"IF(WPArt>1,INDEX('WP1'!$AY$60:$AY$125,AF89,1),0)","v":0},{"$f":"IF(WPArt>1,INDEX('WP1'!$AX$60:$AX$125,AF89,1),0)","v":0},64]
[null,null,null,null,null,null,null,null,null,null,null,null,null,39,{"$f":"IF(Qh>0,IF(P90>0,IF(Heizung,'WP1'!Z124,0)+IF(WW,Qww*EBF/3.6/8760,0),0),)","v":0},{"$f":"'WP1'!W124/8760","v":0},0,{"$error":"#VALUE!"},{"$f":"'WP1'!Y124","v":{"$error":"#REF!"}},8760,{"$f":"IF(Bivalenzpunkt<N90,IF('WP1'!AB124<O90,'WP1'!AB124,O90),0)","v":0},{"$f":"MIN(Kesselleistung,IF(Laufzeit_Zusatzheizung>=T90,(O90-U90)/Nutzungsgrad+Kesselleistung*'WP1'!$H$45,0))","v":0},0,{"$f":"'WP1'!Y124/(1-Kollektor)","v":{"$error":"#REF!"}},{"$error":"#REF!"},{"$f":"IF(Qh>0,IF(P90>0,IF(Heizung,'WP1'!Z124,0),0)+IF(WW,Qww*EBF/3.6/8760,0),)","v":0},"",{"$f":"IF('WP1'!$J$23>2,IF(P90>0,W90,\"\"),0)","v":0},{"$f":"INDEX('WP1'!$AW$60:$AW$125,AF90,1)","v":39},{"$f":"IF(WPArt>1,INDEX('WP1'!$AY$60:$AY$125,AF90,1),0)","v":0},{"$f":"IF(WPArt>1,INDEX('WP1'!$AX$60:$AX$125,AF90,1),0)","v":0},65]
[null,null,null,null,null,null,null,null,null,null,null,null,null,40,{"$f":"IF(Qh>0,IF(P91>0,IF(Heizung,'WP1'!Z125,0)+IF(WW,Qww*EBF/3.6/8760,0),0),)","v":0},{"$f":"'WP1'!W125/8760","v":0},{"$f":"P91*8760","v":0},{"$error":"#VALUE!"},{"$f":"'WP1'!Y125","v":{"$error":"#REF!"}},8760,{"$f":"IF(Bivalenzpunkt<N91,IF('WP1'!AB125<O91,'WP1'!AB125,O91),0)","v":0},{"$f":"MIN(Kesselleistung,IF(Laufzeit_Zusatzheizung>=T91,(O91-U91)/Nutzungsgrad+Kesselleistung*'WP1'!$H$45,0))","v":0},0,{"$f":"'WP1'!Y125/(1-Kollektor)","v":{"$error":"#REF!"}},{"$error":"#REF!"},{"$f":"IF(Qh>0,IF(P91>0,IF(Heizung,'WP1'!Z125,0),0)+IF(WW,Qww*EBF/3.6/8760,0),)","v":0},"",{"$f":"IF('WP1'!$J$23>2,IF(P91>0,W91,\"\"),0)","v":0},{"$f":"INDEX('WP1'!$AW$60:$AW$125,AF91,1)","v":40},{"$f":"IF(WPArt>1,INDEX('WP1'!$AY$60:$AY$125,AF91,1),0)","v":0},{"$f":"IF(WPArt>1,INDEX('WP1'!$AX$60:$AX$125,AF91,1),0)","v":0},66]
[null,null,null,null,null,null,null,null,null,null,null,null,null,"Zusatz:",null,null,null,null,null,null,null,null,null,null,8760,{"$f":"IF(Qh>0,IF(P92>0,IF(Heizung,'WP1'!Z126,0),0)+IF(WW,Qww*EBF/3.6/8760,0),)","v":0},null,{"$f":"IF('WP1'!$J$23>2,IF(P92>0,W92,\"\"),0)","v":0},null,{"$f":"IF('WP1'!$J$23>2,IF(R92>0,Y92,\"\"),0)","v":0},{"$f":"IF('WP1'!$J$23>2,IF(S92>0,Z92,\"\"),0)","v":0},67]
[null,null,null,null,null,null,null,null,null,null,null,null,null,"Total:",null,{"$f":"SUM(P25:P92)","v":{"$error":"#VALUE!"}},{"$f":"SUM(Q25:Q92)","v":{"$error":"#VALUE!"}},null,{"$f":"SUM(S25:S92)","v":{"$error":"#REF!"}},null,null,null,null,{"$f":"SUM(X25:X92)","v":{"$error":"#REF!"}}]

{"sheet":"Spez","index":7,"n_rows":89,"n_cols":41,"rows_kept":89,"cut":false,"hidden":false,"merged":[[52,7,52,9],[43,7,43,9],[44,7,44,9],[36,7,36,9],[51,7,51,9],[47,4,47,9],[49,13,49,14],[40,13,40,14],[1,8,1,9],[11,1,12,1],[43,15,43,16],[4,4,4,9],[30,4,30,9],[25,13,25,14],[43,13,43,14],[31,13,31,14],[35,7,35,9],[43,17,43,18],[5,5,5,6],[5,8,5,9],[25,15,25,16],[34,15,34,16],[34,13,34,14],[39,4,39,9]]}
[]
[null,{"$f":"Sprache!B289","v":"PAC, spécifications individuelles"},null,null,null,null,null,null,{"$f":"Sprache!B8","v":"WPesti / V 8.3.33 / 27.09.2024                valable jusqu'à 31.12.2025"},null,null,"Einträge:"]
[]
[null,{"$f":"Sprache!B290","v":"Données de la PAC"},null,null,null,null,null,null,null,null,null,null,"max Heizleistung:",{"$f":"IF(WPArt<>6,MAX(F9:H9),'WP1'!W52)","v":0},"kW",null,null,null,"berücksichtigen?",null,null,"Geordnete Kenndaten",null,null,null,null,null,null,null,null,null,null,null,null,"Einsatzgrenzen"]
[null,{"$f":"Sprache!B23","v":"Nom et type de PAC"},null,null,null,null,null,null,null,null,null,{"$f":"IF(E5<>\"\",TRUE,FALSE)","v":false},"max Heizleistung WW:",{"$f":"IF(WPArt<>6,MAX(F9:H9),'WP1'!W52)","v":0},"kW",null,{"$f":"Sprache!B322","v":"inclus dans le COP"},"Ventilator:",{"$f":"IF(Q5=I6,FALSE,TRUE)","v":true},null,null,"Rang",null,{"$f":"T9","v":0},{"$f":"IF((X5-1)>0,X5-1,1)","v":1},{"$f":"IF((Y5-1)>0,Y5-1,1)","v":1},{"$f":"IF((Z5-1)>0,Z5-1,1)","v":1},{"$f":"IF((AA5-1)>0,AA5-1,1)","v":1},null,null,null,null,null,null,30,null,{"$f":"IF(WPArt=2,-20,-5)","v":-5},{"$f":"IF($F$8<>\"\",IF($F$8>=AK5,\"\",AK5),AK5)","v":-5},{"$f":"IF($G$8<>\"\",IF($G$8>=AL5,\"\",AL5),AK5)","v":-5},{"$f":"IF($H$8<>\"\",IF($H$8>=AM5,\"\",AM5),AK5)","v":-5},{"$f":"IF($I$8<>\"\",IF($I$8>=AN5,\"\",AN5),AK5)","v":-5}]
[null,{"$f":"Sprache!B291","v":"Données de puissance de la PAC"},null,{"$f":"Sprache!B292","v":"Pompes:"},{"$f":"Sprache!B293","v":"Consenseur"},null,null,{"$f":"IF(WPArt=2,\"Ventilator:\",Sprache!B294)","v":"Evaporateur"},null,null,null,null,null,null,null,null,{"$f":"Sprache!B323","v":"non calculé"},"Kondensatorpump:",{"$f":"IF(Q5=F6,FALSE,TRUE)","v":true},null,null,"Index",null,{"$f":"MATCH(X5,$N9:$R9,0)","v":{"$error":"#N/A"}},{"$f":"MATCH(Y5,$N9:$R9,0)","v":{"$error":"#N/A"}},{"$f":"MATCH(Z5,$N9:$R9,0)","v":{"$error":"#N/A"}},{"$f":"MATCH(AA5,$N9:$R9,0)","v":{"$error":"#N/A"}},{"$f":"MATCH(AB5,$N9:$R9,0)","v":{"$error":"#N/A"}},null,null,null,null,null,null,31,null,{"$f":"AK5+1","v":-4},{"$f":"IF($F$8<>\"\",IF($F$8>=AK6,\"\",AK6),AK6)","v":-4},{"$f":"IF($G$8<>\"\",IF($G$8>=AL6,\"\",AL6),AK6)","v":-4},{"$f":"IF($H$8<>\"\",IF($H$8>=AM6,\"\",AM6),AK6)","v":-4},{"$f":"IF($I$8<>\"\",IF($I$8>=AN6,\"\",AN6),AK6)","v":-4}]
[null,null,null,null,null,{"$f":"Sprache!B296","v":"Données introduites en ordre croissant selon la température de la source"},null,null,null,null,null,null,"Datensatzüberprüfung",null,null,null,null,null,null,null,null,"T Vorlauf",{"$f":"C10","v":0},"°C",null,null,null,null,null,null,null,null,null,null,32,null,{"$f":"AK6+1","v":-3},-3,-3,-3,-3]
[null,{"$f":"Sprache!B112","v":"Chauffage"},{"$f":"Sprache!B297","v":"T Dep"},{"$f":"Sprache!B301","v":"Température de la source de chaleur:"},"°C",null,null,null,null,null,null,null,"Überprüfung Datensätze",{"$f":"IF(AND(ISNUMBER(F8),ISNUMBER(N17),ISNUMBER(N13)),F8,\"x\")","v":"x"},{"$f":"IF(AND(ISNUMBER(G8),ISNUMBER(O17),ISNUMBER(O13)),G8,\"x\")","v":"x"},{"$f":"IF(AND(ISNUMBER(H8),ISNUMBER(P17),ISNUMBER(P13)),H8,\"x\")","v":"x"},{"$f":"IF(AND(ISNUMBER(I8),ISNUMBER(Q17),ISNUMBER(Q13)),I8,\"x\")","v":"x"},{"$f":"IF(AND(ISNUMBER(J8),ISNUMBER(R17),ISNUMBER(R13)),J8,\"x\")","v":"x"},null,null,null,"T Quelle",null,{"$f":"OFFSET($E8,0,X6)","v":{"$error":"#N/A"}},{"$f":"OFFSET($E8,0,Y6)","v":{"$error":"#N/A"}},{"$f":"OFFSET($E8,0,Z6)","v":{"$error":"#N/A"}},{"$f":"OFFSET($E8,0,AA6)","v":{"$error":"#N/A"}},{"$f":"OFFSET($E8,0,AB6)","v":{"$error":"#N/A"}},null,null,null,null,null,null,33,null,-2,-2,-2,-2,-2]
[null,null,"°C",{"$f":"Sprache!B299","v":"Puissance therm."},"kW",null,null,null,null,null,null,null,"Rang T Quelle",{"$f":"IF(N8=\"x\",\"x\",RANK(N8,$N8:$R8))","v":"x"},{"$f":"IF(O8=\"x\",\"x\",RANK(O8,$N8:$R8))","v":"x"},{"$f":"IF(P8=\"x\",\"x\",RANK(P8,$N8:$R8))","v":"x"},{"$f":"IF(Q8=\"x\",\"x\",RANK(Q8,$N8:$R8))","v":"x"},{"$f":"IF(R8=\"x\",\"x\",RANK(R8,$N8:$R8))","v":"x"},"Anz. gültige Datensätze",{"$f":"MAX(N9:R9)","v":0},null,"COP",null,{"$f":"OFFSET($M17,0,X6)","v":{"$error":"#N/A"}},{"$f":"OFFSET($M17,0,Y6)","v":{"$error":"#N/A"}},{"$error":"#N/A"},{"$error":"#N/A"},{"$error":"#N/A"},null,null,null,null,null,null,34,null,-1,-1,-1,-1,-1]
[null,{"$f":"C8&\" \"&C10&\" \"&C9","v":"T Dep  °C"},null,{"$f":"Sprache!B300","v":"COP"},"-",null,null,null,null,null,null,null,null,null,null,null,null,null,"Max Quelle",{"$f":"AB8","v":{"$error":"#N/A"}},null,"Heizleistung",null,{"$f":"OFFSET($E9,0,X6)","v":{"$error":"#N/A"}},{"$f":"OFFSET($E9,0,Y6)","v":{"$error":"#N/A"}},{"$f":"OFFSET($E9,0,Z6)","v":{"$error":"#N/A"}},{"$f":"OFFSET($E9,0,AA6)","v":{"$error":"#N/A"}},{"$f":"OFFSET($E9,0,AB6)","v":{"$error":"#N/A"}},null,null,null,null,null,null,35,null,0,0,0,0,0]
[null,null,null,null,null,null,null,null,null,null,null,null,"Eingabedaten für Spez-WP:",null,null,null,null,null,null,null,null,"T Vorlauf",{"$f":"L14","v":60},"°C",null,null,null,null,null,null,null,null,null,null,36,null,1,1,1,1,1]
[null,{"$f":"Sprache!B113","v":"ECS eau chaude sanitaire"},{"$f":"Sprache!B297","v":"T Dep"},{"$f":"Sprache!B301","v":"Température de la source de chaleur:"},"°C",{"$f":"IF(ISNUMBER(F8),F8,\"\")","v":""},{"$f":"IF(ISNUMBER(G8),G8,\"\")","v":""},{"$f":"IF(ISNUMBER(H8),H8,\"\")","v":""},{"$f":"IF(ISNUMBER(I8),I8,\"\")","v":""},{"$f":"IF(ISNUMBER(J8),J8,\"\")","v":""},null,null,{"$f":"\"COP Heizung bei T Vorlauf\"&C2","v":"COP Heizung bei T Vorlauf"},{"$f":"IF(WPArt=6,0,F10)","v":0},{"$f":"IF(WPArt=6,0,G10)","v":0},{"$f":"IF(WPArt=6,0,H10)","v":0},{"$f":"IF(WPArt=6,0,I10)","v":0},{"$f":"IF(WPArt=6,0,J10)","v":0},null,null,null,"T Quelle",null,{"$f":"OFFSET($E12,0,X6)","v":{"$error":"#N/A"}},{"$f":"OFFSET($E12,0,Y6)","v":{"$error":"#N/A"}},{"$f":"OFFSET($E12,0,Z6)","v":{"$error":"#N/A"}},{"$f":"OFFSET($E12,0,AA6)","v":{"$error":"#N/A"}},{"$f":"OFFSET($E12,0,AB6)","v":{"$error":"#N/A"}},null,null,null,null,null,null,37,null,2,2,2,2,2]
[null,null,"°C",{"$f":"Sprache!B299","v":"Puissance therm."},"kW",null,null,null,null,null,null,null,"Heizleistung",{"$f":"IF(WPArt=6,0,F9)","v":0},{"$f":"IF(WPArt=6,0,G9)","v":0},{"$f":"IF(WPArt=6,0,H9)","v":0},{"$f":"IF(WPArt=6,0,I9)","v":0},{"$f":"IF(WPArt=6,0,J9)","v":0},null,null,null,"COP",null,{"$f":"OFFSET($M18,0,X6)","v":{"$error":"#N/A"}},{"$f":"OFFSET($M18,0,Y6)","v":{"$error":"#N/A"}},{"$error":"#N/A"},{"$error":"#N/A"},{"$error":"#N/A"},null,null,null,null,null,null,38,null,3,3,3,3,3]
[null,{"$f":"C12&\" \"&L14&\" \"&C13","v":"T Dep 60 °C"},null,{"$f":"Sprache!B300","v":"COP"},"-",null,null,null,null,null,null,{"$f":"IF(C14=\"\",60,C14)","v":60},{"$f":"\"COP WW bei T Vorlauf\"&C7","v":"COP WW bei T Vorlauf"},{"$f":"IF(WPArt=6,0,F14)","v":0},{"$f":"IF(WPArt=6,0,G14)","v":0},{"$f":"IF(WPArt=6,0,H14)","v":0},{"$f":"IF(WPArt=6,0,I14)","v":0},{"$f":"IF(WPArt=6,0,J14)","v":0},null,null,null,"Heizleistung",null,{"$f":"OFFSET($E13,0,X6)","v":{"$error":"#N/A"}},{"$f":"OFFSET($E13,0,Y6)","v":{"$error":"#N/A"}},{"$f":"OFFSET($E13,0,Z6)","v":{"$error":"#N/A"}},{"$f":"OFFSET($E13,0,AA6)","v":{"$error":"#N/A"}},{"$f":"OFFSET($E13,0,AB6)","v":{"$error":"#N/A"}},null,null,null,null,null,null,39,null,4,4,4,4,4]
[null,null,null,null,null,null,null,null,null,null,null,{"$f":"AND(IF(OR(C10>0,SUM(F9:J9)>0),TRUE,FALSE),WPArt<>6)","v":false},"Heizleistung",{"$f":"IF(WPArt=6,0,F13)","v":0},{"$f":"IF(WPArt=6,0,G13)","v":0},{"$f":"IF(WPArt=6,0,H13)","v":0},{"$f":"IF(WPArt=6,0,I13)","v":0},{"$f":"IF(WPArt=6,0,J13)","v":0},null,null,null,null,null,null,null,null,null,null,null,null,null,null,null,null,40,null,5,5,5,5,5]
[null,null,null,null,null,null,null,null,null,null,null,null,null,"COP unter Berücksichtigung der Pumpen",null,null,null,null,null,null,null,"Erweiterung auf weitere Stützpunkte",null,null,null,null,null,null,null,null,null,null,null,null,41,null,6,6,6,6,6]
[null,null,null,null,null,null,null,null,null,null,null,null,{"$f":"\"COP Heizung bei T Vorlauf\"&C10","v":"COP Heizung bei T Vorlauf"},{"$f":"IF(AND(N12>0,N13>0),N13/(N13/N12+IF(Kondensatorpumpe,$Q$32/1000,0)+IF(Venti,$Q$41/1000,0)+IF(WPArt=2,$Q$50/1000,0)),0)","v":0},{"$f":"IF(AND(O12>0,O13>0),O13/(O13/O12+IF(Kondensatorpumpe,$Q$32/1000,0)+IF(Venti,$Q$41/1000,0)+IF(WPArt=2,$Q$50/1000,0)),0)","v":0},{"$f":"IF(AND(P12>0,P13>0),P13/(P13/P12+IF(Kondensatorpumpe,$Q$32/1000,0)+IF(Venti,$Q$41/1000,0)++IF(WPArt=2,$Q$50/1000,0)),0)","v":0},{"$f":"IF(AND(Q12>0,Q13>0),Q13/(Q13/Q12+IF(Kondensatorpumpe,$Q$32/1000,0)+IF(Venti,$Q$41/1000,0)++IF(WPArt=2,$Q$50/1000,0)),0)","v":0},{"$f":"IF(AND(R12>0,R13>0),R13/(R13/R12+IF(Kondensatorpumpe,$Q$32/1000,0)+IF(Venti,$Q$41/1000,0)++IF(WPArt=2,$Q$50/1000,0)),0)","v":0},null,null,null,"Datenpunkt Nr.",null,1,2,3,4,5,null,null,null,null,null,null,42,null,7,7,7,7,7]
[null,null,null,null,null,null,null,null,null,null,null,null,{"$f":"\"COP WW bei T Vorlauf\"&L14","v":"COP WW bei T Vorlauf60"},{"$f":"IF(AND(N14>0,N15>0),N15/(N15/N14+IF(Kondensatorpumpe,$Q$33/1000,0)+IF(Venti,$Q$42/1000,0)+IF(WPArt=2,$Q$51/1000,0)),0)","v":0},{"$f":"IF(AND(O14>0,O15>0),O15/(O15/O14+IF(Kondensatorpumpe,$Q$33/1000,0)+IF(Venti,$Q$42/1000,0)+IF(WPArt=2,$Q$51/1000,0)),0)","v":0},{"$f":"IF(AND(P14>0,P15>0),P15/(P15/P14+IF(Kondensatorpumpe,$Q$33/1000,0)+IF(Venti,$Q$42/1000,0)+IF(WPArt=2,$Q$51/1000,0)),0)","v":0},{"$f":"IF(AND(Q14>0,Q15>0),Q15/(Q15/Q14+IF(Kondensatorpumpe,$Q$33/1000,0)+IF(Venti,$Q$42/1000,0)+IF(WPArt=2,$Q$51/1000,0)),0)","v":0},{"$f":"IF(AND(R14>0,R15>0),R15/(R15/R14+IF(Kondensatorpumpe,$Q$33/1000,0)+IF(Venti,$Q$42/1000,0)+IF(WPArt=2,$Q$51/1000,0)),0)","v":0},null,null,null,"Gültiger Datenpunkt",null,{"$f":"X17<=$T$9","v":false},{"$f":"Y17<=$T$9","v":false},{"$f":"Z17<=$T$9","v":false},{"$f":"AA17<=$T$9","v":false},{"$f":"AB17<=$T$9","v":false},{"$f":"FALSE","v":false},null,null,null,null,null,43,null,8,8,8,8,8]
[null,null,null,null,null,null,null,null,null,null,null,null,"Sole- und Wassser/Wasser-WP","bei",{"$f":"IF(WPArt=4,10,0)","v":0},"°C",null,null,null,null,null,null,"TQuelle [°C]",null,null,null,null,null,null,null,"Hilfsgrössen",null,null,null,44,null,9,9,9,9,9]
[null,null,null,null,null,null,null,null,null,null,null,{"$f":"SUM(N20:R20)","v":0},{"$f":"M17","v":"COP Heizung bei T Vorlauf"},{"$f":"IF(N8=O19,N17,\"\")","v":""},{"$f":"IF(AND(N8<$O$19,O8>=$O$19),N17+(O17-N17)/(O8-N8)*($O$19-N8),\"\")","v":""},{"$f":"IF(AND(O8<$O$19,P8>=$O$19),O17+(P17-O17)/(P8-O8)*($O$19-O8),\"\")","v":""},{"$f":"IF(AND(P8<$O$19,Q8>=$O$19),P17+(Q17-P17)/(Q8-P8)*($O$19-P8),\"\")","v":""},{"$f":"IF(AND(Q8<$O$19,R8>=$O$19),Q17+(R17-Q17)/(R8-Q8)*($O$19-Q8),\"\")","v":""},{"$f":"IF(WPArt=4,\"COP W\"&O19&\"/35 \",\"COP B\"&O19&\"/35 \")","v":"COP B0/35 "},{"$f":"SUM(N20:R20)/(C10+273.14)*(C10-O19)*(35+273.14)/(35-O19)","v":0},"TV [°C]",null,{"$f":"MIN(-25,X20-5)","v":{"$error":"#N/A"}},{"$f":"X8","v":{"$error":"#N/A"}},{"$f":"IF(Y18,Y8,X20+5)","v":{"$error":"#N/A"}},{"$f":"IF(Z18,Z8,Y20+5)","v":{"$error":"#N/A"}},{"$f":"IF(AA18,AA8,Z20+5)","v":{"$error":"#N/A"}},{"$f":"IF(AB18,AB8,AA20+5)","v":{"$error":"#N/A"}},{"$f":"MAX(60,AB20+5)","v":{"$error":"#N/A"}},null,null,null,null,null,45,null,10,10,10,10,10]
[null,null,null,null,null,null,null,null,null,null,null,{"$f":"SUM(N21:R21)","v":0},{"$f":"\"Qh Heizung bei T Vorlauf\"&C10","v":"Qh Heizung bei T Vorlauf"},{"$f":"IF(N8=O19,N13,\"\")","v":""},{"$f":"IF(AND(N8<$O$19,O8>=$O$19),N13+(O13-N13)/(O8-N8)*($O$19-N8),\"\")","v":""},{"$f":"IF(AND(O8<$O$19,P8>=$O$19),O13+(P13-O13)/(P8-O8)*($O$19-O8),\"\")","v":""},{"$f":"IF(AND(P8<$O$19,Q8>=$O$19),P13+(Q13-P13)/(Q8-P8)*($O$19-P8),\"\")","v":""},{"$f":"IF(AND(Q8<$O$19,R8>=$O$19),Q13+(R13-Q13)/(R8-Q8)*($O$19-Q8),\"\")","v":""},{"$f":"IF(WPArt=4,\"Qh W\"&O19&\"/35 \",\"Qh B\"&O19&\"/35 \")","v":"Qh B0/35 "},{"$f":"SUM(N21:R21)","v":0},{"$f":"W7","v":0},"P Heiz.",{"$f":"X21-AG21*(X$20-W$20)","v":{"$error":"#N/A"}},{"$f":"X10","v":{"$error":"#N/A"}},{"$f":"Y10","v":{"$error":"#N/A"}},{"$f":"Z10","v":{"$error":"#N/A"}},{"$f":"AA10","v":{"$error":"#N/A"}},{"$f":"AB10","v":{"$error":"#N/A"}},{"$f":"AB21","v":{"$error":"#N/A"}},null,{"$f":"\"Steigung A\"&X20&\"-/A\"&Y20","v":{"$error":"#N/A"}},"P Heiz",{"$f":"(Y21-X21)/(Y$20-X$20)","v":{"$error":"#N/A"}},null,46,null,11,11,11,11,11]
[null,null,null,null,null,null,null,null,null,null,null,{"$f":"SUM(N22:R22)","v":0},{"$f":"M18","v":"COP WW bei T Vorlauf60"},{"$f":"IF(N8=O19,N18,\"\")","v":""},{"$f":"IF(AND(N8<$O$19,O8>=$O$19),N18+(O18-N18)/(O8-N8)*($O$19-N8),\"\")","v":""},{"$f":"IF(AND(O8<$O$19,P8>=$O$19),O18+(P18-O18)/(P8-O8)*($O$19-O8),\"\")","v":""},{"$f":"IF(AND(P8<$O$19,Q8>=$O$19),P18+(Q18-P18)/(Q8-P8)*($O$19-P8),\"\")","v":""},{"$f":"IF(AND(Q8<$O$19,R8>=$O$19),Q18+(R18-Q18)/(R8-Q8)*($O$19-Q8),\"\")","v":""},{"$f":"IF(WPArt=4,\"COP W\"&O19&\"/55 \",\"COP B\"&O19&\"/55 \")","v":"COP B0/55 "},{"$f":"SUM(N22:R22)/(L14+273.14)*(L14-O19)*(55+273.14)/(55-O19)","v":0},null,"COP",{"$f":"((U21+273.15)/(U21-W$20))*W23","v":{"$error":"#N/A"}},{"$f":"X9","v":{"$error":"#N/A"}},{"$f":"Y9","v":{"$error":"#N/A"}},{"$f":"Z9","v":{"$error":"#N/A"}},{"$f":"AA9","v":{"$error":"#N/A"}},{"$f":"AB9","v":{"$error":"#N/A"}},{"$f":"AB22","v":{"$error":"#N/A"}},null,null,null,null,null,47,null,12,12,12,12,12]
[null,null,null,null,null,null,null,null,null,null,null,{"$f":"SUM(N23:R23)","v":0},{"$f":"\"Qh WW bei T Vorlauf\"&L14","v":"Qh WW bei T Vorlauf60"},{"$f":"IF(N8=O19,N15,\"\")","v":""},{"$f":"IF(AND(N8<$O$19,O8>=$O$19),N15+(O15-N15)/(O8-N8)*($O$19-N8),\"\")","v":""},{"$f":"IF(AND(O8<$O$19,P8>=$O$19),O15+(P15-O15)/(P8-O8)*($O$19-O8),\"\")","v":""},{"$f":"IF(AND(P8<$O$19,Q8>=$O$19),P15+(Q15-P15)/(Q8-P8)*($O$19-P8),\"\")","v":""},{"$f":"IF(AND(Q8<$O$19,R8>=$O$19),Q15+(R15-Q15)/(R8-Q8)*($O$19-Q8),\"\")","v":""},{"$f":"IF(WPArt=4,\"Qh W\"&O19&\"/55 \",\"Qh B\"&O19&\"/55 \")","v":"Qh B0/55 "},{"$f":"SUM(N23:R23)","v":0},null,"h ",{"$f":"X23","v":{"$error":"#N/A"}},{"$f":"X22/(($U21+273.15)/($U21-X$20))","v":{"$error":"#N/A"}},{"$error":"#N/A"},{"$error":"#N/A"},{"$error":"#N/A"},{"$error":"#N/A"},{"$error":"#N/A"},null,null,null,null,null,48,null,13,13,13,13,13]
[null,null,null,null,null,null,null,null,null,null,null,null,"Pumpen:",null,null,null,"Regelung:",null,null,null,{"$f":"W11","v":60},"P Heiz.",{"$f":"X24-AG24*(X$20-W$20)","v":{"$error":"#N/A"}},{"$f":"X14","v":{"$error":"#N/A"}},{"$f":"Y14","v":{"$error":"#N/A"}},{"$f":"Z14","v":{"$error":"#N/A"}},{"$f":"AA14","v":{"$error":"#N/A"}},{"$f":"AB14","v":{"$error":"#N/A"}},{"$f":"AB24","v":{"$error":"#N/A"}},null,{"$f":"AE21","v":{"$error":"#N/A"}},"P Heiz",{"$f":"(Y24-X24)/(Y$20-X$20)","v":{"$error":"#N/A"}},null,49,null,14,14,14,14,14]
[null,null,null,null,null,null,null,null,null,null,null,null,"Kondensatorpumpe:  [h]",null,"Betriebsart:",{"$f":"IF(V45=H52,2,IF(V46=H52,3,1))","v":1},{"$f":"IF(W45=H53,2,IF(W46=H53,3,1))","v":1},null,null,null,null,"COP",{"$f":"((U24+273.15)/(U24-W$20))*W26","v":{"$error":"#N/A"}},{"$f":"X13","v":{"$error":"#N/A"}},{"$f":"Y13","v":{"$error":"#N/A"}},{"$f":"Z13","v":{"$error":"#N/A"}},{"$f":"AA13","v":{"$error":"#N/A"}},{"$f":"AB13","v":{"$error":"#N/A"}},{"$f":"AB25","v":{"$error":"#N/A"}},null,null,null,null,null,50,null,15,15,15,15,15]
[null,null,null,null,null,null,null,null,null,null,null,null,null,"ungeregelt",null,"geregelt",null,null,null,null,null,"h ",{"$f":"X26","v":{"$error":"#N/A"}},{"$f":"X25/(($U24+273.15)/($U24-X$20))","v":{"$error":"#N/A"}},{"$error":"#N/A"},{"$error":"#N/A"},{"$error":"#N/A"},{"$error":"#N/A"},{"$error":"#N/A"},null,null,null,null,null,51,null,16,16,16,16,16]
[null,null,null,null,null,null,null,null,null,null,null,null,"Nur Betrieb bei WP ein",false,true,false,true,null,null,null,null,null,null,null,null,null,null,null,null,null,null,null,null,null,52,null,17,17,17,17,17]
[null,null,null,null,null,null,null,null,null,null,null,null,"WP einstufig",{"$f":"MAX(O28,IF(Qww=0,5000,5600))","v":{"$error":"#VALUE!"}},{"$f":"(IF('WP1'!$J$21=3,0,Qh)+Qww)*1.1*EBF/3.6/N4","v":{"$error":"#VALUE!"}},{"$f":"MAX(O28,IF(Qww=0,5000,5600))*0.75","v":{"$error":"#VALUE!"}},{"$f":"(IF('WP1'!$J$21=3,0,Qh)+Qww)*1.1*EBF/3.6/N4","v":{"$error":"#VALUE!"}},null,null,null,null,null,null,null,null,null,null,null,null,null,null,null,null,null,53,null,18,18,18,18,18]
[null,null,null,null,null,null,null,null,null,null,null,null,"WP zweistufig",{"$f":"MAX(O28,IF(Qww=0,5000,5600))","v":{"$error":"#VALUE!"}},{"$f":"(O31+O28)/2","v":{"$error":"#VALUE!"}},{"$f":"MAX(O28,IF(Qww=0,5000,5600))*0.75","v":{"$error":"#VALUE!"}},{"$f":"Q28","v":{"$error":"#VALUE!"}},null,null,null,null,null,null,null,null,null,null,null,null,null,null,null,null,null,54,null,19,19,19,19,19]
[null,{"$f":"Sprache!B302","v":"Pompe de la source"},null,null,null,null,null,null,null,null,null,null,"WP mehrstufig",{"$f":"MAX(O28,IF(Qww=0,5000,5600))","v":{"$error":"#VALUE!"}},{"$f":"MAX(O28,IF(Qww=0,5000,5600))","v":{"$error":"#VALUE!"}},{"$f":"MAX(O28,IF(Qww=0,5000,5600))*0.75","v":{"$error":"#VALUE!"}},{"$f":"Q28","v":{"$error":"#VALUE!"}},null,null,null,null,null,null,null,null,null,null,null,null,null,null,null,null,null,55,null,20,20,20,20,20]
[null,{"$f":"Sprache!B303","v":"Nom et type de la pompe"},null,null,null,null,null,null,null,null,null,{"$f":"IF(E31<>\"\",TRUE,FALSE)","v":false},"WP stufenlos",{"$f":"MAX(O28,IF(Qww=0,5000,5600))","v":{"$error":"#VALUE!"}},{"$f":"MAX(O28,IF(Qww=0,5000,5600))","v":{"$error":"#VALUE!"}},{"$f":"MAX(O28,IF(Qww=0,5000,5600))*0.75","v":{"$error":"#VALUE!"}},{"$f":"Q28","v":{"$error":"#VALUE!"}},null,null,null,null,null,null,null,null,null,null,null,null,null,null,null,null,null,56,null,21,21,21,21,21]
[null,{"$f":"Sprache!B304","v":"Courant absorbé de la pompe à plein régime "},null,null,null,null,{"$f":"Sprache!B310","v":"Valeur de calcul"},{"$f":"MAX(J32,J34*J33/3.6/0.5+J35*9.81/3.6*J34/0.5)","v":0},"W",null,null,{"$f":"IF(J32<>\"\",TRUE,FALSE)","v":false},"Auswahl:",{"$f":"INDEX(N28:Q31,stufig,(MAX(Q25,2)-2)*2+(MAX(P25,2)-2)+1)","v":{"$error":"#VALUE!"}},null,"h",{"$f":"IF(AND(Qh>0,Qww>0),H49*N32/O28,IF(Qh>0,H49*N32/O28,H49))","v":25},"W für Heizung",null,null,null,null,null,null,null,null,null,null,null,null,null,null,null,null,57,null,22,22,22,22,22]
[null,{"$f":"Sprache!B305","v":"Perte de charge dynamique à plein régime"},null,null,null,null,null,null,"kPa",null,null,{"$f":"IF(J33<>\"\",TRUE,FALSE)","v":false},null,null,null,null,{"$f":"Q32","v":25},"W für Warmwasser",null,null,null,null,null,null,null,null,null,null,null,null,null,null,null,null,58,null,23,23,23,23,23]
[null,{"$f":"Sprache!B306","v":"Débit à plein régime"},null,null,null,null,null,null,"m³/h",null,null,{"$f":"IF(J34<>\"\",TRUE,FALSE)","v":false},"Verdampferpumpe: [h]",null,"Betriebsart:",{"$f":"IF(V45=H44,2,IF(V46=H44,3,1))","v":1},{"$f":"IF(W45=H45,2,IF(W46=H45,3,1))","v":1},null,null,null,null,null,null,null,null,null,null,null,null,null,null,null,null,null,59,null,24,24,24,24,24]
[null,{"$f":"Sprache!B307","v":"Hauteur statique"},null,null,null,null,null,null,"m",null,null,{"$f":"IF(J35<>\"\",TRUE,FALSE)","v":false},null,"ungeregelt",null,"geregelt",null,null,null,null,null,null,null,null,null,null,null,null,null,null,null,null,null,null,60,null,25,25,25,25,25]
[null,{"$f":"Sprache!B308","v":"Mode d'exploitation"},null,null,null,null,null,null,null,null,null,{"$f":"IF(H36<>\"\",TRUE,FALSE)","v":false},"Nur Betrieb bei WP ein",false,true,false,true,null,null,null,null,null,null,null,null,null,null,null,null,null,null,null,null,null,61,null,{"$f":"IF(WPArt=2,AK35+1,\"\")","v":""},"","","",""]
[null,{"$f":"Sprache!B309","v":"Régulation"},null,null,null,null,null,null,null,null,null,{"$f":"IF(H37<>\"\",TRUE,FALSE)","v":false},"WP einstufig",{"$f":"MAX(O37,IF(Qww=0,5000,5600))","v":{"$error":"#VALUE!"}},{"$f":"(IF('WP1'!$J$21=3,0,Qh)+Qww)*1.1*EBF/3.6/N4","v":{"$error":"#VALUE!"}},{"$f":"MAX(O37,IF(Qww=0,5000,5600))*0.75","v":{"$error":"#VALUE!"}},{"$f":"(IF('WP1'!$J$21=3,0,Qh)+Qww)*1.1*EBF/3.6/N4","v":{"$error":"#VALUE!"}},null,null,null,null,null,null,null,null,null,null,null,null,null,null,null,null,null,62,null,{"$f":"IF(WPArt=2,AK36+1,\"\")","v":""},"","","",""]
[null,null,null,null,null,null,null,null,null,null,null,{"$f":"IF(OR(L31,L33,L32,L35,L34,L36,L37),TRUE,FALSE)","v":false},"WP zweistufig",{"$f":"MAX(O37,IF(Qww=0,5000,5600))","v":{"$error":"#VALUE!"}},{"$f":"(O40+O37)/2","v":{"$error":"#VALUE!"}},{"$f":"MAX(O37,IF(Qww=0,5000,5600))*0.75","v":{"$error":"#VALUE!"}},{"$f":"Q37","v":{"$error":"#VALUE!"}},null,null,null,null,null,null,null,null,null,null,null,null,null,null,null,null,null,63,null,"","","","",""]
[null,{"$f":"Sprache!B314","v":"Pompe de l'évaporateur ou ventilateur"},null,null,null,null,null,null,null,null,null,null,"WP mehrstufig",{"$f":"MAX(O37,IF(Qww=0,5000,5600))","v":{"$error":"#VALUE!"}},{"$f":"MAX(O37,IF(Qww=0,5000,5600))","v":{"$error":"#VALUE!"}},{"$f":"MAX(O37,IF(Qww=0,5000,5600))*0.75","v":{"$error":"#VALUE!"}},{"$f":"Q37","v":{"$error":"#VALUE!"}},null,null,null,null,null,null,null,null,null,null,null,null,null,null,null,null,null,64,null,"","","","",""]
[null,{"$f":"Sprache!B303","v":"Nom et type de la pompe"},null,null,null,null,null,null,null,null,null,{"$f":"IF(E40<>\"\",TRUE,FALSE)","v":false},"WP stufenlos",{"$f":"MAX(O37,IF(Qww=0,5000,5600))","v":{"$error":"#VALUE!"}},{"$f":"MAX(O37,IF(Qww=0,5000,5600))","v":{"$error":"#VALUE!"}},{"$f":"MAX(O37,IF(Qww=0,5000,5600))*0.75","v":{"$error":"#VALUE!"}},{"$f":"Q37","v":{"$error":"#VALUE!"}},null,null,null,null,null,null,null,null,null,null,null,null,null,null,null,null,null,65,null,"","","","",""]
[null,{"$f":"Sprache!B315","v":"Courant absorbé de la pompe / ventilateur à plein régime "},null,null,null,null,{"$f":"Sprache!B310","v":"Valeur de calcul"},{"$f":"IF(EBF>0,IF(J41>0,MAX(J41,J43*J42/3.6/0.5),MAX(H42*H43/3.6/0.25,40)),)","v":0},"W",null,null,{"$f":"IF(J41<>\"\",TRUE,FALSE)","v":false},"Auswahl:",{"$f":"INDEX(N37:Q40,stufig,(MAX(Q34,2)-2)*2+(MAX(P34,2)-2)+1)","v":{"$error":"#VALUE!"}},null,null,{"$f":"IF(AND(Qh>0,Qww>0),H41*N41/O37,IF(Qh>0,H41*N41/O37,H41))","v":0},"W für Heizung",null,null,null,null,null,null,null,null,null,null,null,null,null,null,null,null,66,null,"","","","",""]
[null,{"$f":"Sprache!B316","v":"Perte de charge à l'évaporateur"},null,null,null,null,{"$f":"Sprache!B311","v":"Valeur estimée"},{"$f":"IF(J42>0,J42,25)","v":25},"kPa",null,null,{"$f":"IF(J42<>\"\",TRUE,FALSE)","v":false},null,null,null,null,{"$f":"Q41","v":0},"W für Warmwasser",null,null,null,null,null,null,null,null,null,null,null,null,null,null,null,null,67,null,"","","","",""]
[null,{"$f":"Sprache!B317","v":"Débit à l'évaporateur"},null,null,null,null,{"$f":"Sprache!B312","v":"Valeur estimée selon feuille PAC"},{"$f":"IF(EBF>0,IF(J43>0,J43,('WP1'!M32*1.25)/3/4.2*3.6),)","v":0},"m³/h",null,null,{"$f":"IF(J43<>\"\",TRUE,FALSE)","v":false},"Quellenpumpen:  [h]",null,"Betriebsart:",{"$f":"IF(V45=H36,2,IF(V46=H36,3,1))","v":1},"Regelung:",{"$f":"IF(X45=H37,2,IF(X46=H37,3,IF(X47=H37,4,1)))","v":1},null,null,null,"Betriebsart","Regelung","Quellenpumpe",null,null,null,null,null,null,null,null,null,null,68,null,"","","","",""]
[null,{"$f":"Sprache!B308","v":"Mode d'exploitation"},null,null,null,null,null,null,null,null,null,{"$f":"IF(H44<>\"\",TRUE,FALSE)","v":false},null,"1stufig",null,"2stufig",null,"stufenlos",null,null,null,null,null,null,null,null,null,null,null,null,null,null,null,null,69,null,"","","","",""]
[null,{"$f":"Sprache!B309","v":"Régulation"},null,null,null,null,null,null,null,null,null,{"$f":"IF(H45<>\"\",TRUE,FALSE)","v":false},"Nur Betrieb bei WP ein",false,true,false,true,false,true,null,null,{"$f":"Sprache!B324","v":"toujours en exploitation"},{"$f":"Sprache!B326","v":"non réglé"},{"$f":"Sprache!B328","v":"une vitesse"},null,null,null,null,null,null,null,null,null,null,70,null,"","","","",""]
[null,null,null,null,null,null,null,null,null,null,null,{"$f":"IF(OR(L41,L40,L42,L43,L44,L45),TRUE,FALSE)","v":false},"WP einstufig",{"$f":"MAX(O46,IF(Qww=0,5000,5600))","v":{"$error":"#VALUE!"}},{"$f":"(IF('WP1'!$J$21=3,0,Qh)+Qww)*1.1*EBF/3.6/N4","v":{"$error":"#VALUE!"}},{"$f":"N46","v":{"$error":"#VALUE!"}},{"$f":"O46","v":{"$error":"#VALUE!"}},{"$f":"MAX(O46,IF(Qww=0,5000,5600))*0.75","v":{"$error":"#VALUE!"}},{"$f":"(IF('WP1'!$J$21=3,0,Qh)+Qww)*1.1*EBF/3.6/N4","v":{"$error":"#VALUE!"}},null,null,{"$f":"Sprache!B325","v":"seulement en exploitation si la PAC est en service"},{"$f":"Sprache!B327","v":"réglé"},{"$f":"Sprache!B329","v":"2 vitesses"},null,null,null,null,null,null,null,null,null,null,null,null,"","","","",""]
[null,{"$f":"Sprache!B318","v":"Pompe au condenseur"},null,null,null,null,null,null,null,null,null,{"$f":"IF(OR(L54,L38,L46,L59,L15,L5),TRUE,FALSE)","v":false},"WP zweistufig",{"$f":"MAX(O46,IF(Qww=0,5000,5600))","v":{"$error":"#VALUE!"}},{"$f":"(O49+O46)/2","v":{"$error":"#VALUE!"}},{"$f":"P46*0.75","v":{"$error":"#VALUE!"}},{"$f":"O47","v":{"$error":"#VALUE!"}},{"$f":"MAX(O46,IF(Qww=0,5000,5600))*0.75","v":{"$error":"#VALUE!"}},{"$f":"S46","v":{"$error":"#VALUE!"}},null,null,null,null,{"$f":"Sprache!B330","v":"réglé"},null,null,null,null,null,null,null,null,null,null,null,null,"","","","",""]
[null,{"$f":"Sprache!B303","v":"Nom et type de la pompe"},null,null,null,null,null,null,null,null,null,{"$f":"IF(E48<>\"\",TRUE,FALSE)","v":false},"WP mehrstufig",{"$f":"MAX(O46,IF(Qww=0,5000,5600))","v":{"$error":"#VALUE!"}},{"$f":"MAX(O46,IF(Qww=0,5000,5600))","v":{"$error":"#VALUE!"}},{"$f":"P47","v":{"$error":"#VALUE!"}},{"$f":"Q47","v":{"$error":"#VALUE!"}},{"$f":"MAX(O46,IF(Qww=0,5000,5600))*0.75","v":{"$error":"#VALUE!"}},{"$f":"S46","v":{"$error":"#VALUE!"}},null,null,null,null,null,null,null,null,null,null,null,null,null,null,null,null,null,"","","","",""]
[null,{"$f":"Sprache!B319","v":"Courant absorbé par la pompe P1 à plein régime (seule la part du condenseur)"},null,null,null,null,{"$f":"Sprache!B310","v":"Valeur de calcul"},{"$f":"IF(AND(J49>0,J49>H50*H51/3.6/0.5,J49>25),J49,MAX(H50*H51/3.6/0.25,25,J49,))","v":25},"W",null,null,{"$f":"IF(J49<>\"\",TRUE,FALSE)","v":false},"WP stufenlos",{"$f":"MAX(O46,IF(Qww=0,5000,5600))","v":{"$error":"#VALUE!"}},{"$f":"MAX(O46,IF(Qww=0,5000,5600))","v":{"$error":"#VALUE!"}},{"$f":"P47","v":{"$error":"#VALUE!"}},{"$f":"Q47","v":{"$error":"#VALUE!"}},{"$f":"MAX(O46,IF(Qww=0,5000,5600))*0.75","v":{"$error":"#VALUE!"}},{"$f":"S46","v":{"$error":"#VALUE!"}},null,null,null,null,null,null,null,null,null,null,null,null,null,null,null,null,null,"","","","",""]
[null,{"$f":"Sprache!B320","v":"Perte de charge nominale au condenseur"},null,null,null,null,{"$f":"Sprache!B313","v":"Valeur effective"},{"$f":"IF(AND(J51>0,J50>0),J50/J51/J51*MAX(J51,H51)*MAX(J51,H51),MAX(J50,20))","v":20},"kPa",null,null,{"$f":"IF(J50<>\"\",TRUE,FALSE)","v":false},"Auswahl:",{"$f":"INDEX(N46:S49,stufig,(MAX(R43,2)-2)*2+(MAX(P43,2)-2)+1)","v":{"$error":"#VALUE!"}},null,null,{"$f":"IF(AND(Qh>0,Qww>0),H32*N50/O46,IF(Qh>0,H32*N50/O46,H32))","v":0},"W für Heizung",null,null,null,null,null,null,null,null,null,null,null,null,null,null,null,null,null,null,"","","","",""]
[null,{"$f":"Sprache!B321","v":"Débit nominal au condenseur"},null,null,null,null,{"$f":"Sprache!B312","v":"Valeur estimée selon feuille PAC"},{"$f":"IF(('WP1'!H36-'WP1'!H37)>0,('WP1'!M32*1.25)/('WP1'!H36-'WP1'!H37)/4.2*3.6,J51)","v":0},"m³/h",null,null,{"$f":"IF(J51<>\"\",TRUE,FALSE)","v":false},null,null,null,null,{"$f":"Q50","v":0},"W für Warmwasser",null,null,null,null,null,null,null,null,null,null,null,null,null,null,null,null,null,null,"","","","",""]
[null,{"$f":"Sprache!B308","v":"Mode d'exploitation"},null,null,null,null,null,null,null,null,null,{"$f":"IF(H52<>\"\",TRUE,FALSE)","v":false},null,null,null,null,null,null,null,null,null,null,null,null,null,null,null,null,null,null,null,null,null,null,null,null,"","","","",""]
[null,{"$f":"Sprache!B309","v":"Régulation"},null,null,null,null,null,null,null,null,null,{"$f":"IF(H53<>\"\",TRUE,FALSE)","v":false},"Steuerung Darstellung Schema",null,null,null,null,null,null,null,null,null,null,null,null,null,null,null,null,null,null,null,null,null,null,null,"","","","",""]
[null,null,null,null,null,null,null,null,null,null,null,{"$f":"IF(OR(L49,L48,L50,L51,L52,L53),TRUE,FALSE)","v":false},null,null,null,null,null,null,{"$f":"IF(AND('WP1'!R3>6,'WP1'!R3<10),1,0)","v":0},null,null,null,null,null,null,null,null,null,null,null,null,null,null,null,null,null,"","","","",""]
[null,"Erhöhung der Lufttemperatur bei Luft-Wasser-WP",null,null,null,null,null,null,null,null,null,null,null,"Index Auswahl",null,"Flag Test =1",null,null,{"$f":"'WP1'!R3","v":1},null,{"$f":"('WP1'!H38)","v":0},null,null,null,null,null,null,null,null,null,null,null,null,null,null,null,"","","","",""]
[null,"Temperaturerhöhung DT der Wärmequelle Luft DT bei einer Aussentemperatur von -7°C ",null,null,null,null,null,null,"K",null,null,{"$f":"IF(J56<>\"\",TRUE,FALSE)","v":false},null,{"$f":"AC56","v":1},null,0,null,null,null,null,null,null,"dez. WW-WP","Wärmeq.:","Einsatz","Speicher","dT Speicher",null,{"$f":"SUM(AC59:AC89)","v":1},null,null,null,null,null,null,null,"","","","",""]
[null,"Temperaturerhöhung DT der Wärmequelle Luft DT bei einer Aussentemperatur von  2°C ",null,null,null,null,null,null,"K",null,null,{"$f":"IF(J57<>\"\",TRUE,FALSE)","v":false},null,null,null,null,"Schaltungstypen",null,null,null,null,null,{"$f":"'WP1'!BH57","v":1},{"$f":"'WP1'!R3","v":1},{"$f":"'WP1'!BH58","v":1},{"$f":"'WP1'!AI132","v":1},{"$f":"IF('WP1'!H38>0,1,0)","v":0},null,null,null,null,null,null,null,null,null,"","","","",""]
[null,"Temperaturerhöhung DT der Wärmequelle Luft DT bei einer Aussentemperatur von  7°C ",null,null,null,null,null,null,"K",null,null,{"$f":"IF(J58<>\"\",TRUE,FALSE)","v":false},"Bezeichnung","Auswahl",null,"Index","Quelle",null,null,null,null,null,null,{"$f":"MID(OFFSET('WP1'!$T$132,'WP1'!R3,0),1,5)","v":""},{"$f":"MID(OFFSET('WP1'!BG58,Y57,0),1,10)","v":" "},{"$f":"OFFSET('WP1'!AH132,Z57,0)","v":" "},{"$f":"AA57>0","v":false},"Auswahl","Index",null,null,null,null,null,null,null,"","","","",""]
[null,null,null,null,null,null,null,null,null,null,null,{"$f":"IF(OR(L56,L57,L58),TRUE,FALSE)","v":false},"Leer",{"$f":"MAX($P$56,($N$56=P59)*1)*1","v":1},null,1,null,null,null,null,null,null,null,null,null,null,null,null,{"$f":"(SUM(AB60:AB89)=0)*P59","v":1},null,null,null,null,null,null,null,"","","","",""]
[null,null,null,null,null,null,null,null,null,null,null,null,"Schema 2",{"$f":"MAX($P$56,($N$56=P60)*1)*1","v":0},null,2,"Luft-Wasser","Heizung ","ohne Heizungs - Speicher",null,null,null,0,{"$f":"IF(AND('WP1'!R3>1,'WP1'!R3<6),1,0)","v":0},{"$f":"IF('WP1'!$BH$57=2,1,0)","v":0},{"$f":"IF($Z$57=2,1,0)","v":0},null,{"$f":"INT(SUM(X60:Z60)/3)+W60","v":0},{"$f":"AB60*P60","v":0},null,null,null,null,null,null,null,"","","","",""]
[null,{"$f":"N12","v":0},0,0,0,0,null,null,null,null,null,null,"Schema 3",0,null,3,"Luft-Wasser","Heizung ","mit Heizungs - Speicher",null,null,null,0,{"$f":"X60","v":0},0,{"$f":"IF($Z$57=3,1,0)*IF($AA$57=0,1,0)","v":0},null,{"$f":"INT(SUM(X61:Z61)/3)+W61","v":0},{"$f":"AB61*P61","v":0},null,null,null,null,null,null,null,"","","","",""]
[null,0,0,0,0,0,null,null,null,null,null,null,"Schema 4",0,null,4,"Luft-Wasser","Heizung ","mit Heizungs - Speicher und Mischgruppe",null,null,null,0,0,0,{"$f":"IF($Z$57=3,1,0)*$AA$57","v":0},null,0,{"$f":"AB62*P62","v":0},null,null,null,null,null,null,null,"","","","",""]
[null,0,0,0,0,0,null,null,null,null,null,null,"Schema 5",0,null,5,"Luft-Wasser","WW",null,null,null,null,0,0,{"$f":"IF('WP1'!$BH$57=3,1,0)","v":0},1,null,0,{"$f":"AB63*P63","v":0},null,null,null,null,null,null,null,"","","","",""]
[null,0,0,0,0,0,null,null,null,null,null,null,"Schema 6",0,null,6,"Luft-Wasser","Heizung + WW","ohne Heizungs - Speicher",null,null,null,0,0,{"$f":"IF('WP1'!$BH$57=4,1,0)","v":0},{"$f":"IF($Z$57=2,1,0)","v":0},null,0,0,null,null,null,null,null,null,null,"","","","",""]
[null,null,null,null,null,null,null,null,null,null,null,null,"Schema 7",0,null,7,"Luft-Wasser","Heizung + WW","mit Heizungs - Speicher",null,null,null,0,0,{"$f":"Y64","v":0},{"$f":"IF($Z$57=3,1,0)*IF($AA$57=0,1,0)","v":0},null,0,0,null,null,null,null,null,null,null,"","","","",""]
[null,null,null,null,null,null,null,null,null,null,null,null,"Schema 8",0,null,8,"Luft-Wasser","Heizung + WW","mit Heizungs - Speicher und Mischgruppe",null,null,null,0,0,{"$f":"Y65","v":0},{"$f":"IF($Z$57=3,1,0)*$AA$57","v":0},null,0,0]
[null,null,null,null,null,null,null,null,null,null,null,null,"Schema 9",0,null,9,"Luft-Wasser","Heizung + WW","Kombispeicher, Stasch-Schaltung",null,null,null,0,0,{"$f":"Y66","v":0},{"$f":"IF($Z$57=4,1,0)","v":0},null,0,0]
[null,null,null,null,null,null,null,null,null,null,null,null,"Schema 10",0,null,10,"Luft-Wasser","Heizung + WW","Kombispeicher, 1 WP-Rücklauf aus Speicher",null,null,null,0,0,{"$f":"Y67","v":0},{"$f":"IF($Z$57=5,1,0)","v":0},null,0,0]
[null,null,null,null,null,null,null,null,null,null,null,null,"Schema 11",0,null,11,"Luft-Wasser","Heizung + WW","Kombispeicher, 2 WP-Rücklauf aus Speicher",null,null,null,0,0,{"$f":"Y68","v":0},{"$f":"IF($Z$57=6,1,0)","v":0},null,0,0]
[null,null,null,null,null,null,null,null,null,null,null,null,"Schema 12",0,null,12,"Erdsonden","Heizung ","ohne Heizungs - Speicher",null,null,null,0,{"$f":"IF(AND('WP1'!R3>5,'WP1'!R3<18),1,0)","v":0},{"$f":"IF('WP1'!$BH$57=2,1,0)","v":0},{"$f":"IF($Z$57=2,1,0)","v":0},null,0,0]
[null,null,null,null,null,null,null,null,null,null,null,null,"Schema 13",0,null,13,"Erdsonden","Heizung ","mit Heizungs - Speicher",null,null,null,0,{"$f":"X70","v":0},0,{"$f":"IF($Z$57=3,1,0)*IF($AA$57=0,1,0)","v":0},null,0,0]
[null,null,null,null,null,null,null,null,null,null,null,null,"Schema 14",0,null,14,"Erdsonden","Heizung ","mit Heizungs - Speicher und Mischgruppe",null,null,null,0,0,0,{"$f":"IF($Z$57=3,1,0)*$AA$57","v":0},null,0,0]
[null,null,null,null,null,null,null,null,null,null,null,null,"Schema 15",0,null,15,"Erdsonden","WW",null,null,null,null,0,0,{"$f":"IF('WP1'!$BH$57=3,1,0)","v":0},1,null,0,{"$f":"AB73*P73","v":0}]
[null,null,null,null,null,null,null,null,null,null,null,null,"Schema 16",0,null,16,"Erdsonden","Heizung + WW","ohne Heizungs - Speicher",null,null,null,0,0,{"$f":"IF('WP1'!$BH$57=4,1,0)","v":0},{"$f":"IF($Z$57=2,1,0)","v":0},null,0,0]
[null,null,null,null,null,null,null,null,null,null,null,null,"Schema 17",0,null,17,"Erdsonden","Heizung + WW","mit Heizungs - Speicher",null,null,null,0,0,{"$f":"Y74","v":0},{"$f":"IF($Z$57=3,1,0)*IF($AA$57=0,1,0)","v":0},null,0,0]
[null,null,null,null,null,null,null,null,null,null,null,null,"Schema 18",0,null,18,"Erdsonden","Heizung + WW","mit Heizungs - Speicher und Mischgruppe",null,null,null,0,0,{"$f":"Y75","v":0},{"$f":"IF($Z$57=3,1,0)*$AA$57","v":0},null,0,0]
[null,null,null,null,null,null,null,null,null,null,null,null,"Schema 19",0,null,19,"Erdsonden","Heizung + WW","Kombispeicher, Stasch-Schaltung",null,null,null,0,0,{"$f":"Y76","v":0},{"$f":"IF($Z$57=4,1,0)","v":0},null,0,0]
[null,null,null,null,null,null,null,null,null,null,null,null,"Schema 20",0,null,20,"Erdsonden","Heizung + WW","Kombispeicher, 1 WP-Rücklauf aus Speicher",null,null,null,0,0,{"$f":"Y77","v":0},{"$f":"IF($Z$57=5,1,0)","v":0},null,0,0]
[null,null,null,null,null,null,null,null,null,null,null,null,"Schema 21",0,null,21,"Erdsonden","Heizung + WW","Kombispeicher, 2 WP-Rücklauf aus Speicher",null,null,null,0,0,{"$f":"Y78","v":0},{"$f":"IF($Z$57=6,1,0)","v":0},null,0,0]
[null,null,null,null,null,null,null,null,null,null,null,null,"Schema 22",0,null,22,"Erdsonden","Heizung + WW-WP",null,null,null,null,{"$f":"IF(W57=5,1,0)*X70","v":0},0,{"$f":"IF('WP1'!$BH$57=2,1,0)","v":0},{"$f":"IF($Z$57=2,1,0)","v":0},null,0,0]
[null,null,null,null,null,null,null,null,null,null,null,null,"Schema 23",0,null,23,"Luft-Wasser","Heizung + WW-WP",null,null,null,null,{"$f":"IF(W57=5,1,0)*X60","v":0},0,0,0,null,0,0]
[null,null,null,null,null,null,null,null,null,null,null,null,"Schema 24",0,null,24,"Abluft-WP","WW",null,null,null,null,0,{"$f":"IF(X57=18,1,0)","v":0},{"$f":"IF('WP1'!$BH$57=3,1,0)","v":0},1,null,0,0]
[null,null,null,null,null,null,null,null,null,null,null,null,"Schema 25",0,null,25,"Abluft-WP","Heizung ",null,null,null,null,0,{"$f":"X82","v":0},{"$f":"IF('WP1'!$BH$57=2,1,0)","v":0},1,null,0,{"$f":"AB83*P83","v":0}]
[null,null,null,null,null,null,null,null,null,null,null,null,"Schema 26",0,null,26,"Abluft-WP","Heizung + WW",null,null,null,null,0,{"$f":"X83","v":0},{"$f":"IF('WP1'!$BH$57=4,1,0)","v":0},1,null,0,0]
[null,null,null,null,null,null,null,null,null,null,null,null,"Schema 27",0,null,27,null,null,null,null,null,null,0,0,{"$f":"Y84","v":0},0,null,0,0]
[null,null,null,null,null,null,null,null,null,null,null,null,"Schema 28",0,null,28,null,null,null,null,null,null,0,0,{"$f":"Y85","v":0},0,null,0,0]
[null,null,null,null,null,null,null,null,null,null,null,null,"Schema 29",0,null,29,null,null,null,null,null,null,0,0,{"$f":"Y86","v":0},0,null,0,0]
[null,null,null,null,null,null,null,null,null,null,null,null,"Schema 30",0,null,30,null,null,null,null,null,null,0,0,{"$f":"Y87","v":0},0,null,0,0]
[null,null,null,null,null,null,null,null,null,null,null,null,"Schema 31",0,null,31,null,null,null,null,null,null,0,0,{"$f":"Y88","v":0},0,null,0,0]

{"sheet":"WP_Daten","index":8,"n_rows":1613,"n_cols":41,"rows_kept":1613,"cut":false,"hidden":true,"merged":[[1443,3,1443,4]]}
[]
["Wärmepumpen - Datenbank:",null,null,null,"2024-09-27"]
[]
[null,null,"WP-Art: (2=LW, 3=SW, 4=WW)",null,null,null,"Q(L-15/W35)","COP(L-15/W35)","Q(L-7/W35)","COP(L-7/W35)","Q(L2/W35)","COP(L2/W35)","Q(L7/W35)","COP(L7/W35)","Q(L20/W35)","COP(L20/W35)","Q(L-7/W55)","COP(L-7/W55)","Q(L7/W55)","COP(L7/W55)","Q(L20/W55)","COP(L20/W55)","Q(B0/W35)","COP(B0/W35)","Q(B0/W55)","COP(B0/W55)","Q(W10/W35)","COP(W10/W35)","Q(W10/W55)","COP(W10/W55)"]
["Wahl:",{"$f":"AH28","v":-3},{"$f":"IF(WPDatenbank,OFFSET(C9,$B$5,0),C10)","v":1},{"$f":"IF(WPDatenbank,OFFSET(D9,$B$5,0),D10)","v":"Eigene Werte"},{"$f":"IF(WPDatenbank,OFFSET(E9,$B$5,0),E10)","v":""},{"$f":"IF(WPDatenbank,OFFSET(F9,$B$5,0),F10)","v":0},{"$f":"IF(WPDatenbank,OFFSET(G9,$B$5,0),G10)","v":0},{"$f":"IF(WPDatenbank,OFFSET(H9,$B$5,0),H10)","v":0},0,0,0,0,0,0,0,0,0,0,0,0,0,0,0,0,0,0,0,0,0,0]
[null,null,null,null,null,null,null,null,null,null,null,null,null,null,null,null,null,null,null,null,null,null,null,null,null,null,null,null,null,null,null,null,null,"Herst Nr",null,"Hersteller"]
[null,null,null,null,null,null,null,null,null,null,null,null,null,null,null,null,null,null,null,null,null,null,null,null,null,null,null,null,null,null,null,null,null,{"$f":"MATCH('WP1'!G18,AJ40:AJ239,0)","v":2},null,"H_5"]
["Steuerung",null,"Eingaben",null,null,"1=einstufig / 2=zweistufig / 3=mehrstufig / 4=stufenlos"]
["Nr.","Zeilen_Nr","WP-Art: (2=LW, 3=SW, 4=WW)","Hersteller","Typ","Stufigkeit","Q(L-15/W35)","COP(L-15/W35)","Q(L-7/W35)","COP(L-7/W35)","Q(L2/W35)","COP(L2/W35)","Q(L7/W35)","COP(L7/W35)","Q(L20/W35)","COP(L20/W35)","Q(L-7/W55)","COP(L-7/W55)","Q(L7/W55)","COP(L7/W55)","Q(L20/W55)","COP(L20/W55)","Q(B0/W35)","COP(B0/W35)","Q(B0/W55)","COP(B0/W55)","Q(W10/W35)","COP(W10/W35)","Q(W10/W55)","COP(W10/W55)",null,null,null,"Zeilen Nr Herst"]
[1,1,{"$f":"IF(OR(WPArt=2),2,IF(OR(WPArt=3,WPArt=5),3,IF(WPArt=4,4,IF(WPArt=6,6,1))))","v":1},"Eigene Werte",{"$f":"\"\"","v":""},{"$f":"'WP1'!C18","v":0},{"$f":"'WP1'!D27","v":0},{"$f":"'WP1'!D28","v":0},{"$f":"'WP1'!E27","v":0},{"$f":"'WP1'!E28","v":0},{"$f":"'WP1'!F27","v":0},{"$f":"'WP1'!F28","v":0},{"$f":"'WP1'!G27","v":0},{"$f":"'WP1'!G28","v":0},{"$f":"'WP1'!W52","v":0},{"$f":"'WP1'!W50","v":0},{"$f":"'WP1'!E29","v":0},{"$f":"'WP1'!E30","v":0},{"$f":"'WP1'!G29","v":0},{"$f":"'WP1'!G30","v":0},{"$f":"'WP1'!W53","v":0},{"$f":"'WP1'!W51","v":0},{"$f":"'WP1'!W52","v":0},{"$f":"'WP1'!W50","v":0},{"$f":"'WP1'!W53","v":0},{"$f":"'WP1'!W51","v":0},{"$f":"'WP1'!W52","v":0},{"$f":"'WP1'!W50","v":0},{"$f":"'WP1'!W53","v":0},{"$f":"'WP1'!W51","v":0},null,null,null,{"$f":"OFFSET(AI39,AH7,0)","v":2}]
[{"$f":"A10+(D11<>D10)*1","v":2},2]
[{"$f":"A11+(D12<>D11)*1","v":2},3,null,null,null,null,null,null,null,null,null,null,null,null,null,null,null,null,null,null,null,null,null,null,null,null,null,null,null,null,null,null,null,"Zeilen Nr Herst +1"]
[2,4,null,null,null,null,null,null,null,null,null,null,null,null,null,null,null,null,null,null,null,null,null,null,null,null,null,null,null,null,null,null,null,{"$f":"OFFSET(AI39,AH7+1,0)","v":1441}]
[2,5]
[2,6,null,null,null,null,null,null,null,null,null,null,null,null,null,null,null,null,null,null,null,null,null,null,null,null,null,null,null,null,null,null,null,"Letzte Zeile Herst"]
[2,7,null,null,null,null,null,null,null,null,null,null,null,null,null,null,null,null,null,null,null,null,null,null,null,null,null,null,null,null,null,null,null,{"$f":"AH13-1","v":1440}]
[2,8]
[2,9,null,null,null,null,null,null,null,null,null,null,null,null,null,null,null,null,null,null,null,null,null,null,null,null,null,null,null,null,null,null,null,"Anzahl Typen"]
[2,10,null,null,null,null,null,null,null,null,null,null,null,null,null,null,null,null,null,null,null,null,null,null,null,null,null,null,null,null,null,null,null,{"$f":"AH13-AH10","v":1439}]
[2,11]
[2,12,null,null,null,null,null,null,null,null,null,null,null,null,null,null,null,null,null,null,null,null,null,null,null,null,null,null,null,null,null,null,null,null,null,"Typ"]
[2,13,null,null,null,null,null,null,null,null,null,null,null,null,null,null,null,null,null,null,null,null,null,null,null,null,null,null,null,null,null,null,null,null,null,"H_5_T36"]
[2,14]
[2,15,null,null,null,null,null,null,null,null,null,null,null,null,null,null,null,null,null,null,null,null,null,null,null,null,null,null,null,null,null,null,null,"Zeilen Nr Typ"]
[2,16,null,null,null,null,null,null,null,null,null,null,null,null,null,null,null,null,null,null,null,null,null,null,null,null,null,null,null,null,null,null,null,{"$f":"MATCH('WP1'!G19,AN40:AN239,0)","v":{"$error":"#N/A"}}]
[2,17]
[2,18,null,null,null,null,null,null,null,null,null,null,null,null,null,null,null,null,null,null,null,null,null,null,null,null,null,null,null,null,null,null,null,"Zeilen Nr. WP Daten",null,"Typ"]
[2,19,null,null,null,null,null,null,null,null,null,null,null,null,null,null,null,null,null,null,null,null,null,null,null,null,null,null,null,null,null,null,null,{"$f":"IF(ISERROR(AH25),-3,OFFSET(AM39,AH25,0))","v":-3},null,{"$f":"INDEX(C10:C1613,AH28,1)","v":{"$error":"#VALUE!"}}]
[2,20]
[2,21]
[2,22]
[2,23]
[2,24]
[2,25]
[2,26]
[2,27]
[2,28,null,null,null,null,null,null,null,null,null,null,null,null,null,null,null,null,null,null,null,null,null,null,null,null,null,null,null,null,null,null,null,null,null,"Anz Hersteller"]
[2,29,null,null,null,null,null,null,null,null,null,null,null,null,null,null,null,null,null,null,null,null,null,null,null,null,null,null,null,null,null,null,null,"Herstellerliste",null,{"$f":"COUNT(AI40:AI239)-1","v":5},null,"Typenliste",null,null,"Typ"]
[2,30,null,null,null,null,null,null,null,null,null,null,null,null,null,null,null,null,null,null,null,null,null,null,null,null,null,null,null,null,null,null,null,"Herst Nr","Startzeile","Hersteller",null,"Hilfswert","Zeile"]
[2,31,null,null,null,null,null,null,null,null,null,null,null,null,null,null,null,null,null,null,null,null,null,null,null,null,null,null,null,null,null,null,null,1,{"$f":"MATCH(AH40,$A$10:$A$1613,0)","v":1},{"$f":"OFFSET($D$9,AI40,0)","v":"Eigene Werte"},null,{"$f":"AM40","v":2},{"$f":"AH10","v":2},{"$f":"IF(INDEX($C$10:$C$1613,AM40,1)=2,\"L/W \",IF(INDEX($C$10:$C$1613,AM40,1)=3,\"S/W \",IF(INDEX($C$10:$C$1613,AM40,1)=4,\"W/W \",\"\")))&OFFSET($E$9,AM40,0)","v":""},{"$f":"(INDEX($C$10:$C$1613,AM40,1))","v":0}]
[2,32,null,null,null,null,null,null,null,null,null,null,null,null,null,null,null,null,null,null,null,null,null,null,null,null,null,null,null,null,null,null,null,2,2,{"$f":"OFFSET($D$9,AI41,0)","v":0},null,{"$f":"AL40+1","v":3},{"$f":"IF(AL41<$AH$13,AL41,\"\")","v":3},"",0]
[2,33,null,null,null,null,null,null,null,null,null,null,null,null,null,null,null,null,null,null,null,null,null,null,null,null,null,null,null,null,null,null,null,3,1441,{"$f":"OFFSET($D$9,AI42,0)","v":"STIEBEL ELTRON  Luft-Wasser Wärmepumpe"},null,{"$f":"AL41+1","v":4},4,"",0]
[2,34,null,null,null,null,null,null,null,null,null,null,null,null,null,null,null,null,null,null,null,null,null,null,null,null,null,null,null,null,null,null,null,4,1507,{"$f":"OFFSET($D$9,AI43,0)","v":"STIEBEL ELTRON  Sole-Wasser Wärmepumpe "},null,5,5,"",0]
[2,35,null,null,null,null,null,null,null,null,null,null,null,null,null,null,null,null,null,null,null,null,null,null,null,null,null,null,null,null,null,null,null,5,1560,"STIEBEL ELTRON  Wasser-Wasser Wärmepumpe ",null,6,6,"",0]
[2,36,null,null,null,null,null,null,null,null,null,null,null,null,null,null,null,null,null,null,null,null,null,null,null,null,null,null,null,null,null,null,null,6,1599,0,null,7,7,"",0]
[2,37,null,null,null,null,null,null,null,null,null,null,null,null,null,null,null,null,null,null,null,null,null,null,null,null,null,null,null,null,null,null,null,7,{"$error":"#N/A"},{"$error":"#N/A"},null,8,8,"",0]
[2,38,null,null,null,null,null,null,null,null,null,null,null,null,null,null,null,null,null,null,null,null,null,null,null,null,null,null,null,null,null,null,null,8,{"$error":"#N/A"},{"$error":"#N/A"},null,9,9,"",0]
[2,39,null,null,null,null,null,null,null,null,null,null,null,null,null,null,null,null,null,null,null,null,null,null,null,null,null,null,null,null,null,null,null,9,{"$error":"#N/A"},{"$error":"#N/A"},null,10,10,"",0]
[2,40,null,null,null,null,null,null,null,null,null,null,null,null,null,null,null,null,null,null,null,null,null,null,null,null,null,null,null,null,null,null,null,10,{"$error":"#N/A"},{"$error":"#N/A"},null,11,11,"",0]
[2,41,null,null,null,null,null,null,null,null,null,null,null,null,null,null,null,null,null,null,null,null,null,null,null,null,null,null,null,null,null,null,null,11,{"$error":"#N/A"},{"$error":"#N/A"},null,12,12,"",0]
[2,42,null,null,null,null,null,null,null,null,null,null,null,null,null,null,null,null,null,null,null,null,null,null,null,null,null,null,null,null,null,null,null,12,{"$error":"#N/A"},{"$error":"#N/A"},null,13,13,"",0]
[2,43,null,null,null,null,null,null,null,null,null,null,null,null,null,null,null,null,null,null,null,null,null,null,null,null,null,null,null,null,null,null,null,13,{"$error":"#N/A"},{"$error":"#N/A"},null,14,14,"",0]
[2,44,null,null,null,null,null,null,null,null,null,null,null,null,null,null,null,null,null,null,null,null,null,null,null,null,null,null,null,null,null,null,null,14,{"$error":"#N/A"},{"$error":"#N/A"},null,15,15,"",0]
[2,45,null,null,null,null,null,null,null,null,null,null,null,null,null,null,null,null,null,null,null,null,null,null,null,null,null,null,null,null,null,null,null,15,{"$error":"#N/A"},{"$error":"#N/A"},null,16,16,"",0]
[2,46,null,null,null,null,null,null,null,null,null,null,null,null,null,null,null,null,null,null,null,null,null,null,null,null,null,null,null,null,null,null,null,16,{"$error":"#N/A"},{"$error":"#N/A"},null,17,17,"",0]
[2,47,null,null,null,null,null,null,null,null,null,null,null,null,null,null,null,null,null,null,null,null,null,null,null,null,null,null,null,null,null,null,null,17,{"$error":"#N/A"},{"$error":"#N/A"},null,18,18,"",0]
[2,48,null,null,null,null,null,null,null,null,null,null,null,null,null,null,null,null,null,null,null,null,null,null,null,null,null,null,null,null,null,null,null,18,{"$error":"#N/A"},{"$error":"#N/A"},null,19,19,"",0]
[2,49,null,null,null,null,null,null,null,null,null,null,null,null,null,null,null,null,null,null,null,null,null,null,null,null,null,null,null,null,null,null,null,19,{"$error":"#N/A"},{"$error":"#N/A"},null,20,20,"",0]
[2,50,null,null,null,null,null,null,null,null,null,null,null,null,null,null,null,null,null,null,null,null,null,null,null,null,null,null,null,null,null,null,null,20,{"$error":"#N/A"},{"$error":"#N/A"},null,21,21,"",0]
[2,51,null,null,null,null,null,null,null,null,null,null,null,null,null,null,null,null,null,null,null,null,null,null,null,null,null,null,null,null,null,null,null,21,{"$error":"#N/A"},{"$error":"#N/A"},null,22,22,"",0]
[2,52,null,null,null,null,null,null,null,null,null,null,null,null,null,null,null,null,null,null,null,null,null,null,null,null,null,null,null,null,null,null,null,22,{"$error":"#N/A"},{"$error":"#N/A"},null,23,23,"",0]
[2,53,null,null,null,null,null,null,null,null,null,null,null,null,null,null,null,null,null,null,null,null,null,null,null,null,null,null,null,null,null,null,null,23,{"$error":"#N/A"},{"$error":"#N/A"},null,24,24,"",0]
[2,54,null,null,null,null,null,null,null,null,null,null,null,null,null,null,null,null,null,null,null,null,null,null,null,null,null,null,null,null,null,null,null,24,{"$error":"#N/A"},{"$error":"#N/A"},null,25,25,"",0]
[2,55,null,null,null,null,null,null,null,null,null,null,null,null,null,null,null,null,null,null,null,null,null,null,null,null,null,null,null,null,null,null,null,25,{"$error":"#N/A"},{"$error":"#N/A"},null,26,26,"",0]
[2,56,null,null,null,null,null,null,null,null,null,null,null,null,null,null,null,null,null,null,null,null,null,null,null,null,null,null,null,null,null,null,null,26,{"$error":"#N/A"},{"$error":"#N/A"},null,27,27,"",0]
[2,57,null,null,null,null,null,null,null,null,null,null,null,null,null,null,null,null,null,null,null,null,null,null,null,null,null,null,null,null,null,null,null,27,{"$error":"#N/A"},{"$error":"#N/A"},null,28,28,"",0]
[2,58,null,null,null,null,null,null,null,null,null,null,null,null,null,null,null,null,null,null,null,null,null,null,null,null,null,null,null,null,null,null,null,28,{"$error":"#N/A"},{"$error":"#N/A"},null,29,29,"",0]
[2,59,null,null,null,null,null,null,null,null,null,null,null,null,null,null,null,null,null,null,null,null,null,null,null,null,null,null,null,null,null,null,null,29,{"$error":"#N/A"},{"$error":"#N/A"},null,30,30,"",0]
[2,60,null,null,null,null,null,null,null,null,null,null,null,null,null,null,null,null,null,null,null,null,null,null,null,null,null,null,null,null,null,null,null,30,{"$error":"#N/A"},{"$error":"#N/A"},null,31,31,"",0]
[2,61,null,null,null,null,null,null,null,null,null,null,null,null,null,null,null,null,null,null,null,null,null,null,null,null,null,null,null,null,null,null,null,31,{"$error":"#N/A"},{"$error":"#N/A"},null,32,32,"",0]
[2,62,null,null,null,null,null,null,null,null,null,null,null,null,null,null,null,null,null,null,null,null,null,null,null,null,null,null,null,null,null,null,null,32,{"$error":"#N/A"},{"$error":"#N/A"},null,33,33,"",0]
[2,63,null,null,null,null,null,null,null,null,null,null,null,null,null,null,null,null,null,null,null,null,null,null,null,null,null,null,null,null,null,null,null,33,{"$f":"MATCH(AH72,$A$10:$A$1613,0)","v":{"$error":"#N/A"}},{"$error":"#N/A"},null,34,34,{"$f":"IF(INDEX($C$10:$C$1613,AM72,1)=2,\"L/W \",IF(INDEX($C$10:$C$1613,AM72,1)=3,\"S/W \",IF(INDEX($C$10:$C$1613,AM72,1)=4,\"W/W \",\"\")))&OFFSET($E$9,AM72,0)","v":""},{"$f":"(INDEX($C$10:$C$1613,AM72,1))","v":0}]
[2,64,null,null,null,null,null,null,null,null,null,null,null,null,null,null,null,null,null,null,null,null,null,null,null,null,null,null,null,null,null,null,null,34,{"$error":"#N/A"},{"$error":"#N/A"},null,35,35,"",0]
[2,65,null,null,null,null,null,null,null,null,null,null,null,null,null,null,null,null,null,null,null,null,null,null,null,null,null,null,null,null,null,null,null,35,{"$error":"#N/A"},{"$error":"#N/A"},null,36,36,"",0]
[2,66,null,null,null,null,null,null,null,null,null,null,null,null,null,null,null,null,null,null,null,null,null,null,null,null,null,null,null,null,null,null,null,36,{"$error":"#N/A"},{"$error":"#N/A"},null,37,37,"",0]
[{"$f":"A75+(D76<>D75)*1","v":2},67,null,null,null,null,null,null,null,null,null,null,null,null,null,null,null,null,null,null,null,null,null,null,null,null,null,null,null,null,null,null,null,37,{"$error":"#N/A"},{"$error":"#N/A"},null,38,38,"",0]
[2,68,null,null,null,null,null,null,null,null,null,null,null,null,null,null,null,null,null,null,null,null,null,null,null,null,null,null,null,null,null,null,null,38,{"$error":"#N/A"},{"$error":"#N/A"},null,39,39,"",0]
[2,69,null,null,null,null,null,null,null,null,null,null,null,null,null,null,null,null,null,null,null,null,null,null,null,null,null,null,null,null,null,null,null,39,{"$error":"#N/A"},{"$error":"#N/A"},null,40,40,"",0]
[2,70,null,null,null,null,null,null,null,null,null,null,null,null,null,null,null,null,null,null,null,null,null,null,null,null,null,null,null,null,null,null,null,40,{"$error":"#N/A"},{"$error":"#N/A"},null,41,41,"",0]
[2,71,null,null,null,null,null,null,null,null,null,null,null,null,null,null,null,null,null,null,null,null,null,null,null,null,null,null,null,null,null,null,null,41,{"$error":"#N/A"},{"$error":"#N/A"},null,42,42,"",0]
[2,72,null,null,null,null,null,null,null,null,null,null,null,null,null,null,null,null,null,null,null,null,null,null,null,null,null,null,null,null,null,null,null,42,{"$error":"#N/A"},{"$error":"#N/A"},null,43,43,"",0]
[2,73,null,null,null,null,null,null,null,null,null,null,null,null,null,null,null,null,null,null,null,null,null,null,null,null,null,null,null,null,null,null,null,43,{"$error":"#N/A"},{"$error":"#N/A"},null,44,{"$f":"IF(AL82<$AH$13,AL82,\"\")","v":44},"",0]
[2,74,null,null,null,null,null,null,null,null,null,null,null,null,null,null,null,null,null,null,null,null,null,null,null,null,null,null,null,null,null,null,null,44,{"$error":"#N/A"},{"$error":"#N/A"},null,45,45,"",0]
[2,75,null,null,null,null,null,null,null,null,null,null,null,null,null,null,null,null,null,null,null,null,null,null,null,null,null,null,null,null,null,null,null,45,{"$error":"#N/A"},{"$error":"#N/A"},null,46,46,"",0]
[2,76,null,null,null,null,null,null,null,null,null,null,null,null,null,null,null,null,null,null,null,null,null,null,null,null,null,null,null,null,null,null,null,46,{"$error":"#N/A"},{"$error":"#N/A"},null,47,47,"",0]
[2,77,null,null,null,null,null,null,null,null,null,null,null,null,null,null,null,null,null,null,null,null,null,null,null,null,null,null,null,null,null,null,null,47,{"$error":"#N/A"},{"$error":"#N/A"},null,48,48,"",0]
[2,78,null,null,null,null,null,null,null,null,null,null,null,null,null,null,null,null,null,null,null,null,null,null,null,null,null,null,null,null,null,null,null,48,{"$error":"#N/A"},{"$error":"#N/A"},null,49,49,"",0]
[2,79,null,null,null,null,null,null,null,null,null,null,null,null,null,null,null,null,null,null,null,null,null,null,null,null,null,null,null,null,null,null,null,49,{"$error":"#N/A"},{"$error":"#N/A"},null,50,50,"",0]
[2,80,null,null,null,null,null,null,null,null,null,null,null,null,null,null,null,null,null,null,null,null,null,null,null,null,null,null,null,null,null,null,null,50,{"$error":"#N/A"},{"$error":"#N/A"},null,51,51,"",0]
[2,81,null,null,null,null,null,null,null,null,null,null,null,null,null,null,null,null,null,null,null,null,null,null,null,null,null,null,null,null,null,null,null,51,{"$error":"#N/A"},{"$error":"#N/A"},null,52,52,"",0]
[2,82,null,null,null,null,null,null,null,null,null,null,null,null,null,null,null,null,null,null,null,null,null,null,null,null,null,null,null,null,null,null,null,52,{"$error":"#N/A"},{"$error":"#N/A"},null,53,53,"",0]
[2,83,null,null,null,null,null,null,null,null,null,null,null,null,null,null,null,null,null,null,null,null,null,null,null,null,null,null,null,null,null,null,null,53,{"$error":"#N/A"},{"$error":"#N/A"},null,54,54,"",0]
[2,84,null,null,null,null,null,null,null,null,null,null,null,null,null,null,null,null,null,null,null,null,null,null,null,null,null,null,null,null,null,null,null,54,{"$error":"#N/A"},{"$error":"#N/A"},null,55,55,"",0]
[2,85,null,null,null,null,null,null,null,null,null,null,null,null,null,null,null,null,null,null,null,null,null,null,null,null,null,null,null,null,null,null,null,55,{"$error":"#N/A"},{"$error":"#N/A"},null,56,56,"",0]
[2,86,null,null,null,null,null,null,null,null,null,null,null,null,null,null,null,null,null,null,null,null,null,null,null,null,null,null,null,null,null,null,null,56,{"$error":"#N/A"},{"$error":"#N/A"},null,57,57,"",0]
[2,87,null,null,null,null,null,null,null,null,null,null,null,null,null,null,null,null,null,null,null,null,null,null,null,null,null,null,null,null,null,null,null,57,{"$error":"#N/A"},{"$error":"#N/A"},null,58,58,"",0]
[2,88,null,null,null,null,null,null,null,null,null,null,null,null,null,null,null,null,null,null,null,null,null,null,null,null,null,null,null,null,null,null,null,58,{"$error":"#N/A"},{"$error":"#N/A"},null,59,59,"",0]
[2,89,null,null,null,null,null,null,null,null,null,null,null,null,null,null,null,null,null,null,null,null,null,null,null,null,null,null,null,null,null,null,null,59,{"$error":"#N/A"},{"$error":"#N/A"},null,60,60,"",0]
[2,90,null,null,null,null,null,null,null,null,null,null,null,null,null,null,null,null,null,null,null,null,null,null,null,null,null,null,null,null,null,null,null,60,{"$error":"#N/A"},{"$error":"#N/A"},null,61,61,"",0]
[2,91,null,null,null,null,null,null,null,null,null,null,null,null,null,null,null,null,null,null,null,null,null,null,null,null,null,null,null,null,null,null,null,61,{"$error":"#N/A"},{"$error":"#N/A"},null,62,62,"",0]
[2,92,null,null,null,null,null,null,null,null,null,null,null,null,null,null,null,null,null,null,null,null,null,null,null,null,null,null,null,null,null,null,null,62,{"$error":"#N/A"},{"$error":"#N/A"},null,63,63,"",0]
[2,93,null,null,null,null,null,null,null,null,null,null,null,null,null,null,null,null,null,null,null,null,null,null,null,null,null,null,null,null,null,null,null,63,{"$error":"#N/A"},{"$error":"#N/A"},null,64,64,"",0]
[2,94,null,null,null,null,null,null,null,null,null,null,null,null,null,null,null,null,null,null,null,null,null,null,null,null,null,null,null,null,null,null,null,64,{"$error":"#N/A"},{"$error":"#N/A"},null,65,65,"",0]
[2,95,null,null,null,null,null,null,null,null,null,null,null,null,null,null,null,null,null,null,null,null,null,null,null,null,null,null,null,null,null,null,null,65,{"$f":"MATCH(AH104,$A$10:$A$1613,0)","v":{"$error":"#N/A"}},{"$error":"#N/A"},null,66,66,{"$f":"IF(INDEX($C$10:$C$1613,AM104,1)=2,\"L/W \",IF(INDEX($C$10:$C$1613,AM104,1)=3,\"S/W \",IF(INDEX($C$10:$C$1613,AM104,1)=4,\"W/W \",\"\")))&OFFSET($E$9,AM104,0)","v":""},{"$f":"(INDEX($C$10:$C$1613,AM104,1))","v":0}]
[2,96,null,null,null,null,null,null,null,null,null,null,null,null,null,null,null,null,null,null,null,null,null,null,null,null,null,null,null,null,null,null,null,66,{"$error":"#N/A"},{"$f":"OFFSET($D$9,AI105,0)","v":{"$error":"#N/A"}},null,67,67,"",0]
[2,97,null,null,null,null,null,null,null,null,null,null,null,null,null,null,null,null,null,null,null,null,null,null,null,null,null,null,null,null,null,null,null,67,{"$error":"#N/A"},{"$error":"#N/A"},null,{"$f":"AL105+1","v":68},68,"",0]
[2,98,null,null,null,null,null,null,null,null,null,null,null,null,null,null,null,null,null,null,null,null,null,null,null,null,null,null,null,null,null,null,null,68,{"$error":"#N/A"},{"$error":"#N/A"},null,69,69,"",0]
[2,99,null,null,null,null,null,null,null,null,null,null,null,null,null,null,null,null,null,null,null,null,null,null,null,null,null,null,null,null,null,null,null,69,{"$error":"#N/A"},{"$error":"#N/A"},null,70,70,"",0]
[2,100,null,null,null,null,null,null,null,null,null,null,null,null,null,null,null,null,null,null,null,null,null,null,null,null,null,null,null,null,null,null,null,70,{"$error":"#N/A"},{"$error":"#N/A"},null,71,71,"",0]
[2,101,null,null,null,null,null,null,null,null,null,null,null,null,null,null,null,null,null,null,null,null,null,null,null,null,null,null,null,null,null,null,null,71,{"$error":"#N/A"},{"$error":"#N/A"},null,72,72,"",0]
[2,102,null,null,null,null,null,null,null,null,null,null,null,null,null,null,null,null,null,null,null,null,null,null,null,null,null,null,null,null,null,null,null,72,{"$error":"#N/A"},{"$error":"#N/A"},null,73,73,"",0]
[2,103,null,null,null,null,null,null,null,null,null,null,null,null,null,null,null,null,null,null,null,null,null,null,null,null,null,null,null,null,null,null,null,73,{"$error":"#N/A"},{"$error":"#N/A"},null,74,74,"",0]
[2,104,null,null,null,null,null,null,null,null,null,null,null,null,null,null,null,null,null,null,null,null,null,null,null,null,null,null,null,null,null,null,null,74,{"$error":"#N/A"},{"$error":"#N/A"},null,75,75,"",0]
[2,105,null,null,null,null,null,null,null,null,null,null,null,null,null,null,null,null,null,null,null,null,null,null,null,null,null,null,null,null,null,null,null,75,{"$error":"#N/A"},{"$error":"#N/A"},null,76,76,"",0]
[2,106,null,null,null,null,null,null,null,null,null,null,null,null,null,null,null,null,null,null,null,null,null,null,null,null,null,null,null,null,null,null,null,76,{"$error":"#N/A"},{"$error":"#N/A"},null,77,77,"",0]
[2,107,null,null,null,null,null,null,null,null,null,null,null,null,null,null,null,null,null,null,null,null,null,null,null,null,null,null,null,null,null,null,null,77,{"$error":"#N/A"},{"$error":"#N/A"},null,78,78,"",0]
[2,108,null,null,null,null,null,null,null,null,null,null,null,null,null,null,null,null,null,null,null,null,null,null,null,null,null,null,null,null,null,null,null,78,{"$error":"#N/A"},{"$error":"#N/A"},null,79,79,"",0]
[2,109,null,null,null,null,null,null,null,null,null,null,null,null,null,null,null,null,null,null,null,null,null,null,null,null,null,null,null,null,null,null,null,79,{"$error":"#N/A"},{"$error":"#N/A"},null,80,80,"",0]
[2,110,null,null,null,null,null,null,null,null,null,null,null,null,null,null,null,null,null,null,null,null,null,null,null,null,null,null,null,null,null,null,null,80,{"$error":"#N/A"},{"$error":"#N/A"},null,81,81,"",0]
[2,111,null,null,null,null,null,null,null,null,null,null,null,null,null,null,null,null,null,null,null,null,null,null,null,null,null,null,null,null,null,null,null,81,{"$error":"#N/A"},{"$error":"#N/A"},null,82,82,"",0]
[2,112,null,null,null,null,null,null,null,null,null,null,null,null,null,null,null,null,null,null,null,null,null,null,null,null,null,null,null,null,null,null,null,82,{"$error":"#N/A"},{"$error":"#N/A"},null,83,83,"",0]
[2,113,null,null,null,null,null,null,null,null,null,null,null,null,null,null,null,null,null,null,null,null,null,null,null,null,null,null,null,null,null,null,null,83,{"$error":"#N/A"},{"$error":"#N/A"},null,84,84,"",0]
[2,114,null,null,null,null,null,null,null,null,null,null,null,null,null,null,null,null,null,null,null,null,null,null,null,null,null,null,null,null,null,null,null,84,{"$error":"#N/A"},{"$error":"#N/A"},null,85,85,"",0]
[2,115,null,null,null,null,null,null,null,null,null,null,null,null,null,null,null,null,null,null,null,null,null,null,null,null,null,null,null,null,null,null,null,85,{"$error":"#N/A"},{"$error":"#N/A"},null,86,86,"",0]
[2,116,null,null,null,null,null,null,null,null,null,null,null,null,null,null,null,null,null,null,null,null,null,null,null,null,null,null,null,null,null,null,null,86,{"$error":"#N/A"},{"$error":"#N/A"},null,87,87,"",0]
[2,117,null,null,null,null,null,null,null,null,null,null,null,null,null,null,null,null,null,null,null,null,null,null,null,null,null,null,null,null,null,null,null,87,{"$error":"#N/A"},{"$error":"#N/A"},null,88,88,"",0]
[2,118,null,null,null,null,null,null,null,null,null,null,null,null,null,null,null,null,null,null,null,null,null,null,null,null,null,null,null,null,null,null,null,88,{"$error":"#N/A"},{"$error":"#N/A"},null,89,89,"",0]
[2,119,null,null,null,null,null,null,null,null,null,null,null,null,null,null,null,null,null,null,null,null,null,null,null,null,null,null,null,null,null,null,null,89,{"$error":"#N/A"},{"$error":"#N/A"},null,90,90,"",0]
[2,120,null,null,null,null,null,null,null,null,null,null,null,null,null,null,null,null,null,null,null,null,null,null,null,null,null,null,null,null,null,null,null,90,{"$error":"#N/A"},{"$error":"#N/A"},null,91,91,"",0]
[2,121,null,null,null,null,null,null,null,null,null,null,null,null,null,null,null,null,null,null,null,null,null,null,null,null,null,null,null,null,null,null,null,91,{"$error":"#N/A"},{"$error":"#N/A"},null,92,92,"",0]
[2,122,null,null,null,null,null,null,null,null,null,null,null,null,null,null,null,null,null,null,null,null,null,null,null,null,null,null,null,null,null,null,null,92,{"$error":"#N/A"},{"$error":"#N/A"},null,93,93,"",0]
[2,123,null,null,null,null,null,null,null,null,null,null,null,null,null,null,null,null,null,null,null,null,null,null,null,null,null,null,null,null,null,null,null,93,{"$error":"#N/A"},{"$error":"#N/A"},null,94,94,"",0]
[2,124,null,null,null,null,null,null,null,null,null,null,null,null,null,null,null,null,null,null,null,null,null,null,null,null,null,null,null,null,null,null,null,94,{"$error":"#N/A"},{"$error":"#N/A"},null,95,95,"",0]
[2,125,null,null,null,null,null,null,null,null,null,null,null,null,null,null,null,null,null,null,null,null,null,null,null,null,null,null,null,null,null,null,null,95,{"$error":"#N/A"},{"$error":"#N/A"},null,96,96,"",0]
[2,126,null,null,null,null,null,null,null,null,null,null,null,null,null,null,null,null,null,null,null,null,null,null,null,null,null,null,null,null,null,null,null,96,{"$error":"#N/A"},{"$error":"#N/A"},null,97,97,"",0]
[2,127,null,null,null,null,null,null,null,null,null,null,null,null,null,null,null,null,null,null,null,null,null,null,null,null,null,null,null,null,null,null,null,97,{"$f":"MATCH(AH136,$A$10:$A$1613,0)","v":{"$error":"#N/A"}},{"$error":"#N/A"},null,98,98,{"$f":"IF(INDEX($C$10:$C$1613,AM136,1)=2,\"L/W \",IF(INDEX($C$10:$C$1613,AM136,1)=3,\"S/W \",IF(INDEX($C$10:$C$1613,AM136,1)=4,\"W/W \",\"\")))&OFFSET($E$9,AM136,0)","v":""},{"$f":"(INDEX($C$10:$C$1613,AM136,1))","v":0}]
[2,128,null,null,null,null,null,null,null,null,null,null,null,null,null,null,null,null,null,null,null,null,null,null,null,null,null,null,null,null,null,null,null,98,{"$error":"#N/A"},{"$error":"#N/A"},null,99,99,"",0]
[2,129,null,null,null,null,null,null,null,null,null,null,null,null,null,null,null,null,null,null,null,null,null,null,null,null,null,null,null,null,null,null,null,99,{"$error":"#N/A"},{"$error":"#N/A"},null,100,100,"",0]
[2,130,null,null,null,null,null,null,null,null,null,null,null,null,null,null,null,null,null,null,null,null,null,null,null,null,null,null,null,null,null,null,null,100,{"$error":"#N/A"},{"$error":"#N/A"},null,101,101,"",0]
[{"$f":"A139+(D140<>D139)*1","v":2},131,null,null,null,null,null,null,null,null,null,null,null,null,null,null,null,null,null,null,null,null,null,null,null,null,null,null,null,null,null,null,null,101,{"$error":"#N/A"},{"$error":"#N/A"},null,102,102,"",0]
[2,132,null,null,null,null,null,null,null,null,null,null,null,null,null,null,null,null,null,null,null,null,null,null,null,null,null,null,null,null,null,null,null,102,{"$error":"#N/A"},{"$error":"#N/A"},null,103,103,"",0]
[2,133,null,null,null,null,null,null,null,null,null,null,null,null,null,null,null,null,null,null,null,null,null,null,null,null,null,null,null,null,null,null,null,103,{"$error":"#N/A"},{"$error":"#N/A"},null,104,104,"",0]
[2,134,null,null,null,null,null,null,null,null,null,null,null,null,null,null,null,null,null,null,null,null,null,null,null,null,null,null,null,null,null,null,null,104,{"$error":"#N/A"},{"$error":"#N/A"},null,105,105,"",0]
[2,135,null,null,null,null,null,null,null,null,null,null,null,null,null,null,null,null,null,null,null,null,null,null,null,null,null,null,null,null,null,null,null,105,{"$error":"#N/A"},{"$error":"#N/A"},null,106,106,"",0]
[2,136,null,null,null,null,null,null,null,null,null,null,null,null,null,null,null,null,null,null,null,null,null,null,null,null,null,null,null,null,null,null,null,106,{"$error":"#N/A"},{"$error":"#N/A"},null,107,107,"",0]
[2,137,null,null,null,null,null,null,null,null,null,null,null,null,null,null,null,null,null,null,null,null,null,null,null,null,null,null,null,null,null,null,null,107,{"$error":"#N/A"},{"$error":"#N/A"},null,108,{"$f":"IF(AL146<$AH$13,AL146,\"\")","v":108},"",0]
[2,138,null,null,null,null,null,null,null,null,null,null,null,null,null,null,null,null,null,null,null,null,null,null,null,null,null,null,null,null,null,null,null,108,{"$error":"#N/A"},{"$error":"#N/A"},null,109,109,"",0]
[2,139,null,null,null,null,null,null,null,null,null,null,null,null,null,null,null,null,null,null,null,null,null,null,null,null,null,null,null,null,null,null,null,109,{"$error":"#N/A"},{"$error":"#N/A"},null,110,110,"",0]
[2,140,null,null,null,null,null,null,null,null,null,null,null,null,null,null,null,null,null,null,null,null,null,null,null,null,null,null,null,null,null,null,null,110,{"$error":"#N/A"},{"$error":"#N/A"},null,111,111,"",0]
[2,141,null,null,null,null,null,null,null,null,null,null,null,null,null,null,null,null,null,null,null,null,null,null,null,null,null,null,null,null,null,null,null,111,{"$error":"#N/A"},{"$error":"#N/A"},null,112,112,"",0]
[2,142,null,null,null,null,null,null,null,null,null,null,null,null,null,null,null,null,null,null,null,null,null,null,null,null,null,null,null,null,null,null,null,112,{"$error":"#N/A"},{"$error":"#N/A"},null,113,113,"",0]
[2,143,null,null,null,null,null,null,null,null,null,null,null,null,null,null,null,null,null,null,null,null,null,null,null,null,null,null,null,null,null,null,null,113,{"$error":"#N/A"},{"$error":"#N/A"},null,114,114,"",0]
[2,144,null,null,null,null,null,null,null,null,null,null,null,null,null,null,null,null,null,null,null,null,null,null,null,null,null,null,null,null,null,null,null,114,{"$error":"#N/A"},{"$error":"#N/A"},null,115,115,"",0]
[2,145,null,null,null,null,null,null,null,null,null,null,null,null,null,null,null,null,null,null,null,null,null,null,null,null,null,null,null,null,null,null,null,115,{"$error":"#N/A"},{"$error":"#N/A"},null,116,116,"",0]
[2,146,null,null,null,null,null,null,null,null,null,null,null,null,null,null,null,null,null,null,null,null,null,null,null,null,null,null,null,null,null,null,null,116,{"$error":"#N/A"},{"$error":"#N/A"},null,117,117,"",0]
[2,147,null,null,null,null,null,null,null,null,null,null,null,null,null,null,null,null,null,null,null,null,null,null,null,null,null,null,null,null,null,null,null,117,{"$error":"#N/A"},{"$error":"#N/A"},null,118,118,"",0]
[2,148,null,null,null,null,null,null,null,null,null,null,null,null,null,null,null,null,null,null,null,null,null,null,null,null,null,null,null,null,null,null,null,118,{"$error":"#N/A"},{"$error":"#N/A"},null,119,119,"",0]
[2,149,null,null,null,null,null,null,null,null,null,null,null,null,null,null,null,null,null,null,null,null,null,null,null,null,null,null,null,null,null,null,null,119,{"$error":"#N/A"},{"$error":"#N/A"},null,120,120,"",0]
[2,150,null,null,null,null,null,null,null,null,null,null,null,null,null,null,null,null,null,null,null,null,null,null,null,null,null,null,null,null,null,null,null,120,{"$error":"#N/A"},{"$error":"#N/A"},null,121,121,"",0]
[2,151,null,null,null,null,null,null,null,null,null,null,null,null,null,null,null,null,null,null,null,null,null,null,null,null,null,null,null,null,null,null,null,121,{"$error":"#N/A"},{"$error":"#N/A"},null,122,122,"",0]
[2,152,null,null,null,null,null,null,null,null,null,null,null,null,null,null,null,null,null,null,null,null,null,null,null,null,null,null,null,null,null,null,null,122,{"$error":"#N/A"},{"$error":"#N/A"},null,123,123,"",0]
[2,153,null,null,null,null,null,null,null,null,null,null,null,null,null,null,null,null,null,null,null,null,null,null,null,null,null,null,null,null,null,null,null,123,{"$error":"#N/A"},{"$error":"#N/A"},null,124,124,"",0]
[2,154,null,null,null,null,null,null,null,null,null,null,null,null,null,null,null,null,null,null,null,null,null,null,null,null,null,null,null,null,null,null,null,124,{"$error":"#N/A"},{"$error":"#N/A"},null,125,125,"",0]
[2,155,null,null,null,null,null,null,null,null,null,null,null,null,null,null,null,null,null,null,null,null,null,null,null,null,null,null,null,null,null,null,null,125,{"$error":"#N/A"},{"$error":"#N/A"},null,126,126,"",0]
[2,156,null,null,null,null,null,null,null,null,null,null,null,null,null,null,null,null,null,null,null,null,null,null,null,null,null,null,null,null,null,null,null,126,{"$error":"#N/A"},{"$error":"#N/A"},null,127,127,"",0]
[2,157,null,null,null,null,null,null,null,null,null,null,null,null,null,null,null,null,null,null,null,null,null,null,null,null,null,null,null,null,null,null,null,127,{"$error":"#N/A"},{"$error":"#N/A"},null,128,128,"",0]
[2,158,null,null,null,null,null,null,null,null,null,null,null,null,null,null,null,null,null,null,null,null,null,null,null,null,null,null,null,null,null,null,null,128,{"$error":"#N/A"},{"$error":"#N/A"},null,129,129,"",0]
[2,159,null,null,null,null,null,null,null,null,null,null,null,null,null,null,null,null,null,null,null,null,null,null,null,null,null,null,null,null,null,null,null,129,{"$f":"MATCH(AH168,$A$10:$A$1613,0)","v":{"$error":"#N/A"}},{"$error":"#N/A"},null,130,130,{"$f":"IF(INDEX($C$10:$C$1613,AM168,1)=2,\"L/W \",IF(INDEX($C$10:$C$1613,AM168,1)=3,\"S/W \",IF(INDEX($C$10:$C$1613,AM168,1)=4,\"W/W \",\"\")))&OFFSET($E$9,AM168,0)","v":""},{"$f":"(INDEX($C$10:$C$1613,AM168,1))","v":0}]
[2,160,null,null,null,null,null,null,null,null,null,null,null,null,null,null,null,null,null,null,null,null,null,null,null,null,null,null,null,null,null,null,null,130,{"$error":"#N/A"},{"$f":"OFFSET($D$9,AI169,0)","v":{"$error":"#N/A"}},null,131,131,"",0]
[2,161,null,null,null,null,null,null,null,null,null,null,null,null,null,null,null,null,null,null,null,null,null,null,null,null,null,null,null,null,null,null,null,131,{"$error":"#N/A"},{"$error":"#N/A"},null,{"$f":"AL169+1","v":132},132,"",0]
[2,162,null,null,null,null,null,null,null,null,null,null,null,null,null,null,null,null,null,null,null,null,null,null,null,null,null,null,null,null,null,null,null,132,{"$error":"#N/A"},{"$error":"#N/A"},null,133,133,"",0]
[2,163,null,null,null,null,null,null,null,null,null,null,null,null,null,null,null,null,null,null,null,null,null,null,null,null,null,null,null,null,null,null,null,133,{"$error":"#N/A"},{"$error":"#N/A"},null,134,134,"",0]
[2,164,null,null,null,null,null,null,null,null,null,null,null,null,null,null,null,null,null,null,null,null,null,null,null,null,null,null,null,null,null,null,null,134,{"$error":"#N/A"},{"$error":"#N/A"},null,135,135,"",0]
[2,165,null,null,null,null,null,null,null,null,null,null,null,null,null,null,null,null,null,null,null,null,null,null,null,null,null,null,null,null,null,null,null,135,{"$error":"#N/A"},{"$error":"#N/A"},null,136,136,"",0]
[2,166,null,null,null,null,null,null,null,null,null,null,null,null,null,null,null,null,null,null,null,null,null,null,null,null,null,null,null,null,null,null,null,136,{"$error":"#N/A"},{"$error":"#N/A"},null,137,137,"",0]
[2,167,null,null,null,null,null,null,null,null,null,null,null,null,null,null,null,null,null,null,null,null,null,null,null,null,null,null,null,null,null,null,null,137,{"$error":"#N/A"},{"$error":"#N/A"},null,138,138,"",0]
[2,168,null,null,null,null,null,null,null,null,null,null,null,null,null,null,null,null,null,null,null,null,null,null,null,null,null,null,null,null,null,null,null,138,{"$error":"#N/A"},{"$error":"#N/A"},null,139,139,"",0]
[2,169,null,null,null,null,null,null,null,null,null,null,null,null,null,null,null,null,null,null,null,null,null,null,null,null,null,null,null,null,null,null,null,139,{"$error":"#N/A"},{"$error":"#N/A"},null,140,140,"",0]
[2,170,null,null,null,null,null,null,null,null,null,null,null,null,null,null,null,null,null,null,null,null,null,null,null,null,null,null,null,null,null,null,null,140,{"$error":"#N/A"},{"$error":"#N/A"},null,141,141,"",0]
[2,171,null,null,null,null,null,null,null,null,null,null,null,null,null,null,null,null,null,null,null,null,null,null,null,null,null,null,null,null,null,null,null,141,{"$error":"#N/A"},{"$error":"#N/A"},null,142,142,"",0]
[2,172,null,null,null,null,null,null,null,null,null,null,null,null,null,null,null,null,null,null,null,null,null,null,null,null,null,null,null,null,null,null,null,142,{"$error":"#N/A"},{"$error":"#N/A"},null,143,143,"",0]
[2,173,null,null,null,null,null,null,null,null,null,null,null,null,null,null,null,null,null,null,null,null,null,null,null,null,null,null,null,null,null,null,null,143,{"$error":"#N/A"},{"$error":"#N/A"},null,144,144,"",0]
[2,174,null,null,null,null,null,null,null,null,null,null,null,null,null,null,null,null,null,null,null,null,null,null,null,null,null,null,null,null,null,null,null,144,{"$error":"#N/A"},{"$error":"#N/A"},null,145,145,"",0]
[2,175,null,null,null,null,null,null,null,null,null,null,null,null,null,null,null,null,null,null,null,null,null,null,null,null,null,null,null,null,null,null,null,145,{"$error":"#N/A"},{"$error":"#N/A"},null,146,146,"",0]
[2,176,null,null,null,null,null,null,null,null,null,null,null,null,null,null,null,null,null,null,null,null,null,null,null,null,null,null,null,null,null,null,null,146,{"$error":"#N/A"},{"$error":"#N/A"},null,147,147,"",0]
[2,177,null,null,null,null,null,null,null,null,null,null,null,null,null,null,null,null,null,null,null,null,null,null,null,null,null,null,null,null,null,null,null,147,{"$error":"#N/A"},{"$error":"#N/A"},null,148,148,"",0]
[2,178,null,null,null,null,null,null,null,null,null,null,null,null,null,null,null,null,null,null,null,null,null,null,null,null,null,null,null,null,null,null,null,148,{"$error":"#N/A"},{"$error":"#N/A"},null,149,149,"",0]
[2,179,null,null,null,null,null,null,null,null,null,null,null,null,null,null,null,null,null,null,null,null,null,null,null,null,null,null,null,null,null,null,null,149,{"$error":"#N/A"},{"$error":"#N/A"},null,150,150,"",0]
[2,180,null,null,null,null,null,null,null,null,null,null,null,null,null,null,null,null,null,null,null,null,null,null,null,null,null,null,null,null,null,null,null,150,{"$error":"#N/A"},{"$error":"#N/A"},null,151,151,"",0]
[2,181,null,null,null,null,null,null,null,null,null,null,null,null,null,null,null,null,null,null,null,null,null,null,null,null,null,null,null,null,null,null,null,151,{"$error":"#N/A"},{"$error":"#N/A"},null,152,152,"",0]
[2,182,null,null,null,null,null,null,null,null,null,null,null,null,null,null,null,null,null,null,null,null,null,null,null,null,null,null,null,null,null,null,null,152,{"$error":"#N/A"},{"$error":"#N/A"},null,153,153,"",0]
[2,183,null,null,null,null,null,null,null,null,null,null,null,null,null,null,null,null,null,null,null,null,null,null,null,null,null,null,null,null,null,null,null,153,{"$error":"#N/A"},{"$error":"#N/A"},null,154,154,"",0]
[2,184,null,null,null,null,null,null,null,null,null,null,null,null,null,null,null,null,null,null,null,null,null,null,null,null,null,null,null,null,null,null,null,154,{"$error":"#N/A"},{"$error":"#N/A"},null,155,155,"",0]
[2,185,null,null,null,null,null,null,null,null,null,null,null,null,null,null,null,null,null,null,null,null,null,null,null,null,null,null,null,null,null,null,null,155,{"$error":"#N/A"},{"$error":"#N/A"},null,156,156,"",0]
[2,186,null,null,null,null,null,null,null,null,null,null,null,null,null,null,null,null,null,null,null,null,null,null,null,null,null,null,null,null,null,null,null,156,{"$error":"#N/A"},{"$error":"#N/A"},null,157,157,"",0]
[2,187,null,null,null,null,null,null,null,null,null,null,null,null,null,null,null,null,null,null,null,null,null,null,null,null,null,null,null,null,null,null,null,157,{"$error":"#N/A"},{"$error":"#N/A"},null,158,158,"",0]
[2,188,null,null,null,null,null,null,null,null,null,null,null,null,null,null,null,null,null,null,null,null,null,null,null,null,null,null,null,null,null,null,null,158,{"$error":"#N/A"},{"$error":"#N/A"},null,159,159,"",0]
[2,189,null,null,null,null,null,null,null,null,null,null,null,null,null,null,null,null,null,null,null,null,null,null,null,null,null,null,null,null,null,null,null,159,{"$error":"#N/A"},{"$error":"#N/A"},null,160,160,"",0]
[2,190,null,null,null,null,null,null,null,null,null,null,null,null,null,null,null,null,null,null,null,null,null,null,null,null,null,null,null,null,null,null,null,160,{"$error":"#N/A"},{"$error":"#N/A"},null,161,161,"",0]
[2,191,null,null,null,null,null,null,null,null,null,null,null,null,null,null,null,null,null,null,null,null,null,null,null,null,null,null,null,null,null,null,null,161,{"$f":"MATCH(AH200,$A$10:$A$1613,0)","v":{"$error":"#N/A"}},{"$error":"#N/A"},null,162,162,{"$f":"IF(INDEX($C$10:$C$1613,AM200,1)=2,\"L/W \",IF(INDEX($C$10:$C$1613,AM200,1)=3,\"S/W \",IF(INDEX($C$10:$C$1613,AM200,1)=4,\"W/W \",\"\")))&OFFSET($E$9,AM200,0)","v":""},{"$f":"(INDEX($C$10:$C$1613,AM200,1))","v":0}]
[2,192,null,null,null,null,null,null,null,null,null,null,null,null,null,null,null,null,null,null,null,null,null,null,null,null,null,null,null,null,null,null,null,162,{"$error":"#N/A"},{"$error":"#N/A"},null,163,163,"",0]
[2,193,null,null,null,null,null,null,null,null,null,null,null,null,null,null,null,null,null,null,null,null,null,null,null,null,null,null,null,null,null,null,null,163,{"$error":"#N/A"},{"$error":"#N/A"},null,164,164,"",0]
[2,194,null,null,null,null,null,null,null,null,null,null,null,null,null,null,null,null,null,null,null,null,null,null,null,null,null,null,null,null,null,null,null,164,{"$error":"#N/A"},{"$error":"#N/A"},null,165,165,"",0]
[{"$f":"A203+(D204<>D203)*1","v":2},195,null,null,null,null,null,null,null,null,null,null,null,null,null,null,null,null,null,null,null,null,null,null,null,null,null,null,null,null,null,null,null,165,{"$error":"#N/A"},{"$error":"#N/A"},null,166,166,"",0]
[2,196,null,null,null,null,null,null,null,null,null,null,null,null,null,null,null,null,null,null,null,null,null,null,null,null,null,null,null,null,null,null,null,166,{"$error":"#N/A"},{"$error":"#N/A"},null,167,167,"",0]
[2,197,null,null,null,null,null,null,null,null,null,null,null,null,null,null,null,null,null,null,null,null,null,null,null,null,null,null,null,null,null,null,null,167,{"$error":"#N/A"},{"$error":"#N/A"},null,168,168,"",0]
[2,198,null,null,null,null,null,null,null,null,null,null,null,null,null,null,null,null,null,null,null,null,null,null,null,null,null,null,null,null,null,null,null,168,{"$error":"#N/A"},{"$error":"#N/A"},null,169,169,"",0]
[2,199,null,null,null,null,null,null,null,null,null,null,null,null,null,null,null,null,null,null,null,null,null,null,null,null,null,null,null,null,null,null,null,169,{"$error":"#N/A"},{"$error":"#N/A"},null,170,170,"",0]
[2,200,null,null,null,null,null,null,null,null,null,null,null,null,null,null,null,null,null,null,null,null,null,null,null,null,null,null,null,null,null,null,null,170,{"$error":"#N/A"},{"$error":"#N/A"},null,171,171,"",0]
[2,201,null,null,null,null,null,null,null,null,null,null,null,null,null,null,null,null,null,null,null,null,null,null,null,null,null,null,null,null,null,null,null,171,{"$error":"#N/A"},{"$error":"#N/A"},null,172,{"$f":"IF(AL210<$AH$13,AL210,\"\")","v":172},"",0]
[2,202,null,null,null,null,null,null,null,null,null,null,null,null,null,null,null,null,null,null,null,null,null,null,null,null,null,null,null,null,null,null,null,172,{"$error":"#N/A"},{"$error":"#N/A"},null,173,173,"",0]
[2,203,null,null,null,null,null,null,null,null,null,null,null,null,null,null,null,null,null,null,null,null,null,null,null,null,null,null,null,null,null,null,null,173,{"$error":"#N/A"},{"$error":"#N/A"},null,174,174,"",0]
[2,204,null,null,null,null,null,null,null,null,null,null,null,null,null,null,null,null,null,null,null,null,null,null,null,null,null,null,null,null,null,null,null,174,{"$error":"#N/A"},{"$error":"#N/A"},null,175,175,"",0]
[2,205,null,null,null,null,null,null,null,null,null,null,null,null,null,null,null,null,null,null,null,null,null,null,null,null,null,null,null,null,null,null,null,175,{"$error":"#N/A"},{"$error":"#N/A"},null,176,176,"",0]
[2,206,null,null,null,null,null,null,null,null,null,null,null,null,null,null,null,null,null,null,null,null,null,null,null,null,null,null,null,null,null,null,null,176,{"$error":"#N/A"},{"$error":"#N/A"},null,177,177,"",0]
[2,207,null,null,null,null,null,null,null,null,null,null,null,null,null,null,null,null,null,null,null,null,null,null,null,null,null,null,null,null,null,null,null,177,{"$error":"#N/A"},{"$error":"#N/A"},null,178,178,"",0]
[2,208,null,null,null,null,null,null,null,null,null,null,null,null,null,null,null,null,null,null,null,null,null,null,null,null,null,null,null,null,null,null,null,178,{"$error":"#N/A"},{"$error":"#N/A"},null,179,179,"",0]
[2,209,null,null,null,null,null,null,null,null,null,null,null,null,null,null,null,null,null,null,null,null,null,null,null,null,null,null,null,null,null,null,null,179,{"$error":"#N/A"},{"$error":"#N/A"},null,180,180,"",0]
[2,210,null,null,null,null,null,null,null,null,null,null,null,null,null,null,null,null,null,null,null,null,null,null,null,null,null,null,null,null,null,null,null,180,{"$error":"#N/A"},{"$error":"#N/A"},null,181,181,"",0]
[2,211,null,null,null,null,null,null,null,null,null,null,null,null,null,null,null,null,null,null,null,null,null,null,null,null,null,null,null,null,null,null,null,181,{"$error":"#N/A"},{"$error":"#N/A"},null,182,182,"",0]
[2,212,null,null,null,null,null,null,null,null,null,null,null,null,null,null,null,null,null,null,null,null,null,null,null,null,null,null,null,null,null,null,null,182,{"$error":"#N/A"},{"$error":"#N/A"},null,183,183,"",0]
[2,213,null,null,null,null,null,null,null,null,null,null,null,null,null,null,null,null,null,null,null,null,null,null,null,null,null,null,null,null,null,null,null,183,{"$error":"#N/A"},{"$error":"#N/A"},null,184,184,"",0]
[2,214,null,null,null,null,null,null,null,null,null,null,null,null,null,null,null,null,null,null,null,null,null,null,null,null,null,null,null,null,null,null,null,184,{"$error":"#N/A"},{"$error":"#N/A"},null,185,185,"",0]
[2,215,null,null,null,null,null,null,null,null,null,null,null,null,null,null,null,null,null,null,null,null,null,null,null,null,null,null,null,null,null,null,null,185,{"$error":"#N/A"},{"$error":"#N/A"},null,186,186,"",0]
[2,216,null,null,null,null,null,null,null,null,null,null,null,null,null,null,null,null,null,null,null,null,null,null,null,null,null,null,null,null,null,null,null,186,{"$error":"#N/A"},{"$error":"#N/A"},null,187,187,"",0]
[2,217,null,null,null,null,null,null,null,null,null,null,null,null,null,null,null,null,null,null,null,null,null,null,null,null,null,null,null,null,null,null,null,187,{"$error":"#N/A"},{"$error":"#N/A"},null,188,188,"",0]
[2,218,null,null,null,null,null,null,null,null,null,null,null,null,null,null,null,null,null,null,null,null,null,null,null,null,null,null,null,null,null,null,null,188,{"$error":"#N/A"},{"$error":"#N/A"},null,189,189,"",0]
[2,219,null,null,null,null,null,null,null,null,null,null,null,null,null,null,null,null,null,null,null,null,null,null,null,null,null,null,null,null,null,null,null,189,{"$error":"#N/A"},{"$error":"#N/A"},null,190,190,"",0]
[2,220,null,null,null,null,null,null,null,null,null,null,null,null,null,null,null,null,null,null,null,null,null,null,null,null,null,null,null,null,null,null,null,190,{"$error":"#N/A"},{"$error":"#N/A"},null,191,191,"",0]
[2,221,null,null,null,null,null,null,null,null,null,null,null,null,null,null,null,null,null,null,null,null,null,null,null,null,null,null,null,null,null,null,null,191,{"$error":"#N/A"},{"$error":"#N/A"},null,192,192,"",0]
[2,222,null,null,null,null,null,null,null,null,null,null,null,null,null,null,null,null,null,null,null,null,null,null,null,null,null,null,null,null,null,null,null,192,{"$error":"#N/A"},{"$error":"#N/A"},null,193,193,"",0]
[2,223,null,null,null,null,null,null,null,null,null,null,null,null,null,null,null,null,null,null,null,null,null,null,null,null,null,null,null,null,null,null,null,193,{"$f":"MATCH(AH232,$A$10:$A$1613,0)","v":{"$error":"#N/A"}},{"$error":"#N/A"},null,194,194,{"$f":"IF(INDEX($C$10:$C$1613,AM232,1)=2,\"L/W \",IF(INDEX($C$10:$C$1613,AM232,1)=3,\"S/W \",IF(INDEX($C$10:$C$1613,AM232,1)=4,\"W/W \",\"\")))&OFFSET($E$9,AM232,0)","v":""},{"$f":"(INDEX($C$10:$C$1613,AM232,1))","v":0}]
[2,224,null,null,null,null,null,null,null,null,null,null,null,null,null,null,null,null,null,null,null,null,null,null,null,null,null,null,null,null,null,null,null,194,{"$error":"#N/A"},{"$f":"OFFSET($D$9,AI233,0)","v":{"$error":"#N/A"}},null,195,195,"",0]
[2,225,null,null,null,null,null,null,null,null,null,null,null,null,null,null,null,null,null,null,null,null,null,null,null,null,null,null,null,null,null,null,null,195,{"$error":"#N/A"},{"$error":"#N/A"},null,{"$f":"AL233+1","v":196},196,"",0]
[2,226,null,null,null,null,null,null,null,null,null,null,null,null,null,null,null,null,null,null,null,null,null,null,null,null,null,null,null,null,null,null,null,196,{"$error":"#N/A"},{"$error":"#N/A"},null,197,197,"",0]
[2,227,null,null,null,null,null,null,null,null,null,null,null,null,null,null,null,null,null,null,null,null,null,null,null,null,null,null,null,null,null,null,null,197,{"$error":"#N/A"},{"$error":"#N/A"},null,198,198,"",0]
[2,228,null,null,null,null,null,null,null,null,null,null,null,null,null,null,null,null,null,null,null,null,null,null,null,null,null,null,null,null,null,null,null,198,{"$error":"#N/A"},{"$error":"#N/A"},null,199,199,"",0]
[2,229,null,null,null,null,null,null,null,null,null,null,null,null,null,null,null,null,null,null,null,null,null,null,null,null,null,null,null,null,null,null,null,199,{"$error":"#N/A"},{"$error":"#N/A"},null,200,200,"",0]
[2,230,null,null,null,null,null,null,null,null,null,null,null,null,null,null,null,null,null,null,null,null,null,null,null,null,null,null,null,null,null,null,null,200,{"$error":"#N/A"},{"$error":"#N/A"},null,201,201,"",0]
[2,231]
[2,232]
[2,233]
[2,234]
[2,235]
[2,236]
[2,237]
[2,238]
[2,239]
[2,240]
[2,241]
[2,242]
[2,243]
[2,244]
[2,245]
[2,246]
[2,247]
[2,248]
[2,249]
[2,250]
[2,251]
[2,252]
[2,253]
[2,254]
[2,255]
[2,256]
[2,257]
[2,258]
[{"$f":"A267+(D268<>D267)*1","v":2},259]
[2,260]
[2,261]
[2,262]
[2,263]
[2,264]
[2,265]
[2,266]
[2,267]
[2,268]
[2,269]
[2,270]
[2,271]
[2,272]
[2,273]
[2,274]
[2,275]
[2,276]
[2,277]
[2,278]
[2,279]
[2,280]
[2,281]
[2,282]
[2,283]
[2,284]
[2,285]
[2,286]
[2,287]
[2,288]
[2,289]
[2,290]
[2,291]
[2,292]
[2,293]
[2,294]
[2,295]
[2,296]
[2,297]
[2,298]
[2,299]
[2,300]
[2,301]
[2,302]
[2,303]
[2,304]
[2,305]
[2,306]
[2,307]
[2,308]
[2,309]
[2,310]
[2,311]
[2,312]
[2,313]
[2,314]
[2,315]
[2,316]
[2,317]
[2,318]
[2,319]
[2,320]
[2,321]
[2,322]
[{"$f":"A331+(D332<>D331)*1","v":2},323]
[2,324]
[2,325]
[2,326]
[2,327]
[2,328]
[2,329]
[2,330]
[2,331]
[2,332]
[2,333]
[2,334]
[2,335]
[2,336]
[2,337]
[2,338]
[2,339]
[2,340]
[2,341]
[2,342]
[2,343]
[2,344]
[2,345]
[2,346]
[2,347]
[2,348]
[2,349]
[2,350]
[2,351]
[2,352]
[2,353]
[2,354]
[2,355]
[2,356]
[2,357]
[2,358]
[2,359]
[2,360]
[2,361]
[2,362]
[2,363]
[2,364]
[2,365]
[2,366]
[2,367]
[2,368]
[2,369]
[2,370]
[2,371]
[2,372]
[2,373]
[2,374]
[2,375]
[2,376]
[2,377]
[2,378]
[2,379]
[2,380]
[2,381]
[2,382]
[2,383]
[2,384]
[2,385]
[2,386]
[{"$f":"A395+(D396<>D395)*1","v":2},387]
[2,388]
[2,389]
[2,390]
[2,391]
[2,392]
[2,393]
[2,394]
[2,395]
[2,396]
[2,397]
[2,398]
[2,399]
[2,400]
[2,401]
[2,402]
[2,403]
[2,404]
[2,405]
[2,406]
[2,407]
[2,408]
[2,409]
[2,410]
[2,411]
[2,412]
[2,413]
[2,414]
[2,415]
[2,416]
[2,417]
[2,418]
[2,419]
[2,420]
[2,421]
[2,422]
[2,423]
[2,424]
[2,425]
[2,426]
[2,427]
[2,428]
[2,429]
[2,430]
[2,431]
[2,432]
[2,433]
[2,434]
[2,435]
[2,436]
[2,437]
[2,438]
[2,439]
[2,440]
[2,441]
[2,442]
[2,443]
[2,444]
[2,445]
[2,446]
[2,447]
[2,448]
[2,449]
[2,450]
[{"$f":"A459+(D460<>D459)*1","v":2},451]
[2,452]
[2,453]
[2,454]
[2,455]
[2,456]
[2,457]
[2,458]
[2,459]
[2,460]
[2,461]
[2,462]
[2,463]
[2,464]
[2,465]
[2,466]
[2,467]
[2,468]
[2,469]
[2,470]
[2,471]
[2,472]
[2,473]
[2,474]
[2,475]
[2,476]
[2,477]
[2,478]
[2,479]
[2,480]
[2,481]
[2,482]
[2,483]
[2,484]
[2,485]
[2,486]
[2,487]
[2,488]
[2,489]
[2,490]
[2,491]
[2,492]
[2,493]
[2,494]
[2,495]
[2,496]
[2,497]
[2,498]
[2,499]
[2,500]
[2,501]
[2,502]
[2,503]
[2,504]
[2,505]
[2,506]
[2,507]
[2,508]
[2,509]
[2,510]
[2,511]
[2,512]
[2,513]
[2,514]
[{"$f":"A523+(D524<>D523)*1","v":2},515]
[2,516]
[2,517]
[2,518]
[2,519]
[2,520]
[2,521]
[2,522]
[2,523]
[2,524]
[2,525]
[2,526]
[2,527]
[2,528]
[2,529]
[2,530]
[2,531]
[2,532]
[2,533]
[2,534]
[2,535]
[2,536]
[2,537]
[2,538]
[2,539]
[2,540]
[2,541]
[2,542]
[2,543]
[2,544]
[2,545]
[2,546]
[2,547]
[2,548]
[2,549]
[2,550]
[2,551]
[2,552]
[2,553]
[2,554]
[2,555]
[2,556]
[2,557]
[2,558]
[2,559]
[2,560]
[2,561]
[2,562]
[2,563]
[2,564]
[2,565]
[2,566]
[2,567]
[2,568]
[2,569]
[2,570]
[2,571]
[2,572]
[2,573]
[2,574]
[2,575]
[2,576]
[2,577]
[2,578]
[{"$f":"A587+(D588<>D587)*1","v":2},579]
[2,580]
[2,581]
[2,582]
[2,583]
[2,584]
[2,585]
[2,586]
[2,587]
[2,588]
[2,589]
[2,590]
[2,591]
[2,592]
[2,593]
[2,594]
[2,595]
[2,596]
[2,597]
[2,598]
[2,599]
[2,600]
[2,601]
[2,602]
[2,603]
[2,604]
[2,605]
[2,606]
[2,607]
[2,608]
[2,609]
[2,610]
[2,611]
[2,612]
[2,613]
[2,614]
[2,615]
[2,616]
[2,617]
[2,618]
[2,619]
[2,620]
[2,621]
[2,622]
[2,623]
[2,624]
[2,625]
[2,626]
[2,627]
[2,628]
[2,629]
[2,630]
[2,631]
[2,632]
[2,633]
[2,634]
[2,635]
[2,636]
[2,637]
[2,638]
[2,639]
[2,640]
[2,641]
[2,642]
[{"$f":"A651+(D652<>D651)*1","v":2},643]
[2,644]
[2,645]
[2,646]
[2,647]
[2,648]
[2,649]
[2,650]
[2,651]
[2,652]
[2,653]
[2,654]
[2,655]
[2,656]
[2,657]
[2,658]
[2,659]
[2,660]
[2,661]
[2,662]
[2,663]
[2,664]
[2,665]
[2,666]
[2,667]
[2,668]
[2,669]
[2,670]
[2,671]
[2,672]
[2,673]
[2,674]
[2,675]
[2,676]
[2,677]
[2,678]
[2,679]
[2,680]
[2,681]
[2,682]
[2,683]
[2,684]
[2,685]
[2,686]
[2,687]
[2,688]
[2,689]
[2,690]
[2,691]
[2,692]
[2,693]
[2,694]
[2,695]
[2,696]
[2,697]
[2,698]
[2,699]
[2,700]
[2,701]
[2,702]
[2,703]
[2,704]
[2,705]
[2,706]
[{"$f":"A715+(D716<>D715)*1","v":2},707]
[2,708]
[2,709]
[2,710]
[2,711]
[2,712]
[2,713]
[2,714]
[2,715]
[2,716]
[2,717]
[2,718]
[2,719]
[2,720]
[2,721]
[2,722]
[2,723]
[2,724]
[2,725]
[2,726]
[2,727]
[2,728]
[2,729]
[2,730]
[2,731]
[2,732]
[2,733]
[2,734]
[2,735]
[2,736]
[2,737]
[2,738]
[2,739]
[2,740]
[2,741]
[2,742]
[2,743]
[2,744]
[2,745]
[2,746]
[2,747]
[2,748]
[2,749]
[2,750]
[2,751]
[2,752]
[2,753]
[2,754]
[2,755]
[2,756]
[2,757]
[2,758]
[2,759]
[2,760]
[2,761]
[2,762]
[2,763]
[2,764]
[2,765]
[2,766]
[2,767]
[2,768]
[2,769]
[2,770]
[{"$f":"A779+(D780<>D779)*1","v":2},771]
[2,772]
[2,773]
[2,774]
[2,775]
[2,776]
[2,777]
[2,778]
[2,779]
[2,780]
[2,781]
[2,782]
[2,783]
[2,784]
[2,785]
[2,786]
[2,787]
[2,788]
[2,789]
[2,790]
[2,791]
[2,792]
[2,793]
[2,794]
[2,795]
[2,796]
[2,797]
[2,798]
[2,799]
[2,800]
[2,801]
[2,802]
[2,803]
[2,804]
[2,805]
[2,806]
[2,807]
[2,808]
[2,809]
[2,810]
[2,811]
[2,812]
[2,813]
[2,814]
[2,815]
[2,816]
[2,817]
[2,818]
[2,819]
[2,820]
[2,821]
[2,822]
[2,823]
[2,824]
[2,825]
[2,826]
[2,827]
[2,828]
[2,829]
[2,830]
[2,831]
[2,832]
[2,833]
[2,834]
[{"$f":"A843+(D844<>D843)*1","v":2},835]
[2,836]
[2,837]
[2,838]
[2,839]
[2,840]
[2,841]
[2,842]
[2,843]
[2,844]
[2,845]
[2,846]
[2,847]
[2,848]
[2,849]
[2,850]
[2,851]
[2,852]
[2,853]
[2,854]
[2,855]
[2,856]
[2,857]
[2,858]
[2,859]
[2,860]
[2,861]
[2,862]
[2,863]
[2,864]
[2,865]
[2,866]
[2,867]
[2,868]
[2,869]
[2,870]
[2,871]
[2,872]
[2,873]
[2,874]
[2,875]
[2,876]
[2,877]
[2,878]
[2,879]
[2,880]
[2,881]
[2,882]
[2,883]
[2,884]
[2,885]
[2,886]
[2,887]
[2,888]
[2,889]
[2,890]
[2,891]
[2,892]
[2,893]
[2,894]
[2,895]
[2,896]
[2,897]
[2,898]
[{"$f":"A907+(D908<>D907)*1","v":2},899]
[2,900]
[2,901]
[2,902]
[2,903]
[2,904]
[2,905]
[2,906]
[2,907]
[2,908]
[2,909]
[2,910]
[2,911]
[2,912]
[2,913]
[2,914]
[2,915]
[2,916]
[2,917]
[2,918]
[2,919]
[2,920]
[2,921]
[2,922]
[2,923]
[2,924]
[2,925]
[2,926]
[2,927]
[2,928]
[2,929]
[2,930]
[2,931]
[2,932]
[2,933]
[2,934]
[2,935]
[2,936]
[2,937]
[2,938]
[2,939]
[2,940]
[2,941]
[2,942]
[2,943]
[2,944]
[2,945]
[2,946]
[2,947]
[2,948]
[2,949]
[2,950]
[2,951]
[2,952]
[2,953]
[2,954]
[2,955]
[2,956]
[2,957]
[2,958]
[2,959]
[2,960]
[2,961]
[2,962]
[{"$f":"A971+(D972<>D971)*1","v":2},963]
[2,964]
[2,965]
[2,966]
[2,967]
[2,968]
[2,969]
[2,970]
[2,971]
[2,972]
[2,973]
[2,974]
[2,975]
[2,976]
[2,977]
[2,978]
[2,979]
[2,980]
[2,981]
[2,982]
[2,983]
[2,984]
[2,985]
[2,986]
[2,987]
[2,988]
[2,989]
[2,990]
[2,991]
[2,992]
[2,993]
[2,994]
[2,995]
[2,996]
[2,997]
[2,998]
[2,999]
[2,1000]
[2,1001]
[2,1002]
[2,1003]
[2,1004]
[2,1005]
[2,1006]
[2,1007]
[2,1008]
[2,1009]
[2,1010]
[2,1011]
[2,1012]
[2,1013]
[2,1014]
[2,1015]
[2,1016]
[2,1017]
[2,1018]
[2,1019]
[2,1020]
[2,1021]
[2,1022]
[2,1023]
[2,1024]
[2,1025]
[2,1026]
[{"$f":"A1035+(D1036<>D1035)*1","v":2},1027]
[2,1028]
[2,1029]
[2,1030]
[2,1031]
[2,1032]
[2,1033]
[2,1034]
[2,1035]
[2,1036]
[2,1037]
[2,1038]
[2,1039]
[2,1040]
[2,1041]
[2,1042]
[2,1043]
[2,1044]
[2,1045]
[2,1046]
[2,1047]
[2,1048]
[2,1049]
[2,1050]
[2,1051]
[2,1052]
[2,1053]
[2,1054]
[2,1055]
[2,1056]
[2,1057]
[2,1058]
[2,1059]
[2,1060]
[2,1061]
[2,1062]
[2,1063]
[2,1064]
[2,1065]
[2,1066]
[2,1067]
[2,1068]
[2,1069]
[2,1070]
[2,1071]
[2,1072]
[2,1073]
[2,1074]
[2,1075]
[2,1076]
[2,1077]
[2,1078]
[2,1079]
[2,1080]
[2,1081]
[2,1082]
[2,1083]
[2,1084]
[2,1085]
[2,1086]
[2,1087]
[2,1088]
[2,1089]
[2,1090]
[{"$f":"A1099+(D1100<>D1099)*1","v":2},1091]
[2,1092]
[2,1093]
[2,1094]
[2,1095]
[2,1096]
[2,1097]
[2,1098]
[2,1099]
[2,1100]
[2,1101]
[2,1102]
[2,1103]
[2,1104]
[2,1105]
[2,1106]
[2,1107]
[2,1108]
[2,1109]
[2,1110]
[2,1111]
[2,1112]
[2,1113]
[2,1114]
[2,1115]
[2,1116]
[2,1117]
[2,1118]
[2,1119]
[2,1120]
[2,1121]
[2,1122]
[2,1123]
[2,1124]
[2,1125]
[2,1126]
[2,1127]
[2,1128]
[2,1129]
[2,1130]
[2,1131]
[2,1132]
[2,1133]
[2,1134]
[2,1135]
[2,1136]
[2,1137]
[2,1138]
[2,1139]
[2,1140]
[2,1141]
[2,1142]
[2,1143]
[2,1144]
[2,1145]
[2,1146]
[2,1147]
[2,1148]
[2,1149]
[2,1150]
[2,1151]
[2,1152]
[2,1153]
[2,1154]
[{"$f":"A1163+(D1164<>D1163)*1","v":2},1155]
[2,1156]
[2,1157]
[2,1158]
[2,1159]
[2,1160]
[2,1161]
[2,1162]
[2,1163]
[2,1164]
[2,1165]
[2,1166]
[2,1167]
[2,1168]
[2,1169]
[2,1170]
[2,1171]
[2,1172]
[2,1173]
[2,1174]
[2,1175]
[2,1176]
[2,1177]
[2,1178]
[2,1179]
[2,1180]
[2,1181]
[2,1182]
[2,1183]
[2,1184]
[2,1185]
[2,1186]
[2,1187]
[2,1188]
[2,1189]
[2,1190]
[2,1191]
[2,1192]
[2,1193]
[2,1194]
[2,1195]
[2,1196]
[2,1197]
[2,1198]
[2,1199]
[2,1200]
[2,1201]
[2,1202]
[2,1203]
[2,1204]
[2,1205]
[2,1206]
[2,1207]
[2,1208]
[2,1209]
[2,1210]
[2,1211]
[2,1212]
[2,1213]
[2,1214]
[2,1215]
[2,1216]
[2,1217]
[2,1218]
[{"$f":"A1227+(D1228<>D1227)*1","v":2},1219]
[2,1220]
[2,1221]
[2,1222]
[2,1223]
[2,1224]
[2,1225]
[2,1226]
[2,1227]
[2,1228]
[2,1229]
[2,1230]
[2,1231]
[2,1232]
[2,1233]
[2,1234]
[2,1235]
[2,1236]
[2,1237]
[2,1238]
[2,1239]
[2,1240]
[2,1241]
[2,1242]
[2,1243]
[2,1244]
[2,1245]
[2,1246]
[2,1247]
[2,1248]
[2,1249]
[2,1250]
[2,1251]
[2,1252]
[2,1253]
[2,1254]
[2,1255]
[2,1256]
[2,1257]
[2,1258]
[2,1259]
[2,1260]
[2,1261]
[2,1262]
[2,1263]
[2,1264]
[2,1265]
[2,1266]
[2,1267]
[2,1268]
[2,1269]
[2,1270]
[2,1271]
[2,1272]
[2,1273]
[2,1274]
[2,1275]
[2,1276]
[2,1277]
[2,1278]
[2,1279]
[2,1280]
[2,1281]
[2,1282]
[{"$f":"A1291+(D1292<>D1291)*1","v":2},1283]
[2,1284]
[2,1285]
[2,1286]
[2,1287]
[2,1288]
[2,1289]
[2,1290]
[2,1291]
[2,1292]
[2,1293]
[2,1294]
[2,1295]
[2,1296]
[2,1297]
[2,1298]
[2,1299]
[2,1300]
[2,1301]
[2,1302]
[2,1303]
[2,1304]
[2,1305]
[2,1306]
[2,1307]
[2,1308]
[2,1309]
[2,1310]
[2,1311]
[2,1312]
[2,1313]
[2,1314]
[2,1315]
[2,1316]
[2,1317]
[2,1318]
[2,1319]
[2,1320]
[2,1321]
[2,1322]
[2,1323]
[2,1324]
[2,1325]
[2,1326]
[2,1327]
[2,1328]
[2,1329]
[2,1330]
[2,1331]
[2,1332]
[2,1333]
[2,1334]
[2,1335]
[2,1336]
[2,1337]
[2,1338]
[2,1339]
[2,1340]
[2,1341]
[2,1342]
[2,1343]
[2,1344]
[2,1345]
[2,1346]
[{"$f":"A1355+(D1356<>D1355)*1","v":2},1347]
[2,1348]
[2,1349]
[2,1350]
[2,1351]
[2,1352]
[2,1353]
[2,1354]
[2,1355]
[2,1356]
[2,1357]
[2,1358]
[2,1359]
[2,1360]
[2,1361]
[2,1362]
[2,1363]
[2,1364]
[2,1365]
[2,1366]
[2,1367]
[2,1368]
[2,1369]
[2,1370]
[2,1371]
[2,1372]
[2,1373]
[2,1374]
[2,1375]
[2,1376]
[2,1377]
[2,1378]
[2,1379]
[2,1380]
[2,1381]
[2,1382]
[2,1383]
[2,1384]
[2,1385]
[2,1386]
[2,1387]
[2,1388]
[2,1389]
[2,1390]
[2,1391]
[2,1392]
[2,1393]
[2,1394]
[2,1395]
[2,1396]
[2,1397]
[2,1398]
[2,1399]
[2,1400]
[2,1401]
[2,1402]
[2,1403]
[2,1404]
[2,1405]
[2,1406]
[2,1407]
[2,1408]
[2,1409]
[2,1410]
[{"$f":"A1419+(D1420<>D1419)*1","v":2},1411]
[2,1412]
[2,1413]
[2,1414]
[2,1415]
[2,1416]
[2,1417]
[2,1418]
[2,1419]
[2,1420]
[2,1421]
[2,1422]
[2,1423]
[2,1424]
[2,1425]
[2,1426]
[2,1427]
[2,1428]
[2,1429]
[2,1430]
[2,1431]
[2,1432]
[2,1433]
[2,1434]
[2,1435,null,"Werte aus der Installationsanleitung"]
[2,1436,null,"Werte mit Wärmepumpentool anhand bestehender Werte berrechnet "]
[2,1437,null,"Werte mit Wärmepumpentool anhand bestehender Werte berrechnet, es bestehen jedoch Zweifel"]
[2,1438,null,"Herkunft der Werte nicht bekannt, waren aber bereits eingetragen"]
[2,1439,null,"Zeileneinträge mit alten WP-Typen. Werden nicht in die Liste von EnDK übernommen"]
[2,1440]
[3,1441,null,"STIEBEL ELTRON  Luft-Wasser Wärmepumpe"]
[3,1442,2,"STIEBEL ELTRON  Luft-Wasser Wärmepumpe"," - LWZ 8 CSE Premium - 8,34 kW",4,6.9,2.06,8.34,2.61,5.16,3.74,4.4000000000000004,4.74,4.3,5,4.8,1.88,5,2.9,4.7,3.6]
[null,1443]
[3,1444,2,"STIEBEL ELTRON  Luft-Wasser Wärmepumpe"," - WPL 09 ICS classic - 4,23 kW",4,3.64,2.68,4.2300000000000004,3.16,2.64,3.83,2.06,4.68,1.7,5.49,3.93,2.15,2.1,2.64,2.4,3.1]
[3,1445,2,"STIEBEL ELTRON  Luft-Wasser Wärmepumpe"," - WPL 09 IKCS classic - 4,18 kW",4,3.45,2.63,4.18,3.07,2.62,3.76,2.06,4.68,1.7,5.49,3.89,2.11,2.1,2.64,2.4,3.1]
[3,1446,2,"STIEBEL ELTRON  Luft-Wasser Wärmepumpe"," - WPL 17 ICS classic - 8,02 kW",4,6.29,2.4700000000000002,8.02,2.63,5.0199999999999996,3.83,4.2699999999999996,4.74,4.3,6.12,3.14,1.99,3.81,2.58,4.7,3.04]
[3,1447,2,"STIEBEL ELTRON  Luft-Wasser Wärmepumpe"," - WPL 17 IKCS classic - 7,8 kW",4,6.21,2.4300000000000002,7.8,2.58,4.95,3.7,4.22,4.5999999999999996,4.3,6.12,3.03,1.94,3.75,2.5099999999999998,4.7,3.04]
[null,1448]
[3,1449,2,"STIEBEL ELTRON  Luft-Wasser Wärmepumpe"," - WPL 09 ACS classic - 4,06 kW",4,3.43,2.41,4.0599999999999996,2.72,2.59,3.72,2.27,4.54,1.7,6.86,3.9,1.94,1.92,2.59,2,3.78]
[3,1450,2,"STIEBEL ELTRON  Luft-Wasser Wärmepumpe"," - WPL 13 ACS classic - 6,0 kW",4,5.98,2.65,6,2.92,4.3,3.97,4.8600000000000003,4.76,3.7,6.49,6.5,2,4.3099999999999996,2.73,4.0999999999999996,3.58]
[3,1451,2,"STIEBEL ELTRON  Luft-Wasser Wärmepumpe"," - WPL 17 ACS classic - 7,8 kW",4,7.07,2.4900000000000002,7.8,2.92,5.73,3.97,4.8600000000000003,4.76,3.7,6.49,7.6,2.35,4.3099999999999996,2.73,3.3,3.58]
[null,1452]
[3,1453,2,"STIEBEL ELTRON  Luft-Wasser Wärmepumpe"," - WPL-A 05 HK - 4,97 kW",4,4.18,2.9,4.97,3.45,3.19,4.5999999999999996,3.31,5.42,4.4000000000000004,8.44,4.9400000000000004,2.5099999999999998,2.7,3.29,4,4.5]
[3,1454,2,"STIEBEL ELTRON  Luft-Wasser Wärmepumpe"," - WPL-A 07 HK - 6,87 kW",4,6.4,2.67,6.87,2.93,4.3,4.3,3.31,5.42,4.4000000000000004,8.44,7.01,2.36,2.7,3.29,4,4.5]
[3,1455,2,"STIEBEL ELTRON  Luft-Wasser Wärmepumpe"," - WPL-A 10 HK - 9,9 KW",4,7.84,2.76,9.9,3.36,7.82,3.82,8.24,4.6100000000000003,10.34,5.92,9.49,2.36,9.0299999999999994,3.14,11.06,3.79]
[3,1456,2,"STIEBEL ELTRON  Luft-Wasser Wärmepumpe"," - WPL-A 13 HK - 12,34 KW",4,11.28,2.71,12.34,3,7.82,3.82,8.24,4.6100000000000003,10.34,5.92,12.73,2.2799999999999998,9.0299999999999994,3.14,11.06,3.79]
[3,1457,2,"STIEBEL ELTRON  Luft-Wasser Wärmepumpe"," - WPL-A 13 HK dB - 11,6 KW",4,10.199999999999999,2.81,11.6,3.04,7.82,3.82,8.24,4.6100000000000003,10.34,5.92,12,2.41,9.0299999999999994,3.14,11.06,3.79]
[null,1458]
[3,1459,2,"STIEBEL ELTRON  Luft-Wasser Wärmepumpe"," - 1x WPL 20 A / AC - 9,54 kW",4,8.51,2.92,9.5399999999999991,3.26,8.33,4.1399999999999997,7.84,5.09,11.4,6.43,10.73,2.62,7.3,3.1,9.8000000000000007,3.85]
[3,1460,2,"STIEBEL ELTRON  Luft-Wasser Wärmepumpe"," - 2x WPL 20 A / AC - 19,8 kW",4,17.02,2.92,19.079999999999998,3.26,16.66,4.1399999999999997,15.68,5.09,22.8,6.43,21.46,2.62,14.6,3.1,19.600000000000001,3.85]
[3,1461,2,"STIEBEL ELTRON  Luft-Wasser Wärmepumpe"," - 3x WPL 20 A / AC - 28,62 kW",4,25.53,2.92,28.62,3.26,24.99,4.1399999999999997,23.52,5.09,34.200000000000003,6.43,32.19,2.62,21.9,3.1,29.4,3.85]
[3,1462,2,"STIEBEL ELTRON  Luft-Wasser Wärmepumpe"," - 4x WPL 20 A / AC - 38,16 kW",4,34.04,2.92,38.159999999999997,3.26,33.32,4.1399999999999997,31.36,5.09,45.6,6.43,42.92,2.62,29.2,3.1,39.200000000000003,3.85]
[3,1463,2,"STIEBEL ELTRON  Luft-Wasser Wärmepumpe"," - 5x WPL 20 A / AC - 47,7 kW",4,42.55,2.92,47.7,3.26,41.65,4.1399999999999997,39.200000000000003,5.09,57,6.43,53.65,2.62,36.5,3.1,49,3.85]
[null,1464]
[3,1465,2,"STIEBEL ELTRON  Luft-Wasser Wärmepumpe"," - 1x WPL 25 A / AC - 12,86 kW",4,12.05,2.69,12.86,2.93,8.33,4.1399999999999997,7.84,5.09,11.4,6.43,13.93,2.42,7.3,3.1,9.8000000000000007,3.85]
[3,1466,2,"STIEBEL ELTRON  Luft-Wasser Wärmepumpe"," - 2x WPL 25 A / AC - 25,72 kW",4,24.1,2.69,25.72,2.93,16.66,4.1399999999999997,15.68,5.09,22.8,6.43,27.86,2.42,14.6,3.1,19.600000000000001,3.85]
[3,1467,2,"STIEBEL ELTRON  Luft-Wasser Wärmepumpe"," - 3x WPL 25 A / AC - 38,58 kW",4,36.15,2.69,38.58,2.93,24.99,4.1399999999999997,23.52,5.09,34.200000000000003,6.43,41.79,2.42,21.9,3.1,29.4,3.85]
[3,1468,2,"STIEBEL ELTRON  Luft-Wasser Wärmepumpe"," - 4x WPL 25 A / AC - 51,44 kW",4,48.2,2.69,51.44,2.93,33.32,4.1399999999999997,31.36,5.09,45.6,6.43,55.72,2.42,29.2,3.1,39.200000000000003,3.85]
[3,1469,2,"STIEBEL ELTRON  Luft-Wasser Wärmepumpe"," - 5x WPL 25 A / AC - 64,3 kW",4,60.25,2.69,64.3,2.93,41.65,4.1399999999999997,39.200000000000003,5.09,57,6.43,69.650000000000006,2.42,36.5,3.1,49,3.85]
[3,1470,2,"STIEBEL ELTRON  Luft-Wasser Wärmepumpe"," - 6x WPL 25 A / AC - 73,2 KW",4,72.599999999999994,2.69,73.2,2.93,49.8,4.1399999999999997,46.8,5.09,68.400000000000006,6.43,83.4,2.42,44.4,3.1,58.8,3.85]
[3,1471,2,"STIEBEL ELTRON  Luft-Wasser Wärmepumpe"," - 1x WPL 25 A dB / AC dB - 11,8 kW",4,11.1,2.83,11.8,3.09,8.33,4.1399999999999997,7.84,5.09,11.4,6.43,12.8,2.41,7.3,3.1,9.8000000000000007,3.85]
[null,1472]
[3,1473,2,"STIEBEL ELTRON  Luft-Wasser Wärmepumpe"," - WPL 13 E / IK - 6,77 kW",1,5.2,2.6,6.77,3.2,8.09,3.76,8.93,4.3499999999999996,12.5,4.9000000000000004,6.9,2.2999999999999998,8.1,2.9,11.1,3.8]
[null,1474]
[3,1475,2,"STIEBEL ELTRON  Luft-Wasser Wärmepumpe"," - 1x WPL 13 cool - 6,6 kW",1,5.2,2.6,6.6,3.2,8.1,3.4,9.1,4.3499999999999996,12.1,4.8,7,2.2000000000000002,8.6,2.7,11.6,3.5]
[{"$f":"A1484+(D1485<>D1484)*1","v":3},1476,2,"STIEBEL ELTRON  Luft-Wasser Wärmepumpe"," - 2x WPL 13 cool - 13,2 kW",1,10.4,2.6,13.2,3.2,16.2,3.4,18.2,4.3499999999999996,24.2,4.8,14,2.2000000000000002,17.2,2.7,23.6,3.5]
[3,1477,2,"STIEBEL ELTRON  Luft-Wasser Wärmepumpe"," - 1x WPL 18 cool - 9,72 kW",1,7.8,2.66,9.7200000000000006,3.27,11.3,3.7,12.9,4.46,16.100000000000001,5.37,10.3,2.2400000000000002,11.3,2.79,15.1,3.47]
[3,1478,2,"STIEBEL ELTRON  Luft-Wasser Wärmepumpe"," - 2x WPL 18 cool - 19,44 kW",1,15.6,2.66,19.440000000000001,3.27,22.6,3.7,25.8,4.46,32.200000000000003,5.37,20.6,2.2400000000000002,22.6,2.79,30.2,3.47]
[3,1479,2,"STIEBEL ELTRON  Luft-Wasser Wärmepumpe"," - 1x WPL 23 cool - 12,27 kW",1,10.3,2.67,12.27,2.91,14.14,3.23,14.45,3.52,20.3,4.74,13.8,2.2400000000000002,15.5,2.77,18.899999999999999,3.03]
[3,1480,2,"STIEBEL ELTRON  Luft-Wasser Wärmepumpe"," - 2x WPL 23 cool - 24,54 kW",1,20.6,2.67,24.54,2.91,28.28,3.23,28.9,3.52,40.6,4.74,27.6,2.2400000000000002,31,2.77,37.799999999999997,3.03]
[3,1481,2,"STIEBEL ELTRON  Luft-Wasser Wärmepumpe"," - 3x WPL 23 cool - 36,81 kW",1,30.9,2.67,36.81,2.91,42.42,3.23,43.35,3.52,60.9,4.74,41.4,2.2400000000000002,46.5,2.77,56.7,3.03]
[null,1482]
[3,1483,2,"STIEBEL ELTRON  Luft-Wasser Wärmepumpe"," - 1x WPL 19 I / IK / A / A dB - 9,91 kW",4,8.5299999999999994,2.93,9.91,3.32,7.41,4.12,6.7,4.99,7.54,6.21,10.58,2.4900000000000002,8.59,3.3,7.89,3.56]
[3,1484,2,"STIEBEL ELTRON  Luft-Wasser Wärmepumpe"," - 2x WPL 19 I / A - 19,82 kW",4,17.059999999999999,2.93,19.82,3.32,14.82,4.12,13.4,4.99,15.08,6.21,21.16,2.4900000000000002,17.18,3.3,15.78,3.56]
[3,1485,2,"STIEBEL ELTRON  Luft-Wasser Wärmepumpe"," - 3x WPL 19 I / A - 29,73 kW",4,25.59,2.93,29.73,3.32,22.23,4.12,20.100000000000001,4.99,22.62,6.21,31.74,2.4900000000000002,25.77,3.3,23.67,3.56]
[3,1486,2,"STIEBEL ELTRON  Luft-Wasser Wärmepumpe"," - 4x WPL 19 I / A - 39,64 kW",4,34.119999999999997,2.93,39.64,3.32,29.64,4.12,26.8,4.99,30.16,6.21,42.32,2.4900000000000002,34.36,3.3,31.56,3.56]
[3,1487,2,"STIEBEL ELTRON  Luft-Wasser Wärmepumpe"," - 5x WPL 19 I / A - 49,55 kW",4,42.65,2.93,49.55,3.32,37.049999999999997,4.12,33.5,4.99,37.700000000000003,6.21,52.9,2.4900000000000002,42.95,3.3,39.450000000000003,3.56]
[null,1488]
[3,1489,2,"STIEBEL ELTRON  Luft-Wasser Wärmepumpe"," - 1x WPL 24 I / IK / A / A dB - 13,45 kW",4,12.98,2.69,13.45,3,9.0399999999999991,4,7.41,4.72,7.54,6.21,15.46,2.34,10.42,3.19,7.89,3.56]
[3,1490,2,"STIEBEL ELTRON  Luft-Wasser Wärmepumpe"," - 2x WPL 24 I / A - 26,9 kW",4,25.96,2.69,26.9,3,18.079999999999998,4,14.82,4.72,15.08,6.21,30.92,2.34,20.84,3.19,15.78,3.56]
[3,1491,2,"STIEBEL ELTRON  Luft-Wasser Wärmepumpe"," - 3x WPL 24 I / A - 40,35 kW",4,38.94,2.69,40.35,3,27.12,4,22.23,4.72,22.62,6.21,46.38,2.34,"31.26",3.19,23.67,3.56]
[3,1492,2,"STIEBEL ELTRON  Luft-Wasser Wärmepumpe"," - 4x WPL 24 I / A - 53,8 kW",4,51.92,2.69,53.8,3,36.159999999999997,4,29.64,4.72,30.16,6.21,61.84,2.34,41.68,3.19,31.56,3.56]
[3,1493,2,"STIEBEL ELTRON  Luft-Wasser Wärmepumpe"," - 5x WPL 24 I / A - 67,25 kW",4,64.900000000000006,2.69,67.25,3,45.2,4,37.049999999999997,4.72,37.700000000000003,6.21,77.3,2.34,52.1,3.19,39.450000000000003,3.56]
[3,1494,2,"STIEBEL ELTRON  Luft-Wasser Wärmepumpe"," - 6x WPL 24 I / A - 80,7 kW",4,77.88,2.69,80.7,3,54.24,4,44.46,4.72,45.24,6.21,92.76,2.34,62.52,3.19,47.34,3.56]
[null,1495]
[3,1496,null,"STIEBEL ELTRON  Luft-Wasser Wärmepumpe","-----------------------------------------"]
[3,1497,null,"STIEBEL ELTRON  Luft-Wasser Wärmepumpe","Ältere Modelle"]
[null,1498]
[3,1499,2,"STIEBEL ELTRON  Luft-Wasser Wärmepumpe"," - WPL 10 AC(S) - 6,7 kW",1,3.8,2.8,5.0999999999999996,3.1,6.7,3.5,7.8,3.9,10.5,4.7,4,2.2999999999999998,7.2,2.9,8.6,3.1]
[3,1500,2,"STIEBEL ELTRON  Luft-Wasser Wärmepumpe"," - WPL 15 AS - 4,20 kW",4,6.16,2.5099999999999998,6.86,2.83,4.2300000000000004,3.88,4.68,4.2300000000000004,4.7,5.7,7.09,2.1,3.7,2.7,4.3,3.6]
[3,1501,2,"STIEBEL ELTRON  Luft-Wasser Wärmepumpe"," - WPL 44 AC - 21,8 kW",1,14.4,2.9,17.5,3.5,21.8,4.2,25.8,4.5999999999999996,32.200000000000003,5.5,16.7,2.5,25,3.4,31.06,4.0999999999999996]
[3,1502,2,"STIEBEL ELTRON  Luft-Wasser Wärmepumpe"," - WPL 60 AC - 30,3 kW",1,20.9,2.8,25.1,3.4,30.3,4.0999999999999996,37.200000000000003,4.5999999999999996,48.7,5.9,21.7,2.4,33.799999999999997,3.5,44.45,4.5]
[3,1503,2,"STIEBEL ELTRON  Luft-Wasser Wärmepumpe"," - WPL 130 AC - 65,1 kW",1,34,2.2999999999999998,47.3,2.9,65.099999999999994,3.6,75.599999999999994,4,96,5,40.31,1.9,66.88,2.93,86.12,3.73]
[3,1504,2,"STIEBEL ELTRON  Luft-Wasser Wärmepumpe"," - WPL-S 18 HK - 21,8 kW",1,14.4,2.9,17.5,3.5,21.8,4.2,25.8,4.5999999999999996,32.200000000000003,5.5,16.7,2.5,25,3.4,31.06,4.0999999999999996]
[3,1505,2,"STIEBEL ELTRON  Luft-Wasser Wärmepumpe"," - WPL-S 25 HK - 30,3 kW",1,20.9,2.8,25.1,3.4,30.3,4.0999999999999996,37.200000000000003,4.5999999999999996,48.7,5.9,21.7,2.4,33.799999999999997,3.5,44.45,4.5]
[null,1506]
[4,1507,null,"STIEBEL ELTRON  Sole-Wasser Wärmepumpe "]
[4,1508,3,"STIEBEL ELTRON  Sole-Wasser Wärmepumpe "," - WPE-I 04 H(K)(W) 230 Premium",4,null,null,null,null,null,null,null,null,null,null,null,null,null,null,null,null,4.2,4.5999999999999996,3.7,2.73,5.71,6.3,5.16,3.75]
[4,1509,3,"STIEBEL ELTRON  Sole-Wasser Wärmepumpe "," - WPE-I 06 H(K)(W) 230 Premium ",4,null,null,null,null,null,null,null,null,null,null,null,null,null,null,null,null,6.6,4.5999999999999996,6,2.91,7.36,6.3,6.8,3.77]
[4,1510,3,"STIEBEL ELTRON  Sole-Wasser Wärmepumpe "," - WPE-I 08 H(K)(W) 230 Premium",4,null,null,null,null,null,null,null,null,null,null,null,null,null,null,null,null,7.6,4.67,6.9,3.07,7.36,6.33,7.3,3.85]
[4,1511,3,"STIEBEL ELTRON  Sole-Wasser Wärmepumpe "," - WPE-I 12 H(K)(W) 230 Premium ",4,null,null,null,null,null,null,null,null,null,null,null,null,null,null,null,null,12.6,5.01,10.199999999999999,3.13,15.38,5.86,15.23,3.89]
[4,1512,3,"STIEBEL ELTRON  Sole-Wasser Wärmepumpe "," - WPE-I 15 H(K)(W) 230 Premium ",4,null,null,null,null,null,null,null,null,null,null,null,null,null,null,null,null,13.4,4.8600000000000003,10.199999999999999,3.18,15.33,5.78,14.3,3.92]
[null,1513]
[4,1514,3,"STIEBEL ELTRON  Sole-Wasser Wärmepumpe "," - WPE-I 05 H 400 Plus ",1,null,null,null,null,null,null,null,null,null,null,null,null,null,null,null,null,5.56,4.4126984126984121,4.9950000000000001,2.78,7.3,5.36,6.7,3.6]
[4,1515,3,"STIEBEL ELTRON  Sole-Wasser Wärmepumpe "," - WPE-I 07 H 400 Plus ",1,null,null,null,null,null,null,null,null,null,null,null,null,null,null,null,null,7.35,4.6226415094339615,6.84,2.81,9.4600000000000009,5.67,8.81,3.64]
[4,1516,3,"STIEBEL ELTRON  Sole-Wasser Wärmepumpe "," - WPE-I 10 H 400 Plus",1,null,null,null,null,null,null,null,null,null,null,null,null,null,null,null,null,9.81,4.7621359223300974,9.25,3.04,12.74,5.62,11.78,3.66]
[4,1517,3,"STIEBEL ELTRON  Sole-Wasser Wärmepumpe "," - WPE-I 13 H 400 Plus ",1,null,null,null,null,null,null,null,null,null,null,null,null,null,null,null,null,12.42,4.5163636363636366,11.85,3.01,16.420000000000002,5.6,15.1,3.74]
[4,1518,3,"STIEBEL ELTRON  Sole-Wasser Wärmepumpe "," - WPE-I 17 H 400 Plus",1,null,null,null,null,null,null,null,null,null,null,null,null,null,null,null,null,16.690000000000001,4.4270557029177722,15.77,2.98,21.3,5.01,20.63,3.55]
[null,1519]
[null,1520,3,"STIEBEL ELTRON  Sole-Wasser Wärmepumpe "," - WPE-I 07.1 Plus H(W) 400",3,null,null,null,null,null,null,null,null,null,null,null,null,null,null,null,null,3.36,4.62,2.66,2.63,4.1900000000000004,6.16,3.61,3.43]
[null,1521,3,"STIEBEL ELTRON  Sole-Wasser Wärmepumpe "," - WPE-I 12.1 Plus H(W) 400",3,null,null,null,null,null,null,null,null,null,null,null,null,null,null,null,null,6.2,4.87,5.33,2.99,7.9,6.25,6.94,3.73]
[null,1522]
[4,1523,3,"STIEBEL ELTRON  Sole-Wasser Wärmepumpe "," - WPF 20 ",1,null,null,null,null,null,null,null,null,null,null,null,null,null,null,null,null,21.5,4.6637744034707156,20.5,2.9,28.3,5.97,25.7,3.56]
[4,1524,3,"STIEBEL ELTRON  Sole-Wasser Wärmepumpe "," - WPF 27 ",1,null,null,null,null,null,null,null,null,null,null,null,null,null,null,null,null,29.69,4.8513071895424842,26.5,2.8,38.6,6.24,34.700000000000003,3.67]
[4,1525,3,"STIEBEL ELTRON  Sole-Wasser Wärmepumpe "," - WPF 27 HT ",1,null,null,null,null,null,null,null,null,null,null,null,null,null,null,null,null,27.41,4.337025316455696,24.5,2.95,36.700000000000003,5.46,33.4,3.66]
[null,1526]
[4,1527,3,"STIEBEL ELTRON  Sole-Wasser Wärmepumpe "," - WPE-I 33 H 400 Premium",3,null,null,null,null,null,null,null,null,null,null,null,null,null,null,null,null,33.299999999999997,4.7300000000000004,31.1,2.98,43.2,6.21,39.6,3.8]
[4,1528,3,"STIEBEL ELTRON  Sole-Wasser Wärmepumpe "," - WPE-I 44 H 400 Premium ",3,null,null,null,null,null,null,null,null,null,null,null,null,null,null,null,null,43.8,4.5999999999999996,42,2.97,54,6.01,52.2,3.81]
[4,1529,3,"STIEBEL ELTRON  Sole-Wasser Wärmepumpe "," - WPE-I 59 H 400 Premium ",3,null,null,null,null,null,null,null,null,null,null,null,null,null,null,null,null,58.6,4.5,55.4,3.03,75.400000000000006,5.6,69.8,3.81]
[4,1530,3,"STIEBEL ELTRON  Sole-Wasser Wärmepumpe "," - WPE-I 87 H 400 Premium",3,null,null,null,null,null,null,null,null,null,null,null,null,null,null,null,null,87.8,4.71,78.3,2.87,100.9,5.97,97.3,3.83]
[null,1531]
[4,1532,3,"STIEBEL ELTRON  Sole-Wasser Wärmepumpe "," - 1x WPE-I 87 + 1x WPE-I 33 ",3,null,null,null,null,null,null,null,null,null,null,null,null,null,null,null,null,121.1,4.7200000000000006,109.42999999999999,2.9249999999999998,148,6.09,138.5,3.8149999999999999]
[4,1533,3,"STIEBEL ELTRON  Sole-Wasser Wärmepumpe "," - 1x WPE-I 87 + 1x WPE-I 44",3,null,null,null,null,null,null,null,null,null,null,null,null,null,null,null,null,131.6,4.6549999999999994,120.25999999999999,2.92,157.6,5.99,150.80000000000001,3.8200000000000003]
[4,1534,3,"STIEBEL ELTRON  Sole-Wasser Wärmepumpe "," - 1x WPE-I 87 + 1x WPE-I 59 ",3,null,null,null,null,null,null,null,null,null,null,null,null,null,null,null,null,146.4,4.6050000000000004,133.69999999999999,2.95,180.3,5.7850000000000001,169,3.8200000000000003]
[4,1535,3,"STIEBEL ELTRON  Sole-Wasser Wärmepumpe "," - 2x WPE-I 87 ",3,null,null,null,null,null,null,null,null,null,null,null,null,null,null,null,null,175.6,4.71,156.6,2.87,208.6,5.97,196.6,3.83]
[4,1536,3,"STIEBEL ELTRON  Sole-Wasser Wärmepumpe "," - 2x WPE-I 87 + 1x WPE-I 33",3,null,null,null,null,null,null,null,null,null,null,null,null,null,null,null,null,208.89999999999998,4.7166666666666677,187.73,2.9066666666666663,252.3,6.05,236.8,3.8200000000000003]
[4,1537,3,"STIEBEL ELTRON  Sole-Wasser Wärmepumpe "," - 2x WPE-I 87 + 1x WPE-I 44",3,null,null,null,null,null,null,null,null,null,null,null,null,null,null,null,null,219.39999999999998,4.6733333333333329,198.56,2.9033333333333338,261.89999999999998,5.9833333333333334,249.1,3.8233333333333337]
[4,1538,3,"STIEBEL ELTRON  Sole-Wasser Wärmepumpe "," - 2x WPE-I 87 + 1x WPE-I 59 ",3,null,null,null,null,null,null,null,null,null,null,null,null,null,null,null,null,234.2,4.6400000000000006,212,2.9233333333333333,284.60000000000002,5.8466666666666667,267.3,3.8233333333333337]
[{"$f":"A1547+(D1548<>D1547)*1","v":4},1539,3,"STIEBEL ELTRON  Sole-Wasser Wärmepumpe "," - 3x WPE-I 87",3,null,null,null,null,null,null,null,null,null,null,null,null,null,null,null,null,263.39999999999998,4.71,234.89999999999998,2.87,312.89999999999998,5.97,294.89999999999998,3.83]
[null,1540]
[4,1541,null,"STIEBEL ELTRON  Sole-Wasser Wärmepumpe ","-----------------------------------------"]
[4,1542,null,"STIEBEL ELTRON  Sole-Wasser Wärmepumpe","Ältere Modelle"]
[null,1543]
[4,1544,3,"STIEBEL ELTRON  Sole-Wasser Wärmepumpe"," - WPC 04 / WPC 04 cool - 4,8 kW",1,null,null,null,null,null,null,null,null,null,null,null,null,null,null,null,null,4.7699999999999996,4.5,4.25,2.72]
[4,1545,3,"STIEBEL ELTRON  Sole-Wasser Wärmepumpe"," - WPC 05 / WPC 05 cool - 5,8 kW",1,null,null,null,null,null,null,null,null,null,null,null,null,null,null,null,null,5.82,4.8099999999999996,5.19,2.81]
[4,1546,3,"STIEBEL ELTRON  Sole-Wasser Wärmepumpe"," - WPC 07 / WPC 07 cool - 7,5 kW",1,null,null,null,null,null,null,null,null,null,null,null,null,null,null,null,null,7.5,4.84,6.91,2.94]
[4,1547,3,"STIEBEL ELTRON  Sole-Wasser Wärmepumpe"," - WPC 10 / WPC 10 cool - 10,3 kW",1,null,null,null,null,null,null,null,null,null,null,null,null,null,null,null,null,10.31,5.03,9.2799999999999994,2.92]
[4,1548,3,"STIEBEL ELTRON  Sole-Wasser Wärmepumpe"," - WPC 13 / WPC 13 cool - 13,2 kW",1,null,null,null,null,null,null,null,null,null,null,null,null,null,null,null,null,13.21,4.82,11.99,3.07]
[4,1549,3,"STIEBEL ELTRON  Sole-Wasser Wärmepumpe"," - WPF 04 / WPF 04 cool - 4,8 kW",1,null,null,null,null,null,null,null,null,null,null,null,null,null,null,null,null,4.7699999999999996,4.5,4.25,2.72]
[4,1550,3,"STIEBEL ELTRON  Sole-Wasser Wärmepumpe"," - WPF 05 / WPF 05 cool - 5,8 kW",1,null,null,null,null,null,null,null,null,null,null,null,null,null,null,null,null,5.82,4.8099999999999996,5.19,2.81]
[4,1551,3,"STIEBEL ELTRON  Sole-Wasser Wärmepumpe"," - WPF 07 / WPF 07 cool - 7,5 kW",1,null,null,null,null,null,null,null,null,null,null,null,null,null,null,null,null,7.5,4.84,6.91,2.94]
[4,1552,3,"STIEBEL ELTRON  Sole-Wasser Wärmepumpe"," - WPF 10 / WPF 10 cool - 10,3 kW",1,null,null,null,null,null,null,null,null,null,null,null,null,null,null,null,null,10.31,5.03,9.2799999999999994,2.92]
[4,1553,3,"STIEBEL ELTRON  Sole-Wasser Wärmepumpe"," - WPF 13 / WPF 13 cool - 13,2 kW",1,null,null,null,null,null,null,null,null,null,null,null,null,null,null,null,null,13.21,4.82,11.99,3.07]
[4,1554,3,"STIEBEL ELTRON  Sole-Wasser Wärmepumpe"," - WPF 16 / WPF 16 cool - 17,0 kW",1,null,null,null,null,null,null,null,null,null,null,null,null,null,null,null,null,17.02,4.54,15,2.2000000000000002]
[4,1555,3,"STIEBEL ELTRON  Sole-Wasser Wärmepumpe"," - WPF 35 - 38,0 kW",1,null,null,null,null,null,null,null,null,null,null,null,null,null,null,null,null,38.04,4.78,34.090000000000003,2.82,48.1,5.87,42.5,3.46]
[4,1556,3,"STIEBEL ELTRON  Sole-Wasser Wärmepumpe"," - WPF 40 - 43,1 kW",1,null,null,null,null,null,null,null,null,null,null,null,null,null,null,null,null,43.1,4.67,40.200000000000003,2.88,56.2,5.7,51.1,3.53]
[4,1557,3,"STIEBEL ELTRON  Sole-Wasser Wärmepumpe"," - WPF 52 - 55,8 kW",1,null,null,null,null,null,null,null,null,null,null,null,null,null,null,null,null,55.83,4.8099999999999996,52.18,2.99,72.7,6.01,66.5,3.74]
[4,1558,3,"STIEBEL ELTRON  Sole-Wasser Wärmepumpe"," - WPF 66 - 67,1 kW",1,null,null,null,null,null,null,null,null,null,null,null,null,null,null,null,null,67.099999999999994,4.5599999999999996,62.3,2.82,87.7,5.65,80.7,3.56]
[null,1559]
[5,1560,null,"STIEBEL ELTRON  Wasser-Wasser Wärmepumpe "]
[5,1561,4,"STIEBEL ELTRON  Wasser-Wasser Wärmepumpe "," - WPE-I 04 H(K)(W) 230 Premium",4,null,null,null,null,null,null,null,null,null,null,null,null,null,null,null,null,null,null,null,null,5.71,6.3,5.16,3.75]
[5,1562,4,"STIEBEL ELTRON  Wasser-Wasser Wärmepumpe "," - WPE-I 06 H(K)(W) 230 Premium ",4,null,null,null,null,null,null,null,null,null,null,null,null,null,null,null,null,null,null,null,null,7.36,6.3,6.8,3.77]
[5,1563,4,"STIEBEL ELTRON  Wasser-Wasser Wärmepumpe "," - WPE-I 08 H(K)(W) 230 Premium",4,null,null,null,null,null,null,null,null,null,null,null,null,null,null,null,null,null,null,null,null,7.36,6.33,7.3,3.85]
[5,1564,4,"STIEBEL ELTRON  Wasser-Wasser Wärmepumpe "," - WPE-I 12 H(K)(W) 230 Premium ",4,null,null,null,null,null,null,null,null,null,null,null,null,null,null,null,null,null,null,null,null,15.38,5.86,15.23,3.89]
[5,1565,4,"STIEBEL ELTRON  Wasser-Wasser Wärmepumpe "," - WPE-I 15 H(K)(W) 230 Premium ",4,null,null,null,null,null,null,null,null,null,null,null,null,null,null,null,null,null,null,null,null,15.33,5.78,14.3,3.92]
[null,1566]
[5,1567,4,"STIEBEL ELTRON  Wasser-Wasser Wärmepumpe "," - WPE-I 04 H(K)(W) 230 Premium",4,null,null,null,null,null,null,null,null,null,null,null,null,null,null,null,null,null,null,null,null,5.71,6.3,5.16,3.75]
[5,1568,4,"STIEBEL ELTRON  Wasser-Wasser Wärmepumpe "," - WPE-I 06 H(K)(W) 230 Premium ",4,null,null,null,null,null,null,null,null,null,null,null,null,null,null,null,null,null,null,null,null,7.36,6.3,6.8,3.77]
[5,1569,4,"STIEBEL ELTRON  Wasser-Wasser Wärmepumpe "," - WPE-I 08 H(K)(W) 230 Premium",4,null,null,null,null,null,null,null,null,null,null,null,null,null,null,null,null,null,null,null,null,7.36,6.33,7.3,3.85]
[5,1570,4,"STIEBEL ELTRON  Wasser-Wasser Wärmepumpe "," - WPE-I 12 H(K)(W) 230 Premium ",4,null,null,null,null,null,null,null,null,null,null,null,null,null,null,null,null,null,null,null,null,15.38,5.86,15.23,3.89]
[5,1571,4,"STIEBEL ELTRON  Wasser-Wasser Wärmepumpe "," - WPE-I 15 H(K)(W) 230 Premium ",4,null,null,null,null,null,null,null,null,null,null,null,null,null,null,null,null,null,null,null,null,15.33,5.78,14.3,3.92]
[null,1572]
[5,1573,4,"STIEBEL ELTRON  Wasser-Wasser Wärmepumpe "," - WPE-I 05 H 400 Plus ",1,null,null,null,null,null,null,null,null,null,null,null,null,null,null,null,null,null,null,null,null,7.3,5.36,6.7,3.6]
[5,1574,4,"STIEBEL ELTRON  Wasser-Wasser Wärmepumpe "," - WPE-I 07 H 400 Plus ",1,null,null,null,null,null,null,null,null,null,null,null,null,null,null,null,null,null,null,null,null,9.4600000000000009,5.67,8.81,3.64]
[5,1575,4,"STIEBEL ELTRON  Wasser-Wasser Wärmepumpe "," - WPE-I 10 H 400 Plus",1,null,null,null,null,null,null,null,null,null,null,null,null,null,null,null,null,null,null,null,null,12.74,5.62,11.78,3.66]
[5,1576,4,"STIEBEL ELTRON  Wasser-Wasser Wärmepumpe "," - WPE-I 13 H 400 Plus ",1,null,null,null,null,null,null,null,null,null,null,null,null,null,null,null,null,null,null,null,null,16.420000000000002,5.6,15.1,3.74]
[5,1577,4,"STIEBEL ELTRON  Wasser-Wasser Wärmepumpe "," - WPE-I 17 H 400 Plus",1,null,null,null,null,null,null,null,null,null,null,null,null,null,null,null,null,null,null,null,null,21.3,5.01,20.63,3.55]
[null,1578]
[5,1579,4,"STIEBEL ELTRON  Wasser-Wasser Wärmepumpe "," - WPE-I 07.1 Plus H(W) 400",3,null,null,null,null,null,null,null,null,null,null,null,null,null,null,null,null,null,null,null,null,4.1900000000000004,6.16,3.61,3.43]
[5,1580,4,"STIEBEL ELTRON  Wasser-Wasser Wärmepumpe "," - WPE-I 12.1 Plus H(W) 400",3,null,null,null,null,null,null,null,null,null,null,null,null,null,null,null,null,null,null,null,null,7.9,6.25,6.94,3.73]
[null,1581]
[5,1582,4,"STIEBEL ELTRON  Wasser-Wasser Wärmepumpe "," - WPF 20 ",1,null,null,null,null,null,null,null,null,null,null,null,null,null,null,null,null,null,null,null,null,28.3,5.97,25.7,3.56]
[5,1583,4,"STIEBEL ELTRON  Wasser-Wasser Wärmepumpe "," - WPF 27 ",1,null,null,null,null,null,null,null,null,null,null,null,null,null,null,null,null,null,null,null,null,38.6,6.24,34.700000000000003,3.67]
[5,1584,4,"STIEBEL ELTRON  Wasser-Wasser Wärmepumpe "," - WPF 27 HT ",1,null,null,null,null,null,null,null,null,null,null,null,null,null,null,null,null,null,null,null,null,36.700000000000003,5.46,33.4,3.66]
[null,1585]
[5,1586,4,"STIEBEL ELTRON  Wasser-Wasser Wärmepumpe "," - WPE-I 33 H 400 Premium",3,null,null,null,null,null,null,null,null,null,null,null,null,null,null,null,null,null,null,null,null,43.2,6.21,39.6,3.8]
[5,1587,4,"STIEBEL ELTRON  Wasser-Wasser Wärmepumpe "," - WPE-I 44 H 400 Premium ",3,null,null,null,null,null,null,null,null,null,null,null,null,null,null,null,null,null,null,null,null,54,6.01,52.2,3.81]
[5,1588,4,"STIEBEL ELTRON  Wasser-Wasser Wärmepumpe "," - WPE-I 59 H 400 Premium ",3,null,null,null,null,null,null,null,null,null,null,null,null,null,null,null,null,null,null,null,null,75.400000000000006,5.6,69.8,3.81]
[5,1589,4,"STIEBEL ELTRON  Wasser-Wasser Wärmepumpe "," - WPE-I 87 H 400 Premium",3,null,null,null,null,null,null,null,null,null,null,null,null,null,null,null,null,null,null,null,null,100.9,5.97,97.3,3.83]
[null,1590]
[5,1591,4,"STIEBEL ELTRON  Wasser-Wasser Wärmepumpe "," - 1x WPE-I 87 + 1x WPE-I 33 ",3,null,null,null,null,null,null,null,null,null,null,null,null,null,null,null,null,null,null,null,null,148,6.09,138.5,3.8149999999999999]
[5,1592,4,"STIEBEL ELTRON  Wasser-Wasser Wärmepumpe "," - 1x WPE-I 87 + 1x WPE-I 44",3,null,null,null,null,null,null,null,null,null,null,null,null,null,null,null,null,null,null,null,null,157.6,5.99,150.80000000000001,3.8200000000000003]
[5,1593,4,"STIEBEL ELTRON  Wasser-Wasser Wärmepumpe "," - 1x WPE-I 87 + 1x WPE-I 59 ",3,null,null,null,null,null,null,null,null,null,null,null,null,null,null,null,null,null,null,null,null,180.3,5.7850000000000001,169,3.8200000000000003]
[5,1594,4,"STIEBEL ELTRON  Wasser-Wasser Wärmepumpe "," - 2x WPE-I 87 ",3,null,null,null,null,null,null,null,null,null,null,null,null,null,null,null,null,null,null,null,null,208.6,5.97,196.6,3.83]
[5,1595,4,"STIEBEL ELTRON  Wasser-Wasser Wärmepumpe "," - 2x WPE-I 87 + 1x WPE-I 33",3,null,null,null,null,null,null,null,null,null,null,null,null,null,null,null,null,null,null,null,null,252.3,6.05,236.8,3.8200000000000003]
[5,1596,4,"STIEBEL ELTRON  Wasser-Wasser Wärmepumpe "," - 2x WPE-I 87 + 1x WPE-I 44",3,null,null,null,null,null,null,null,null,null,null,null,null,null,null,null,null,null,null,null,null,261.89999999999998,5.9833333333333334,249.1,3.8233333333333337]
[5,1597,4,"STIEBEL ELTRON  Wasser-Wasser Wärmepumpe "," - 2x WPE-I 87 + 1x WPE-I 59 ",3,null,null,null,null,null,null,null,null,null,null,null,null,null,null,null,null,null,null,null,null,284.60000000000002,5.8466666666666667,267.3,3.8233333333333337]
[5,1598,4,"STIEBEL ELTRON  Wasser-Wasser Wärmepumpe "," - 3x WPE-I 87",3,null,null,null,null,null,null,null,null,null,null,null,null,null,null,null,null,null,null,null,null,312.89999999999998,5.97,294.89999999999998,3.83]
[6,1599]
[null,1600]
[null,1601]
[null,1602]
[null,1603]
[null,1604]

{"sheet":"Kosten","index":9,"n_rows":14,"n_cols":11,"rows_kept":14,"cut":false,"hidden":true,"merged":[[0,1,0,5],[13,7,13,9]]}
[null,"\nEnergiekosten: Grundlagen\n"]
[]
[]
[null,"Stromkosten:"]
[]
[null,"Niedertarif",0.1192,"Euro / kWh",null,null,"von  ","22:00:00","Uhr    bis  ","06:00:00"," Uhr"]
[null,"Hochtarif",0.1192,"Euro / kWh",null,null,"von  ","06:00:00","Uhr    bis  ","22:00:00"," Uhr"]
[]
[null,"Mittelwert:",0.1192,"Euro / kWh"]
[]
[]
[null,"Energiekosten Zusatzheizung"]
[]
[null,"Kosten:",7.0000000000000007E-2,"Euro / kWh",null,null,null,"Erdöl"]

{"sheet":"Hinweise","index":10,"n_rows":35,"n_cols":5,"rows_kept":35,"cut":false,"hidden":true,"merged":[[23,0,23,8],[25,0,25,8],[33,0,33,8],[28,0,28,8],[29,0,29,8],[31,0,31,8],[32,0,32,8],[21,0,21,8],[22,0,22,8],[2,0,2,8],[7,0,7,8],[10,0,10,8],[13,0,13,8]]}
["Wichtige Hinweise für den Fördernachweis in Vorarlberg"]
[]
["In den Richtlinien zur Wärmepumpendirektförderung und Wohnbauförderung Vorarlberg sind Mindestwerte für die JAZ festgelegt. Der Nachweis muss durch das Tool JAZcalc erfolgen. "]
[]
["Wichtige Hinweise und Rahmenbedingung für den Fördernachweis sind:"]
[]
["1) Erforderliche Mindest-Jahresarbeitszahl"]
["Nach den derzeit gültigen Richtlinien muss die Jahresarbeitszahl (JAZ) elektrisch betriebener Wärmepumpen mindestens 4.0 betragen. \nDer Nachweis dieses Wertes ist nur für die Erzeugung der Heizwärme mit der Wärmepumpe erforderlich. Der errechnete Wert wird in der Zeile „Anteil und JAZ (ohne Elektrozusatz) der WP für die Heizung“ ausgewiesen (JAZHeizung). "]
[]
["2) Vorgehen:"]
["Die Wärmepumpenanlage wird auf Basis der objektspezifischen Situation mit dem Tool nachgebildet, dimensioniert und optimiert. Gerade die Art der Warmwasserbereitung kann auf unterschiedliche Arten realisiert werden. In der vorliegenden Version ist es auch erstmals möglich, den Einfluss einer Solaranlage zu berechnen. Dies kann hilfreich bei der Kundenberatung sein (Darstellung der positiven Auswirkungen einer Solaranlage auf die JAZ) und für die Optimierung der Wärmepumpenanlage von Interesse sein. Für den Nachweis der JAZHeizung im Sinne der Landesförderung darf die Solaranlage NICHT eingerechnet werden (-> dropdown-Feld bei der Auswahl der Solaranlage leer lassen)."]
[]
["3) Vorlauf- und Rücklauftemperatur"]
["In Abhängigkeit des spezifischen Heizwärmebedarfes (HWB) setzt das Programm folgende Werte für die Vorlauf- bzw. Rücklauftemperatur des Wärmeverteilsystems ein:"]
[]
["Heizwärmebedarf HWB(*) (kWh/m²,a)","15 bis 30","30 bis 45"," 45 bis 70","größer 70"]
["Vorlauftemperatur TVL mindestens (°C)",32,35,40,50]
["Rücklauftemperatur TRL mindestens (°C)",27,30,35,40]
[]
["(*) Standortbezogener HWB (nicht auf Referenzklima bezogen) aus dem Energieausweis."]
[]
["Für den Fall, dass objektbezogen die angegebenen Mindestwerte für die Vorlauftemperatur bzw. Rücklauftemperatur unterschritten werden können, sind folgende Nachweise erforderlich: "]
["Vorlage der Raumheizlast-Berechnung (nach EN 12831) und Nachweis der Auslegung des gewählten Wärmeabgabesystems. Jeweils das Zusammenfassungsblatt bzw. das Übersichtsblatt der Berechnungen."]
[]
["4) Garantierte Warmwassertemperatur"]
["Das Hydraulikkonzept und die garantierte Brauchwassertemperatur sind so zu wählen, dass sie den Anforderungen aus der ÖNORM B5019- Hygienerelevante Planung, Ausführung, Betrieb, Wartung, Überwachung und Sanierung von zentralen Trinkwassererwärmungsanlagen („Legionellenverordnung“) entsprechen. "]
[]
["Es unterstützt Sie gerne:"]
["·         für Fragen zur Wärmepumpen-Förderung: Christian Vögel, Amt der Vorarlberger Landesregierung, 05574 / 511-26120, Christian.Voegel@vorarlberg.at"]
["·         für Fragen zum Tool JAZcalc: Wilhelm Schlader, Energieinstitut Vorarlberg, 05572 / 31202-82, wilhelm.schlader@energeinstitut.at"]
[]
["Richtlinien und Antrag der Energieförderungen (Biomasse, Wärmepumpe, Solaranlage):"]
["http://www.vorarlberg.at/vorarlberg/wasser_energie/energie/energie/formulare/energieformulare.htm"]
[]
["Amt der Vorarlberger Landesregierung, DI Christian Vögel, Jän. 2011"]

{"sheet":"BIN","index":11,"n_rows":416,"n_cols":125,"rows_kept":416,"cut":false,"hidden":true,"merged":[]}
["Anzal Zeilen pro Block",11]
[]
["Station","ABO"]
["Adelboden"]
["Bintemperatur",-25,-24,-23,-22,-21,-20,-19,-18,-17,-16,-15,-14,-13,-12,-11,-10,-9,-8,-7,-6,-5,-4,-3,-2,-1,0,1,2,3,4,5,6,7,8,9,10,11,12,13,14,15,16,17,18,19,20,21,22,23,24,25,26,27,28,29,30,31,32,33,34,35,36,37,38,39,40]
["Stunden (Ta Stundewerte)",0,0,0,0,0,0,0,0,0,0,0,9,9,27,58,48,60,124,126,137,109,152,170,244,342,332,370,368,347,422,462,510,415,432,435,356,418,395,409,346,258,206,179,136,101,82,60,43,29,12,9,9,4,0,0,0,0,0,0,0,0,0,0,0,0,0]
["Stunden (Ta Tagesmittel)",0,0,0,0,0,0,0,0,0,0,0,0,0,24,24,24,72,240,72,48,168,120,168,216,264,216,552,336,360,600,408,456,456,384,408,408,408,600,384,384,216,456,120,72,48,0,48,0,0,0,0,0,0,0,0,0,0,0,0,0,0,0,0,0,0,0]
["Global Horiz.",0,0,0,0,0,0,0,0,0,0,0,0,0,0,0.86399999999999999,0.374,1.046,3.7389999999999999,3.464,7.7190000000000003,4.1420000000000003,8.9109999999999996,8.8379999999999992,11.592000000000001,13.05,17.245000000000001,12.788,14.935,16.645,28.428999999999998,24.306999999999999,34.213999999999999,35.527999999999999,35.545000000000002,38.53,38.582000000000001,48.957999999999998,56.366999999999997,61.753999999999998,68.209999999999994,70.274000000000001,64.290999999999997,66.867999999999995,54.722000000000001,49.752000000000002,41.875,35.121000000000002,26.097999999999999,19.213000000000001,8.9090000000000007,4.8620000000000001,6.6550000000000002,2.75,0,0,0,0,0,0,0,0,0,0,0,0,0]
["Global Ost",0,0,0,0,0,0,0,0,0,0,0,0,0,0,0.80300000000000005,0.622,1.325,2.323,2.1520000000000001,4.4329999999999998,2.3969999999999998,5.2160000000000002,4.875,8.3759999999999994,6.2619999999999996,7.8949999999999996,5.4829999999999997,9.3740000000000006,7.6079999999999997,19.978999999999999,14.617000000000001,22.132999999999999,20.067,20.419,24.321999999999999,24.018000000000001,28.945,35.731999999999999,34.337000000000003,33.741,29.207000000000001,30.535,26.902999999999999,26.654,20.251000000000001,13.308999999999999,7.4870000000000001,8.2929999999999993,5.1029999999999998,1.355,1.9219999999999999,1.2410000000000001,0.15,0,0,0,0,0,0,0,0,0,0,0,0,0]
["Global Süd",0,0,0,0,0,0,0,0,0,0,0,0,0,0,1.4710000000000001,0.68700000000000006,1.6140000000000001,7.2869999999999999,6.2450000000000001,15.132,8.9030000000000005,15.815,14.208,17.991,20.103999999999999,29.437999999999999,16.105,18.459,21.486999999999998,39.104999999999997,35.417999999999999,42.905000000000001,39.375,34.902000000000001,35.573,32.466000000000001,40.244,42.908999999999999,41.904000000000003,42.819000000000003,44.719000000000001,40.045999999999999,42.32,32.152000000000001,32.174999999999997,23.885000000000002,20.13,13.622,11.23,5.1669999999999998,2.258,3.8180000000000001,1.5449999999999999,0,0,0,0,0,0,0,0,0,0,0,0,0]
["Global West",0,0,0,0,0,0,0,0,0,0,0,0,0,0,0.33900000000000002,0.17299999999999999,0.38400000000000001,2.8879999999999999,2.867,6.81,3.0089999999999999,7.5419999999999998,6.5410000000000004,6.1920000000000002,8.6050000000000004,11.417,6.9180000000000001,5.9039999999999999,11.186,15.73,13.477,18.202999999999999,16.582999999999998,17.893999999999998,14.554,16.382000000000001,18.963999999999999,18.975999999999999,17.751999999999999,20.521000000000001,24.501999999999999,22.038,20.992000000000001,14.868,12.707000000000001,13.871,12.858000000000001,9.8650000000000002,6.7530000000000001,3.7029999999999998,1.2649999999999999,2.524,2.0859999999999999,0,0,0,0,0,0,0,0,0,0,0,0,0]
["Global Nord",0,0,0,0,0,0,0,0,0,0,0,0,0,0,0.17299999999999999,0.17,0.375,0.90800000000000003,1.0660000000000001,2.2069999999999999,1.3879999999999999,2.585,2.4689999999999999,2.8639999999999999,2.706,4.6870000000000003,2.2200000000000002,2.2909999999999999,1.9039999999999999,5.3959999999999999,5.0369999999999999,8.4090000000000007,6.1520000000000001,6.0389999999999997,5.8,6.3550000000000004,6.2770000000000001,6.5,5.242,5.0529999999999999,5.3840000000000003,3.669,2.6720000000000002,2.2909999999999999,1.3169999999999999,0.64200000000000002,0.156,0.48899999999999999,0,0.47899999999999998,0.47099999999999997,0.46200000000000002,0,0,0,0,0,0,0,0,0,0,0,0,0,0]
[]
["Station","ALT"]
["Altdorf"]
["Bintemperatur",-25,-24,-23,-22,-21,-20,-19,-18,-17,-16,-15,-14,-13,-12,-11,-10,-9,-8,-7,-6,-5,-4,-3,-2,-1,0,1,2,3,4,5,6,7,8,9,10,11,12,13,14,15,16,17,18,19,20,21,22,23,24,25,26,27,28,29,30,31,32,33,34,35,36,37,38,39,40]
["Stunden (Ta Stundewerte)",0,0,0,0,0,0,0,0,0,0,0,0,0,0,0,1,2,7,10,13,26,47,97,144,210,292,416,360,361,416,322,361,373,306,295,328,364,446,441,420,419,421,388,288,253,209,167,133,107,84,64,51,48,27,15,12,14,2,0,0,0,0,0,0,0,0]
["Stunden (Ta Tagesmittel)",0,0,0,0,0,0,0,0,0,0,0,0,0,0,0,0,0,0,0,24,24,0,24,120,216,360,456,360,384,360,288,432,240,312,288,384,408,408,408,648,528,384,384,312,264,192,240,96,96,48,24,24,0,24,0,0,0,0,0,0,0,0,0,0,0,0]
["Global Horiz.",0,0,0,0,0,0,0,0,0,0,0,0,0,0,0,0,0,0,0,0.36299999999999999,0.30299999999999999,0.40600000000000003,1.2430000000000001,0.61699999999999999,4.6109999999999998,6.9770000000000003,8.0470000000000006,9.8650000000000002,10.909000000000001,12.837999999999999,13.452999999999999,14.832000000000001,15.71,21.039000000000001,19.298999999999999,23.475999999999999,27.317,45.645000000000003,37.24,51.01,41.771000000000001,64.834000000000003,66.289000000000001,52.402000000000001,64.709000000000003,64.45,50.588999999999999,48.445999999999998,46.517000000000003,33.287999999999997,29.646000000000001,22.54,19.062999999999999,13.228999999999999,6.601,7.0570000000000004,8.8070000000000004,1.268,0,0,0,0,0,0,0,0]
["Global Ost",0,0,0,0,0,0,0,0,0,0,0,0,0,0,0,0,0,0,0,0.499,0.151,0.35299999999999998,1.107,0.50700000000000001,4.923,3.6379999999999999,3.11,5.0910000000000002,3.4940000000000002,4.7830000000000004,5.72,6.4210000000000003,7.9340000000000002,10.208,12.574999999999999,15.333,19.18,24.856999999999999,18.266999999999999,26.88,21.876999999999999,27.969000000000001,28.902999999999999,26.555,27.713000000000001,23.548999999999999,19.195,17.885999999999999,12.077999999999999,9.1980000000000004,4.8860000000000001,3.544,3.621,2.891,2.0659999999999998,1.23,0.64300000000000002,0,0,0,0,0,0,0,0,0]
["Global Süd",0,0,0,0,0,0,0,0,0,0,0,0,0,0,0,0,0,0,0,0.872,0.40400000000000003,1.0469999999999999,2.56,0.72899999999999998,6.609,9.4190000000000005,12.327999999999999,10.036,10.032,13.641,14.041,12.208,13.176,15.669,14.25,20.181999999999999,22.884,38.450000000000003,31.823,35.421999999999997,23.707000000000001,37.29,34.773000000000003,27.73,32.86,35.755000000000003,26.393999999999998,27.268999999999998,26.321999999999999,19.914000000000001,15.673,12.102,10.675000000000001,7.5119999999999996,3.5019999999999998,3.8239999999999998,4.9119999999999999,0.82699999999999996,0,0,0,0,0,0,0,0]
["Global West",0,0,0,0,0,0,0,0,0,0,0,0,0,0,0,0,0,0,0,0.24299999999999999,0,0.26200000000000001,0.85,0,0.187,0.70399999999999996,2.4430000000000001,1.2709999999999999,1.0620000000000001,2.391,4.2450000000000001,1.9870000000000001,2.2130000000000001,5.1280000000000001,3.7280000000000002,3.9279999999999999,3.6379999999999999,9.2669999999999995,8.5660000000000007,10.333,7.1529999999999996,15.061,11.458,10.38,18.922999999999998,21.997,16.324000000000002,13.606999999999999,16.960999999999999,12.259,14.218999999999999,10.755000000000001,10.157999999999999,6.2309999999999999,2.1960000000000002,3.3730000000000002,5.15,0.93600000000000005,0,0,0,0,0,0,0,0]
["Global Nord",0,0,0,0,0,0,0,0,0,0,0,0,0,0,0,0,0,0,0,0.22900000000000001,0,0.24099999999999999,0.45500000000000002,0,0.18099999999999999,0.32,0.50900000000000001,0,0,0.19700000000000001,0.20300000000000001,0,0.52,0.185,0.155,0.48099999999999998,0.80800000000000005,1.008,0.99399999999999999,1.2749999999999999,0.61699999999999999,1.119,1.26,1.238,1.57,2.3620000000000001,2.0499999999999998,0.98699999999999999,1.712,0.76800000000000002,0.48199999999999998,0.46100000000000002,0.155,0.156,0.46500000000000002,0.47299999999999998,0.32900000000000001,0,0,0,0,0,0,0,0,0]
[]
["Station","BAS"]
["Basel-Binningen"]
["Bintemperatur",-25,-24,-23,-22,-21,-20,-19,-18,-17,-16,-15,-14,-13,-12,-11,-10,-9,-8,-7,-6,-5,-4,-3,-2,-1,0,1,2,3,4,5,6,7,8,9,10,11,12,13,14,15,16,17,18,19,20,21,22,23,24,25,26,27,28,29,30,31,32,33,34,35,36,37,38,39,40]
["Stunden (Ta Stundewerte)",0,0,0,0,0,0,0,0,0,0,0,0,0,0,0,2,11,26,19,34,47,58,74,112,167,191,229,335,406,411,386,384,424,393,433,384,394,384,328,333,331,347,344,305,278,234,202,176,130,118,99,66,42,38,32,23,12,7,4,5,2,0,0,0,0,0]
["Stunden (Ta Tagesmittel)",0,0,0,0,0,0,0,0,0,0,0,0,0,0,0,0,0,0,24,24,24,144,24,96,96,144,192,432,432,384,480,312,480,408,384,288,384,336,432,360,408,432,216,264,552,360,192,216,48,120,48,0,0,24,0,0,0,0,0,0,0,0,0,0,0,0]
["Global Horiz.",0,0,0,0,0,0,0,0,0,0,0,0,0,0,0,0,0,0.20100000000000001,0.59199999999999997,0.82199999999999995,1.155,3.536,2.7930000000000001,4.7850000000000001,4.173,5.2380000000000004,4.165,7.8920000000000003,9.9920000000000009,9.7669999999999995,14.818,18.71,23.19,20.116,31.638999999999999,26.08,28.751999999999999,27.879000000000001,29.937000000000001,35.030999999999999,36.399000000000001,47.997,44.643000000000001,46.01,50.137999999999998,61.859000000000002,63.134,61.963000000000001,49.896999999999998,48.948999999999998,49.189,34.179000000000002,20.698,21.221,17.004999999999999,12.769,6.93,3.8410000000000002,1.9970000000000001,2.5790000000000002,1.367,0,0,0,0,0]
["Global Ost",0,0,0,0,0,0,0,0,0,0,0,0,0,0,0,0,0.29299999999999998,1.744,1.29,1.476,1.8160000000000001,3.0449999999999999,3.0720000000000001,3.7480000000000002,5.1719999999999997,7.63,3.9590000000000001,6.73,7.9649999999999999,5.0279999999999996,8.9239999999999995,8.1460000000000008,11.37,11.257,16.710999999999999,14.435,15.204000000000001,13.878,19.469000000000001,24.396000000000001,25.57,23.466000000000001,26.719000000000001,22.699000000000002,24.741,24.292999999999999,22.66,19.559000000000001,17.809999999999999,14.292999999999999,12.545,6.758,3.88,5.61,3.7610000000000001,2.048,0.38700000000000001,0.40699999999999997,0.252,0.17799999999999999,0.152,0,0,0,0,0]
["Global Süd",0,0,0,0,0,0,0,0,0,0,0,0,0,0,0,0,0.25800000000000001,1.3260000000000001,1.3859999999999999,2.0510000000000002,2.7490000000000001,9.2170000000000005,5.94,10.074,9.6690000000000005,11.587,7.9619999999999997,11.821,15.763999999999999,16.175000000000001,20.238,25.875,27.457000000000001,23.350999999999999,28.978999999999999,20.202000000000002,25.759,20.535,24.706,23.757999999999999,22.843,30.460999999999999,24.806000000000001,28.143999999999998,27.074999999999999,36.515000000000001,35.423000000000002,34.947000000000003,28.654,28.384,27.748999999999999,19.486999999999998,11.757,12.685,10.016,6.6669999999999998,3.544,1.877,0.97299999999999998,1.3560000000000001,0.77400000000000002,0,0,0,0,0]
["Global West",0,0,0,0,0,0,0,0,0,0,0,0,0,0,0,0,0,0,0,0.34200000000000003,0.20100000000000001,3.41,1.1719999999999999,2.4430000000000001,3.7709999999999999,1.206,0.98699999999999999,1.448,4.0250000000000004,4.835,5.1189999999999998,10.401,12.058,10.712,13.534000000000001,9.9459999999999997,15.111000000000001,13.853999999999999,14.943,10.944000000000001,11.884,18.648,16.672999999999998,18.978999999999999,21.628,31.934999999999999,30.501999999999999,39.929000000000002,28.675000000000001,28.780999999999999,30.831,23.802,13.609,10.661,9.1359999999999992,9.3680000000000003,5.7569999999999997,3.3090000000000002,1.696,2.4500000000000002,0.93600000000000005,0,0,0,0,0]
["Global Nord",0,0,0,0,0,0,0,0,0,0,0,0,0,0,0,0,0,0,0,0.34100000000000003,0.19600000000000001,1.1359999999999999,0.318,0.33800000000000002,0.33800000000000002,0,0,0,0.17100000000000001,0.2,0.51200000000000001,0.57099999999999995,0.68200000000000005,0.68500000000000005,1.3009999999999999,0.94299999999999995,1.331,1.5920000000000001,1.74,1.4890000000000001,3.464,5.1980000000000004,4.9660000000000002,4.2389999999999999,4.1580000000000004,5.1440000000000001,4.7910000000000004,6.4889999999999999,4.9349999999999996,4.032,4.2930000000000001,2.1429999999999998,0.92600000000000005,1.123,1.931,1.629,0.154,0.32300000000000001,0.161,0.16900000000000001,0.152,0,0,0,0,0]
[]
["Station","BER"]
["Bern-Liebefeld"]
["Bintemperatur",-25,-24,-23,-22,-21,-20,-19,-18,-17,-16,-15,-14,-13,-12,-11,-10,-9,-8,-7,-6,-5,-4,-3,-2,-1,0,1,2,3,4,5,6,7,8,9,10,11,12,13,14,15,16,17,18,19,20,21,22,23,24,25,26,27,28,29,30,31,32,33,34,35,36,37,38,39,40]
["Stunden (Ta Stundewerte)",0,0,0,0,0,0,0,0,0,0,0,0,5,4,8,19,33,33,33,40,52,80,124,185,251,249,360,425,445,401,298,344,343,383,415,424,404,359,348,319,293,343,308,253,225,181,151,126,111,97,94,69,56,35,16,16,2,0,0,0,0,0,0,0,0,0]
["Stunden (Ta Tagesmittel)",0,0,0,0,0,0,0,0,0,0,0,0,0,0,0,24,0,48,0,48,48,72,96,288,144,264,360,336,480,408,264,264,336,528,504,384,456,384,408,264,360,216,312,216,264,480,336,96,72,0,0,0,0,0,0,0,0,0,0,0,0,0,0,0,0,0]
["Global Horiz.",0,0,0,0,0,0,0,0,0,0,0,0,0,0,0,0.23300000000000001,0,1.754,1.96,1.7090000000000001,4.2370000000000001,2.4009999999999998,5.5350000000000001,6.0919999999999996,8.0220000000000002,4.9720000000000004,11.409000000000001,12.443,11.302,17.407,12.26,17.832000000000001,17.332999999999998,21.315999999999999,27.366,30.882000000000001,42.457000000000001,39.289000000000001,44.401000000000003,46.625999999999998,49.34,53.210999999999999,55.997999999999998,47.11,55.774000000000001,53.351999999999997,56.238,50.35,50.127000000000002,46.469000000000001,49.618000000000002,36.728000000000002,30.242999999999999,20.228000000000002,9.2739999999999991,9.2270000000000003,1.341,0,0,0,0,0,0,0,0,0]
["Global Ost",0,0,0,0,0,0,0,0,0,0,0,0,0,0,0,0.50700000000000001,0,3.0459999999999998,2.617,0.97899999999999998,4.101,1.516,5.4870000000000001,4.9870000000000001,6.1440000000000001,3.383,7.23,8.407,5.0720000000000001,13.448,7.0149999999999997,12.279,13.548,16.303000000000001,18.466999999999999,17.948,22.672000000000001,18.321000000000002,23.219000000000001,24.317,25.899000000000001,27.451000000000001,26.914000000000001,26.448,24.831,22.777999999999999,23.872,18.917999999999999,16.539000000000001,12.391,10.135,5.7270000000000003,5.0810000000000004,1.371,0.624,0.30299999999999999,0,0,0,0,0,0,0,0,0,0]
["Global Süd",0,0,0,0,0,0,0,0,0,0,0,0,0,0,0,0.63100000000000001,0,4.2709999999999999,3.8279999999999998,4.085,10.172000000000001,5.28,12.398,13.115,17.033999999999999,10.186,22.856000000000002,22.82,17.542000000000002,21.402000000000001,14.901999999999999,19.687000000000001,17.013999999999999,16.023,24.164000000000001,26.625,38.341000000000001,34.247,33.143999999999998,37.512999999999998,33.930999999999997,36.030999999999999,37.192,26.140999999999998,28.491,29.268000000000001,31.777999999999999,29.103000000000002,27.905999999999999,25.065999999999999,25.337,19.812000000000001,16.312999999999999,10.77,5.0209999999999999,4.077,1.0109999999999999,0,0,0,0,0,0,0,0,0]
["Global West",0,0,0,0,0,0,0,0,0,0,0,0,0,0,0,0,0,0.158,0.16700000000000001,1.637,3.1869999999999998,2.2029999999999998,3.0350000000000001,3.2850000000000001,3.96,2.6080000000000001,7.585,5.8760000000000003,6.1440000000000001,6.3239999999999998,4.7670000000000003,8.1050000000000004,5.7839999999999998,4.0350000000000001,5.91,8.1199999999999992,15.593,18.765999999999998,17.042999999999999,18.82,23.593,29.54,25.574999999999999,14.239000000000001,22.905999999999999,22.917000000000002,24.053999999999998,21.158999999999999,25.515999999999998,25.11,29.58,23.225000000000001,19.765000000000001,15.670999999999999,6.8620000000000001,8.2560000000000002,1.0569999999999999,0,0,0,0,0,0,0,0,0]
["Global Nord",0,0,0,0,0,0,0,0,0,0,0,0,0,0,0,0,0,0,0.161,0.33200000000000002,0.67400000000000004,0,0.30399999999999999,0.746,0.505,0.51700000000000002,0.33700000000000002,0.313,0.35699999999999998,0.73299999999999998,0.47799999999999998,0.90500000000000003,1.0669999999999999,0.65700000000000003,1.395,1.18,2.371,2.4319999999999999,2.6619999999999999,4.3940000000000001,4.57,3.9319999999999999,4.9089999999999998,1.946,4.8070000000000004,3.8820000000000001,4.2389999999999999,4.0780000000000003,3.5710000000000002,3.181,2.86,1.778,3.1629999999999998,1.494,0.496,0.32700000000000001,0,0,0,0,0,0,0,0,0,0]
[]
["Station","BUS"]
["Buchs-Aarau"]
["Bintemperatur",-25,-24,-23,-22,-21,-20,-19,-18,-17,-16,-15,-14,-13,-12,-11,-10,-9,-8,-7,-6,-5,-4,-3,-2,-1,0,1,2,3,4,5,6,7,8,9,10,11,12,13,14,15,16,17,18,19,20,21,22,23,24,25,26,27,28,29,30,31,32,33,34,35,36,37,38,39,40]
["Stunden (Ta Stundewerte)",0,0,0,0,0,0,0,0,0,0,1,2,3,16,14,22,15,32,17,25,53,56,84,165,214,174,297,396,445,489,442,425,409,354,329,361,367,375,369,373,352,328,323,260,217,169,135,122,129,92,105,73,33,25,22,20,13,11,3,4,0,0,0,0,0,0]
["Stunden (Ta Tagesmittel)",0,0,0,0,0,0,0,0,0,0,0,0,0,0,0,0,48,24,48,48,24,48,48,168,168,144,360,264,360,576,576,408,408,336,312,312,456,408,336,408,216,384,336,360,432,288,168,144,96,24,0,24,0,0,0,0,0,0,0,0,0,0,0,0,0,0]
["Global Horiz.",0,0,0,0,0,0,0,0,0,0,0,0,0,0,0.34200000000000003,0.25,0.27400000000000002,0.85399999999999998,1.131,1.423,2.8530000000000002,1.8520000000000001,3.6970000000000001,2.794,4.383,3.718,3.214,4.8280000000000003,5.5350000000000001,8.5250000000000004,10.063000000000001,18.731999999999999,18.716000000000001,17.46,18.507999999999999,24.542999999999999,25.562000000000001,33.040999999999997,34.604999999999997,36.343000000000004,45.171999999999997,44.726999999999997,42.095999999999997,46.423000000000002,45.286000000000001,52.493000000000002,45.771999999999998,48.232999999999997,49.186999999999998,42.670999999999999,50.634,35.029000000000003,19.053000000000001,12.295999999999999,10.827,11.965999999999999,7.7519999999999998,5.5339999999999998,1.657,2.1019999999999999,0,0,0,0,0,0]
["Global Ost",0,0,0,0,0,0,0,0,0,0,0,0,0,0.34699999999999998,0.74,0.32100000000000001,0.88900000000000001,0.68400000000000005,1.79,1.9139999999999999,2.552,2.2919999999999998,2.6640000000000001,2.7749999999999999,2.4049999999999998,2.657,2.2120000000000002,3.452,5.4989999999999997,4.069,6.7089999999999996,10.62,9.2379999999999995,9.6259999999999994,9.9339999999999993,12.233000000000001,15.257,16.201000000000001,17.622,22.09,19.18,21.440999999999999,18.550999999999998,22.003,21.568000000000001,22.498999999999999,18.472000000000001,19.471,15.225,9.843,10.773999999999999,5.0789999999999997,3.5230000000000001,2.008,1.2709999999999999,1.917,0.47299999999999998,0.255,0.186,0.159,0,0,0,0,0,0]
["Global Süd",0,0,0,0,0,0,0,0,0,0,0,0,0,0.17399999999999999,0.81299999999999994,0.73699999999999999,1.0940000000000001,1.9179999999999999,2.4980000000000002,3.5249999999999999,7.23,3.8159999999999998,7.2720000000000002,5.9829999999999997,6.5750000000000002,5.7409999999999997,6.0910000000000002,7.8650000000000002,7.3630000000000004,10.961,12.122,17.925999999999998,20.609000000000002,16.748000000000001,16.488,21.047000000000001,23.184999999999999,27.187999999999999,24.824000000000002,22.51,27.552,27.29,26.004000000000001,26.434000000000001,22.42,27.114000000000001,23.960999999999999,28.155000000000001,28.23,24.797999999999998,28.518999999999998,18.356999999999999,10.298,7.0439999999999996,5.6310000000000002,6.585,3.8330000000000002,2.4260000000000002,0.755,0.97499999999999998,0,0,0,0,0,0]
["Global West",0,0,0,0,0,0,0,0,0,0,0,0,0,0,0,0,0,0.37,0.441,1.369,3.0430000000000001,0.82299999999999995,2.3069999999999999,3.2749999999999999,2.4710000000000001,1.823,1.71,1.631,2.202,2.601,3.851,6.306,6.0179999999999998,3.706,4.7329999999999997,11.21,8.6630000000000003,11.752000000000001,13.388,11.161,18.748999999999999,17.98,16.827000000000002,16.47,18.193000000000001,22.474,18.922000000000001,20.963999999999999,25.698,23.92,30.593,24.77,11.968999999999999,6.4139999999999997,8.327,8.3810000000000002,6.21,5.3780000000000001,1.595,1.7190000000000001,0,0,0,0,0,0]
["Global Nord",0,0,0,0,0,0,0,0,0,0,0,0,0,0,0,0,0,0.16500000000000001,0.372,0.53800000000000003,0.93300000000000005,0.35499999999999998,1.1779999999999999,0.68100000000000005,0.71499999999999997,0,0.376,0.189,0.378,0.17799999999999999,0.151,0.63700000000000001,0.51700000000000002,0.316,0.15,0.308,1.0620000000000001,0.94199999999999995,0.90600000000000003,3.0049999999999999,3.1739999999999999,3.0470000000000002,3.1259999999999999,3.6030000000000002,3.1120000000000001,5.2430000000000003,2.4039999999999999,3.8919999999999999,4.9729999999999999,3.7589999999999999,4.2069999999999999,2.8439999999999999,1.264,0.63100000000000001,0.70599999999999996,1.4490000000000001,0.48499999999999999,0.17699999999999999,0.17699999999999999,0.16,0,0,0,0,0,0]
[]
["Station","CHU"]
["Chur"]
["Bintemperatur",-25,-24,-23,-22,-21,-20,-19,-18,-17,-16,-15,-14,-13,-12,-11,-10,-9,-8,-7,-6,-5,-4,-3,-2,-1,0,1,2,3,4,5,6,7,8,9,10,11,12,13,14,15,16,17,18,19,20,21,22,23,24,25,26,27,28,29,30,31,32,33,34,35,36,37,38,39,40]
["Stunden (Ta Stundewerte)",0,0,0,0,0,0,0,0,0,0,0,3,5,6,23,26,27,19,32,37,50,81,122,161,232,262,432,401,387,322,321,344,365,335,304,313,383,362,381,345,330,382,375,298,257,205,191,150,99,87,79,71,40,33,26,18,9,13,7,5,4,0,0,0,0,0]
["Stunden (Ta Tagesmittel)",0,0,0,0,0,0,0,0,0,0,0,0,0,0,0,24,0,48,48,48,24,48,144,96,168,336,408,480,360,240,408,384,264,336,288,264,264,384,504,552,432,432,408,264,216,264,312,120,48,48,24,24,48,0,0,0,0,0,0,0,0,0,0,0,0,0]
["Global Horiz.",0,0,0,0,0,0,0,0,0,0,0,0,0,0,0.185,0,0.73599999999999999,0.98599999999999999,0.97099999999999997,1.6040000000000001,3.3530000000000002,2.2639999999999998,2.4359999999999999,9.2490000000000006,2.698,5.7569999999999997,9.6850000000000005,12.034000000000001,11.726000000000001,19.401,21.548999999999999,26.568000000000001,22.12,20.835999999999999,25.312000000000001,24.164999999999999,33.319000000000003,30.893999999999998,33.137,41.283000000000001,45.16,54.594000000000001,66.959000000000003,63.49,63.808,58.234000000000002,66.021000000000001,63.526000000000003,42.244,36.581000000000003,39.408000000000001,37.884999999999998,21.791,16.768000000000001,14.938000000000001,11.025,5.431,6.94,4.8529999999999998,2.9649999999999999,2.855,0,0,0,0,0]
["Global Ost",0,0,0,0,0,0,0,0,0,0,0,0,0,0,0.253,0,0.69499999999999995,1.095,1.282,1.306,2.38,1.0489999999999999,1.9379999999999999,3.8889999999999998,2.7160000000000002,3.629,4.5129999999999999,5.4770000000000003,5.0510000000000002,5.0380000000000003,7.6529999999999996,8.9629999999999992,7.093,9.3740000000000006,9.3290000000000006,11.939,17.670999999999999,13.275,18.207000000000001,22.547999999999998,21.766999999999999,22.597000000000001,28.532,20.558,28.161000000000001,20.119,19.672999999999998,17.655999999999999,11.856999999999999,11.041,8.9860000000000007,8.2110000000000003,4.4189999999999996,2.8380000000000001,2.3370000000000002,1.7290000000000001,1.0860000000000001,0.61899999999999999,0.76800000000000002,0.153,0,0,0,0,0,0]
["Global Süd",0,0,0,0,0,0,0,0,0,0,0,0,0,0,0.316,0,1.1850000000000001,1.9890000000000001,2.3559999999999999,3.51,7.6970000000000001,5.8029999999999999,5.6379999999999999,18.463000000000001,3.8170000000000002,11.601000000000001,17.613,20.984999999999999,19.951000000000001,29.331,27.95,34.210999999999999,23.545000000000002,19.736000000000001,23.876999999999999,21.239000000000001,29.062999999999999,21.178999999999998,24.917000000000002,29.291,33.165999999999997,36.658999999999999,47.8,37.274000000000001,37.677,37.146000000000001,38.576000000000001,42.625,27.774000000000001,23.106999999999999,20.721,20.803000000000001,12.417,9.1080000000000005,8.1609999999999996,6.8490000000000002,3.1949999999999998,3.7679999999999998,2.91,1.6479999999999999,1.534,0,0,0,0,0]
["Global West",0,0,0,0,0,0,0,0,0,0,0,0,0,0,0,0,0.16,0.17799999999999999,0.64,1.016,2.4060000000000001,1.869,1.4550000000000001,7.6319999999999997,0.46500000000000002,2.9529999999999998,4.7830000000000004,5.5090000000000003,5.5460000000000003,11.052,9.5640000000000001,12.106,9.7149999999999999,6.3440000000000003,8.73,10.098000000000001,9.6379999999999999,7.6660000000000004,9.1140000000000008,11.202999999999999,11.396000000000001,19.129000000000001,20.2,22.942,16.366,25.507999999999999,26.745999999999999,29.849,17.187999999999999,14.811,21.108000000000001,18.042000000000002,10.539,10.989000000000001,7.62,5.9109999999999996,2.512,5.0570000000000004,2.6339999999999999,2.1819999999999999,2.052,0,0,0,0,0]
["Global Nord",0,0,0,0,0,0,0,0,0,0,0,0,0,0,0,0,0.156,0.17,0.32500000000000001,0.16600000000000001,0.67300000000000004,0.379,0.34399999999999997,1.643,0,0.16700000000000001,0.32300000000000001,0.64,0.16900000000000001,0.18,0,0.86599999999999999,0.157,0.78400000000000003,0.32400000000000001,0.154,0.64300000000000002,0.154,0.30199999999999999,0.64700000000000002,0.90800000000000003,1.2490000000000001,1.4450000000000001,0.95499999999999996,2.0470000000000002,1.7090000000000001,1.413,1.726,0.76800000000000002,0.316,2.0390000000000001,1.871,0.77,0.16300000000000001,0.32,0.47299999999999998,0.312,0.156,0.47299999999999998,0,0,0,0,0,0,0]
[]
["Station","DAV"]
["Davos"]
["Bintemperatur",-25,-24,-23,-22,-21,-20,-19,-18,-17,-16,-15,-14,-13,-12,-11,-10,-9,-8,-7,-6,-5,-4,-3,-2,-1,0,1,2,3,4,5,6,7,8,9,10,11,12,13,14,15,16,17,18,19,20,21,22,23,24,25,26,27,28,29,30,31,32,33,34,35,36,37,38,39,40]
["Stunden (Ta Stundewerte)",0,0,0,0,0,6,4,18,14,16,19,43,34,54,81,97,148,147,184,220,276,348,347,415,447,432,376,362,333,312,392,371,348,354,400,377,282,252,226,185,166,139,121,93,97,77,67,36,26,10,7,1,0,0,0,0,0,0,0,0,0,0,0,0,0,0]
["Stunden (Ta Tagesmittel)",0,0,0,0,0,0,0,0,0,24,0,72,0,96,0,96,120,192,120,192,288,360,312,456,552,504,360,432,240,336,336,264,312,312,408,528,456,312,216,288,240,168,120,24,24,0,0,0,0,0,0,0,0,0,0,0,0,0,0,0,0,0,0,0,0,0]
["Global Horiz.",0,0,0,0,0,0,0,0,0,0.81399999999999995,0.26200000000000001,1.5349999999999999,2.35,3.1709999999999998,2.0499999999999998,4.6790000000000003,5.4649999999999999,9.0530000000000008,16.597999999999999,10.585000000000001,16.277999999999999,13.577999999999999,18.478999999999999,27.456,29.381,23.338000000000001,29.818000000000001,35.914999999999999,43.658999999999999,45.478999999999999,44.320999999999998,46.554000000000002,42.74,37.218000000000004,55.313000000000002,46.664999999999999,62.637,65.498000000000005,58.325000000000003,59.86,60.607999999999997,58.241,53.424999999999997,43.497999999999998,50.860999999999997,42.804000000000002,38.369,22.28,16.18,8.2509999999999994,4.4770000000000003,0.75600000000000001,0,0,0,0,0,0,0,0,0,0,0,0,0,0]
["Global Ost",0,0,0,0,0,0,0,0.19800000000000001,0,2.3780000000000001,1.1200000000000001,2.0409999999999999,2.456,5.3289999999999997,3.9119999999999999,6.0819999999999999,7.96,9.2210000000000001,15.417,10.321999999999999,15.83,15.384,18.568999999999999,25.719000000000001,20.117000000000001,16.29,21.773,24.218,23.960999999999999,27.167999999999999,26.283999999999999,31.491,25.925000000000001,22.001000000000001,32.520000000000003,25.657,38.036000000000001,34.484999999999999,29.896999999999998,28.428000000000001,21.512,21.789000000000001,19.329000000000001,13.628,16.184999999999999,11.847,7.1849999999999996,4.6180000000000003,3.621,1.4039999999999999,0.192,0,0,0,0,0,0,0,0,0,0,0,0,0,0,0]
["Global Süd",0,0,0,0,0,0,0,0.182,0,2.0680000000000001,0.54200000000000004,3.5859999999999999,5.2069999999999999,7.9139999999999997,4.0670000000000002,7.8029999999999999,9.4610000000000003,16.312999999999999,29.475999999999999,20.704000000000001,28.937999999999999,20.169,31.405000000000001,48.116,45.036999999999999,41.83,43.212000000000003,54.027000000000001,57.692999999999998,57.344000000000001,53.850999999999999,45.148000000000003,40.853000000000002,27.460999999999999,38.231000000000002,29.026,41.701000000000001,44.643000000000001,31.911999999999999,37.018000000000001,37.052,38.529000000000003,35.305999999999997,24.459,30.44,23.318000000000001,19.536000000000001,13.071999999999999,8.6920000000000002,4.8849999999999998,2.5939999999999999,0.59899999999999998,0,0,0,0,0,0,0,0,0,0,0,0,0,0]
["Global West",0,0,0,0,0,0,0,0,0,0.53700000000000003,0.17499999999999999,1.4359999999999999,2.2090000000000001,2.8380000000000001,1.488,3.4039999999999999,2.7629999999999999,8.4410000000000007,14.593999999999999,8.9559999999999995,13.054,5.9779999999999998,11.032999999999999,15.959,19.417000000000002,16.192,20.23,21.562999999999999,28.706,26.518999999999998,22.99,25.14,19.965,13.837,21.439,21.248999999999999,19.193000000000001,19.765000000000001,17.527000000000001,20.515999999999998,24.242999999999999,23.673999999999999,23.645,16.288,20.603999999999999,21.622,21.199000000000002,10.584,7.665,3.335,3.4870000000000001,0.30199999999999999,0,0,0,0,0,0,0,0,0,0,0,0,0,0]
["Global Nord",0,0,0,0,0,0,0,0,0,0.52800000000000002,0.17199999999999999,0.89400000000000002,1.383,1.835,0.62,2.3769999999999998,2.33,4.6050000000000004,7.266,5.1109999999999998,6.0510000000000002,3.7930000000000001,5.6760000000000002,9.1579999999999995,8.5640000000000001,5.5060000000000002,7.7990000000000004,7.4109999999999996,9.7840000000000007,9.5570000000000004,8.52,9.9260000000000002,5.9740000000000002,4.4539999999999997,5.77,3.2290000000000001,6.1120000000000001,4.5129999999999999,3.29,3.4089999999999998,1.4039999999999999,1.079,0.96599999999999997,0.46500000000000002,0.79900000000000004,0.93,0.94499999999999995,0.93300000000000005,0.94,0.33100000000000002,0,0,0,0,0,0,0,0,0,0,0,0,0,0,0,0]
[]
["Station","DIS"]
["Disentis"]
["Bintemperatur",-25,-24,-23,-22,-21,-20,-19,-18,-17,-16,-15,-14,-13,-12,-11,-10,-9,-8,-7,-6,-5,-4,-3,-2,-1,0,1,2,3,4,5,6,7,8,9,10,11,12,13,14,15,16,17,18,19,20,21,22,23,24,25,26,27,28,29,30,31,32,33,34,35,36,37,38,39,40]
["Stunden (Ta Stundewerte)",0,0,0,0,0,0,0,0,0,0,0,8,26,29,20,22,42,58,62,67,128,156,217,234,319,447,456,368,297,368,400,441,428,425,391,408,405,366,358,338,303,217,198,160,132,111,82,101,58,51,38,14,5,4,2,0,0,0,0,0,0,0,0,0,0,0]
["Stunden (Ta Tagesmittel)",0,0,0,0,0,0,0,0,0,0,0,0,0,0,48,96,0,48,0,72,120,192,168,168,264,456,432,504,480,480,288,168,432,552,288,480,432,408,432,312,192,288,432,312,96,72,24,0,24,0,0,0,0,0,0,0,0,0,0,0,0,0,0,0,0,0]
["Global Horiz.",0,0,0,0,0,0,0,0,0,0,0,0,0,0.48899999999999999,0.81299999999999994,1.9179999999999999,3.4790000000000001,2.794,2.9340000000000002,3.234,4.194,6.2839999999999998,7.8579999999999997,6.4779999999999998,10.587,14.754,21.094000000000001,17.477,30.093,34.387999999999998,31.638000000000002,35.110999999999997,37.292999999999999,36.548000000000002,36.521999999999998,41.261000000000003,48.953000000000003,45.326999999999998,53.78,58.578000000000003,69.384,47.59,60.325000000000003,60.524000000000001,51.905000000000001,43.883000000000003,41.308,51.06,29.994,29.687999999999999,22.882000000000001,8.3800000000000008,2.9209999999999998,2.988,1.659,0,0,0,0,0,0,0,0,0,0,0]
["Global Ost",0,0,0,0,0,0,0,0,0,0,0,0,0,0.80300000000000005,1.278,2.504,2.7629999999999999,2.98,2.4860000000000002,2.8119999999999998,3.2069999999999999,5.2960000000000003,5.9349999999999996,6.5990000000000002,9.0640000000000001,13.243,13.843,12.826000000000001,19.274999999999999,19.513000000000002,16.773,18.635999999999999,21.475000000000001,20.800999999999998,21.45,26.768000000000001,30.085999999999999,22.533999999999999,32.905000000000001,30.721,35.087000000000003,27.111000000000001,26.504000000000001,26.065000000000001,17.350000000000001,18.114999999999998,11.670999999999999,10.583,6.8860000000000001,5.6609999999999996,4.0830000000000002,1.333,0.15,0.64500000000000002,0,0,0,0,0,0,0,0,0,0,0,0]
["Global Süd",0,0,0,0,0,0,0,0,0,0,0,0,0,0.93100000000000005,1.7969999999999999,4.3959999999999999,8.1489999999999991,6.1269999999999998,6.8049999999999997,6.27,8.0449999999999999,12.247999999999999,14.82,11.058,15.568,20.036000000000001,31.337,25.56,37.207000000000001,49.228999999999999,47.154000000000003,49.594999999999999,50.676000000000002,40.648000000000003,34.682000000000002,32.377000000000002,36.884999999999998,30.231999999999999,36.673999999999999,40.253999999999998,44.767000000000003,27.553999999999998,33.886000000000003,35.4,30.484000000000002,26.646999999999998,22.943000000000001,31.393000000000001,17.466000000000001,17.934999999999999,12.907999999999999,4.3899999999999997,1.7170000000000001,1.675,0.97399999999999998,0,0,0,0,0,0,0,0,0,0,0]
["Global West",0,0,0,0,0,0,0,0,0,0,0,0,0,0.223,0.53500000000000003,1.3069999999999999,3.548,2.056,3.109,2.7629999999999999,4.8449999999999998,4.1180000000000003,6.98,5.5069999999999997,5.3259999999999996,6.9059999999999997,14.073,10.625999999999999,18.378,19.151,17.440999999999999,19.103000000000002,22.206,21.745999999999999,15.513,9.2349999999999994,11.558,12.815,14.22,18.04,19.943000000000001,12.930999999999999,18.137,21.675000000000001,24.061,13.353999999999999,16.335000000000001,24.417000000000002,12.747999999999999,12.944000000000001,11.355,5.1859999999999999,2.46,1.0720000000000001,0.75600000000000001,0,0,0,0,0,0,0,0,0,0,0]
["Global Nord",0,0,0,0,0,0,0,0,0,0,0,0,0,0.22900000000000001,0.55300000000000005,1.1599999999999999,2.048,1.657,1.641,2.17,2.3639999999999999,2.6989999999999998,4.0890000000000004,3.7639999999999998,3.6269999999999998,4.9589999999999996,7.8869999999999996,4.5789999999999997,10.462,8.9250000000000007,6.4290000000000003,5.1849999999999996,7.9779999999999998,5.0599999999999996,4.7549999999999999,3.8530000000000002,4.2519999999999998,2.238,3.1240000000000001,3.0449999999999999,3.0129999999999999,0.52300000000000002,0.97399999999999998,0.499,1.1479999999999999,0.76400000000000001,1.2250000000000001,0.77200000000000002,0.30399999999999999,0.61299999999999999,0.45700000000000002,0.15,0,0,0,0,0,0,0,0,0,0,0,0,0,0]
[]
["Station","ENG"]
["Engelberg"]
["Bintemperatur",-25,-24,-23,-22,-21,-20,-19,-18,-17,-16,-15,-14,-13,-12,-11,-10,-9,-8,-7,-6,-5,-4,-3,-2,-1,0,1,2,3,4,5,6,7,8,9,10,11,12,13,14,15,16,17,18,19,20,21,22,23,24,25,26,27,28,29,30,31,32,33,34,35,36,37,38,39,40]
["Stunden (Ta Stundewerte)",0,0,0,0,0,0,0,0,0,0,11,16,31,14,31,41,73,91,122,119,139,177,163,218,268,466,350,349,416,437,431,430,385,403,399,392,409,397,386,350,305,209,161,137,94,80,74,54,31,29,25,17,11,14,4,1,0,0,0,0,0,0,0,0,0,0]
["Stunden (Ta Tagesmittel)",0,0,0,0,0,0,0,0,0,0,0,0,0,24,48,48,48,168,24,168,144,96,192,168,240,504,384,336,384,504,288,456,384,408,576,408,504,384,432,336,264,240,264,144,24,24,72,48,24,0,0,0,0,0,0,0,0,0,0,0,0,0,0,0,0,0]
["Global Horiz.",0,0,0,0,0,0,0,0,0,0,0,0.437,0,0.53800000000000003,1.107,0.78900000000000003,1.8320000000000001,2.16,7.3940000000000001,5.5209999999999999,5.383,5.0030000000000001,5.1180000000000003,3.851,5.7560000000000002,12.840999999999999,13.259,13.637,20.605,17.472999999999999,20.803999999999998,23.603000000000002,22.422000000000001,29.928000000000001,34.542000000000002,43.692999999999998,54.054000000000002,65.034000000000006,63.082000000000001,59.725000000000001,71.679000000000002,51.743000000000002,51.408000000000001,44.456000000000003,35.738,37.893999999999998,35.695,31.376999999999999,16.765999999999998,12.175000000000001,15.395,11.43,6.367,8.9489999999999998,3.0449999999999999,0.72899999999999998,0,0,0,0,0,0,0,0,0,0]
["Global Ost",0,0,0,0,0,0,0,0,0,0,0,1.1339999999999999,0,0.74199999999999999,1.4279999999999999,0.93,2.3839999999999999,1.647,3.9630000000000001,2.8929999999999998,2.7250000000000001,1.7270000000000001,2.2669999999999999,2.266,3.4910000000000001,8.4250000000000007,9.51,7.9290000000000003,11.553000000000001,11.256,11.254,11.965999999999999,11.401999999999999,17.582000000000001,15.975,22.312999999999999,24.119,21.492999999999999,21.335000000000001,19.158000000000001,22.111000000000001,20.811,16.704000000000001,15.17,11.943,10.733000000000001,9.6319999999999997,6.3490000000000002,5.0709999999999997,3.4649999999999999,4.4400000000000004,1.825,1.734,1.198,0.78100000000000003,0,0,0,0,0,0,0,0,0,0,0]
["Global Süd",0,0,0,0,0,0,0,0,0,0,0,0.91400000000000003,0,0.996,2.024,1.617,3.677,3.6019999999999999,13.903,11.407999999999999,9.0169999999999995,8.0920000000000005,8.5739999999999998,6.5119999999999996,6.3940000000000001,14.773,14.773,14.928000000000001,23.132000000000001,21.667999999999999,22.812999999999999,24.984000000000002,22.22,22.274999999999999,29.405000000000001,31.446999999999999,39.363,48.856000000000002,40.956000000000003,35.616999999999997,43.055,28.686,26.992000000000001,24.655999999999999,19.007000000000001,21.498000000000001,20.312000000000001,16.170000000000002,9.3580000000000005,5.6539999999999999,8.6150000000000002,5.9530000000000003,3.4750000000000001,5.673,2.0990000000000002,0.48799999999999999,0,0,0,0,0,0,0,0,0,0]
["Global West",0,0,0,0,0,0,0,0,0,0,0,0.30199999999999999,0,0.24199999999999999,0.48,0.29599999999999999,0.45800000000000002,0.33100000000000002,4.9720000000000004,3.742,2.0339999999999998,2.1579999999999999,2.0510000000000002,1.2709999999999999,1.88,6.9370000000000003,3.2010000000000001,4.4509999999999996,8.1820000000000004,4.5629999999999997,7.4770000000000003,6.5860000000000003,8.0109999999999992,5.9409999999999998,9.8699999999999992,8.3940000000000001,13.641999999999999,22.09,19.989000000000001,18.725000000000001,23.367000000000001,11.266999999999999,18.602,14.385,12.888,14.308999999999999,15.635999999999999,11.853999999999999,6.9240000000000004,5.5119999999999996,5.891,6.48,2.5870000000000002,4.9829999999999997,0.88,0.44500000000000001,0,0,0,0,0,0,0,0,0,0]
["Global Nord",0,0,0,0,0,0,0,0,0,0,0,0.313,0,0.254,0.24399999999999999,0.314,0.48199999999999998,0.34799999999999998,2.5190000000000001,1.5940000000000001,0.79300000000000004,0.71599999999999997,0.39900000000000002,0.64400000000000002,1.157,3.8580000000000001,2.0739999999999998,2.831,2.153,2.37,2.5680000000000001,2.3079999999999998,1.744,1.8029999999999999,1.2929999999999999,0.317,0.76500000000000001,0.30499999999999999,0.55500000000000005,0.15,1.1180000000000001,0.623,0.64900000000000002,1.0940000000000001,0.94799999999999995,0.94499999999999995,0.45600000000000002,0,0,0.495,0.45400000000000001,0.157,0.30499999999999999,0,0.30199999999999999,0,0,0,0,0,0,0,0,0,0,0]
[]
["Station","GVE"]
["Genève-Cointrin"]
["Bintemperatur",-25,-24,-23,-22,-21,-20,-19,-18,-17,-16,-15,-14,-13,-12,-11,-10,-9,-8,-7,-6,-5,-4,-3,-2,-1,0,1,2,3,4,5,6,7,8,9,10,11,12,13,14,15,16,17,18,19,20,21,22,23,24,25,26,27,28,29,30,31,32,33,34,35,36,37,38,39,40]
["Stunden (Ta Stundewerte)",0,0,0,0,0,0,0,0,0,0,0,0,0,0,0,2,4,3,3,13,49,105,115,181,178,189,295,289,346,359,359,365,341,321,359,346,376,427,426,344,375,374,301,281,240,259,198,172,135,135,128,99,87,59,50,23,19,10,13,5,2,0,0,0,0,0]
["Stunden (Ta Tagesmittel)",0,0,0,0,0,0,0,0,0,0,0,0,0,0,0,0,0,0,0,0,48,48,96,144,192,168,216,360,384,336,432,360,264,264,384,384,456,480,408,504,336,240,408,312,144,288,408,264,168,120,72,48,0,24,0,0,0,0,0,0,0,0,0,0,0,0]
["Global Horiz.",0,0,0,0,0,0,0,0,0,0,0,0,0,0,0,0,0,0,0,0,0,0.42699999999999999,1.5129999999999999,3.3119999999999998,4.4160000000000004,4.2430000000000003,7.54,6.9139999999999997,11.353999999999999,16.277000000000001,16.774999999999999,12.74,26.58,14.776999999999999,18.323,20.125,25.08,39.082000000000001,52.823999999999998,54.710999999999999,65.703000000000003,71.721999999999994,61.139000000000003,58.917999999999999,48.378,64.906000000000006,56.402999999999999,57.728000000000002,46.988999999999997,46.713000000000001,52.273000000000003,50.7,42.186999999999998,30.315000000000001,28.661999999999999,12.117000000000001,10.33,6.5940000000000003,7.601,2.5590000000000002,1.1499999999999999,0,0,0,0,0]
["Global Ost",0,0,0,0,0,0,0,0,0,0,0,0,0,0,0,0,0,0,0,0.40300000000000002,0,1.395,1.105,3.875,4.55,2.5230000000000001,6.101,5.702,8.1140000000000008,9.4860000000000007,7.843,8.5820000000000007,15.51,8.7110000000000003,14.768000000000001,16.646999999999998,23.138000000000002,21.704999999999998,31.686,26.074000000000002,30.931999999999999,29.437999999999999,25.404,28.015999999999998,24.163,30.431000000000001,23.849,25.152999999999999,20.571999999999999,17.312000000000001,15.082000000000001,12.337,7.2050000000000001,4.875,4.0670000000000002,0.93300000000000005,1.0129999999999999,0.154,0.63,0,0,0,0,0,0,0]
["Global Süd",0,0,0,0,0,0,0,0,0,0,0,0,0,0,0,0,0,0,0,0.44600000000000001,0,1.2150000000000001,3.1739999999999999,7.1239999999999997,9.5449999999999999,7.4729999999999999,14.116,12.375999999999999,17.812000000000001,27.681999999999999,22.56,19.611000000000001,33.058,19.173999999999999,22.071000000000002,18.887,23.577000000000002,36.049999999999997,46.051000000000002,47.4,49.616,53.694000000000003,40.988,38.917000000000002,27.486999999999998,36.906999999999996,28.815999999999999,33.549999999999997,27.318999999999999,23.95,28.015999999999998,26.956,20.507000000000001,16.068999999999999,14.602,6.2389999999999999,5.3140000000000001,3.742,3.62,1.008,0.73199999999999998,0,0,0,0,0]
["Global West",0,0,0,0,0,0,0,0,0,0,0,0,0,0,0,0,0,0,0,0,0,0,1.321,1.5940000000000001,3.069,2.3250000000000002,3.6859999999999999,2.524,2.3250000000000002,8.4740000000000002,7.8380000000000001,7.6559999999999997,12.505000000000001,6.085,4.8419999999999996,6.2539999999999996,7.117,10.667999999999999,19.212,24.300999999999998,26.347000000000001,42.570999999999998,31.190999999999999,23.751000000000001,16.102,26.760999999999999,29.827999999999999,26.736999999999998,19.242999999999999,19.497,28.245999999999999,24.757999999999999,30.042999999999999,18.373000000000001,18.611000000000001,9.7460000000000004,7.89,4.4950000000000001,6.16,3.1230000000000002,1.282,0,0,0,0,0]
["Global Nord",0,0,0,0,0,0,0,0,0,0,0,0,0,0,0,0,0,0,0,0,0,0,0,0,0,0,0,0,0,0.30499999999999999,0.17,0,0.35699999999999998,0.69899999999999995,0.33700000000000002,0.69599999999999995,0.96499999999999997,0.69399999999999995,2.85,1.827,3.415,3.8839999999999999,4.99,3.0310000000000001,2.64,5.367,4.2450000000000001,2.3210000000000002,3.431,2.1320000000000001,2.7690000000000001,4.077,2.052,1.919,1.6759999999999999,0.83699999999999997,0.32500000000000001,0.153,0.50800000000000001,0,0,0,0,0,0,0]
[]
["Station","GLA"]
["Glarus"]
["Bintemperatur",-25,-24,-23,-22,-21,-20,-19,-18,-17,-16,-15,-14,-13,-12,-11,-10,-9,-8,-7,-6,-5,-4,-3,-2,-1,0,1,2,3,4,5,6,7,8,9,10,11,12,13,14,15,16,17,18,19,20,21,22,23,24,25,26,27,28,29,30,31,32,33,34,35,36,37,38,39,40]
["Stunden (Ta Stundewerte)",0,0,0,0,0,0,0,0,0,0,0,6,6,16,19,11,15,28,37,54,99,135,153,164,241,308,445,392,325,301,311,339,357,358,339,405,406,425,423,412,380,344,308,235,218,172,132,103,91,55,60,35,41,18,10,17,8,2,1,0,0,0,0,0,0,0]
["Stunden (Ta Tagesmittel)",0,0,0,0,0,0,0,0,0,0,0,0,0,0,24,24,48,0,0,24,72,144,120,288,288,312,360,288,288,456,120,216,408,576,408,432,288,384,528,504,336,432,432,216,216,168,216,24,24,48,48,0,0,0,0,0,0,0,0,0,0,0,0,0,0,0]
["Global Horiz.",0,0,0,0,0,0,0,0,0,0,0,0,0,0.53600000000000003,0.85,0.373,0.71699999999999997,2.0150000000000001,1.5089999999999999,0.752,3.7429999999999999,3.0680000000000001,3.7330000000000001,8.1869999999999994,7.2720000000000002,8.4190000000000005,10.984,9.6720000000000006,12.231999999999999,8.25,12.69,16.079999999999998,18.346,16.942,15.375,26.992999999999999,31.529,41.628999999999998,36.656999999999996,41.725000000000001,48.076999999999998,50.427999999999997,54.887999999999998,53.482999999999997,61.963000000000001,55.829000000000001,48.011000000000003,42.585999999999999,35.024999999999999,25.75,32.180999999999997,19.186,24.305,9.8640000000000008,4.2169999999999996,9.6780000000000008,5.1020000000000003,1.373,0.70199999999999996,0,0,0,0,0,0,0]
["Global Ost",0,0,0,0,0,0,0,0,0,0,0,0,0,0.89,1.1859999999999999,0.38200000000000001,0.48099999999999998,0.56200000000000006,1.1839999999999999,0.73599999999999999,2.113,3.3380000000000001,3.6659999999999999,5.0389999999999997,3.419,4.16,3.048,3.7490000000000001,6.8810000000000002,4.2060000000000004,5.5250000000000004,8.59,9.2200000000000006,9.2759999999999998,8.2799999999999994,15.016,14.116,18.556000000000001,15.054,17.785,20.661000000000001,16.442,22.727,25.108000000000001,15.483000000000001,17.289000000000001,18.437999999999999,12.773999999999999,9.9809999999999999,7.6180000000000003,6.016,3.5270000000000001,3.1240000000000001,1.319,0.82799999999999996,0.378,0.59099999999999997,0.161,0,0,0,0,0,0,0,0]
["Global Süd",0,0,0,0,0,0,0,0,0,0,0,0,0,1.1779999999999999,1.9830000000000001,0.84,1.73,4.2489999999999997,3.1890000000000001,1.554,7.056,6.2619999999999996,7.5030000000000001,15.321,11.712,14.709,14.817,12.224,11.459,6.2939999999999996,13.032,14.2,18.552,14.321999999999999,11.382,21.812000000000001,25.959,32.04,24.736000000000001,25.36,29.085999999999999,27.01,29.757000000000001,27.376999999999999,29.251999999999999,30.523,25.120999999999999,22.6,18.638999999999999,13.824,16.873999999999999,10.335000000000001,13.03,5.3390000000000004,2.5499999999999998,5.0730000000000004,3.19,0.90900000000000003,0.47099999999999997,0,0,0,0,0,0,0]
["Global West",0,0,0,0,0,0,0,0,0,0,0,0,0,0,0,0,0,0.61499999999999999,0.41599999999999998,0.158,0.64300000000000002,0.374,0.214,1.794,1.0920000000000001,1.542,2.4580000000000002,2.1429999999999998,1.3160000000000001,0.45900000000000002,1.1990000000000001,1.593,3.69,2.7370000000000001,0.93300000000000005,1.768,4.0209999999999999,6.4909999999999997,5.0910000000000002,6.0069999999999997,5.6020000000000003,11.013,9.7889999999999997,9.1760000000000002,24.047000000000001,18.678000000000001,12.608000000000001,14.106999999999999,12.176,9.6319999999999997,16.096,8.2270000000000003,13.313000000000001,6.5960000000000001,1.796,6.9189999999999996,2.3620000000000001,0.85599999999999998,0.435,0,0,0,0,0,0,0]
["Global Nord",0,0,0,0,0,0,0,0,0,0,0,0,0,0,0,0,0,0,0,0.152,0,0.35599999999999998,0.19700000000000001,0.156,0.20799999999999999,0.16800000000000001,0.36,0.94499999999999995,0.95,0.32,0.315,0.78900000000000003,0.32600000000000001,0,0,0.153,0.155,0.161,0,0.63800000000000001,0.309,0.61799999999999999,0.317,1.0229999999999999,1.913,1.871,1.7450000000000001,0.64600000000000002,0.95399999999999996,0.65200000000000002,0.61399999999999999,0.153,0.155,0.314,0,0.45700000000000002,0.311,0.154,0,0,0,0,0,0,0,0]
[]
["Station","GSB"]
["Grosser St. Bernhard"]
["Bintemperatur",-25,-24,-23,-22,-21,-20,-19,-18,-17,-16,-15,-14,-13,-12,-11,-10,-9,-8,-7,-6,-5,-4,-3,-2,-1,0,1,2,3,4,5,6,7,8,9,10,11,12,13,14,15,16,17,18,19,20,21,22,23,24,25,26,27,28,29,30,31,32,33,34,35,36,37,38,39,40]
["Stunden (Ta Stundewerte)",0,0,0,0,13,4,19,11,15,21,33,71,91,169,200,145,200,217,270,392,501,433,490,550,534,357,355,453,472,453,372,349,278,232,245,218,192,131,117,81,47,24,5,0,0,0,0,0,0,0,0,0,0,0,0,0,0,0,0,0,0,0,0,0,0,0]
["Stunden (Ta Tagesmittel)",0,0,0,0,0,0,24,0,48,0,24,48,24,192,216,192,96,336,240,408,384,648,408,696,384,384,312,408,480,456,552,384,192,264,72,264,264,264,72,24,0,0,0,0,0,0,0,0,0,0,0,0,0,0,0,0,0,0,0,0,0,0,0,0,0,0]
["Global Horiz.",0,0,0,0,0,0,1.4419999999999999,1.1200000000000001,1.7130000000000001,1.1020000000000001,1.6639999999999999,3.0489999999999999,4.2549999999999999,13.916,16.414000000000001,11.048999999999999,17.079000000000001,12.826000000000001,17.794,23.279,22.881,40.280999999999999,51.771000000000001,64.144999999999996,66.004999999999995,47.293999999999997,53.697000000000003,52.695,47.552,58.744,68.418000000000006,92.051000000000002,72.775000000000006,59.591000000000001,58.188000000000002,34.082000000000001,54.043999999999997,43.223999999999997,52.863,45.119,27.081,14.843,3.0550000000000002,0,0,0,0,0,0,0,0,0,0,0,0,0,0,0,0,0,0,0,0,0,0,0]
["Global Ost",0,0,0,0,0,0,0.97699999999999998,0.95399999999999996,1.173,0.53800000000000003,1.669,3.0939999999999999,4.0330000000000004,10.675000000000001,13.510999999999999,8.1999999999999993,13.692,10.946999999999999,14.103999999999999,21.113,21.196000000000002,35.091000000000001,38.845999999999997,54.204000000000001,50.171999999999997,39.109000000000002,40.564,40.909999999999997,38.868000000000002,45.341000000000001,49.201999999999998,57.219000000000001,39.427999999999997,28.404,30.376999999999999,19.465,28.315000000000001,22.763000000000002,19.658000000000001,14.804,4.6559999999999997,1.02,0.151,0,0,0,0,0,0,0,0,0,0,0,0,0,0,0,0,0,0,0,0,0,0,0]
["Global Süd",0,0,0,0,0,0,3.1960000000000002,2.0659999999999998,3.6909999999999998,2.5030000000000001,2.952,5.0389999999999997,7.0449999999999999,22.460999999999999,22.969000000000001,16.263000000000002,26.26,17.28,24.896000000000001,34.277000000000001,35.499000000000002,59.079000000000001,78.742000000000004,88.789000000000001,86.905000000000001,61.183999999999997,59.488999999999997,56.963000000000001,38.018000000000001,46.116,50.031999999999996,66.203000000000003,47.024999999999999,38.890999999999998,35.131,18.648,31.434000000000001,22.193999999999999,28.175999999999998,24.055,14.792,8.6010000000000009,1.355,0,0,0,0,0,0,0,0,0,0,0,0,0,0,0,0,0,0,0,0,0,0,0]
["Global West",0,0,0,0,0,0,2.0310000000000001,0.84199999999999997,2.6880000000000002,1.9530000000000001,1.9179999999999999,2.9860000000000002,4.4619999999999997,14.429,15.827999999999999,10.824999999999999,17.306000000000001,11.714,17.015000000000001,22.302,21.483000000000001,35.948,55.402000000000001,60.47,66.533000000000001,40.713999999999999,49.323,43.104999999999997,31.186,32.445999999999998,34.984999999999999,50.781999999999996,39.984999999999999,27.791,26.876999999999999,17.611999999999998,20.623000000000001,20.504000000000001,23.510999999999999,18.635000000000002,11.439,7.4569999999999999,2.976,0,0,0,0,0,0,0,0,0,0,0,0,0,0,0,0,0,0,0,0,0,0,0]
["Global Nord",0,0,0,0,0,0,0.82899999999999996,0.72899999999999998,1.056,0.53400000000000003,1.1719999999999999,1.4750000000000001,2.4159999999999999,8.0399999999999991,9.7520000000000007,6.5149999999999997,10.349,7.41,10.154,12.71,11.69,21.545000000000002,27.509,35.404000000000003,36.045000000000002,21.923999999999999,23.986000000000001,22.95,17.259,15.769,17.228999999999999,25.611000000000001,16.588999999999999,10.836,7.2320000000000002,3.222,3.319,1.5489999999999999,1.5169999999999999,2.1579999999999999,1.256,0.63700000000000001,0.152,0,0,0,0,0,0,0,0,0,0,0,0,0,0,0,0,0,0,0,0,0,0,0]
[]
["Station","GUT"]
["Güttingen"]
["Bintemperatur",-25,-24,-23,-22,-21,-20,-19,-18,-17,-16,-15,-14,-13,-12,-11,-10,-9,-8,-7,-6,-5,-4,-3,-2,-1,0,1,2,3,4,5,6,7,8,9,10,11,12,13,14,15,16,17,18,19,20,21,22,23,24,25,26,27,28,29,30,31,32,33,34,35,36,37,38,39,40]
["Stunden (Ta Stundewerte)",0,0,0,0,0,0,0,0,0,0,0,0,0,0,8,9,46,23,30,34,38,49,106,173,185,201,388,424,434,477,413,441,362,300,355,354,363,435,340,436,378,313,304,258,205,173,157,149,121,84,63,50,33,18,12,13,5,0,0,0,0,0,0,0,0,0]
["Stunden (Ta Tagesmittel)",0,0,0,0,0,0,0,0,0,0,0,0,0,0,0,0,72,0,24,0,48,96,96,120,144,216,288,432,336,696,504,456,336,360,192,408,288,456,384,360,288,360,432,528,264,216,192,48,72,24,24,0,0,0,0,0,0,0,0,0,0,0,0,0,0,0]
["Global Horiz.",0,0,0,0,0,0,0,0,0,0,0,0,0,0,0,0,0.41899999999999998,1.367,2.0110000000000001,0.68100000000000005,0.92400000000000004,2.93,5.2060000000000004,5.0389999999999997,3.5649999999999999,1.905,5.8659999999999997,7.0629999999999997,7.6459999999999999,15.026,19.291,19.613,19.164000000000001,22.965,25.553999999999998,25.402999999999999,36.073,36.177999999999997,33.17,44.33,39.051000000000002,46.896000000000001,56.405999999999999,60.389000000000003,59.313000000000002,59.05,60.606999999999999,67.259,54.591000000000001,38.22,30.808,25.475999999999999,17.494,10.743,5.9210000000000003,7.3570000000000002,2.2570000000000001,0,0,0,0,0,0,0,0,0]
["Global Ost",0,0,0,0,0,0,0,0,0,0,0,0,0,0,0,0,0.16,0.251,1.179,1.2729999999999999,1.4850000000000001,3.3450000000000002,2.7450000000000001,1.2030000000000001,2.859,1.962,5.8120000000000003,5.8220000000000001,8.3670000000000009,9.5459999999999994,11.692,10.353999999999999,12,13.53,12.763,13.567,18.190999999999999,13.718,16.292000000000002,24.105,22.236000000000001,30.024000000000001,31.280999999999999,32.429000000000002,32.895000000000003,30.71,20.186,18.477,11.237,6.7389999999999999,4.524,2.4729999999999999,1.976,1.0820000000000001,0.37,0.622,0,0,0,0,0,0,0,0,0,0]
["Global Süd",0,0,0,0,0,0,0,0,0,0,0,0,0,0,0,0,0.93500000000000005,1.8440000000000001,4.8239999999999998,1.827,1.7569999999999999,6.0670000000000002,10.433999999999999,9.16,8.6349999999999998,4.3650000000000002,11.374000000000001,12.04,9.3379999999999992,18.503,23.341999999999999,18.632000000000001,21.896999999999998,23.919,23.439,21.631,29.686,25.899000000000001,23.956,28.626999999999999,24.061,27.481999999999999,32.404000000000003,33.683999999999997,33.134,33.414999999999999,35.953000000000003,38.307000000000002,31.053000000000001,19.518999999999998,16.957999999999998,14.21,9.2200000000000006,4.9939999999999998,2.625,3.5630000000000002,0.749,0,0,0,0,0,0,0,0,0]
["Global West",0,0,0,0,0,0,0,0,0,0,0,0,0,0,0,0,0,0,1.917,0.64,0,1.1120000000000001,3.4009999999999998,3.9009999999999998,2.024,0.67700000000000005,2.5379999999999998,1.514,1.41,4.2910000000000004,6.54,5.4279999999999999,5.694,9.4390000000000001,9.09,10.209,11.36,16.821999999999999,10.981999999999999,20.693999999999999,13.125,16.041,24.117999999999999,26.571999999999999,21.539000000000001,19.184999999999999,29.795999999999999,36.274999999999999,34.662999999999997,29.946000000000002,18.440999999999999,19.443000000000001,13.696,8.8889999999999993,5.0620000000000003,6.5,2.7810000000000001,0,0,0,0,0,0,0,0,0]
["Global Nord",0,0,0,0,0,0,0,0,0,0,0,0,0,0,0,0,0,0,0,0,0,0.58699999999999997,1.0429999999999999,0.38800000000000001,0,0.151,0.39900000000000002,0.189,0,0,0.32300000000000001,0,0.47799999999999998,0.51800000000000002,0.67700000000000005,0.70799999999999996,0.65900000000000003,1.6679999999999999,1.4039999999999999,3.613,3.16,4.8170000000000002,6.7110000000000003,3.512,4.8639999999999999,4.9889999999999999,5.0759999999999996,5.4130000000000003,2.96,2.7879999999999998,2.214,0.79300000000000004,1.1399999999999999,0.47899999999999998,0.64400000000000002,0.62,0,0,0,0,0,0,0,0,0,0]
[]
["Station","CDF"]
["La Chaux-de-Fonds"]
["Bintemperatur",-25,-24,-23,-22,-21,-20,-19,-18,-17,-16,-15,-14,-13,-12,-11,-10,-9,-8,-7,-6,-5,-4,-3,-2,-1,0,1,2,3,4,5,6,7,8,9,10,11,12,13,14,15,16,17,18,19,20,21,22,23,24,25,26,27,28,29,30,31,32,33,34,35,36,37,38,39,40]
["Stunden (Ta Stundewerte)",0,0,0,0,0,0,0,0,0,2,14,17,25,25,38,47,35,45,97,117,104,159,196,265,307,334,474,427,408,370,373,408,392,426,422,418,398,351,316,294,259,236,215,189,164,111,82,63,51,27,17,23,11,8,0,0,0,0,0,0,0,0,0,0,0,0]
["Stunden (Ta Tagesmittel)",0,0,0,0,0,0,0,0,0,0,0,0,24,0,0,72,48,72,120,144,96,96,72,240,288,528,336,504,456,360,336,384,408,336,504,408,336,408,384,576,360,336,144,144,72,120,48,0,0,0,0,0,0,0,0,0,0,0,0,0,0,0,0,0,0,0]
["Global Horiz.",0,0,0,0,0,0,0,0,0,0,0,0,0.19900000000000001,0.28599999999999998,0.79400000000000004,2.1269999999999998,1.859,1.802,2.8319999999999999,3.2269999999999999,4.6139999999999999,7.1609999999999996,6.5410000000000004,7.83,7.3159999999999998,13.753,21.352,14.973000000000001,18.638000000000002,18.795000000000002,19.724,30.178999999999998,30.282,34.207000000000001,34.774999999999999,42.393000000000001,48.832999999999998,49.923000000000002,42.36,45.691000000000003,50.082000000000001,59.216999999999999,66.971999999999994,70.844999999999999,74.727999999999994,48.319000000000003,38.43,29.263000000000002,25.396000000000001,14.811,11.058,12.679,6.9889999999999999,4.6669999999999998,0,0,0,0,0,0,0,0,0,0,0,0]
["Global Ost",0,0,0,0,0,0,0,0,0,0,0.36699999999999999,0.46300000000000002,1.0369999999999999,1.0089999999999999,1.504,3.746,2.2469999999999999,2.5569999999999999,3.7970000000000002,4.5270000000000001,5.1950000000000003,6.1420000000000003,6.4489999999999998,8.6430000000000007,6.6150000000000002,12.657,17.457000000000001,12.791,16.536000000000001,14.257,14.478,21.164999999999999,18.510000000000002,18.315000000000001,22.47,23.111000000000001,31.317,23.885999999999999,19.968,29.777000000000001,27.492999999999999,27.811,36.424999999999997,26.82,24.367999999999999,13.832000000000001,15.698,8.9209999999999994,10.153,4.4020000000000001,3.097,2.3119999999999998,0.47599999999999998,0,0,0,0,0,0,0,0,0,0,0,0,0]
["Global Süd",0,0,0,0,0,0,0,0,0,0,0.33800000000000002,0.157,1.155,0.77900000000000003,2.8250000000000002,6.2619999999999996,4.79,5.36,8.3670000000000009,9.4480000000000004,12.083,11.766999999999999,12.911,15.696999999999999,11.734,19.899000000000001,26.24,17.977,27.552,25.213999999999999,28.178000000000001,37.238,35.930999999999997,30.716000000000001,26.097000000000001,30.867999999999999,32.591999999999999,38.290999999999997,26.100999999999999,25.081,27.42,36.073999999999998,40.331000000000003,45.670999999999999,48.238999999999997,28.873999999999999,21.887,14.98,15.096,7.774,6.28,6.4610000000000003,3.6269999999999998,2.6030000000000002,0,0,0,0,0,0,0,0,0,0,0,0]
["Global West",0,0,0,0,0,0,0,0,0,0,0,0,0,0.17,0.58599999999999997,1.504,1.468,1.393,1.5920000000000001,3.367,4.9139999999999997,5.2190000000000003,4.71,3.5379999999999998,4.5679999999999996,7.6619999999999999,12.637,6.7309999999999999,7.7389999999999999,8.0960000000000001,9.8170000000000002,15.308999999999999,13.467000000000001,13.047000000000001,11.601000000000001,16.949000000000002,17.111000000000001,20.085999999999999,18.731999999999999,18.771999999999998,18.452000000000002,26.343,26.018999999999998,32.433999999999997,37.606999999999999,29.413,15.598000000000001,14.284000000000001,10.766999999999999,7.1779999999999999,4.7190000000000003,7.2229999999999999,4.4560000000000004,4.7290000000000001,0,0,0,0,0,0,0,0,0,0,0,0]
["Global Nord",0,0,0,0,0,0,0,0,0,0,0,0,0,0.17,0.35799999999999998,0.54600000000000004,1.115,0.72699999999999998,1.139,1.2310000000000001,1.39,2.5859999999999999,1.609,1.601,1.4410000000000001,3.11,4.6580000000000004,2.4830000000000001,1.7050000000000001,1.839,2.2330000000000001,3.1080000000000001,3.2010000000000001,2.9359999999999999,3.6389999999999998,4.2960000000000003,4.992,4.4130000000000003,3.7690000000000001,3.3820000000000001,2.5579999999999998,4.47,5.6310000000000002,5.4619999999999997,3.8889999999999998,4.0140000000000002,2.8879999999999999,2.1539999999999999,2.1150000000000002,1.4470000000000001,0.78900000000000003,0.78900000000000003,0.46,0,0,0,0,0,0,0,0,0,0,0,0,0]
[]
["Station","OTL"]
["Locarno-Monti"]
["Bintemperatur",-25,-24,-23,-22,-21,-20,-19,-18,-17,-16,-15,-14,-13,-12,-11,-10,-9,-8,-7,-6,-5,-4,-3,-2,-1,0,1,2,3,4,5,6,7,8,9,10,11,12,13,14,15,16,17,18,19,20,21,22,23,24,25,26,27,28,29,30,31,32,33,34,35,36,37,38,39,40]
["Stunden (Ta Stundewerte)",0,0,0,0,0,0,0,0,0,0,0,0,0,0,0,0,0,0,0,0,0,2,13,47,75,131,184,281,328,349,324,362,426,438,366,339,329,385,350,385,404,395,358,341,344,304,295,242,208,179,139,149,113,70,50,22,17,6,7,3,0,0,0,0,0,0]
["Stunden (Ta Tagesmittel)",0,0,0,0,0,0,0,0,0,0,0,0,0,0,0,0,0,0,0,0,0,0,0,24,24,96,240,240,360,384,312,312,360,552,360,360,360,384,360,432,360,216,552,336,312,288,288,408,384,216,168,24,48,0,0,0,0,0,0,0,0,0,0,0,0,0]
["Global Horiz.",0,0,0,0,0,0,0,0,0,0,0,0,0,0,0,0,0,0,0,0,0,0,0,0,0.96899999999999997,1.4590000000000001,2.8239999999999998,6.2060000000000004,8.0519999999999996,13.260999999999999,17.047000000000001,19.277999999999999,20.710999999999999,23.779,21.376999999999999,31.423999999999999,33.018000000000001,41.648000000000003,35.762,44.895000000000003,48.103000000000002,49.997999999999998,52.511000000000003,54.441000000000003,57.579000000000001,61.234000000000002,66.162999999999997,67.995000000000005,66.007999999999996,59.567999999999998,59.908999999999999,69.304000000000002,58.988999999999997,39.009,26.093,11.936999999999999,9.4489999999999998,3.2450000000000001,3.86,1.5489999999999999,0,0,0,0,0,0]
["Global Ost",0,0,0,0,0,0,0,0,0,0,0,0,0,0,0,0,0,0,0,0,0,0,0.73599999999999999,0.69499999999999995,1.962,2.0470000000000002,4.1500000000000004,6.04,7.0780000000000003,10.961,9.8070000000000004,11.03,15.250999999999999,18.23,16.75,19.257000000000001,21.872,25.064,18.832000000000001,23.852,21.812000000000001,30.6,22.808,32.67,30.643999999999998,28.995000000000001,31.574999999999999,32.057000000000002,29.084,22.905000000000001,20.457000000000001,14.727,8.8889999999999993,4.2409999999999997,1.1910000000000001,0.996,1.034,0.54200000000000004,0.32600000000000001,0,0,0,0,0,0,0]
["Global Süd",0,0,0,0,0,0,0,0,0,0,0,0,0,0,0,0,0,0,0,0,0,0,0.496,0.40400000000000003,2.032,3.1429999999999998,7.3079999999999998,14.859,19.637,29.29,31.452000000000002,38.378,37.667999999999999,36.991999999999997,28.018000000000001,39.411000000000001,40.295999999999999,50.082000000000001,39.536999999999999,46.886000000000003,41.847999999999999,42.212000000000003,42.957000000000001,39.787999999999997,40.29,38.795000000000002,38.058999999999997,36.811,34.808999999999997,31.244,31.768999999999998,37.292000000000002,31.614000000000001,20.553000000000001,12.617000000000001,5.8230000000000004,4.7409999999999997,1.871,1.966,0.81399999999999995,0,0,0,0,0,0]
["Global West",0,0,0,0,0,0,0,0,0,0,0,0,0,0,0,0,0,0,0,0,0,0,0,0,0,0,0,1.635,3.9780000000000002,5.3579999999999997,7.8719999999999999,10.537000000000001,10.603999999999999,7.7750000000000004,4.7869999999999999,10.866,12.077,14.734,14.846,19.905999999999999,26.041,18.199000000000002,23.315999999999999,18.228999999999999,22.971,23.239000000000001,28.853999999999999,27.218,24.942,25.306999999999999,24.506,37.874000000000002,37.582000000000001,24.190999999999999,22.89,8.9879999999999995,7.1369999999999996,2.0339999999999998,3.0249999999999999,1.673,0,0,0,0,0,0]
["Global Nord",0,0,0,0,0,0,0,0,0,0,0,0,0,0,0,0,0,0,0,0,0,0,0,0,0,0,0,0.151,0.16400000000000001,0.37,0.32200000000000001,0,0,0,0,0,0.34699999999999998,0.66100000000000003,0.30299999999999999,0.216,1.1339999999999999,1.2589999999999999,0.78,1.1579999999999999,1.246,2.36,1.5940000000000001,1.2809999999999999,2.7010000000000001,0.77100000000000002,1.395,1.7050000000000001,1.381,1.2250000000000001,0.61799999999999999,0.47099999999999997,0.47199999999999998,0,0.155,0,0,0,0,0,0,0]
[]
["Station","LUG"]
["Lugano"]
["Bintemperatur",-25,-24,-23,-22,-21,-20,-19,-18,-17,-16,-15,-14,-13,-12,-11,-10,-9,-8,-7,-6,-5,-4,-3,-2,-1,0,1,2,3,4,5,6,7,8,9,10,11,12,13,14,15,16,17,18,19,20,21,22,23,24,25,26,27,28,29,30,31,32,33,34,35,36,37,38,39,40]
["Stunden (Ta Stundewerte)",0,0,0,0,0,0,0,0,0,0,0,0,0,0,0,0,0,0,0,0,0,0,3,24,34,45,190,270,344,428,409,436,405,366,351,354,330,379,369,355,406,373,344,349,356,361,326,262,220,167,161,118,88,63,51,19,3,1,0,0,0,0,0,0,0,0]
["Stunden (Ta Tagesmittel)",0,0,0,0,0,0,0,0,0,0,0,0,0,0,0,0,0,0,0,0,0,0,0,0,0,48,120,168,360,456,600,528,336,384,360,336,312,312,360,360,432,288,432,432,312,360,432,240,384,240,168,0,0,0,0,0,0,0,0,0,0,0,0,0,0,0]
["Global Horiz.",0,0,0,0,0,0,0,0,0,0,0,0,0,0,0,0,0,0,0,0,0,0,0,0,0.218,0.70399999999999996,2.4159999999999999,3.9319999999999999,6.31,12.999000000000001,19.463999999999999,30.625,26.622,28.298999999999999,24.420999999999999,31.440999999999999,27.677,29,35.326000000000001,38.543999999999997,45.408000000000001,49.625999999999998,45.619,52.34,60.756999999999998,72.218000000000004,59.83,67.86,65.795000000000002,62.692,60.515000000000001,50.631,39.448,30.699000000000002,26.030999999999999,11.2,1.8180000000000001,0.627,0,0,0,0,0,0,0,0]
["Global Ost",0,0,0,0,0,0,0,0,0,0,0,0,0,0,0,0,0,0,0,0,0,0,0,0,0.46300000000000002,1.5329999999999999,3.8180000000000001,5.0839999999999996,7.1779999999999999,13.385,16.838000000000001,14.951000000000001,10.984999999999999,12.141999999999999,11.351000000000001,10.906000000000001,12.287000000000001,13.766,19.347999999999999,19.995000000000001,25.353000000000002,22.414000000000001,25.161000000000001,28.97,27.475000000000001,27.283999999999999,30.367000000000001,29.599,22.478999999999999,20.855,12.685,7.7169999999999996,3.9350000000000001,2.5750000000000002,0.78700000000000003,0.156,0,0,0,0,0,0,0,0,0,0]
["Global Süd",0,0,0,0,0,0,0,0,0,0,0,0,0,0,0,0,0,0,0,0,0,0,0,0,0.36199999999999999,1.42,4.3280000000000003,7.2089999999999996,11.49,22.960999999999999,31.79,49.134,45.033999999999999,41.265000000000001,32.950000000000003,39.686,32.880000000000003,34.039000000000001,32.372999999999998,38.914999999999999,36.402000000000001,40.545000000000002,29.545000000000002,36.463999999999999,39.445999999999998,41.337000000000003,32.411000000000001,35.758000000000003,37.298999999999999,33.978000000000002,32.469000000000001,27.11,19.831,15.786,13.183,6.2220000000000004,1.1140000000000001,0.38700000000000001,0,0,0,0,0,0,0,0]
["Global West",0,0,0,0,0,0,0,0,0,0,0,0,0,0,0,0,0,0,0,0,0,0,0,0,0,0,0,0,0.94699999999999995,3.46,2.8439999999999999,11.518000000000001,15.714,17.497,12.477,14.102,13.305999999999999,15.266999999999999,15.193,16.027000000000001,17.25,18.274999999999999,19.399999999999999,16.195,21.585000000000001,30.638000000000002,23.667999999999999,27.393000000000001,29.556000000000001,24.178000000000001,33.4,31.29,28.033000000000001,23.077000000000002,23.986000000000001,9.3520000000000003,1.7230000000000001,0.59499999999999997,0,0,0,0,0,0,0,0]
["Global Nord",0,0,0,0,0,0,0,0,0,0,0,0,0,0,0,0,0,0,0,0,0,0,0,0,0,0,0,0,0,0,0,0,0,0,0,0,0.157,0.17499999999999999,0.15,0.311,1.0940000000000001,1.72,1.466,2.4169999999999998,3.1190000000000002,2.488,3.0539999999999998,4.4649999999999999,4.3609999999999998,5.3810000000000002,3.7869999999999999,3.2010000000000001,2.0470000000000002,1.913,0.46800000000000003,0.15,0,0,0,0,0,0,0,0,0,0]
[]
["Station","LUZ"]
["Luzern"]
["Bintemperatur",-25,-24,-23,-22,-21,-20,-19,-18,-17,-16,-15,-14,-13,-12,-11,-10,-9,-8,-7,-6,-5,-4,-3,-2,-1,0,1,2,3,4,5,6,7,8,9,10,11,12,13,14,15,16,17,18,19,20,21,22,23,24,25,26,27,28,29,30,31,32,33,34,35,36,37,38,39,40]
["Stunden (Ta Stundewerte)",0,0,0,0,0,0,0,0,0,0,0,0,0,0,0,0,1,5,42,67,83,58,130,198,209,256,346,309,370,470,364,310,341,349,372,389,354,368,362,335,376,411,367,304,262,197,157,106,116,85,79,59,37,29,30,25,13,11,6,2,0,0,0,0,0,0]
["Stunden (Ta Tagesmittel)",0,0,0,0,0,0,0,0,0,0,0,0,0,0,0,0,0,0,24,24,96,120,96,144,192,192,336,336,312,504,408,336,288,432,384,408,432,384,312,432,360,336,408,240,240,312,216,144,120,120,24,48,0,0,0,0,0,0,0,0,0,0,0,0,0,0]
["Global Horiz.",0,0,0,0,0,0,0,0,0,0,0,0,0,0,0,0,0,0,0,0.154,1.1299999999999999,2.141,3.149,4.6369999999999996,3.835,3.6,7.0229999999999997,7.0380000000000003,8.718,9.4960000000000004,15.593,15.965999999999999,19.076000000000001,22.013000000000002,21.611999999999998,27.71,25.884,35.793999999999997,37.158999999999999,47.753,37.536000000000001,52.262999999999998,59.353000000000002,51.780999999999999,51.465000000000003,47.667999999999999,45.372999999999998,30.532,41.442,32.515000000000001,39.970999999999997,29.411000000000001,17.751000000000001,13.818,14.577,14.52,7.5359999999999996,6.2930000000000001,3.6440000000000001,1.2669999999999999,0,0,0,0,0,0]
["Global Ost",0,0,0,0,0,0,0,0,0,0,0,0,0,0,0,0,0,0,0.34799999999999998,0.189,1.8879999999999999,1.155,1.8919999999999999,3.895,3.7149999999999999,3.1560000000000001,6.3230000000000004,4.1360000000000001,6.6589999999999998,7.3079999999999998,11.858000000000001,9.4939999999999998,11.545,14.613,14.361000000000001,17.571000000000002,18.841999999999999,20.417999999999999,20.251000000000001,23.98,23.081,22.978999999999999,26.893000000000001,24.844000000000001,22.466999999999999,20.193000000000001,19.288,14.423999999999999,16.954999999999998,10.061,11.983000000000001,7.9160000000000004,3.8820000000000001,3.7269999999999999,2.3860000000000001,2.7450000000000001,0.70599999999999996,0.56399999999999995,0.46800000000000003,0.153,0,0,0,0,0,0]
["Global Süd",0,0,0,0,0,0,0,0,0,0,0,0,0,0,0,0,0,0,0.36,0.24399999999999999,2.1360000000000001,3.1219999999999999,5.351,9.7040000000000006,8.5640000000000001,7.1440000000000001,12.741,10.611000000000001,11.839,13.045,19.690000000000001,15.788,18.518000000000001,23.446000000000002,19.228999999999999,25.007000000000001,22.367000000000001,33.902000000000001,31.617000000000001,36.783000000000001,27.012,36.113999999999997,36.972000000000001,30.67,26.654,22.65,22.367999999999999,17.204999999999998,21.417000000000002,16.128,21.1,14.887,9.6709999999999994,8.0030000000000001,6.798,8.3330000000000002,3.7109999999999999,3.7360000000000002,2.1320000000000001,0.82399999999999995,0,0,0,0,0,0]
["Global West",0,0,0,0,0,0,0,0,0,0,0,0,0,0,0,0,0,0,0,0,0,0.64500000000000002,1.839,1.8320000000000001,0.89600000000000002,1.7210000000000001,3.52,2.4649999999999999,2.992,3.0760000000000001,3.802,5.4290000000000003,4.3940000000000001,6.9080000000000004,5.4630000000000001,8.7669999999999995,7.6079999999999997,10.778,10.786,16.452000000000002,16.434999999999999,19.690000000000001,20.219000000000001,23.231999999999999,20.167000000000002,17.960999999999999,19.928000000000001,12.680999999999999,16.399999999999999,16.484999999999999,19.712,16.77,11.615,6.6890000000000001,9.5589999999999993,8.5760000000000005,5.0670000000000002,4.4720000000000004,2.653,0.94499999999999995,0,0,0,0,0,0]
["Global Nord",0,0,0,0,0,0,0,0,0,0,0,0,0,0,0,0,0,0,0,0,0,0.39200000000000002,0.53400000000000003,0.55000000000000004,0.33800000000000002,0.35899999999999999,0.64300000000000002,0,0.30399999999999999,0.186,0.35299999999999998,0.48699999999999999,0.89200000000000002,0.49199999999999999,0.80800000000000005,1.099,1.0069999999999999,0.78500000000000003,1.633,2.903,3.516,3.5049999999999999,3.5569999999999999,4.141,4.3170000000000002,5.49,3.9460000000000002,1.6339999999999999,3.9289999999999998,3.742,3.6779999999999999,2.5640000000000001,1.4390000000000001,1.821,0.97699999999999998,1.4059999999999999,0.63700000000000001,0.32400000000000001,0.46100000000000002,0.153,0,0,0,0,0,0]
[]
["Station","MAG"]
["Magadino"]
["Bintemperatur",-25,-24,-23,-22,-21,-20,-19,-18,-17,-16,-15,-14,-13,-12,-11,-10,-9,-8,-7,-6,-5,-4,-3,-2,-1,0,1,2,3,4,5,6,7,8,9,10,11,12,13,14,15,16,17,18,19,20,21,22,23,24,25,26,27,28,29,30,31,32,33,34,35,36,37,38,39,40]
["Stunden (Ta Stundewerte)",0,0,0,0,0,0,0,0,0,0,0,0,0,0,0,0,0,0,3,10,23,47,75,120,206,234,301,323,287,275,262,311,337,347,399,337,334,326,373,393,320,346,339,312,309,342,294,245,199,170,152,110,121,93,65,16,4,0,0,0,0,0,0,0,0,0]
["Stunden (Ta Tagesmittel)",0,0,0,0,0,0,0,0,0,0,0,0,0,0,0,0,0,0,0,0,0,0,48,24,96,216,336,384,288,480,264,264,456,456,360,192,360,240,432,264,360,408,456,312,360,264,264,480,336,264,96,0,0,0,0,0,0,0,0,0,0,0,0,0,0,0]
["Global Horiz.",0,0,0,0,0,0,0,0,0,0,0,0,0,0,0,0,0,0,0,0,0,0,0.185,0.38600000000000001,1.0529999999999999,1.4039999999999999,2.7360000000000002,5.9420000000000002,8.5259999999999998,11.446,13.821999999999999,14.333,17.651,19.399999999999999,22.686,22.332999999999998,33.975999999999999,32.405000000000001,29.378,37.256999999999998,37.119,38.637999999999998,40.064999999999998,44.845999999999997,51.646999999999998,57.332000000000001,59.655000000000001,67.944999999999993,78.174000000000007,61.66,61.1,54.527000000000001,62.469000000000001,51.606999999999999,37.152000000000001,10.282,2.39,0,0,0,0,0,0,0,0,0]
["Global Ost",0,0,0,0,0,0,0,0,0,0,0,0,0,0,0,0,0,0,0,0,0.57299999999999995,0.23100000000000001,1.0309999999999999,2.0630000000000002,2.9550000000000001,3.355,5.2549999999999999,8.0630000000000006,6.9619999999999997,8.2629999999999999,9.6530000000000005,10.478999999999999,8.1069999999999993,9.6839999999999993,16.701000000000001,11.009,15.561,16.875,14.853,15.978,17.312999999999999,20.896999999999998,20.666,20.065000000000001,25.832000000000001,24.74,28.111999999999998,28.331,26.274000000000001,21.181000000000001,20.422000000000001,15.58,12.486000000000001,6.4569999999999999,1.6879999999999999,0.32500000000000001,0,0,0,0,0,0,0,0,0,0]
["Global Süd",0,0,0,0,0,0,0,0,0,0,0,0,0,0,0,0,0,0,0,0,0.36499999999999999,0.20300000000000001,1.1279999999999999,2.1309999999999998,2.9910000000000001,3.7959999999999998,7.4820000000000002,14.125999999999999,17.28,21.1,26.428999999999998,20.597000000000001,27.901,31.652000000000001,33.837000000000003,29.247,39.728999999999999,33.482999999999997,29.577000000000002,33.021000000000001,28.291,28.204000000000001,28.373999999999999,30.361999999999998,32.423999999999999,34.433,30.867999999999999,35.463000000000001,42.616,33.67,33.645000000000003,28.530999999999999,33.942999999999998,26.727,18.701000000000001,5.7519999999999998,1.3480000000000001,0,0,0,0,0,0,0,0,0]
["Global West",0,0,0,0,0,0,0,0,0,0,0,0,0,0,0,0,0,0,0,0,0,0,0,0,0,0,0,1.399,3.758,3.1720000000000002,6.806,4.4859999999999998,7.758,9.7080000000000002,8.9749999999999996,8.843,15.292999999999999,12.688000000000001,14.14,16.036000000000001,16.102,18.649000000000001,14.993,17.716999999999999,17.032,20.741,24.550999999999998,31.951000000000001,35.572000000000003,29.283999999999999,27.596,25.123000000000001,35.125,34.28,31.027000000000001,7.9219999999999997,2.1280000000000001,0,0,0,0,0,0,0,0,0]
["Global Nord",0,0,0,0,0,0,0,0,0,0,0,0,0,0,0,0,0,0,0,0,0,0,0,0,0,0,0,0,0,0,0,0,0.151,0,0,0.36799999999999999,0.18,0.63900000000000001,0.313,0.315,0.314,0.313,0.35099999999999998,0.96199999999999997,0.77800000000000002,0.93600000000000005,3.3919999999999999,2.5139999999999998,3.9969999999999999,2.6859999999999999,2.7869999999999999,3.7829999999999999,3.2719999999999998,2.964,0.91900000000000004,0.314,0,0,0,0,0,0,0,0,0,0]
[]
["Station","MVE"]
["Montana"]
["Bintemperatur",-25,-24,-23,-22,-21,-20,-19,-18,-17,-16,-15,-14,-13,-12,-11,-10,-9,-8,-7,-6,-5,-4,-3,-2,-1,0,1,2,3,4,5,6,7,8,9,10,11,12,13,14,15,16,17,18,19,20,21,22,23,24,25,26,27,28,29,30,31,32,33,34,35,36,37,38,39,40]
["Stunden (Ta Stundewerte)",0,0,0,0,0,0,0,0,5,3,4,6,13,20,25,50,44,86,67,90,173,206,217,283,411,364,437,476,390,400,464,371,436,407,414,427,385,325,308,274,223,198,141,144,117,98,71,75,55,27,14,9,6,1,0,0,0,0,0,0,0,0,0,0,0,0]
["Stunden (Ta Tagesmittel)",0,0,0,0,0,0,0,0,0,0,0,0,24,24,0,48,48,72,48,144,120,120,264,240,216,576,528,408,480,408,408,360,504,408,384,504,408,264,264,336,216,216,312,240,72,48,48,0,0,0,0,0,0,0,0,0,0,0,0,0,0,0,0,0,0,0]
["Global Horiz.",0,0,0,0,0,0,0,0,0,0,0.16,0.30599999999999999,0,0.57999999999999996,1.1459999999999999,3.2959999999999998,3.4940000000000002,2.544,4.4870000000000001,4.4050000000000002,6.7569999999999997,13.209,10.111000000000001,8.9949999999999992,14.776,16.108000000000001,26.050999999999998,31.359000000000002,27.914000000000001,29.323,44.9,44.887999999999998,54.042000000000002,50.247,69.436999999999998,76.078999999999994,66.742999999999995,66.944000000000003,59.417999999999999,62.997,66.611999999999995,56.648000000000003,43.866999999999997,51.826000000000001,55.305,47.412999999999997,36.74,41.87,35.101999999999997,16.628,9.3550000000000004,6.7009999999999996,3.7559999999999998,0.71399999999999997,0,0,0,0,0,0,0,0,0,0,0,0]
["Global Ost",0,0,0,0,0,0,0,0,0,0,0.60099999999999998,0.63100000000000001,0,1.0409999999999999,2.6859999999999999,3.5720000000000001,2.048,2.988,5.117,5.742,8.0060000000000002,8.702,9.157,8.8179999999999996,11.936999999999999,13.443,18.204000000000001,26.452999999999999,24.978999999999999,30.349,33.180999999999997,35.515000000000001,33.659999999999997,33.249000000000002,38.046999999999997,37.453000000000003,33.301000000000002,34.31,35.24,27.638999999999999,28.318000000000001,25.396000000000001,24.946999999999999,20.241,18.988,13.427,7.0549999999999997,6.4459999999999997,5.0659999999999998,1.177,1.1419999999999999,0.251,0.17599999999999999,0.15,0,0,0,0,0,0,0,0,0,0,0,0]
["Global Süd",0,0,0,0,0,0,0,0,0,0,0.501,0.76500000000000001,0,1.397,3.4289999999999998,7.5170000000000003,7.6669999999999998,5.8179999999999996,10.009,9.343,14.395,25.558,16.02,10.911,20.704000000000001,27.184000000000001,39.911999999999999,47.412999999999997,47.713999999999999,56.078000000000003,68.587000000000003,66.234999999999999,64.239000000000004,44.399000000000001,61.274000000000001,60.246000000000002,45.018000000000001,50.502000000000002,34.89,39.637,42.423000000000002,34.426000000000002,25.52,31.817,32.561,28.481000000000002,20.324999999999999,22.286000000000001,19.045000000000002,9.6199999999999992,5.0810000000000004,4.1609999999999996,2.3330000000000002,0.40600000000000003,0,0,0,0,0,0,0,0,0,0,0,0]
["Global West",0,0,0,0,0,0,0,0,0,0,0,0,0,0.17100000000000001,0.7,2.399,3.0950000000000002,2.5299999999999998,3.3879999999999999,2.294,4.4930000000000003,12.038,5.91,2.6789999999999998,6.0609999999999999,10.347,17.931000000000001,13.609,12.164999999999999,16.515999999999998,23.866,25.905999999999999,25.173999999999999,16.838999999999999,30.285,32.487000000000002,29.201000000000001,29.199000000000002,16.597999999999999,28.693999999999999,34.005000000000003,26.402999999999999,15.085000000000001,24.859000000000002,26.805,22.544,21.637,26.791,21.006,9.5690000000000008,4.7919999999999998,4.1609999999999996,2.9319999999999999,0.4,0,0,0,0,0,0,0,0,0,0,0,0]
["Global Nord",0,0,0,0,0,0,0,0,0,0,0,0,0,0.17899999999999999,0.20100000000000001,0.56799999999999995,0.72799999999999998,0.41799999999999998,1.1279999999999999,0.751,2.323,3.7149999999999999,2.2229999999999999,1.639,1.859,1.962,2.8959999999999999,2.5720000000000001,2.589,4.6920000000000002,5.1070000000000002,6.8029999999999999,4.3639999999999999,3.5110000000000001,5.8869999999999996,5.7169999999999996,2.1619999999999999,3.202,3.1120000000000001,1.712,2.2629999999999999,1.151,0.99399999999999999,0.81899999999999995,0.61099999999999999,1.147,0.497,0.63400000000000001,0.47399999999999998,0.30599999999999999,0.157,0.152,0.159,0,0,0,0,0,0,0,0,0,0,0,0,0]
[]
["Station","NEU"]
["Neuchâtel"]
["Bintemperatur",-25,-24,-23,-22,-21,-20,-19,-18,-17,-16,-15,-14,-13,-12,-11,-10,-9,-8,-7,-6,-5,-4,-3,-2,-1,0,1,2,3,4,5,6,7,8,9,10,11,12,13,14,15,16,17,18,19,20,21,22,23,24,25,26,27,28,29,30,31,32,33,34,35,36,37,38,39,40]
["Stunden (Ta Stundewerte)",0,0,0,0,0,0,0,0,0,0,0,0,0,0,0,6,5,7,29,19,19,37,32,92,117,249,349,421,394,482,394,390,370,332,322,351,380,392,387,371,308,325,327,334,292,260,205,199,144,130,80,81,50,27,24,11,9,5,1,1,0,0,0,0,0,0]
["Stunden (Ta Tagesmittel)",0,0,0,0,0,0,0,0,0,0,0,0,0,0,0,0,0,24,24,0,24,24,48,48,96,216,384,360,552,480,312,384,384,360,312,288,360,336,552,408,360,216,408,192,456,216,384,216,168,72,72,0,24,0,0,0,0,0,0,0,0,0,0,0,0,0]
["Global Horiz.",0,0,0,0,0,0,0,0,0,0,0,0,0,0,0,0,0,0.17699999999999999,0.58099999999999996,0.433,0.91600000000000004,1.391,1.1779999999999999,4.5019999999999998,4.2430000000000003,5.3410000000000002,5.2130000000000001,8.1199999999999992,7.1390000000000002,18.951000000000001,14.186,19.835000000000001,24.413,23.896999999999998,23.763999999999999,35.619,33.106999999999999,36.433,39.576000000000001,40.146999999999998,49.168999999999997,43.441000000000003,54.628,57.728999999999999,55.860999999999997,57.948,53.784999999999997,59.835000000000001,46.526000000000003,49.74,40.158000000000001,35.700000000000003,25.332999999999998,12.978999999999999,11.811,5.907,3.74,2.3210000000000002,0.81,0.72799999999999998,0,0,0,0,0,0]
["Global Ost",0,0,0,0,0,0,0,0,0,0,0,0,0,0,0,0,0,0,0,0.20499999999999999,1.605,0.46400000000000002,1.145,4.843,4.0229999999999997,5.1920000000000002,3.7189999999999999,6.657,5.1230000000000002,9.9049999999999994,10.372999999999999,10.853,16.417999999999999,12.308,17.779,17.919,19.666,22.754999999999999,22.555,21.798999999999999,24.977,25.152999999999999,27.658000000000001,28.247,27.055,27.439,27.491,22.623999999999999,15.452999999999999,14.834,8.68,6.3959999999999999,3.6869999999999998,2.0750000000000002,1.589,0.40899999999999997,0.187,0,0.17199999999999999,0.158,0,0,0,0,0,0]
["Global Süd",0,0,0,0,0,0,0,0,0,0,0,0,0,0,0,0,0,0.189,0.71299999999999997,0.76600000000000001,1.9830000000000001,2.8519999999999999,2.4780000000000002,9.6280000000000001,9.4339999999999993,10.436,10.27,14.430999999999999,10.667,31.895,17.829999999999998,21.042000000000002,25.939,24.507999999999999,22.486000000000001,35.713000000000001,31.143999999999998,32.177999999999997,30.664000000000001,27.553000000000001,32.085999999999999,29.7,33.819000000000003,35.853999999999999,32.587000000000003,29.282,30.138000000000002,32.927,24.318000000000001,26.885000000000002,22.135000000000002,19.824999999999999,14.856,6.5380000000000003,6.12,3.09,1.736,0.90800000000000003,0.48899999999999999,0.42299999999999999,0,0,0,0,0,0]
["Global West",0,0,0,0,0,0,0,0,0,0,0,0,0,0,0,0,0,0,0,0.501,0.26500000000000001,1.083,0.72299999999999998,3.0640000000000001,3.6640000000000001,2.121,2.415,3.6619999999999999,3.4159999999999999,8.6890000000000001,3.5190000000000001,8.6219999999999999,7.47,9.1560000000000006,8.0440000000000005,15.907999999999999,11.086,12.691000000000001,11.670999999999999,13.673,15.747999999999999,16.745999999999999,18.907,21.829000000000001,25.693999999999999,24.812999999999999,16.597000000000001,25.815000000000001,23.716999999999999,24.759,20.488,21.056999999999999,15.724,9.9329999999999998,7.9850000000000003,4.742,3.5569999999999999,2.403,0.26700000000000002,0.40200000000000002,0,0,0,0,0,0]
["Global Nord",0,0,0,0,0,0,0,0,0,0,0,0,0,0,0,0,0,0,0,0,0,0,0,1.1679999999999999,0.38400000000000001,0,0.15,0,0,0,0,0,0.158,0.51300000000000001,0.32300000000000001,0.315,0.47099999999999997,0.48799999999999999,1.177,1.0469999999999999,2.2610000000000001,2.3199999999999998,2.39,1.7869999999999999,3.8029999999999999,4.2489999999999997,2.8260000000000001,3.5129999999999999,2.198,1.861,2.5059999999999998,2.2170000000000001,1.58,0.78600000000000003,0.95099999999999996,0.154,0.16500000000000001,0,0.158,0.153,0,0,0,0,0,0]
[]
["Station","PAY"]
["Payerne"]
["Bintemperatur",-25,-24,-23,-22,-21,-20,-19,-18,-17,-16,-15,-14,-13,-12,-11,-10,-9,-8,-7,-6,-5,-4,-3,-2,-1,0,1,2,3,4,5,6,7,8,9,10,11,12,13,14,15,16,17,18,19,20,21,22,23,24,25,26,27,28,29,30,31,32,33,34,35,36,37,38,39,40]
["Stunden (Ta Stundewerte)",0,0,0,0,0,0,0,0,0,0,0,0,5,3,3,6,18,17,41,56,56,96,117,169,311,323,334,350,379,397,356,395,386,348,328,409,355,351,324,354,317,312,268,259,238,216,162,171,129,130,93,71,34,25,24,11,8,5,0,0,0,0,0,0,0,0]
["Stunden (Ta Tagesmittel)",0,0,0,0,0,0,0,0,0,0,0,0,0,0,0,0,24,24,24,48,0,120,96,192,168,456,408,336,408,264,312,384,408,408,264,264,408,528,456,288,384,120,288,336,552,240,264,192,96,0,0,0,0,0,0,0,0,0,0,0,0,0,0,0,0,0]
["Global Horiz.",0,0,0,0,0,0,0,0,0,0,0,0,0,0,0,0,0,0,0.68300000000000005,2.0529999999999999,1.927,1.88,5.6980000000000004,6.976,5.7080000000000002,7.0369999999999999,9.7110000000000003,11.318,17.443999999999999,12.935,16.460999999999999,19.105,22.047000000000001,24.564,27,36.671999999999997,35.954999999999998,31.943000000000001,42.28,47.728000000000002,48.061999999999998,58.841999999999999,50.654000000000003,57.093000000000004,62.988999999999997,61.325000000000003,50.619,60.902000000000001,55.223999999999997,61.369,50.054000000000002,35.274999999999999,18.739999999999998,12.943,11.879,5.5490000000000004,4.7030000000000003,2.2909999999999999,0,0,0,0,0,0,0,0]
["Global Ost",0,0,0,0,0,0,0,0,0,0,0,0,0,0,0,0,0,0,0.94299999999999995,0.96399999999999997,1.9810000000000001,2.2989999999999999,5.8449999999999998,6.6760000000000002,6.4329999999999998,5.9359999999999999,7.6859999999999999,5.3840000000000003,7.8819999999999997,10.778,11.577999999999999,13.605,16.914000000000001,20.318000000000001,14.827999999999999,25.114000000000001,20.501999999999999,19.143000000000001,32.378999999999998,23.062000000000001,30.721,25.792000000000002,23.454000000000001,27.155000000000001,27.521000000000001,26.664000000000001,19.835000000000001,23.074999999999999,15.589,12.305,12.034000000000001,4.9530000000000003,2.79,1.0149999999999999,1.0760000000000001,0.151,0.313,0,0,0,0,0,0,0,0,0]
["Global Süd",0,0,0,0,0,0,0,0,0,0,0,0,0,0,0,0,0,0,1.1970000000000001,3.8940000000000001,3.5390000000000001,3.762,11.739000000000001,14.537000000000001,11.151,12.002000000000001,13.93,17.963000000000001,28.641999999999999,17.015999999999998,16.472999999999999,17.048999999999999,21.122,23.164999999999999,23.332000000000001,33.043999999999997,29.963000000000001,28.523,28.733000000000001,35.933,29.664000000000001,38.457999999999998,33.322000000000003,34.215000000000003,37.567,31.43,27.925999999999998,33.155999999999999,30.125,31.4,27.228999999999999,18.524000000000001,10.429,6.81,6.3920000000000003,2.661,2.359,0.80900000000000005,0,0,0,0,0,0,0,0]
["Global West",0,0,0,0,0,0,0,0,0,0,0,0,0,0,0,0,0,0,0,1.8720000000000001,1.0009999999999999,0.96599999999999997,3.5129999999999999,3.831,3.665,3.5369999999999999,2.9009999999999998,4.3,10.839,5.3120000000000003,6.5570000000000004,10.297000000000001,4.6710000000000003,11.407999999999999,10.416,15.909000000000001,13.920999999999999,13.625,9.2870000000000008,17.61,16.800999999999998,26.954999999999998,24.512,28.841000000000001,28.635999999999999,29.504999999999999,24.050999999999998,24.79,28.792000000000002,38.935000000000002,28.913,24.356000000000002,13.465,10.364000000000001,9.9700000000000006,5.2510000000000003,4.2140000000000004,2.67,0,0,0,0,0,0,0,0]
["Global Nord",0,0,0,0,0,0,0,0,0,0,0,0,0,0,0,0,0,0,0,0.39100000000000001,0,0.16800000000000001,0.56299999999999994,0.7,0.16600000000000001,0.32600000000000001,0.36399999999999999,0.54700000000000004,0.79400000000000004,0.32700000000000001,0.79,0.79300000000000004,1.194,1.748,1.0009999999999999,1.391,2.512,0.80900000000000005,2.444,2.69,3.0489999999999999,4.798,3.29,3.52,4.2270000000000003,4.383,4.2370000000000001,5.8070000000000004,4.867,4.992,6.0229999999999997,3.0760000000000001,1.6020000000000001,0.84699999999999998,1.014,0.151,0.317,0,0,0,0,0,0,0,0,0]
[]
["Station","ROB"]
["Robbia"]
["Bintemperatur",-25,-24,-23,-22,-21,-20,-19,-18,-17,-16,-15,-14,-13,-12,-11,-10,-9,-8,-7,-6,-5,-4,-3,-2,-1,0,1,2,3,4,5,6,7,8,9,10,11,12,13,14,15,16,17,18,19,20,21,22,23,24,25,26,27,28,29,30,31,32,33,34,35,36,37,38,39,40]
["Stunden (Ta Stundewerte)",0,0,0,0,0,0,0,0,2,3,9,7,5,20,19,36,40,50,67,112,135,210,264,292,342,353,396,359,342,376,338,325,351,382,362,443,497,422,325,341,288,276,180,162,145,105,101,67,75,66,37,21,11,1,0,0,0,0,0,0,0,0,0,0,0,0]
["Stunden (Ta Tagesmittel)",0,0,0,0,0,0,0,0,0,0,0,0,0,24,0,24,0,24,72,192,96,168,144,336,264,336,576,504,144,312,288,384,360,480,456,504,432,528,336,480,168,384,408,192,120,24,0,0,0,0,0,0,0,0,0,0,0,0,0,0,0,0,0,0,0,0]
["Global Horiz.",0,0,0,0,0,0,0,0,0,0,0,0.19600000000000001,0,0.20100000000000001,0,0.39600000000000002,0,1.0429999999999999,0.86099999999999999,2.91,3.8580000000000001,3.407,6.8730000000000002,6.8109999999999999,8.0459999999999994,12.318,12.391999999999999,19.13,23.349,20.218,22.853999999999999,17.41,28.545000000000002,27.387,34.698,48.68,53.786999999999999,53.295999999999999,42.113999999999997,54.648000000000003,64.06,71.962999999999994,53.792999999999999,60.780999999999999,60.231000000000002,46.064,52.634999999999998,39.07,45.987000000000002,43.566000000000003,25.67,15.175000000000001,8.5389999999999997,0.70899999999999996,0,0,0,0,0,0,0,0,0,0,0,0]
["Global Ost",0,0,0,0,0,0,0,0,0,0,0,0.308,0,0.377,0,0.55100000000000005,0,1.5609999999999999,0.72399999999999998,2.5190000000000001,3.8109999999999999,3.0059999999999998,5.383,5.2649999999999997,5.3029999999999999,8.8190000000000008,10.372,12.036,14.48,11.288,10.693,7.4039999999999999,13.823,11.49,13.38,16.765000000000001,19.39,17.489000000000001,17.77,21.664999999999999,18.995000000000001,26.721,18.617999999999999,19.923999999999999,18.919,17.280999999999999,18.998000000000001,9.9890000000000008,8.9260000000000002,8.0739999999999998,2.9319999999999999,1.32,0.34899999999999998,0,0,0,0,0,0,0,0,0,0,0,0,0]
["Global Süd",0,0,0,0,0,0,0,0,0,0,0,0.37,0,0.46200000000000002,0,0.97899999999999998,0,2.1070000000000002,0.98699999999999999,4.7610000000000001,8.2110000000000003,7.085,13.151999999999999,12.44,14.904999999999999,20.050999999999998,20.257999999999999,29.454999999999998,39.637999999999998,31.62,34.634999999999998,19.815999999999999,33.043999999999997,29.501000000000001,32.076000000000001,43.555,46.302,43.265000000000001,29.254000000000001,37.177999999999997,41.945999999999998,47.573999999999998,32.588999999999999,36.195,34.372999999999998,25.158999999999999,29.199000000000002,20.201000000000001,24.045999999999999,24.058,14.65,8.9700000000000006,4.7779999999999996,0.504,0,0,0,0,0,0,0,0,0,0,0,0]
["Global West",0,0,0,0,0,0,0,0,0,0,0,0,0,0,0,0.26800000000000002,0,0.72799999999999998,0.16200000000000001,1.7609999999999999,3.3849999999999998,2.88,5.66,4.3760000000000003,4.3440000000000003,6.4859999999999998,7.0309999999999997,10.363,12.978999999999999,10.146000000000001,11.976000000000001,6.9089999999999998,7.827,8.8330000000000002,10.647,12.148,13.433999999999999,16.873999999999999,9.0760000000000005,10.295,17.562999999999999,22.978000000000002,17.393999999999998,14.186999999999999,22.241,13.364000000000001,13.053000000000001,13.704000000000001,19.088000000000001,19.186,12.638,8.5660000000000007,5.0880000000000001,0.47399999999999998,0,0,0,0,0,0,0,0,0,0,0,0]
["Global Nord",0,0,0,0,0,0,0,0,0,0,0,0,0,0,0,0.26600000000000001,0,0.72299999999999998,0.161,1.714,2.544,1.8859999999999999,3.1389999999999998,3.03,2.23,2.9929999999999999,4.5670000000000002,4.9630000000000001,6.7830000000000004,4.1820000000000004,4.9189999999999996,2.0190000000000001,1.8,1.5249999999999999,1.153,0,0.70399999999999996,0.46500000000000002,0,0.15,0.308,0.50700000000000001,0.61099999999999999,0.46300000000000002,0.95899999999999996,0.46,0.78,0.77100000000000002,0.78300000000000003,0.61399999999999999,0.625,0.154,0,0,0,0,0,0,0,0,0,0,0,0,0,0]
[]
["Station","SAM"]
["Samedan"]
["Bintemperatur",-25,-24,-23,-22,-21,-20,-19,-18,-17,-16,-15,-14,-13,-12,-11,-10,-9,-8,-7,-6,-5,-4,-3,-2,-1,0,1,2,3,4,5,6,7,8,9,10,11,12,13,14,15,16,17,18,19,20,21,22,23,24,25,26,27,28,29,30,31,32,33,34,35,36,37,38,39,40]
["Stunden (Ta Stundewerte)",16,18,37,39,39,31,29,40,49,53,75,116,101,111,127,145,158,187,176,186,263,281,327,327,379,331,405,386,335,316,358,381,387,336,315,325,227,212,193,189,124,125,85,98,84,84,51,45,24,6,1,0,0,0,0,0,0,0,0,0,0,0,0,0,0,0]
["Stunden (Ta Tagesmittel)",0,0,0,0,72,0,48,0,24,96,96,48,144,120,96,192,216,192,96,240,192,264,192,504,456,456,360,240,216,408,384,456,360,480,384,288,336,264,408,216,96,120,0,0,0,0,0,0,0,0,0,0,0,0,0,0,0,0,0,0,0,0,0,0,0,0]
["Global Horiz.",0.47899999999999998,0,0.26200000000000001,1.0389999999999999,1.099,0.92200000000000004,0.57699999999999996,2.774,1.71,1.5529999999999999,1.675,4.6230000000000002,3.9209999999999998,3.63,8.2959999999999994,5.4749999999999996,8.5180000000000007,11.848000000000001,8.3469999999999995,14.077,16.256,18.193000000000001,24.597000000000001,20.23,29.481000000000002,25.835000000000001,28.437000000000001,43.954000000000001,39.674999999999997,29.974,37.93,53.728999999999999,57.314,52.171999999999997,58.198999999999998,52.866,57.35,55.661999999999999,59.372999999999998,72.721999999999994,48.398000000000003,55.093000000000004,38.396999999999998,49.741,47.828000000000003,51.493000000000002,31.87,32.284999999999997,18.603000000000002,4.8140000000000001,0.745,0,0,0,0,0,0,0,0,0,0,0,0,0,0,0]
["Global Ost",0.69599999999999995,0,0.46,1.2010000000000001,1.8009999999999999,1.4390000000000001,0.98299999999999998,3.88,2.2090000000000001,2.5249999999999999,1.782,6.6319999999999997,5.3719999999999999,4.3129999999999997,9.6020000000000003,5.7080000000000002,8.407,11.51,6.44,15.657,15.172000000000001,16.035,22.521999999999998,17.645,27.605,20.195,23.404,32.265000000000001,25.308,20.077999999999999,22.3,31.992000000000001,32.497999999999998,25.143999999999998,27.077000000000002,26.55,27.795999999999999,25.556999999999999,24.068000000000001,21.457999999999998,16.202000000000002,14.949,11.855,12.961,13.151999999999999,11.172000000000001,5.2160000000000002,3.7970000000000002,2.4049999999999998,0.20499999999999999,0,0,0,0,0,0,0,0,0,0,0,0,0,0,0,0]
["Global Süd",0.83699999999999997,0,0.625,1.849,1.978,2.3769999999999998,1.2969999999999999,6.3159999999999998,3.9660000000000002,3.5430000000000001,3.43,10.419,9.3019999999999996,8.8689999999999998,18.552,13.523999999999999,19.527999999999999,25.847000000000001,17.401,28.989000000000001,33.479999999999997,36.615000000000002,43.707000000000001,38.045000000000002,44.811,38.64,36.853999999999999,56.58,44.48,31.457000000000001,40.942,54.040999999999997,53.895000000000003,39.277000000000001,38.305999999999997,31.053999999999998,34.515999999999998,35.326999999999998,36.606999999999999,40.665999999999997,25.262,33.906999999999996,22.655999999999999,27.786000000000001,27.797999999999998,30.036999999999999,18.170000000000002,18.942,11.132999999999999,2.714,0.36099999999999999,0,0,0,0,0,0,0,0,0,0,0,0,0,0,0]
["Global West",0.19600000000000001,0,0.17399999999999999,0.436,0.45300000000000001,0.45600000000000002,0.375,1.5109999999999999,1.0589999999999999,0.98,1.405,2.1930000000000001,2.556,3.0329999999999999,5.9969999999999999,4.9189999999999996,6.7060000000000004,10.379,7.9710000000000001,12.993,14.135,17.571999999999999,21.827999999999999,19.414999999999999,23.962,19.628,21.297000000000001,29.681000000000001,26.756,15.444000000000001,21.681000000000001,34.174999999999997,34.363999999999997,25.42,24.114000000000001,19.573,17.219000000000001,19.773,18.155000000000001,28.309000000000001,20.498000000000001,26.370999999999999,15.96,23.649000000000001,19.401,24.13,15.474,17.934000000000001,8.2929999999999993,2.7559999999999998,0.68400000000000005,0,0,0,0,0,0,0,0,0,0,0,0,0,0,0]
["Global Nord",0.19500000000000001,0,0.17199999999999999,0.43099999999999999,0.45,0.45,0.373,1.4810000000000001,1.038,0.96299999999999997,1.087,2.1589999999999998,2.0390000000000001,1.9670000000000001,4.4139999999999997,2.7250000000000001,4.6509999999999998,6.3310000000000004,4.24,6.35,8.1850000000000005,8.0359999999999996,11.757,9.26,11.641,10.173,12.361000000000001,15.09,13.209,9.0280000000000005,8.7080000000000002,12.113,11.997,9.0850000000000009,5.3940000000000001,1.984,3.0960000000000001,1.903,1.4470000000000001,4.3070000000000004,1.254,1.4059999999999999,0.93100000000000005,0.63500000000000001,1.732,1.399,1.129,0.47799999999999998,0.45700000000000002,0,0,0,0,0,0,0,0,0,0,0,0,0,0,0,0,0]
[]
["Station","SBE"]
["San Bernardino"]
["Bintemperatur",-25,-24,-23,-22,-21,-20,-19,-18,-17,-16,-15,-14,-13,-12,-11,-10,-9,-8,-7,-6,-5,-4,-3,-2,-1,0,1,2,3,4,5,6,7,8,9,10,11,12,13,14,15,16,17,18,19,20,21,22,23,24,25,26,27,28,29,30,31,32,33,34,35,36,37,38,39,40]
["Stunden (Ta Stundewerte)",0,0,0,0,0,0,0,0,0,4,10,17,38,57,71,90,94,169,201,239,270,321,413,398,418,365,362,371,372,380,417,337,385,382,346,368,349,298,264,225,199,166,130,85,64,49,26,10,0,0,0,0,0,0,0,0,0,0,0,0,0,0,0,0,0,0]
["Stunden (Ta Tagesmittel)",0,0,0,0,0,0,0,0,0,0,0,0,48,48,48,24,72,120,192,288,264,384,552,336,432,360,336,552,216,336,432,264,432,408,384,216,384,480,432,240,312,120,48,0,0,0,0,0,0,0,0,0,0,0,0,0,0,0,0,0,0,0,0,0,0,0]
["Global Horiz.",0,0,0,0,0,0,0,0,0,0,0,0,0.623,1.0980000000000001,5.0190000000000001,5.7859999999999996,1.0900000000000001,6.4379999999999997,9.8640000000000008,10.99,14.858000000000001,17.315000000000001,20.870999999999999,23.097000000000001,34.021000000000001,27.908000000000001,23.981999999999999,27.678999999999998,33.969000000000001,38.557000000000002,49.243000000000002,37.9,38.874000000000002,39.033000000000001,38.475999999999999,42.588000000000001,47.676000000000002,53.921999999999997,56.411999999999999,60.670999999999999,69.518000000000001,77.468999999999994,66.516999999999996,41.75,37.520000000000003,29.103999999999999,17.428000000000001,7.4240000000000004,0,0,0,0,0,0,0,0,0,0,0,0,0,0,0,0,0,0]
["Global Ost",0,0,0,0,0,0,0,0,0,0,0,0.501,1.766,2.1059999999999999,6.0019999999999998,6.0650000000000004,3.1280000000000001,9.0310000000000006,11.648,12.945,15.948,18.449000000000002,25.225999999999999,20.285,28.215,22.065000000000001,19.742000000000001,23.361000000000001,25.117999999999999,30.873999999999999,31.398,24.283000000000001,22.681999999999999,25.716999999999999,24.504000000000001,20.655999999999999,23.245999999999999,23.03,24.172000000000001,29.221,29.951000000000001,28.114000000000001,21.12,17.856000000000002,12.771000000000001,8.2910000000000004,3.5150000000000001,0.59399999999999997,0,0,0,0,0,0,0,0,0,0,0,0,0,0,0,0,0,0]
["Global Süd",0,0,0,0,0,0,0,0,0,0,0,0.44500000000000001,1.712,2.7389999999999999,10.047000000000001,12.2,2.7410000000000001,12.971,15.795999999999999,19.648,27.352,32.26,35.933,40.171999999999997,50.097000000000001,44.256999999999998,36.93,39.503,47.31,58.003999999999998,53.085000000000001,40.389000000000003,39.29,35.674999999999997,32.182000000000002,32.656999999999996,28.975000000000001,29.32,37.374000000000002,31.196000000000002,36.716000000000001,39.313000000000002,34.673999999999999,20.902999999999999,20.515999999999998,15.670999999999999,10.606,4.4429999999999996,0,0,0,0,0,0,0,0,0,0,0,0,0,0,0,0,0,0]
["Global West",0,0,0,0,0,0,0,0,0,0,0,0,0.41599999999999998,0.59799999999999998,4.1280000000000001,5.1669999999999998,0.61699999999999999,4.4020000000000001,7.3049999999999997,9.5960000000000001,11.388,11.608000000000001,13.237,16.585999999999999,23.021999999999998,19.266999999999999,15.375999999999999,16.553999999999998,21.702000000000002,21.568000000000001,22.062000000000001,18.489999999999998,13.62,10.055,7.5670000000000002,13.531000000000001,14.973000000000001,15.942,14.093,15.519,16.105,25.49,24.613,13.49,13.01,11.012,6.391,4.0940000000000003,0,0,0,0,0,0,0,0,0,0,0,0,0,0,0,0,0,0]
["Global Nord",0,0,0,0,0,0,0,0,0,0,0,0,0.39600000000000002,0.56999999999999995,3.0569999999999999,3.363,0.59,3.4590000000000001,5.3979999999999997,6.0359999999999996,7.6180000000000003,7.9450000000000003,9.5180000000000007,9.31,13.657999999999999,11.496,9.2409999999999997,9.3539999999999992,12.423999999999999,12.436999999999999,11.513999999999999,8.0299999999999994,6.6559999999999997,4.2510000000000003,3.7959999999999998,3.1579999999999999,1.1719999999999999,1.52,2.1389999999999998,2.3330000000000002,1.732,2.863,2.1739999999999999,1.4019999999999999,1.7130000000000001,1.2490000000000001,0.46200000000000002,0.318,0,0,0,0,0,0,0,0,0,0,0,0,0,0,0,0,0,0]
[]
["Station","STG"]
["St. Gallen"]
["Bintemperatur",-25,-24,-23,-22,-21,-20,-19,-18,-17,-16,-15,-14,-13,-12,-11,-10,-9,-8,-7,-6,-5,-4,-3,-2,-1,0,1,2,3,4,5,6,7,8,9,10,11,12,13,14,15,16,17,18,19,20,21,22,23,24,25,26,27,28,29,30,31,32,33,34,35,36,37,38,39,40]
["Stunden (Ta Stundewerte)",0,0,0,0,0,0,0,0,0,0,0,0,5,10,31,25,30,47,37,46,98,155,175,283,322,306,419,431,318,344,374,355,353,288,357,345,379,364,395,406,352,300,282,242,229,158,121,108,84,65,46,34,15,17,3,6,0,0,0,0,0,0,0,0,0,0]
["Stunden (Ta Tagesmittel)",0,0,0,0,0,0,0,0,0,0,0,0,0,0,48,0,24,72,48,24,96,48,264,288,240,360,408,360,360,384,480,408,216,264,312,432,408,240,408,552,312,528,264,168,168,144,216,72,48,48,24,24,0,0,0,0,0,0,0,0,0,0,0,0,0,0]
["Global Horiz.",0,0,0,0,0,0,0,0,0,0,0,0,0.248,0.56599999999999995,2.1110000000000002,1.2569999999999999,1.512,0.95499999999999996,3.7549999999999999,4.7670000000000003,2.347,3.3610000000000002,4.8220000000000001,6.8,8.6720000000000006,10.217000000000001,15.9,15.31,15.401999999999999,22.963999999999999,16.495000000000001,23.675000000000001,25.05,25.722000000000001,24.74,22.213999999999999,33.238,35.667000000000002,47.598999999999997,51.904000000000003,46.149000000000001,47.292999999999999,61.070999999999998,59.911999999999999,62.329000000000001,45.795000000000002,47.756,40.231000000000002,33.487000000000002,26.77,24.314,17.433,8.6920000000000002,9.4710000000000001,1.802,3.4020000000000001,0,0,0,0,0,0,0,0,0,0]
["Global Ost",0,0,0,0,0,0,0,0,0,0,0,0,0.45700000000000002,0.82799999999999996,1.3009999999999999,1.121,1.609,1.0589999999999999,3.6549999999999998,2.5369999999999999,1.5249999999999999,3.7789999999999999,2.6920000000000002,4.9880000000000004,7.1159999999999997,6.36,11.151999999999999,13.601000000000001,8.6769999999999996,12.708,10.625999999999999,13.516,12.395,12.53,10.159000000000001,14.01,15.625,17.858000000000001,27.045999999999999,28.452999999999999,27.43,25.597000000000001,23.071000000000002,21.515999999999998,17.483000000000001,19.552,19.667000000000002,15.939,10.090999999999999,7.8449999999999998,4.0970000000000004,4.2309999999999999,1.4239999999999999,1.508,0.16800000000000001,0.3,0,0,0,0,0,0,0,0,0,0]
["Global Süd",0,0,0,0,0,0,0,0,0,0,0,0,0.59199999999999997,1.399,4.4729999999999999,2.87,3.5880000000000001,2.012,7.3040000000000003,9.8209999999999997,5.7750000000000004,7.7149999999999999,10.618,13.292999999999999,16.57,14.417999999999999,21.262,22.806000000000001,22.71,30.218,17.062999999999999,25.334,25.257999999999999,27.847000000000001,20.059000000000001,15.69,28.74,22.681999999999999,29.908000000000001,32.414999999999999,27.783999999999999,26.21,36.793999999999997,33.069000000000003,34.142000000000003,22.492999999999999,24.097999999999999,19.763000000000002,18.536000000000001,14.510999999999999,13.118,8.4949999999999992,4.5670000000000002,4.8490000000000002,1.0629999999999999,2.1379999999999999,0,0,0,0,0,0,0,0,0,0]
["Global West",0,0,0,0,0,0,0,0,0,0,0,0,0,0,0.877,1.109,1.018,0.16900000000000001,1.87,4.516,2.129,1.08,2.5019999999999998,2.9009999999999998,6.6180000000000003,5.0919999999999996,9.8119999999999994,9.4779999999999998,8.843,14.292999999999999,5.4509999999999996,9.5869999999999997,11.071,15.494,15.808,7.4020000000000001,15.484999999999999,18.239000000000001,19.847000000000001,18.361999999999998,12.23,14.351000000000001,29.286999999999999,30.602,43.674999999999997,27.942,26.513999999999999,25.306000000000001,14.71,14.651999999999999,16.411999999999999,12.581,7.0019999999999998,7.5609999999999999,1.165,3.073,0,0,0,0,0,0,0,0,0,0]
["Global Nord",0,0,0,0,0,0,0,0,0,0,0,0,0,0,0.158,0,0,0.16400000000000001,1.2909999999999999,1.0840000000000001,0.34599999999999997,0.16400000000000001,0.33400000000000002,1.0900000000000001,1.141,2.1080000000000001,2.4340000000000002,2.4489999999999998,2.331,3.823,2.0790000000000002,3.6789999999999998,2.8450000000000002,3.601,2.3130000000000002,2.0720000000000001,2.4089999999999998,4.4249999999999998,3.8370000000000002,4.7439999999999998,2.7730000000000001,4.83,4.5359999999999996,5.7430000000000003,4.3639999999999999,3.2789999999999999,2.4279999999999999,4.4989999999999997,1.579,1.911,0.91300000000000003,0.16,0.32800000000000001,0,0.16200000000000001,0.30599999999999999,0,0,0,0,0,0,0,0,0,0]
[]
["Station","SHA"]
["Schaffhausen"]
["Bintemperatur",-25,-24,-23,-22,-21,-20,-19,-18,-17,-16,-15,-14,-13,-12,-11,-10,-9,-8,-7,-6,-5,-4,-3,-2,-1,0,1,2,3,4,5,6,7,8,9,10,11,12,13,14,15,16,17,18,19,20,21,22,23,24,25,26,27,28,29,30,31,32,33,34,35,36,37,38,39,40]
["Stunden (Ta Stundewerte)",0,0,0,0,0,0,0,0,0,0,0,0,0,4,14,15,22,21,30,64,53,48,100,146,249,279,368,426,419,451,339,384,381,329,330,344,385,342,299,343,380,311,335,298,224,197,184,126,123,115,84,63,42,22,21,10,19,13,3,4,1,0,0,0,0,0]
["Stunden (Ta Tagesmittel)",0,0,0,0,0,0,0,0,0,0,0,0,0,0,0,0,48,24,0,96,24,96,72,48,216,288,360,360,552,552,360,336,384,312,216,288,336,384,408,480,360,336,240,312,456,312,168,120,96,96,0,24,0,0,0,0,0,0,0,0,0,0,0,0,0,0]
["Global Horiz.",0,0,0,0,0,0,0,0,0,0,0,0,0,0,0,0,0,1.0880000000000001,1.0409999999999999,2.8860000000000001,1.863,1.903,3.2290000000000001,4.7930000000000001,3.2650000000000001,3.6869999999999998,7.7480000000000002,11.000999999999999,9.6199999999999992,18.350999999999999,17.065999999999999,23.023,23.588999999999999,25.085999999999999,23.757999999999999,22.893000000000001,25.977,28.346,28.384,37.042999999999999,45.372999999999998,47.314,44.01,49.973999999999997,58.847000000000001,57.185000000000002,68.88,49.921999999999997,49.451999999999998,54.12,39.682000000000002,30.24,22.510999999999999,11.436,9.6999999999999993,6.1870000000000003,10.523,7.3959999999999999,1.3440000000000001,2.355,0.64800000000000002,0,0,0,0,0]
["Global Ost",0,0,0,0,0,0,0,0,0,0,0,0,0,0,0,0.39200000000000002,0,1.242,0.79,2.5219999999999998,1.472,2.3570000000000002,3.9369999999999998,3.01,2.7330000000000001,4.3719999999999999,5.9240000000000004,9.8529999999999998,6.806,10.749000000000001,8.282,11.725,13.569000000000001,14.337999999999999,13.179,16.062000000000001,15.798999999999999,20.033999999999999,21.55,26.163,23.137,25.835999999999999,25.245000000000001,25.334,28.751000000000001,26.161000000000001,24.454000000000001,16.986999999999998,18.53,11.689,8.3510000000000009,6.3890000000000002,4.1660000000000004,1.87,1.5369999999999999,0.99099999999999999,1.383,0.89,0,0.156,0,0,0,0,0,0]
["Global Süd",0,0,0,0,0,0,0,0,0,0,0,0,0,0,0,0.34399999999999997,0,1.6859999999999999,2.39,6.6139999999999999,4.3949999999999996,3.871,5.8789999999999996,9.0990000000000002,6.0259999999999998,5.4560000000000004,9.8580000000000005,16.603999999999999,12.753,21.274000000000001,18.28,23.975000000000001,22.152999999999999,22.969000000000001,22.526,23.23,19.675999999999998,17.189,18.43,21.344999999999999,27.248999999999999,30.31,27.998999999999999,29.100999999999999,34.692,32.573,41.225999999999999,30.187000000000001,30.445,31.09,22.481999999999999,16.384,13.544,6.3239999999999998,5.4459999999999997,3.4889999999999999,5.2729999999999997,3.79,0.68100000000000005,1.175,0.34399999999999997,0,0,0,0,0]
["Global West",0,0,0,0,0,0,0,0,0,0,0,0,0,0,0,0,0,0,0.376,1.7130000000000001,1.802,0.22,0.76500000000000001,3.4950000000000001,1.1120000000000001,0.69799999999999995,2.56,2.68,2.9209999999999998,4.3570000000000002,7.2789999999999999,7.984,6.4390000000000001,7.7939999999999996,9.5079999999999991,7.4870000000000001,8.327,9.9329999999999998,5.1029999999999998,4.3970000000000002,11.359,15.587,11.922000000000001,16.263000000000002,20.091000000000001,22.550999999999998,36.673000000000002,25.106000000000002,19.536999999999999,32.350999999999999,23.175999999999998,17.189,14.555999999999999,5.4550000000000001,5.6769999999999996,3.6819999999999999,7.2910000000000004,5.375,1.7410000000000001,1.6020000000000001,0.54800000000000004,0,0,0,0,0]
["Global Nord",0,0,0,0,0,0,0,0,0,0,0,0,0,0,0,0,0,0,0,0,0,0.20399999999999999,0.25800000000000001,0,0,0,0.52400000000000002,0,0,0,0.47099999999999997,0.48199999999999998,1.327,0.30399999999999999,0.47499999999999998,0.629,1.7509999999999999,1.1970000000000001,0.97299999999999998,1.784,2.8919999999999999,2.4590000000000001,3.7570000000000001,2.097,4.766,4.851,5.4340000000000002,2.5750000000000002,4.7009999999999996,3.399,2.8519999999999999,3.1520000000000001,0.94599999999999995,0.97,0.65700000000000003,0.157,0.997,0.64800000000000002,0,0.155,0,0,0,0,0,0]
[]
["Station","SCU"]
["Scuol"]
["Bintemperatur",-25,-24,-23,-22,-21,-20,-19,-18,-17,-16,-15,-14,-13,-12,-11,-10,-9,-8,-7,-6,-5,-4,-3,-2,-1,0,1,2,3,4,5,6,7,8,9,10,11,12,13,14,15,16,17,18,19,20,21,22,23,24,25,26,27,28,29,30,31,32,33,34,35,36,37,38,39,40]
["Stunden (Ta Stundewerte)",0,0,0,0,0,0,0,0,4,13,21,45,35,38,63,70,100,122,128,150,279,262,265,312,347,402,449,345,315,317,288,348,374,336,346,377,374,365,309,251,221,191,139,148,110,92,71,72,71,55,51,40,28,19,2,0,0,0,0,0,0,0,0,0,0,0]
["Stunden (Ta Tagesmittel)",0,0,0,0,0,0,0,0,0,0,0,24,24,48,48,0,264,48,120,144,240,240,360,240,168,600,384,360,336,192,312,408,264,552,336,360,288,504,384,192,480,120,264,312,96,48,0,0,0,0,0,0,0,0,0,0,0,0,0,0,0,0,0,0,0,0]
["Global Horiz.",0,0,0,0,0,0,0,0,0,0.18,0,0.81100000000000005,0.59499999999999997,1.621,2.3889999999999998,3.3050000000000002,2.6840000000000002,6.4870000000000001,5.7919999999999998,5.2460000000000004,13.137,7.6390000000000002,15.093,12.782,18.731999999999999,16.850000000000001,25.164000000000001,21.184000000000001,31.911999999999999,27.652000000000001,33.209000000000003,25.931999999999999,31.681999999999999,40.603999999999999,40.640999999999998,45.878,47.104999999999997,64.558000000000007,53.139000000000003,60.027000000000001,58.640999999999998,49.515999999999998,49.616999999999997,53.103000000000002,52.186,38.368000000000002,37.284999999999997,38.738999999999997,37.945,32.110999999999997,33.182000000000002,26.132000000000001,17.733000000000001,14.012,1.099,0,0,0,0,0,0,0,0,0,0,0]
["Global Ost",0,0,0,0,0,0,0,0,0,0.29499999999999998,0,1.3380000000000001,0.73699999999999999,2.4790000000000001,2.3690000000000002,2.673,3.1539999999999999,5.577,4.3760000000000003,3.2429999999999999,9.7490000000000006,5.5309999999999997,11.316000000000001,9.0419999999999998,15.545999999999999,10.209,18.751999999999999,14.94,21.879000000000001,14.555,20.783999999999999,20.094999999999999,19.637,27.006,28.704999999999998,30.548999999999999,26.937999999999999,34.999000000000002,27.126999999999999,26.492000000000001,30.366,21.786999999999999,20.196999999999999,18.782,17.030999999999999,13.241,10.743,9.5609999999999999,7.8029999999999999,5.5579999999999998,5.532,2.7839999999999998,0.91300000000000003,0.67200000000000004,0,0,0,0,0,0,0,0,0,0,0,0]
["Global Süd",0,0,0,0,0,0,0,0,0,0.38900000000000001,0,1.796,0.90600000000000003,4.298,4.8719999999999999,8.2129999999999992,6.2610000000000001,13.305,12.353,10.898,26.795000000000002,13.76,27.687999999999999,21.151,30.17,26.713000000000001,39.878999999999998,30.631,42.993000000000002,35.078000000000003,34.130000000000003,26.492999999999999,28.881,39.040999999999997,29.812000000000001,31.46,29.812000000000001,42.715000000000003,30.241,37.340000000000003,33.405999999999999,24.475999999999999,26.695,31.463000000000001,29.815999999999999,24.297999999999998,20.282,21.782,21.074000000000002,18.966999999999999,18.795000000000002,14.298999999999999,9.7050000000000001,8.7420000000000009,0.70299999999999996,0,0,0,0,0,0,0,0,0,0,0]
["Global West",0,0,0,0,0,0,0,0,0,0,0,0.22800000000000001,0,0.87,0.83899999999999997,3.1829999999999998,1.3939999999999999,3.4249999999999998,3.2690000000000001,3.605,10.176,3.7090000000000001,9.5,5.2910000000000004,8.1050000000000004,9.3949999999999996,12.366,11.984,16.864000000000001,16.132000000000001,15.781000000000001,11.794,13.704000000000001,18.355,13.005000000000001,10.617000000000001,14.654,18.759,19.992999999999999,24.030999999999999,17.274999999999999,17.579000000000001,15.398999999999999,18.468,22.355,18.866,14.375,17.302,18.963000000000001,15.824999999999999,14.965999999999999,14.385999999999999,12.877000000000001,8.7560000000000002,1.363,0,0,0,0,0,0,0,0,0,0,0]
["Global Nord",0,0,0,0,0,0,0,0,0,0,0,0.23100000000000001,0,0.875,0.68799999999999994,1.538,1.1220000000000001,1.7330000000000001,1.2509999999999999,1.6759999999999999,3.5169999999999999,1.103,3.33,2.427,2.944,2.8780000000000001,6.1840000000000002,3.09,6.5510000000000002,4.6239999999999997,5.6859999999999999,4.4240000000000004,3.68,4.5880000000000001,2.7930000000000001,3.94,3.0409999999999999,2.7210000000000001,3.4049999999999998,1.5860000000000001,1.6319999999999999,1.147,1.6579999999999999,0.63,0.95099999999999996,1.0720000000000001,0.31,0.78500000000000003,0.626,0.92700000000000005,1.2430000000000001,0.47699999999999998,0.30499999999999999,0,0,0,0,0,0,0,0,0,0,0,0,0]
[]
["Station","SIO"]
["Sion"]
["Bintemperatur",-25,-24,-23,-22,-21,-20,-19,-18,-17,-16,-15,-14,-13,-12,-11,-10,-9,-8,-7,-6,-5,-4,-3,-2,-1,0,1,2,3,4,5,6,7,8,9,10,11,12,13,14,15,16,17,18,19,20,21,22,23,24,25,26,27,28,29,30,31,32,33,34,35,36,37,38,39,40]
["Stunden (Ta Stundewerte)",0,0,0,0,0,0,0,0,0,0,0,0,0,0,0,4,18,34,65,56,72,93,123,184,228,309,338,330,369,352,335,341,335,289,279,322,325,350,349,391,336,330,301,284,256,233,200,168,144,138,127,118,92,51,38,29,12,8,2,2,0,0,0,0,0,0]
["Stunden (Ta Tagesmittel)",0,0,0,0,0,0,0,0,0,0,0,0,0,0,0,0,0,24,0,48,120,96,96,144,192,288,360,288,432,336,360,288,312,360,360,336,312,192,360,552,312,384,408,336,192,288,480,216,96,168,24,0,0,0,0,0,0,0,0,0,0,0,0,0,0,0]
["Global Horiz.",0,0,0,0,0,0,0,0,0,0,0,0,0,0,0,0,0,0,0.16900000000000001,0.70799999999999996,0.32900000000000001,2.5750000000000002,4.157,5.4210000000000003,5.5179999999999998,6.2569999999999997,9.8070000000000004,12.304,10.3,14.417999999999999,17.956,19.77,29.69,26.824000000000002,29.44,34.57,33.076000000000001,46.189,39.951000000000001,49.69,53.079000000000001,53.165999999999997,61.725000000000001,55.22,66.349999999999994,65.893000000000001,65.156000000000006,59.414999999999999,62.895000000000003,66.424999999999997,62.686,62.823,51.453000000000003,24.984999999999999,23.576000000000001,19.033000000000001,6.2859999999999996,5.0190000000000001,1.4910000000000001,1.141,0,0,0,0,0,0]
["Global Ost",0,0,0,0,0,0,0,0,0,0,0,0,0,0,0,0,0,0,0,0.16700000000000001,0.33100000000000002,1.5920000000000001,2.0529999999999999,1.8160000000000001,2.6480000000000001,2.5739999999999998,5.0730000000000004,4.1109999999999998,7.2350000000000003,11.09,9.8369999999999997,8.1110000000000007,17.507000000000001,13.247,17.763999999999999,22.370999999999999,20.803000000000001,27.076000000000001,20.581,30.608000000000001,27.234999999999999,28.132999999999999,33.518000000000001,30.056000000000001,31.073,30.564,28.047000000000001,26.481999999999999,22.599,18.741,12.086,10.577,5.8719999999999999,2.6309999999999998,2.16,1.4970000000000001,0.36099999999999999,0.25700000000000001,0.17399999999999999,0,0,0,0,0,0,0]
["Global Süd",0,0,0,0,0,0,0,0,0,0,0,0,0,0,0,0,0,0,0,0.78900000000000003,0.24399999999999999,4.0010000000000003,8.4659999999999993,11.276999999999999,10.318,11.743,16.544,19.442,16.100999999999999,20.513999999999999,27.123000000000001,29.210999999999999,35.268000000000001,27.663,29.215,30.696000000000002,31.381,40.820999999999998,34.357999999999997,37.030999999999999,41.01,36.723999999999997,41.415999999999997,33.106999999999999,39.262,38.932000000000002,37.442,31.966999999999999,34.715000000000003,36.679000000000002,34.805999999999997,34.475000000000001,28.663,12.488,11.260999999999999,9.4789999999999992,2.9390000000000001,2.5870000000000002,0.96,0.71899999999999997,0,0,0,0,0,0]
["Global West",0,0,0,0,0,0,0,0,0,0,0,0,0,0,0,0,0,0,0,0,0,0.19400000000000001,1.5,3.125,2.7149999999999999,2.903,5.298,6.96,2.2229999999999999,3.161,6.1130000000000004,9.2110000000000003,11.932,8.49,9.3640000000000008,8.6869999999999994,13.734,16.902999999999999,18.829000000000001,15.531000000000001,20.538,18.027000000000001,17.943999999999999,16.850999999999999,25.42,24.824999999999999,26.503,22.036000000000001,25.222999999999999,30.614999999999998,32.933,37.375,30.597000000000001,16.526,14.936999999999999,12.363,4.9909999999999997,3.7490000000000001,0.71899999999999997,1.3160000000000001,0,0,0,0,0,0]
["Global Nord",0,0,0,0,0,0,0,0,0,0,0,0,0,0,0,0,0,0,0,0,0,0,0,0,0.158,0,0.158,0.67700000000000005,0.32100000000000001,0,0.158,0,0.36099999999999999,0,0.36799999999999999,0.311,0.85299999999999998,1.2050000000000001,1.335,1.6379999999999999,1.175,2.1280000000000001,1.6379999999999999,1.9690000000000001,1.3180000000000001,1.732,1.4239999999999999,2.5790000000000002,3.1930000000000001,2.2080000000000002,1.4750000000000001,1.9630000000000001,1.534,0.47699999999999998,0.32,0.63800000000000001,0.46400000000000002,0.307,0.16400000000000001,0,0,0,0,0,0,0]
[]
["Station","VAD"]
["Vaduz"]
["Bintemperatur",-25,-24,-23,-22,-21,-20,-19,-18,-17,-16,-15,-14,-13,-12,-11,-10,-9,-8,-7,-6,-5,-4,-3,-2,-1,0,1,2,3,4,5,6,7,8,9,10,11,12,13,14,15,16,17,18,19,20,21,22,23,24,25,26,27,28,29,30,31,32,33,34,35,36,37,38,39,40]
["Stunden (Ta Stundewerte)",0,0,0,0,0,0,0,0,0,0,0,0,4,4,11,23,30,35,59,64,64,144,129,155,199,197,342,352,373,408,359,349,373,386,369,324,366,356,307,305,325,335,306,290,253,223,187,155,119,119,83,85,74,51,28,19,15,6,0,0,0,0,0,0,0,0]
["Stunden (Ta Tagesmittel)",0,0,0,0,0,0,0,0,0,0,0,0,0,0,0,24,0,0,48,120,96,96,216,120,192,144,192,432,456,336,360,408,528,312,288,336,456,288,336,336,168,432,360,288,408,168,288,168,120,48,96,72,0,24,0,0,0,0,0,0,0,0,0,0,0,0]
["Global Horiz.",0,0,0,0,0,0,0,0,0,0,0,0,0,0,0,0.32800000000000001,0.315,0.47899999999999998,2.7850000000000001,2.8330000000000002,3.4260000000000002,4.2640000000000002,5.0510000000000002,7.66,6.83,4.9089999999999998,5.8109999999999999,7.7969999999999997,9.7759999999999998,12.596,16.646999999999998,20.475000000000001,21.771999999999998,24.93,28.812000000000001,25.946999999999999,34.454000000000001,26.527999999999999,33.442999999999998,30.797000000000001,39.691000000000003,35.061,49.046999999999997,50.834000000000003,53.454000000000001,52.487000000000002,50.247999999999998,57.917999999999999,39.134,46.969000000000001,37.465000000000003,42.597999999999999,36.143000000000001,24.635999999999999,13.1,9.51,8.843,3.988,0,0,0,0,0,0,0,0]
["Global Ost",0,0,0,0,0,0,0,0,0,0,0,0,0,0,0,0.57899999999999996,0.45500000000000002,0.77800000000000002,3.1339999999999999,2.9,3.8889999999999998,3.589,4.391,5.1470000000000002,4.5149999999999997,2.0329999999999999,3.1930000000000001,3.1520000000000001,5.4470000000000001,4.5919999999999996,6.9089999999999998,8.0980000000000008,9.4480000000000004,8.3970000000000002,14.356,11.598000000000001,15.154999999999999,9.4339999999999993,13.749000000000001,13.834,17.238,15.199,19.367000000000001,19.791,18.100000000000001,22.334,14.593999999999999,18.425999999999998,14.869,14.624000000000001,7.1779999999999999,9.3130000000000006,5.1849999999999996,3.0219999999999998,2.2370000000000001,1.262,0.97,0,0,0,0,0,0,0,0,0]
["Global Süd",0,0,0,0,0,0,0,0,0,0,0,0,0,0,0,0.59699999999999998,0.85599999999999998,1.1910000000000001,7.6210000000000004,7.5670000000000002,7.8079999999999998,10.324,11.295999999999999,15.477,13.002000000000001,9.3650000000000002,9.2140000000000004,11.071,11.127000000000001,15.292999999999999,19.359000000000002,23.67,22.741,23.536999999999999,27.856000000000002,25.594999999999999,30.041,24.742999999999999,25.654,22.356000000000002,30.515999999999998,22.786000000000001,30.532,29.556000000000001,33.514000000000003,28.631,26.949000000000002,33.250999999999998,21.364999999999998,25.221,19.725999999999999,22.686,18.646000000000001,12.791,6.9390000000000001,4.8689999999999998,4.5190000000000001,2.54,0,0,0,0,0,0,0,0]
["Global West",0,0,0,0,0,0,0,0,0,0,0,0,0,0,0,0,0.193,0,2.5779999999999998,2.544,2.0369999999999999,3.4990000000000001,3.7570000000000001,6.774,4.7590000000000003,2.7429999999999999,3.9449999999999998,4.8929999999999998,2.2170000000000001,4.0570000000000004,6.758,8.1289999999999996,7.9660000000000002,8.9359999999999999,8.7140000000000004,5.8680000000000003,9.4640000000000004,8.66,12.907,8.6739999999999995,11.411,7.8140000000000001,17.492999999999999,13.864000000000001,19.863,18.965,20.997,26.035,15.693,20.45,19.088999999999999,23.193000000000001,20.533999999999999,14.148,7.37,6.4219999999999997,5.194,2.8540000000000001,0,0,0,0,0,0,0,0]
["Global Nord",0,0,0,0,0,0,0,0,0,0,0,0,0,0,0,0,0.193,0,1.585,1.4079999999999999,1.7090000000000001,1.732,1.8959999999999999,3.133,2.1539999999999999,0.60699999999999998,0.97599999999999998,1.2210000000000001,0.69,1.258,1.02,0.67500000000000004,0.83399999999999996,0,0.871,0.39200000000000002,0.151,0.47099999999999997,0.30399999999999999,0.16500000000000001,0.8,0.48599999999999999,1.0660000000000001,0.79,1.109,1.0680000000000001,2.1269999999999998,1.778,1.9330000000000001,1.083,1.6040000000000001,1.448,1.256,0.78900000000000003,0.16300000000000001,0.153,0.496,0,0,0,0,0,0,0,0,0]
[]
["Station","WYN"]
["Wynau"]
["Bintemperatur",-25,-24,-23,-22,-21,-20,-19,-18,-17,-16,-15,-14,-13,-12,-11,-10,-9,-8,-7,-6,-5,-4,-3,-2,-1,0,1,2,3,4,5,6,7,8,9,10,11,12,13,14,15,16,17,18,19,20,21,22,23,24,25,26,27,28,29,30,31,32,33,34,35,36,37,38,39,40]
["Stunden (Ta Stundewerte)",0,0,0,0,0,0,0,0,0,0,0,4,9,11,11,15,23,26,29,34,56,83,129,230,234,315,357,414,431,494,399,315,317,256,327,369,371,367,361,374,328,322,331,256,209,187,144,111,121,111,104,65,34,23,21,13,11,5,1,2,0,0,0,0,0,0]
["Stunden (Ta Tagesmittel)",0,0,0,0,0,0,0,0,0,0,0,0,0,0,0,24,48,24,0,72,48,24,96,144,264,288,360,552,408,528,336,336,312,240,264,480,264,528,240,384,264,456,312,360,432,312,168,144,24,0,24,0,0,0,0,0,0,0,0,0,0,0,0,0,0,0]
["Global Horiz.",0,0,0,0,0,0,0,0,0,0,0,0,0,0.16200000000000001,0.249,0.48499999999999999,0,1.5940000000000001,1.109,0.871,2.6640000000000001,2.2869999999999999,4.6529999999999996,3.2109999999999999,5.0490000000000004,3.806,7.0919999999999996,8.4019999999999992,9.782,12.814,14.853999999999999,14.702999999999999,23.536000000000001,21.884,21.704000000000001,32.027000000000001,25.361000000000001,31.751999999999999,41.34,36.923000000000002,46.149000000000001,42.292000000000002,45.396999999999998,54.097000000000001,50.508000000000003,58.207999999999998,57.137999999999998,46.107999999999997,50.817999999999998,55.387,50.119,34.561999999999998,20.702000000000002,11.067,12.513,7.9669999999999996,6.1920000000000002,2.8210000000000002,0.746,1.0669999999999999,0,0,0,0,0,0]
["Global Ost",0,0,0,0,0,0,0,0,0,0,0,0,0,0.32300000000000001,0.315,0.59899999999999998,0,1.855,0.56599999999999995,1.56,2.7930000000000001,2.645,4.0469999999999997,1.6539999999999999,4.0090000000000003,2.681,6.6950000000000003,2.2080000000000002,6.4619999999999997,9.1120000000000001,7.7640000000000002,8.1150000000000002,13.712999999999999,11.242000000000001,10.787000000000001,20.701000000000001,13.356999999999999,17.245000000000001,26.024000000000001,19.385000000000002,25.96,21.513000000000002,23.349,23.684000000000001,24.847000000000001,23.542000000000002,23.4,17.826000000000001,15.566000000000001,12.584,7.9219999999999997,4.8920000000000003,2.9540000000000002,1.5149999999999999,1.321,0.89100000000000001,0.25900000000000001,0.17100000000000001,0.152,0,0,0,0,0,0,0]
["Global Süd",0,0,0,0,0,0,0,0,0,0,0,0,0,0.46400000000000002,0.71099999999999997,1.1100000000000001,0,3.6240000000000001,3.2280000000000002,2.1789999999999998,5.8970000000000002,4.8470000000000004,9.0419999999999998,5.1829999999999998,7.8369999999999997,6.3440000000000003,10.093,14.53,12.635,15.667999999999999,18.021999999999998,14.725,21.114999999999998,18.943999999999999,19.699000000000002,28.716000000000001,20.367000000000001,26.138000000000002,29.096,25.422000000000001,30.135000000000002,26.620999999999999,25.321999999999999,29.440999999999999,26.780999999999999,30.146999999999998,33.268000000000001,27.228999999999999,29.094999999999999,31.286999999999999,27.939,17.936,11.407999999999999,5.5839999999999996,7.06,4.0010000000000003,2.649,1.407,0.434,0.53400000000000003,0,0,0,0,0,0]
["Global West",0,0,0,0,0,0,0,0,0,0,0,0,0,0,0,0,0,1.093,2.2389999999999999,0.48199999999999998,1.92,1.25,2.5590000000000002,3.1429999999999998,1.7070000000000001,1.266,1.38,5.8780000000000001,4.1790000000000003,4.4560000000000004,6.423,4.6820000000000004,6.8150000000000004,8.9239999999999995,8.0399999999999991,13.705,12.436999999999999,11.087999999999999,13.993,14.124000000000001,18.067,16.512,18.231999999999999,20.917000000000002,21.817,22.111999999999998,27.853999999999999,19.332999999999998,27.963999999999999,31.523,36.902000000000001,23.175000000000001,13.217000000000001,8.7409999999999997,9.1929999999999996,6.19,5.7320000000000002,2.8340000000000001,0.42399999999999999,0.96499999999999997,0,0,0,0,0,0]
["Global Nord",0,0,0,0,0,0,0,0,0,0,0,0,0,0,0,0,0,0.50600000000000001,0.54600000000000004,0,0.75600000000000001,0.37,0.93600000000000005,0.17299999999999999,0,0.16,0.17199999999999999,0,0.19400000000000001,0,0.49099999999999999,0.315,0.45700000000000002,0.64700000000000002,0.49199999999999999,1.425,0.89800000000000002,1.38,2.2650000000000001,2.532,2.8149999999999999,3.76,2.415,3.9350000000000001,4.4169999999999998,4.5410000000000004,4.0350000000000001,4.5810000000000004,4.5910000000000002,4.7089999999999996,4.8689999999999998,2,1.754,1.173,0.79500000000000004,0.97099999999999997,0.49099999999999999,0.161,0.153,0,0,0,0,0,0,0]
[]
["Station","ZER"]
["Zermatt"]
["Bintemperatur",-25,-24,-23,-22,-21,-20,-19,-18,-17,-16,-15,-14,-13,-12,-11,-10,-9,-8,-7,-6,-5,-4,-3,-2,-1,0,1,2,3,4,5,6,7,8,9,10,11,12,13,14,15,16,17,18,19,20,21,22,23,24,25,26,27,28,29,30,31,32,33,34,35,36,37,38,39,40]
["Stunden (Ta Stundewerte)",0,0,0,0,0,0,0,1,10,9,26,24,36,64,51,82,92,106,129,210,268,304,368,392,520,399,416,388,361,358,345,331,346,353,396,337,308,281,248,212,194,159,151,117,92,104,60,54,23,23,8,1,2,1,0,0,0,0,0,0,0,0,0,0,0,0]
["Stunden (Ta Tagesmittel)",0,0,0,0,0,0,0,0,0,0,0,24,48,0,120,96,96,96,48,120,360,168,360,528,312,576,504,432,360,384,264,312,384,192,312,432,552,456,240,264,312,144,168,48,24,24,0,0,0,0,0,0,0,0,0,0,0,0,0,0,0,0,0,0,0,0]
["Global Horiz.",0,0,0,0,0,0,0,0,0,0,0,0,0.32200000000000001,1.1279999999999999,0.47,3.944,4.157,6.1840000000000002,6.7969999999999997,7.782,10.587999999999999,12.233000000000001,14.481,18.992000000000001,23.356999999999999,24.257999999999999,32.677,32.375999999999998,38.290999999999997,45.396000000000001,38.133000000000003,41.469000000000001,40.243000000000002,58.576999999999998,55.679000000000002,42.978999999999999,58.878,54.396000000000001,55.161999999999999,61.8,70.328000000000003,58.323999999999998,70.733000000000004,51.640999999999998,47.326999999999998,47.783999999999999,30.451000000000001,31.068000000000001,12.53,15.71,5.9379999999999997,0.38500000000000001,1.593,0.83299999999999996,0,0,0,0,0,0,0,0,0,0,0,0]
["Global Ost",0,0,0,0,0,0,0,0,0,0,0,0,0.43099999999999999,1.4670000000000001,0.80800000000000005,3.988,3.7749999999999999,6.3680000000000003,6.2149999999999999,5.6950000000000003,9.702,12.148,14.919,17.039000000000001,21.568000000000001,19.146000000000001,26.969000000000001,21.959,23.968,30.481999999999999,26.669,27.06,20.751999999999999,29.326000000000001,30.873999999999999,16.919,32.710999999999999,28.501000000000001,28.576000000000001,27.164000000000001,27.847000000000001,18.73,26.686,15.847,11.465,11.893000000000001,4.7770000000000001,4.8810000000000002,1.262,0.92900000000000005,0.22900000000000001,0,0.245,0.16800000000000001,0,0,0,0,0,0,0,0,0,0,0,0]
["Global Süd",0,0,0,0,0,0,0,0,0,0,0,0,0.77700000000000002,2.476,0.84599999999999997,9.516,9.641,13.762,15.084,17.696000000000002,21.285,24.137,25.843,33.112000000000002,36.68,35.753999999999998,43.290999999999997,43.28,48.905999999999999,58.091000000000001,49.337000000000003,48.084000000000003,40.536000000000001,55.286999999999999,44.347999999999999,30.225000000000001,40.756999999999998,33.972000000000001,34.250999999999998,38.311999999999998,44.15,36.436999999999998,42.478999999999999,30.911999999999999,27.834,27.193999999999999,17.073,16.233000000000001,6.6449999999999996,7.923,3.7890000000000001,0.16500000000000001,0.91300000000000003,0.48199999999999998,0,0,0,0,0,0,0,0,0,0,0,0]
["Global West",0,0,0,0,0,0,0,0,0,0,0,0,0.23400000000000001,0.69599999999999995,0.33300000000000002,3.6179999999999999,4.1870000000000003,5.649,6.2359999999999998,9.3480000000000008,10.194000000000001,10.260999999999999,9.9619999999999997,16.677,15.436,17.544,20.32,18.919,22.413,26.373000000000001,21.106000000000002,21.605,20.242000000000001,27.013999999999999,21.536999999999999,16.04,16.207000000000001,12.881,8.6170000000000009,12.696999999999999,16.641999999999999,17.768000000000001,22.585000000000001,17.454999999999998,15.092000000000001,15.083,12.831,12.096,5.4039999999999999,8.8650000000000002,3.0630000000000002,0.192,0.53700000000000003,0.27200000000000002,0,0,0,0,0,0,0,0,0,0,0,0]
["Global Nord",0,0,0,0,0,0,0,0,0,0,0,0,0.22600000000000001,0.67,0.32,2.6070000000000002,2.7029999999999998,4.03,4.4630000000000001,4.6509999999999998,6.4450000000000003,6.976,7.702,10.590999999999999,10.239000000000001,10.682,13.755000000000001,11.098000000000001,11.999000000000001,14.14,11.599,10.465999999999999,8.0790000000000006,10.346,7.3650000000000002,4.8250000000000002,4.2350000000000003,1.381,0.57599999999999996,0.49399999999999999,0.61499999999999999,0.61299999999999999,0.46,0.45400000000000001,0.309,0.47699999999999998,0.45600000000000002,0.61399999999999999,0.308,0.15,0,0,0,0.155,0,0,0,0,0,0,0,0,0,0,0,0]
[]
["Station","SMA"]
["Zürich SMA"]
["Bintemperatur",-25,-24,-23,-22,-21,-20,-19,-18,-17,-16,-15,-14,-13,-12,-11,-10,-9,-8,-7,-6,-5,-4,-3,-2,-1,0,1,2,3,4,5,6,7,8,9,10,11,12,13,14,15,16,17,18,19,20,21,22,23,24,25,26,27,28,29,30,31,32,33,34,35,36,37,38,39,40]
["Stunden (Ta Stundewerte)",0,0,0,0,0,0,0,0,0,0,0,0,0,0,0,6,45,48,68,45,57,56,128,180,197,249,332,381,451,459,335,417,406,336,339,318,368,321,350,378,330,390,365,295,238,188,146,134,114,103,46,47,29,24,14,16,6,2,3,0,0,0,0,0,0,0]
["Stunden (Ta Tagesmittel)",0,0,0,0,0,0,0,0,0,0,0,0,0,0,0,0,0,48,72,96,48,72,72,72,264,312,240,432,504,360,504,312,432,288,288,312,360,456,264,456,384,336,312,288,552,240,120,72,96,72,0,24,0,0,0,0,0,0,0,0,0,0,0,0,0,0]
["Global Horiz.",0,0,0,0,0,0,0,0,0,0,0,0,0,0,0,0,0,0.51900000000000002,0.92,1.4019999999999999,2.218,2.609,4.202,3.4009999999999998,3.734,4.7880000000000003,9.0570000000000004,11.237,11.771000000000001,13.599,22.385999999999999,18.648,25.920999999999999,21.696000000000002,24.731999999999999,22.933,26.439,34.174999999999997,35.82,44.706000000000003,40.366999999999997,49.290999999999997,50.588999999999999,58.008000000000003,53.2,61.252000000000002,55.19,48.173000000000002,47.759,51.540999999999997,22.728000000000002,25.074999999999999,15.276,11.869,9.016,8.7720000000000002,3.798,1.149,1.9870000000000001,0,0,0,0,0,0,0]
["Global Ost",0,0,0,0,0,0,0,0,0,0,0,0,0,0,0,0,0.23799999999999999,0.97,1.2390000000000001,1.601,2.6349999999999998,2.8340000000000001,3.47,4.1440000000000001,4.6630000000000003,2.9660000000000002,5.4630000000000001,5.2160000000000002,8.07,6.5030000000000001,12.395,11.949,12.577999999999999,12.058,15.105,11.874000000000001,15.532999999999999,17.2,20.2,21.742000000000001,18.712,24.712,25.029,24.966000000000001,26.431999999999999,18.885999999999999,23.411000000000001,14.957000000000001,12.458,9.9329999999999998,5.3040000000000003,3.2389999999999999,2.1869999999999998,1.613,0.98699999999999999,0.79100000000000004,0.224,0,0,0,0,0,0,0,0,0]
["Global Süd",0,0,0,0,0,0,0,0,0,0,0,0,0,0,0,0,0,1.246,2.0659999999999998,4.0309999999999997,5.0579999999999998,6.4130000000000003,8.4979999999999993,6.423,5.7210000000000001,6.5960000000000001,15.255000000000001,19.457000000000001,15.433999999999999,17.277999999999999,24.138000000000002,21.007999999999999,27.888000000000002,21.068999999999999,25.847000000000001,22.443999999999999,20.253,25.649000000000001,25.548999999999999,30.751000000000001,25.388999999999999,32.024999999999999,31.948,32.863,31.253,37.341999999999999,31.521000000000001,30.524999999999999,25.965,27.239000000000001,12.663,13.913,8.2739999999999991,5.9630000000000001,4.7869999999999999,3.835,1.8380000000000001,0.51400000000000001,1.046,0,0,0,0,0,0,0]
["Global West",0,0,0,0,0,0,0,0,0,0,0,0,0,0,0,0,0,0.20200000000000001,0.48399999999999999,1.8240000000000001,0.86099999999999999,1.669,4.34,2.4489999999999998,0.91900000000000004,1.117,6.1639999999999997,9.1769999999999996,5.8769999999999998,10.097,6.359,7.3019999999999996,11.996,6.8010000000000002,9.4600000000000009,9.3330000000000002,9.06,10.319000000000001,12.041,16.119,18.978000000000002,19.808,19.131,27.73,20.375,38.261000000000003,25.09,25.808,28.027000000000001,34.817,12.246,17.3,9.42,8.3569999999999993,5.5830000000000002,8.3559999999999999,3.238,0.68400000000000005,1.66,0,0,0,0,0,0,0]
["Global Nord",0,0,0,0,0,0,0,0,0,0,0,0,0,0,0,0,0,0.20300000000000001,0.376,0.51100000000000001,0.51300000000000001,0.68200000000000005,1.571,1.1739999999999999,0.54600000000000004,0.69599999999999995,0.51500000000000001,1.3680000000000001,0.16200000000000001,0.77600000000000002,0.157,0,0.161,0.46800000000000003,0.623,0.46600000000000003,0.15,0.85099999999999998,1.004,2.0209999999999999,1.66,2.1040000000000001,3.738,4.5659999999999998,3.2749999999999999,3.0579999999999998,3.2589999999999999,4.9189999999999996,3.8919999999999999,3.5219999999999998,1.3460000000000001,0.66800000000000004,0.63700000000000001,0.69799999999999995,0.32800000000000001,1.109,0,0,0,0,0,0,0,0,0,0]
["Wetterdaten Oesterreich:"]
["Station","OES"]
["Oesterreich"]
["Bintemperatur",-25,-24,-23,-22,-21,-20,-19,-18,-17,-16,-15,-14,-13,-12,-11,-10,-9,-8,-7,-6,-5,-4,-3,-2,-1,0,1,2,3,4,5,6,7,8,9,10,11,12,13,14,15,16,17,18,19,20,21,22,23,24,25,26,27,28,29,30,31,32,33,34,35,36,37,38,39,40]
["Stunden (Ta Stundewerte)",{"$f":"B380","v":{"$error":"#N/A"}},{"$f":"C380","v":{"$error":"#N/A"}},{"$error":"#N/A"},{"$error":"#N/A"},{"$error":"#N/A"},{"$error":"#N/A"},{"$error":"#N/A"},{"$error":"#N/A"},{"$error":"#N/A"},{"$error":"#N/A"},{"$error":"#N/A"},{"$error":"#N/A"},{"$error":"#N/A"},{"$error":"#N/A"},{"$error":"#N/A"},{"$error":"#N/A"},{"$error":"#N/A"},{"$error":"#N/A"},{"$error":"#N/A"},{"$error":"#N/A"},{"$error":"#N/A"},{"$error":"#N/A"},{"$error":"#N/A"},{"$error":"#N/A"},{"$error":"#N/A"},{"$error":"#N/A"},{"$error":"#N/A"},{"$error":"#N/A"},{"$error":"#N/A"},{"$error":"#N/A"},{"$error":"#N/A"},{"$error":"#N/A"},{"$error":"#N/A"},{"$error":"#N/A"},{"$error":"#N/A"},{"$error":"#N/A"},{"$error":"#N/A"},{"$error":"#N/A"},{"$error":"#N/A"},{"$error":"#N/A"},{"$error":"#N/A"},{"$error":"#N/A"},{"$error":"#N/A"},{"$error":"#N/A"},{"$error":"#N/A"},{"$error":"#N/A"},{"$error":"#N/A"},{"$error":"#N/A"},{"$error":"#N/A"},{"$error":"#N/A"},{"$error":"#N/A"},{"$error":"#N/A"},{"$error":"#N/A"},{"$error":"#N/A"},{"$error":"#N/A"},{"$error":"#N/A"},{"$error":"#N/A"},{"$error":"#N/A"},{"$error":"#N/A"},{"$error":"#N/A"},{"$error":"#N/A"},{"$error":"#N/A"},{"$error":"#N/A"},{"$error":"#N/A"},{"$error":"#N/A"},{"$f":"BO380","v":{"$error":"#N/A"}}]
["Stunden (Ta Tagesmittel)"]
["Global Horiz."]
["Global Ost"]
["Global Süd"]
["Global West"]
["Global Nord"]
[]
["Berechnungshilfe für Wetterdaten Oesterreich:"]
[]
[]
["Referenzbin","SMA"]
["Zürich SMA"]
["Bintemperatur",null,null,null,null,null,null,null,null,null,null,null,null,null,null,null,null,null,null,null,null,null,null,null,null,null,null,null,null,null,-25,-24,-23,-22,-21,-20,-19,-18,-17,-16,-15,-14,-13,-12,-11,-10,-9,-8,-7,-6,-5,-4,-3,-2,-1,0,1,2,3,4,5,6,7,8,9,10,11,12,13,14,15,16,17,18,19,20,21,22,23,24,25,26,27,28,29,30,31,32,33,34,35,36,37,38,39,40]
["Stunden (Ta Stundewerte)",null,null,null,null,null,null,null,null,null,null,null,null,null,null,null,null,null,null,null,null,null,null,null,null,null,null,null,null,null,0,0,0,0,0,0,0,0,0,0,0,0,0,0,0,6,45,48,68,45,57,56,128,180,197,249,332,381,451,459,335,417,406,336,339,318,368,321,350,378,330,390,365,295,238,188,146,134,114,103,46,47,29,24,14,16,6,2,3,0,0,0,0,0,0,0]
["Verschobene BIN Temp.",null,null,null,null,null,null,null,null,null,null,null,null,null,null,null,null,null,null,null,null,null,null,null,null,null,null,null,null,null,{"$f":"AE371+$E$390","v":{"$error":"#N/A"}},{"$f":"AF371+$E$390","v":{"$error":"#N/A"}},{"$error":"#N/A"},{"$error":"#N/A"},{"$error":"#N/A"},{"$error":"#N/A"},{"$error":"#N/A"},{"$error":"#N/A"},{"$error":"#N/A"},{"$error":"#N/A"},{"$error":"#N/A"},{"$error":"#N/A"},{"$error":"#N/A"},{"$error":"#N/A"},{"$error":"#N/A"},{"$error":"#N/A"},{"$error":"#N/A"},{"$error":"#N/A"},{"$error":"#N/A"},{"$error":"#N/A"},{"$error":"#N/A"},{"$error":"#N/A"},{"$error":"#N/A"},{"$error":"#N/A"},{"$error":"#N/A"},{"$error":"#N/A"},{"$error":"#N/A"},{"$error":"#N/A"},{"$error":"#N/A"},{"$error":"#N/A"},{"$error":"#N/A"},{"$error":"#N/A"},{"$error":"#N/A"},{"$error":"#N/A"},{"$error":"#N/A"},{"$error":"#N/A"},{"$error":"#N/A"},{"$error":"#N/A"},{"$error":"#N/A"},{"$error":"#N/A"},{"$error":"#N/A"},{"$error":"#N/A"},{"$error":"#N/A"},{"$error":"#N/A"},{"$error":"#N/A"},{"$error":"#N/A"},{"$error":"#N/A"},{"$error":"#N/A"},{"$error":"#N/A"},{"$error":"#N/A"},{"$error":"#N/A"},{"$error":"#N/A"},{"$error":"#N/A"},{"$error":"#N/A"},{"$error":"#N/A"},{"$error":"#N/A"},{"$error":"#N/A"},{"$error":"#N/A"},{"$error":"#N/A"},{"$error":"#N/A"},{"$error":"#N/A"},{"$error":"#N/A"},{"$error":"#N/A"},{"$error":"#N/A"},{"$error":"#N/A"},{"$f":"CR371+$E$390","v":{"$error":"#N/A"}}]
["Versch.BIN T. Ganzzahl",{"$f":"C374-1","v":{"$error":"#N/A"}},{"$error":"#N/A"},{"$error":"#N/A"},{"$error":"#N/A"},{"$error":"#N/A"},{"$error":"#N/A"},{"$error":"#N/A"},{"$error":"#N/A"},{"$error":"#N/A"},{"$error":"#N/A"},{"$error":"#N/A"},{"$error":"#N/A"},{"$error":"#N/A"},{"$error":"#N/A"},{"$error":"#N/A"},{"$error":"#N/A"},{"$error":"#N/A"},{"$error":"#N/A"},{"$error":"#N/A"},{"$error":"#N/A"},{"$error":"#N/A"},{"$error":"#N/A"},{"$error":"#N/A"},{"$error":"#N/A"},{"$error":"#N/A"},{"$error":"#N/A"},{"$error":"#N/A"},{"$error":"#N/A"},{"$f":"AE374-1","v":{"$error":"#N/A"}},{"$f":"INT(AE373)","v":{"$error":"#N/A"}},{"$f":"INT(AF373)","v":{"$error":"#N/A"}},{"$error":"#N/A"},{"$error":"#N/A"},{"$error":"#N/A"},{"$error":"#N/A"},{"$error":"#N/A"},{"$error":"#N/A"},{"$error":"#N/A"},{"$error":"#N/A"},{"$error":"#N/A"},{"$error":"#N/A"},{"$error":"#N/A"},{"$error":"#N/A"},{"$error":"#N/A"},{"$error":"#N/A"},{"$error":"#N/A"},{"$error":"#N/A"},{"$error":"#N/A"},{"$error":"#N/A"},{"$error":"#N/A"},{"$error":"#N/A"},{"$error":"#N/A"},{"$error":"#N/A"},{"$error":"#N/A"},{"$error":"#N/A"},{"$error":"#N/A"},{"$error":"#N/A"},{"$error":"#N/A"},{"$error":"#N/A"},{"$error":"#N/A"},{"$error":"#N/A"},{"$error":"#N/A"},{"$error":"#N/A"},{"$error":"#N/A"},{"$error":"#N/A"},{"$error":"#N/A"},{"$error":"#N/A"},{"$error":"#N/A"},{"$error":"#N/A"},{"$error":"#N/A"},{"$error":"#N/A"},{"$error":"#N/A"},{"$error":"#N/A"},{"$error":"#N/A"},{"$error":"#N/A"},{"$error":"#N/A"},{"$error":"#N/A"},{"$error":"#N/A"},{"$error":"#N/A"},{"$error":"#N/A"},{"$error":"#N/A"},{"$error":"#N/A"},{"$error":"#N/A"},{"$error":"#N/A"},{"$error":"#N/A"},{"$error":"#N/A"},{"$error":"#N/A"},{"$error":"#N/A"},{"$error":"#N/A"},{"$error":"#N/A"},{"$error":"#N/A"},{"$error":"#N/A"},{"$error":"#N/A"},{"$error":"#N/A"},{"$f":"INT(CR373)","v":{"$error":"#N/A"}},{"$f":"CR374+1","v":{"$error":"#N/A"}},{"$f":"CS374+1","v":{"$error":"#N/A"}},{"$error":"#N/A"},{"$error":"#N/A"},{"$error":"#N/A"},{"$error":"#N/A"},{"$error":"#N/A"},{"$error":"#N/A"},{"$error":"#N/A"},{"$error":"#N/A"},{"$error":"#N/A"},{"$error":"#N/A"},{"$error":"#N/A"},{"$error":"#N/A"},{"$error":"#N/A"},{"$error":"#N/A"},{"$error":"#N/A"},{"$error":"#N/A"},{"$error":"#N/A"},{"$error":"#N/A"},{"$error":"#N/A"},{"$error":"#N/A"},{"$error":"#N/A"},{"$error":"#N/A"},{"$error":"#N/A"},{"$error":"#N/A"},{"$error":"#N/A"},{"$error":"#N/A"},{"$error":"#N/A"}]
[null,null,null,null,null,null,null,null,null,null,null,null,null,null,null,null,null,null,null,null,null,null,null,null,null,null,null,null,null,null,{"$f":"AE373-AE374","v":{"$error":"#N/A"}},{"$f":"AF373-AF374","v":{"$error":"#N/A"}},{"$error":"#N/A"},{"$error":"#N/A"},{"$error":"#N/A"},{"$error":"#N/A"},{"$error":"#N/A"},{"$error":"#N/A"},{"$error":"#N/A"},{"$error":"#N/A"},{"$error":"#N/A"},{"$error":"#N/A"},{"$error":"#N/A"},{"$error":"#N/A"},{"$error":"#N/A"},{"$error":"#N/A"},{"$error":"#N/A"},{"$error":"#N/A"},{"$error":"#N/A"},{"$error":"#N/A"},{"$error":"#N/A"},{"$error":"#N/A"},{"$error":"#N/A"},{"$error":"#N/A"},{"$error":"#N/A"},{"$error":"#N/A"},{"$error":"#N/A"},{"$error":"#N/A"},{"$error":"#N/A"},{"$error":"#N/A"},{"$error":"#N/A"},{"$error":"#N/A"},{"$error":"#N/A"},{"$error":"#N/A"},{"$error":"#N/A"},{"$error":"#N/A"},{"$error":"#N/A"},{"$error":"#N/A"},{"$error":"#N/A"},{"$error":"#N/A"},{"$error":"#N/A"},{"$error":"#N/A"},{"$error":"#N/A"},{"$error":"#N/A"},{"$error":"#N/A"},{"$error":"#N/A"},{"$error":"#N/A"},{"$error":"#N/A"},{"$error":"#N/A"},{"$error":"#N/A"},{"$error":"#N/A"},{"$error":"#N/A"},{"$error":"#N/A"},{"$error":"#N/A"},{"$error":"#N/A"},{"$error":"#N/A"},{"$error":"#N/A"},{"$error":"#N/A"},{"$error":"#N/A"},{"$error":"#N/A"},{"$error":"#N/A"},{"$error":"#N/A"},{"$error":"#N/A"},{"$error":"#N/A"},{"$error":"#N/A"},{"$f":"CR373-CR374","v":{"$error":"#N/A"}}]
[null,null,null,null,null,null,null,null,null,null,null,null,null,null,null,null,null,null,null,null,null,null,null,null,null,null,null,null,null,null,{"$f":"1-AE375","v":{"$error":"#N/A"}},{"$error":"#N/A"},{"$error":"#N/A"},{"$error":"#N/A"},{"$error":"#N/A"},{"$error":"#N/A"},{"$error":"#N/A"},{"$error":"#N/A"},{"$error":"#N/A"},{"$error":"#N/A"},{"$error":"#N/A"},{"$error":"#N/A"},{"$error":"#N/A"},{"$error":"#N/A"},{"$error":"#N/A"},{"$error":"#N/A"},{"$error":"#N/A"},{"$error":"#N/A"},{"$error":"#N/A"},{"$error":"#N/A"},{"$error":"#N/A"},{"$error":"#N/A"},{"$error":"#N/A"},{"$error":"#N/A"},{"$error":"#N/A"},{"$error":"#N/A"},{"$error":"#N/A"},{"$error":"#N/A"},{"$error":"#N/A"},{"$error":"#N/A"},{"$error":"#N/A"},{"$error":"#N/A"},{"$error":"#N/A"},{"$error":"#N/A"},{"$error":"#N/A"},{"$error":"#N/A"},{"$error":"#N/A"},{"$error":"#N/A"},{"$error":"#N/A"},{"$error":"#N/A"},{"$error":"#N/A"},{"$error":"#N/A"},{"$error":"#N/A"},{"$error":"#N/A"},{"$error":"#N/A"},{"$error":"#N/A"},{"$error":"#N/A"},{"$error":"#N/A"},{"$error":"#N/A"},{"$error":"#N/A"},{"$error":"#N/A"},{"$error":"#N/A"},{"$error":"#N/A"},{"$error":"#N/A"},{"$error":"#N/A"},{"$error":"#N/A"},{"$error":"#N/A"},{"$error":"#N/A"},{"$error":"#N/A"},{"$error":"#N/A"},{"$error":"#N/A"},{"$error":"#N/A"},{"$error":"#N/A"},{"$error":"#N/A"},{"$f":"1-CQ375","v":{"$error":"#N/A"}},{"$f":"1-CR375","v":{"$error":"#N/A"}}]
[null,0,0,0,0,0,0,0,0,0,0,0,0,0,0,0,0,0,0,0,0,0,0,0,0,0,0,0,0,0,0,{"$f":"AF372*AF376+AE372*AF375","v":{"$error":"#N/A"}},{"$error":"#N/A"},{"$error":"#N/A"},{"$error":"#N/A"},{"$error":"#N/A"},{"$error":"#N/A"},{"$error":"#N/A"},{"$error":"#N/A"},{"$error":"#N/A"},{"$error":"#N/A"},{"$error":"#N/A"},{"$error":"#N/A"},{"$error":"#N/A"},{"$error":"#N/A"},{"$error":"#N/A"},{"$error":"#N/A"},{"$error":"#N/A"},{"$error":"#N/A"},{"$error":"#N/A"},{"$error":"#N/A"},{"$error":"#N/A"},{"$error":"#N/A"},{"$error":"#N/A"},{"$error":"#N/A"},{"$error":"#N/A"},{"$error":"#N/A"},{"$error":"#N/A"},{"$error":"#N/A"},{"$error":"#N/A"},{"$error":"#N/A"},{"$error":"#N/A"},{"$error":"#N/A"},{"$f":"BL372*BL376+BK372*BL375","v":{"$error":"#N/A"}},{"$error":"#N/A"},{"$error":"#N/A"},{"$error":"#N/A"},{"$error":"#N/A"},{"$error":"#N/A"},{"$error":"#N/A"},{"$error":"#N/A"},{"$error":"#N/A"},{"$error":"#N/A"},{"$error":"#N/A"},{"$error":"#N/A"},{"$error":"#N/A"},{"$error":"#N/A"},{"$error":"#N/A"},{"$error":"#N/A"},{"$error":"#N/A"},{"$error":"#N/A"},{"$error":"#N/A"},{"$error":"#N/A"},{"$error":"#N/A"},{"$error":"#N/A"},{"$error":"#N/A"},{"$error":"#N/A"},{"$error":"#N/A"},{"$error":"#N/A"},{"$error":"#N/A"},{"$error":"#N/A"},{"$error":"#N/A"},{"$error":"#N/A"},{"$error":"#N/A"},{"$error":"#N/A"},{"$f":"CR372*CR376+CQ372*CR375","v":{"$error":"#N/A"}},0,0,0,0,0,0,0,0,0,0,0,0,0,0,0,0,0,0,0,0,0,0,0,0,0,0,0,0,0]
["Rückverschiebung",{"$f":"AE371-AE374","v":{"$error":"#N/A"}}]
["Rückversschobene ",{"$f":"OFFSET(AE374,0,$B$378)","v":{"$error":"#N/A"}},{"$f":"OFFSET(AF374,0,$B$378)","v":{"$error":"#N/A"}},{"$error":"#N/A"},{"$error":"#N/A"},{"$error":"#N/A"},{"$error":"#N/A"},{"$error":"#N/A"},{"$error":"#N/A"},{"$error":"#N/A"},{"$error":"#N/A"},{"$error":"#N/A"},{"$error":"#N/A"},{"$error":"#N/A"},{"$error":"#N/A"},{"$error":"#N/A"},{"$error":"#N/A"},{"$error":"#N/A"},{"$error":"#N/A"},{"$error":"#N/A"},{"$error":"#N/A"},{"$error":"#N/A"},{"$error":"#N/A"},{"$error":"#N/A"},{"$error":"#N/A"},{"$error":"#N/A"},{"$error":"#N/A"},{"$error":"#N/A"},{"$error":"#N/A"},{"$error":"#N/A"},{"$error":"#N/A"},{"$error":"#N/A"},{"$error":"#N/A"},{"$error":"#N/A"},{"$error":"#N/A"},{"$error":"#N/A"},{"$error":"#N/A"},{"$error":"#N/A"},{"$error":"#N/A"},{"$error":"#N/A"},{"$error":"#N/A"},{"$error":"#N/A"},{"$error":"#N/A"},{"$error":"#N/A"},{"$error":"#N/A"},{"$error":"#N/A"},{"$error":"#N/A"},{"$error":"#N/A"},{"$error":"#N/A"},{"$error":"#N/A"},{"$error":"#N/A"},{"$error":"#N/A"},{"$error":"#N/A"},{"$error":"#N/A"},{"$error":"#N/A"},{"$error":"#N/A"},{"$error":"#N/A"},{"$error":"#N/A"},{"$error":"#N/A"},{"$error":"#N/A"},{"$error":"#N/A"},{"$error":"#N/A"},{"$error":"#N/A"},{"$error":"#N/A"},{"$error":"#N/A"},{"$error":"#N/A"},{"$f":"OFFSET(CR374,0,$B$378)","v":{"$error":"#N/A"}}]
["Tabeller",{"$f":"OFFSET(AE377,0,$B$378)","v":{"$error":"#N/A"}},{"$f":"OFFSET(AF377,0,$B$378)","v":{"$error":"#N/A"}},{"$error":"#N/A"},{"$error":"#N/A"},{"$error":"#N/A"},{"$error":"#N/A"},{"$error":"#N/A"},{"$error":"#N/A"},{"$error":"#N/A"},{"$error":"#N/A"},{"$error":"#N/A"},{"$error":"#N/A"},{"$error":"#N/A"},{"$error":"#N/A"},{"$error":"#N/A"},{"$error":"#N/A"},{"$error":"#N/A"},{"$error":"#N/A"},{"$error":"#N/A"},{"$error":"#N/A"},{"$error":"#N/A"},{"$error":"#N/A"},{"$error":"#N/A"},{"$error":"#N/A"},{"$error":"#N/A"},{"$error":"#N/A"},{"$error":"#N/A"},{"$error":"#N/A"},{"$error":"#N/A"},{"$error":"#N/A"},{"$error":"#N/A"},{"$error":"#N/A"},{"$error":"#N/A"},{"$error":"#N/A"},{"$error":"#N/A"},{"$error":"#N/A"},{"$error":"#N/A"},{"$error":"#N/A"},{"$error":"#N/A"},{"$error":"#N/A"},{"$error":"#N/A"},{"$error":"#N/A"},{"$error":"#N/A"},{"$error":"#N/A"},{"$error":"#N/A"},{"$error":"#N/A"},{"$error":"#N/A"},{"$error":"#N/A"},{"$error":"#N/A"},{"$error":"#N/A"},{"$error":"#N/A"},{"$error":"#N/A"},{"$error":"#N/A"},{"$error":"#N/A"},{"$error":"#N/A"},{"$error":"#N/A"},{"$error":"#N/A"},{"$error":"#N/A"},{"$error":"#N/A"},{"$error":"#N/A"},{"$error":"#N/A"},{"$error":"#N/A"},{"$error":"#N/A"},{"$error":"#N/A"},{"$error":"#N/A"},{"$f":"OFFSET(CR377,0,$B$378)","v":{"$error":"#N/A"}}]
[]
[]
["Station Auswahl"]
[{"$f":"JAZcalc!N723","v":0}]
["HGT",{"$f":"JAZcalc!R723","v":0}]
["Auslegung CH",{"$f":"JAZcalc!Q723","v":0}]
[]
[]
[null,null,null,null,"Berechnete Verschiebung"]
["HGT",{"$f":"A384","v":0},null,{"$f":"B385","v":0},{"$f":"E391+(D390-D391)*H394","v":{"$error":"#N/A"}},"K"]
["HGT Ref. oben",null,{"$f":"MATCH(D390,D396:D416)","v":{"$error":"#N/A"}},{"$f":"OFFSET(D395,C391,0)","v":{"$error":"#N/A"}},{"$f":"OFFSET(E395,C391,0)","v":{"$error":"#N/A"}}]
["HGT Ref. unten",null,{"$f":"C391+1","v":{"$error":"#N/A"}},{"$f":"OFFSET(D395,C392,0)","v":{"$error":"#N/A"}},{"$f":"OFFSET(E395,C392,0)","v":{"$error":"#N/A"}}]
[]
[null,"Differenz",null,{"$f":"D391-D392","v":{"$error":"#N/A"}},{"$f":"E391-E392","v":{"$error":"#N/A"}},"Steigung",null,{"$f":"E394/D394","v":{"$error":"#N/A"}},"K/Kd"]
["Referenzkurve",null,null,"HGT","dT [K]",null,null,null,null,"alt (nicht mehr verwendet):"]
[null,null,null,2000,5.25,null,null,null,null,4]
[null,null,null,2400,3.65,null,null,null,null,2.4]
[null,null,null,2800,2.2999999999999998,null,null,null,null,1.05]
[null,null,null,3200,0.95,null,null,null,null,-0.3]
[null,null,null,3600,-0.45,null,null,null,null,-1.7]
[null,null,null,4000,-1.75,null,null,null,null,-3]
[null,null,null,4400,-2.75,null,null,null,null,-4]
[null,null,null,4800,-3.55,null,null,null,null,-4.8]
[null,null,null,5200,-4.3499999999999996,null,null,null,null,-5.6]
[null,null,null,5600,-5.05,null,null,null,null,-6.3]
[null,null,null,6000,-5.8,null,null,null,null,-7.05]
[null,null,null,6400,-6.45,null,null,null,null,-7.7]
[null,null,null,6800,-7.15,null,null,null,null,-8.4]
[null,null,null,7200,-7.75,null,null,null,null,-9]
[null,null,null,7600,-8.35,null,null,null,null,-9.6]
[null,null,null,8000,-8.75,null,null,null,null,-10]
[null,null,null,8400,-9.15,null,null,null,null,-10.4]
[null,null,null,8800,-9.5500000000000007,null,null,null,null,-10.8]
[null,null,null,9200,-9.9499999999999993,null,null,null,null,-11.2]
[null,null,null,9600,-10.35,null,null,null,null,-11.6]
[null,null,null,10000,-10.75,null,null,null,null,-12]

{"sheet":"Berechnungen","index":12,"n_rows":416,"n_cols":72,"rows_kept":416,"cut":false,"hidden":true,"merged":[]}
[null,null,null,null,"Index",null,{"$f":"Index_Klima","v":-1},null,null,null,null,null,null,null,null,{"$f":"'WP1'!L2-2","v":-1}]
[null,null,null,null,"Versch.",null,{"$f":"G1*BIN!B1","v":-11}]
[]
[null,null,null,{"$f":"OFFSET(Startzeile_BINs,$G$2,0,2,2)","v":{"$error":"#REF!"}},{"$error":"#REF!"}]
[null,null,"Einheit",{"$error":"#REF!"},{"$error":"#REF!"}]
[null,null,"°C",{"$f":"OFFSET(Startzeile_BINs,$G$2+2,0,8,67)","v":{"$error":"#REF!"}},{"$error":"#REF!"},{"$error":"#REF!"},{"$error":"#REF!"},{"$error":"#REF!"},{"$error":"#REF!"},{"$error":"#REF!"},{"$error":"#REF!"},{"$error":"#REF!"},{"$error":"#REF!"},{"$error":"#REF!"},{"$error":"#REF!"},{"$error":"#REF!"},{"$error":"#REF!"},{"$error":"#REF!"},{"$error":"#REF!"},{"$error":"#REF!"},{"$error":"#REF!"},{"$error":"#REF!"},{"$error":"#REF!"},{"$error":"#REF!"},{"$error":"#REF!"},{"$error":"#REF!"},{"$error":"#REF!"},{"$error":"#REF!"},{"$error":"#REF!"},{"$error":"#REF!"},{"$error":"#REF!"},{"$error":"#REF!"},{"$error":"#REF!"},{"$error":"#REF!"},{"$error":"#REF!"},{"$error":"#REF!"},{"$error":"#REF!"},{"$error":"#REF!"},{"$error":"#REF!"},{"$error":"#REF!"},{"$error":"#REF!"},{"$error":"#REF!"},{"$error":"#REF!"},{"$error":"#REF!"},{"$error":"#REF!"},{"$error":"#REF!"},{"$error":"#REF!"},{"$error":"#REF!"},{"$error":"#REF!"},{"$error":"#REF!"},{"$error":"#REF!"},{"$error":"#REF!"},{"$error":"#REF!"},{"$error":"#REF!"},{"$error":"#REF!"},{"$error":"#REF!"},{"$error":"#REF!"},{"$error":"#REF!"},{"$error":"#REF!"},{"$error":"#REF!"},{"$error":"#REF!"},{"$error":"#REF!"},{"$error":"#REF!"},{"$error":"#REF!"},{"$error":"#REF!"},{"$error":"#REF!"},{"$error":"#REF!"},{"$error":"#REF!"},{"$error":"#REF!"},{"$error":"#REF!"}]
[null,null,"h",{"$error":"#REF!"},{"$error":"#REF!"},{"$error":"#REF!"},{"$error":"#REF!"},{"$error":"#REF!"},{"$error":"#REF!"},{"$error":"#REF!"},{"$error":"#REF!"},{"$error":"#REF!"},{"$error":"#REF!"},{"$error":"#REF!"},{"$error":"#REF!"},{"$error":"#REF!"},{"$error":"#REF!"},{"$error":"#REF!"},{"$error":"#REF!"},{"$error":"#REF!"},{"$error":"#REF!"},{"$error":"#REF!"},{"$error":"#REF!"},{"$error":"#REF!"},{"$error":"#REF!"},{"$error":"#REF!"},{"$error":"#REF!"},{"$error":"#REF!"},{"$error":"#REF!"},{"$error":"#REF!"},{"$error":"#REF!"},{"$error":"#REF!"},{"$error":"#REF!"},{"$error":"#REF!"},{"$error":"#REF!"},{"$error":"#REF!"},{"$error":"#REF!"},{"$error":"#REF!"},{"$error":"#REF!"},{"$error":"#REF!"},{"$error":"#REF!"},{"$error":"#REF!"},{"$error":"#REF!"},{"$error":"#REF!"},{"$error":"#REF!"},{"$error":"#REF!"},{"$error":"#REF!"},{"$error":"#REF!"},{"$error":"#REF!"},{"$error":"#REF!"},{"$error":"#REF!"},{"$error":"#REF!"},{"$error":"#REF!"},{"$error":"#REF!"},{"$error":"#REF!"},{"$error":"#REF!"},{"$error":"#REF!"},{"$error":"#REF!"},{"$error":"#REF!"},{"$error":"#REF!"},{"$error":"#REF!"},{"$error":"#REF!"},{"$error":"#REF!"},{"$error":"#REF!"},{"$error":"#REF!"},{"$error":"#REF!"},{"$error":"#REF!"},{"$error":"#REF!"},{"$error":"#REF!"},{"$error":"#REF!"}]
[null,null,"h",{"$error":"#REF!"},{"$error":"#REF!"},{"$error":"#REF!"},{"$error":"#REF!"},{"$error":"#REF!"},{"$error":"#REF!"},{"$error":"#REF!"},{"$error":"#REF!"},{"$error":"#REF!"},{"$error":"#REF!"},{"$error":"#REF!"},{"$error":"#REF!"},{"$error":"#REF!"},{"$error":"#REF!"},{"$error":"#REF!"},{"$error":"#REF!"},{"$error":"#REF!"},{"$error":"#REF!"},{"$error":"#REF!"},{"$error":"#REF!"},{"$error":"#REF!"},{"$error":"#REF!"},{"$error":"#REF!"},{"$error":"#REF!"},{"$error":"#REF!"},{"$error":"#REF!"},{"$error":"#REF!"},{"$error":"#REF!"},{"$error":"#REF!"},{"$error":"#REF!"},{"$error":"#REF!"},{"$error":"#REF!"},{"$error":"#REF!"},{"$error":"#REF!"},{"$error":"#REF!"},{"$error":"#REF!"},{"$error":"#REF!"},{"$error":"#REF!"},{"$error":"#REF!"},{"$error":"#REF!"},{"$error":"#REF!"},{"$error":"#REF!"},{"$error":"#REF!"},{"$error":"#REF!"},{"$error":"#REF!"},{"$error":"#REF!"},{"$error":"#REF!"},{"$error":"#REF!"},{"$error":"#REF!"},{"$error":"#REF!"},{"$error":"#REF!"},{"$error":"#REF!"},{"$error":"#REF!"},{"$error":"#REF!"},{"$error":"#REF!"},{"$error":"#REF!"},{"$error":"#REF!"},{"$error":"#REF!"},{"$error":"#REF!"},{"$error":"#REF!"},{"$error":"#REF!"},{"$error":"#REF!"},{"$error":"#REF!"},{"$error":"#REF!"},{"$error":"#REF!"},{"$error":"#REF!"},{"$error":"#REF!"}]
[null,null,"kWh/m²",{"$error":"#REF!"},{"$error":"#REF!"},{"$error":"#REF!"},{"$error":"#REF!"},{"$error":"#REF!"},{"$error":"#REF!"},{"$error":"#REF!"},{"$error":"#REF!"},{"$error":"#REF!"},{"$error":"#REF!"},{"$error":"#REF!"},{"$error":"#REF!"},{"$error":"#REF!"},{"$error":"#REF!"},{"$error":"#REF!"},{"$error":"#REF!"},{"$error":"#REF!"},{"$error":"#REF!"},{"$error":"#REF!"},{"$error":"#REF!"},{"$error":"#REF!"},{"$error":"#REF!"},{"$error":"#REF!"},{"$error":"#REF!"},{"$error":"#REF!"},{"$error":"#REF!"},{"$error":"#REF!"},{"$error":"#REF!"},{"$error":"#REF!"},{"$error":"#REF!"},{"$error":"#REF!"},{"$error":"#REF!"},{"$error":"#REF!"},{"$error":"#REF!"},{"$error":"#REF!"},{"$error":"#REF!"},{"$error":"#REF!"},{"$error":"#REF!"},{"$error":"#REF!"},{"$error":"#REF!"},{"$error":"#REF!"},{"$error":"#REF!"},{"$error":"#REF!"},{"$error":"#REF!"},{"$error":"#REF!"},{"$error":"#REF!"},{"$error":"#REF!"},{"$error":"#REF!"},{"$error":"#REF!"},{"$error":"#REF!"},{"$error":"#REF!"},{"$error":"#REF!"},{"$error":"#REF!"},{"$error":"#REF!"},{"$error":"#REF!"},{"$error":"#REF!"},{"$error":"#REF!"},{"$error":"#REF!"},{"$error":"#REF!"},{"$error":"#REF!"},{"$error":"#REF!"},{"$error":"#REF!"},{"$error":"#REF!"},{"$error":"#REF!"},{"$error":"#REF!"},{"$error":"#REF!"},{"$error":"#REF!"}]
[null,null,"kWh/m²",{"$error":"#REF!"},{"$error":"#REF!"},{"$error":"#REF!"},{"$error":"#REF!"},{"$error":"#REF!"},{"$error":"#REF!"},{"$error":"#REF!"},{"$error":"#REF!"},{"$error":"#REF!"},{"$error":"#REF!"},{"$error":"#REF!"},{"$error":"#REF!"},{"$error":"#REF!"},{"$error":"#REF!"},{"$error":"#REF!"},{"$error":"#REF!"},{"$error":"#REF!"},{"$error":"#REF!"},{"$error":"#REF!"},{"$error":"#REF!"},{"$error":"#REF!"},{"$error":"#REF!"},{"$error":"#REF!"},{"$error":"#REF!"},{"$error":"#REF!"},{"$error":"#REF!"},{"$error":"#REF!"},{"$error":"#REF!"},{"$error":"#REF!"},{"$error":"#REF!"},{"$error":"#REF!"},{"$error":"#REF!"},{"$error":"#REF!"},{"$error":"#REF!"},{"$error":"#REF!"},{"$error":"#REF!"},{"$error":"#REF!"},{"$error":"#REF!"},{"$error":"#REF!"},{"$error":"#REF!"},{"$error":"#REF!"},{"$error":"#REF!"},{"$error":"#REF!"},{"$error":"#REF!"},{"$error":"#REF!"},{"$error":"#REF!"},{"$error":"#REF!"},{"$error":"#REF!"},{"$error":"#REF!"},{"$error":"#REF!"},{"$error":"#REF!"},{"$error":"#REF!"},{"$error":"#REF!"},{"$error":"#REF!"},{"$error":"#REF!"},{"$error":"#REF!"},{"$error":"#REF!"},{"$error":"#REF!"},{"$error":"#REF!"},{"$error":"#REF!"},{"$error":"#REF!"},{"$error":"#REF!"},{"$error":"#REF!"},{"$error":"#REF!"},{"$error":"#REF!"},{"$error":"#REF!"},{"$error":"#REF!"}]
[null,null,"kWh/m²",{"$error":"#REF!"},{"$error":"#REF!"},{"$error":"#REF!"},{"$error":"#REF!"},{"$error":"#REF!"},{"$error":"#REF!"},{"$error":"#REF!"},{"$error":"#REF!"},{"$error":"#REF!"},{"$error":"#REF!"},{"$error":"#REF!"},{"$error":"#REF!"},{"$error":"#REF!"},{"$error":"#REF!"},{"$error":"#REF!"},{"$error":"#REF!"},{"$error":"#REF!"},{"$error":"#REF!"},{"$error":"#REF!"},{"$error":"#REF!"},{"$error":"#REF!"},{"$error":"#REF!"},{"$error":"#REF!"},{"$error":"#REF!"},{"$error":"#REF!"},{"$error":"#REF!"},{"$error":"#REF!"},{"$error":"#REF!"},{"$error":"#REF!"},{"$error":"#REF!"},{"$error":"#REF!"},{"$error":"#REF!"},{"$error":"#REF!"},{"$error":"#REF!"},{"$error":"#REF!"},{"$error":"#REF!"},{"$error":"#REF!"},{"$error":"#REF!"},{"$error":"#REF!"},{"$error":"#REF!"},{"$error":"#REF!"},{"$error":"#REF!"},{"$error":"#REF!"},{"$error":"#REF!"},{"$error":"#REF!"},{"$error":"#REF!"},{"$error":"#REF!"},{"$error":"#REF!"},{"$error":"#REF!"},{"$error":"#REF!"},{"$error":"#REF!"},{"$error":"#REF!"},{"$error":"#REF!"},{"$error":"#REF!"},{"$error":"#REF!"},{"$error":"#REF!"},{"$error":"#REF!"},{"$error":"#REF!"},{"$error":"#REF!"},{"$error":"#REF!"},{"$error":"#REF!"},{"$error":"#REF!"},{"$error":"#REF!"},{"$error":"#REF!"},{"$error":"#REF!"},{"$error":"#REF!"},{"$error":"#REF!"}]
[null,null,"kWh/m²",{"$error":"#REF!"},{"$error":"#REF!"},{"$error":"#REF!"},{"$error":"#REF!"},{"$error":"#REF!"},{"$error":"#REF!"},{"$error":"#REF!"},{"$error":"#REF!"},{"$error":"#REF!"},{"$error":"#REF!"},{"$error":"#REF!"},{"$error":"#REF!"},{"$error":"#REF!"},{"$error":"#REF!"},{"$error":"#REF!"},{"$error":"#REF!"},{"$error":"#REF!"},{"$error":"#REF!"},{"$error":"#REF!"},{"$error":"#REF!"},{"$error":"#REF!"},{"$error":"#REF!"},{"$error":"#REF!"},{"$error":"#REF!"},{"$error":"#REF!"},{"$error":"#REF!"},{"$error":"#REF!"},{"$error":"#REF!"},{"$error":"#REF!"},{"$error":"#REF!"},{"$error":"#REF!"},{"$error":"#REF!"},{"$error":"#REF!"},{"$error":"#REF!"},{"$error":"#REF!"},{"$error":"#REF!"},{"$error":"#REF!"},{"$error":"#REF!"},{"$error":"#REF!"},{"$error":"#REF!"},{"$error":"#REF!"},{"$error":"#REF!"},{"$error":"#REF!"},{"$error":"#REF!"},{"$error":"#REF!"},{"$error":"#REF!"},{"$error":"#REF!"},{"$error":"#REF!"},{"$error":"#REF!"},{"$error":"#REF!"},{"$error":"#REF!"},{"$error":"#REF!"},{"$error":"#REF!"},{"$error":"#REF!"},{"$error":"#REF!"},{"$error":"#REF!"},{"$error":"#REF!"},{"$error":"#REF!"},{"$error":"#REF!"},{"$error":"#REF!"},{"$error":"#REF!"},{"$error":"#REF!"},{"$error":"#REF!"},{"$error":"#REF!"},{"$error":"#REF!"},{"$error":"#REF!"},{"$error":"#REF!"}]
[null,null,"kWh/m²",{"$error":"#REF!"},{"$error":"#REF!"},{"$error":"#REF!"},{"$error":"#REF!"},{"$error":"#REF!"},{"$error":"#REF!"},{"$error":"#REF!"},{"$error":"#REF!"},{"$error":"#REF!"},{"$error":"#REF!"},{"$error":"#REF!"},{"$error":"#REF!"},{"$error":"#REF!"},{"$error":"#REF!"},{"$error":"#REF!"},{"$error":"#REF!"},{"$error":"#REF!"},{"$error":"#REF!"},{"$error":"#REF!"},{"$error":"#REF!"},{"$error":"#REF!"},{"$error":"#REF!"},{"$error":"#REF!"},{"$error":"#REF!"},{"$error":"#REF!"},{"$error":"#REF!"},{"$error":"#REF!"},{"$error":"#REF!"},{"$error":"#REF!"},{"$error":"#REF!"},{"$error":"#REF!"},{"$error":"#REF!"},{"$error":"#REF!"},{"$error":"#REF!"},{"$error":"#REF!"},{"$error":"#REF!"},{"$error":"#REF!"},{"$error":"#REF!"},{"$error":"#REF!"},{"$error":"#REF!"},{"$error":"#REF!"},{"$error":"#REF!"},{"$error":"#REF!"},{"$error":"#REF!"},{"$error":"#REF!"},{"$error":"#REF!"},{"$error":"#REF!"},{"$error":"#REF!"},{"$error":"#REF!"},{"$error":"#REF!"},{"$error":"#REF!"},{"$error":"#REF!"},{"$error":"#REF!"},{"$error":"#REF!"},{"$error":"#REF!"},{"$error":"#REF!"},{"$error":"#REF!"},{"$error":"#REF!"},{"$error":"#REF!"},{"$error":"#REF!"},{"$error":"#REF!"},{"$error":"#REF!"},{"$error":"#REF!"},{"$error":"#REF!"},{"$error":"#REF!"},{"$error":"#REF!"},{"$error":"#REF!"}]
[null,null,null,"T Grenz",{"$f":"B31-Zuschlag_CH","v":{"$error":"#VALUE!"}},"°C"]
[null,null,null,"Raumtemp.",20,"°C"]
[null,null,"K","Delta T",{"$f":"MAX($E$15-MAX(E6,$E$14),0)","v":{"$error":"#REF!"}},{"$error":"#REF!"},{"$error":"#REF!"},{"$error":"#REF!"},{"$error":"#REF!"},{"$error":"#REF!"},{"$error":"#REF!"},{"$error":"#REF!"},{"$error":"#REF!"},{"$error":"#REF!"},{"$error":"#REF!"},{"$error":"#REF!"},{"$error":"#REF!"},{"$error":"#REF!"},{"$error":"#REF!"},{"$error":"#REF!"},{"$error":"#REF!"},{"$error":"#REF!"},{"$error":"#REF!"},{"$error":"#REF!"},{"$error":"#REF!"},{"$error":"#REF!"},{"$error":"#REF!"},{"$error":"#REF!"},{"$error":"#REF!"},{"$error":"#REF!"},{"$error":"#REF!"},{"$error":"#REF!"},{"$error":"#REF!"},{"$error":"#REF!"},{"$error":"#REF!"},{"$error":"#REF!"},{"$f":"MAX($E$15-MAX(AK6,$E$14),0)","v":{"$error":"#REF!"}},{"$error":"#REF!"},{"$error":"#REF!"},{"$error":"#REF!"},{"$error":"#REF!"},{"$error":"#REF!"},{"$error":"#REF!"},{"$error":"#REF!"},{"$error":"#REF!"},{"$error":"#REF!"},{"$error":"#REF!"},{"$error":"#REF!"},{"$error":"#REF!"},{"$error":"#REF!"},{"$error":"#REF!"},{"$error":"#REF!"},{"$error":"#REF!"},{"$error":"#REF!"},{"$error":"#REF!"},{"$error":"#REF!"},{"$error":"#REF!"},{"$error":"#REF!"},{"$error":"#REF!"},{"$error":"#REF!"},{"$error":"#REF!"},{"$error":"#REF!"},{"$error":"#REF!"},{"$error":"#REF!"},{"$error":"#REF!"},{"$error":"#REF!"},{"$error":"#REF!"},{"$error":"#REF!"},{"$error":"#REF!"},{"$error":"#REF!"}]
[null,null,null,"y",{"$f":"AVERAGE(E16:F16)","v":{"$error":"#REF!"}},{"$error":"#REF!"},{"$error":"#REF!"},{"$error":"#REF!"},{"$error":"#REF!"},{"$error":"#REF!"},{"$error":"#REF!"},{"$error":"#REF!"},{"$error":"#REF!"},{"$error":"#REF!"},{"$error":"#REF!"},{"$error":"#REF!"},{"$error":"#REF!"},{"$error":"#REF!"},{"$error":"#REF!"},{"$error":"#REF!"},{"$error":"#REF!"},{"$error":"#REF!"},{"$error":"#REF!"},{"$error":"#REF!"},{"$error":"#REF!"},{"$error":"#REF!"},{"$error":"#REF!"},{"$error":"#REF!"},{"$error":"#REF!"},{"$error":"#REF!"},{"$error":"#REF!"},{"$error":"#REF!"},{"$error":"#REF!"},{"$error":"#REF!"},{"$error":"#REF!"},{"$error":"#REF!"},{"$f":"AVERAGE(AK16:AL16)","v":{"$error":"#REF!"}},{"$error":"#REF!"},{"$error":"#REF!"},{"$error":"#REF!"},{"$error":"#REF!"},{"$error":"#REF!"},{"$error":"#REF!"},{"$error":"#REF!"},{"$error":"#REF!"},{"$error":"#REF!"},{"$error":"#REF!"},{"$error":"#REF!"},{"$error":"#REF!"},{"$error":"#REF!"},{"$error":"#REF!"},{"$error":"#REF!"},{"$error":"#REF!"},{"$error":"#REF!"},{"$error":"#REF!"},{"$error":"#REF!"},{"$error":"#REF!"},{"$error":"#REF!"},{"$error":"#REF!"},{"$error":"#REF!"},{"$error":"#REF!"},{"$error":"#REF!"},{"$error":"#REF!"},{"$error":"#REF!"},{"$error":"#REF!"},{"$error":"#REF!"},{"$error":"#REF!"},{"$error":"#REF!"},{"$f":"AVERAGE(BQ16:BR16)","v":{"$error":"#REF!"}},{"$f":"AVERAGE(BR16:BS16)","v":{"$error":"#REF!"}}]
[null,null,"h","x Ta h",{"$f":"E7","v":{"$error":"#REF!"}},{"$f":"E18+F7","v":{"$error":"#REF!"}},{"$error":"#REF!"},{"$error":"#REF!"},{"$error":"#REF!"},{"$error":"#REF!"},{"$error":"#REF!"},{"$error":"#REF!"},{"$error":"#REF!"},{"$error":"#REF!"},{"$error":"#REF!"},{"$error":"#REF!"},{"$error":"#REF!"},{"$error":"#REF!"},{"$error":"#REF!"},{"$error":"#REF!"},{"$error":"#REF!"},{"$error":"#REF!"},{"$error":"#REF!"},{"$error":"#REF!"},{"$error":"#REF!"},{"$error":"#REF!"},{"$error":"#REF!"},{"$error":"#REF!"},{"$error":"#REF!"},{"$error":"#REF!"},{"$error":"#REF!"},{"$error":"#REF!"},{"$error":"#REF!"},{"$error":"#REF!"},{"$error":"#REF!"},{"$error":"#REF!"},{"$error":"#REF!"},{"$f":"AK18+AL7","v":{"$error":"#REF!"}},{"$error":"#REF!"},{"$error":"#REF!"},{"$error":"#REF!"},{"$error":"#REF!"},{"$error":"#REF!"},{"$error":"#REF!"},{"$error":"#REF!"},{"$error":"#REF!"},{"$error":"#REF!"},{"$error":"#REF!"},{"$error":"#REF!"},{"$error":"#REF!"},{"$error":"#REF!"},{"$error":"#REF!"},{"$error":"#REF!"},{"$error":"#REF!"},{"$error":"#REF!"},{"$error":"#REF!"},{"$error":"#REF!"},{"$error":"#REF!"},{"$error":"#REF!"},{"$error":"#REF!"},{"$error":"#REF!"},{"$error":"#REF!"},{"$error":"#REF!"},{"$error":"#REF!"},{"$error":"#REF!"},{"$error":"#REF!"},{"$error":"#REF!"},{"$error":"#REF!"},{"$error":"#REF!"},{"$error":"#REF!"}]
[null,null,"h","x Ta Tg",{"$f":"E8","v":{"$error":"#REF!"}},{"$f":"E19+F8","v":{"$error":"#REF!"}},{"$error":"#REF!"},{"$error":"#REF!"},{"$error":"#REF!"},{"$error":"#REF!"},{"$error":"#REF!"},{"$error":"#REF!"},{"$error":"#REF!"},{"$error":"#REF!"},{"$error":"#REF!"},{"$error":"#REF!"},{"$error":"#REF!"},{"$error":"#REF!"},{"$error":"#REF!"},{"$error":"#REF!"},{"$error":"#REF!"},{"$error":"#REF!"},{"$error":"#REF!"},{"$error":"#REF!"},{"$error":"#REF!"},{"$error":"#REF!"},{"$error":"#REF!"},{"$error":"#REF!"},{"$error":"#REF!"},{"$error":"#REF!"},{"$error":"#REF!"},{"$error":"#REF!"},{"$error":"#REF!"},{"$error":"#REF!"},{"$error":"#REF!"},{"$error":"#REF!"},{"$error":"#REF!"},{"$f":"AK19+AL8","v":{"$error":"#REF!"}},{"$error":"#REF!"},{"$error":"#REF!"},{"$error":"#REF!"},{"$error":"#REF!"},{"$error":"#REF!"},{"$error":"#REF!"},{"$error":"#REF!"},{"$error":"#REF!"},{"$error":"#REF!"},{"$error":"#REF!"},{"$error":"#REF!"},{"$error":"#REF!"},{"$error":"#REF!"},{"$error":"#REF!"},{"$error":"#REF!"},{"$error":"#REF!"},{"$error":"#REF!"},{"$error":"#REF!"},{"$error":"#REF!"},{"$error":"#REF!"},{"$error":"#REF!"},{"$error":"#REF!"},{"$error":"#REF!"},{"$error":"#REF!"},{"$error":"#REF!"},{"$error":"#REF!"},{"$error":"#REF!"},{"$error":"#REF!"},{"$error":"#REF!"},{"$error":"#REF!"},{"$error":"#REF!"},{"$error":"#REF!"}]
[null,"Summe"]
[null,{"$f":"SUM(E21:BR21)","v":{"$error":"#REF!"}},"Kh","BIN Flächen Ta h",{"$f":"E$16*E7","v":{"$error":"#REF!"}},{"$error":"#REF!"},{"$error":"#REF!"},{"$error":"#REF!"},{"$error":"#REF!"},{"$error":"#REF!"},{"$error":"#REF!"},{"$error":"#REF!"},{"$error":"#REF!"},{"$error":"#REF!"},{"$error":"#REF!"},{"$error":"#REF!"},{"$error":"#REF!"},{"$error":"#REF!"},{"$error":"#REF!"},{"$error":"#REF!"},{"$error":"#REF!"},{"$error":"#REF!"},{"$error":"#REF!"},{"$error":"#REF!"},{"$error":"#REF!"},{"$error":"#REF!"},{"$error":"#REF!"},{"$error":"#REF!"},{"$error":"#REF!"},{"$error":"#REF!"},{"$error":"#REF!"},{"$error":"#REF!"},{"$error":"#REF!"},{"$error":"#REF!"},{"$error":"#REF!"},{"$error":"#REF!"},{"$f":"AK$16*AK7","v":{"$error":"#REF!"}},{"$error":"#REF!"},{"$error":"#REF!"},{"$error":"#REF!"},{"$error":"#REF!"},{"$error":"#REF!"},{"$error":"#REF!"},{"$error":"#REF!"},{"$error":"#REF!"},{"$error":"#REF!"},{"$error":"#REF!"},{"$error":"#REF!"},{"$error":"#REF!"},{"$error":"#REF!"},{"$error":"#REF!"},{"$error":"#REF!"},{"$error":"#REF!"},{"$error":"#REF!"},{"$error":"#REF!"},{"$error":"#REF!"},{"$error":"#REF!"},{"$error":"#REF!"},{"$error":"#REF!"},{"$error":"#REF!"},{"$error":"#REF!"},{"$error":"#REF!"},{"$error":"#REF!"},{"$error":"#REF!"},{"$error":"#REF!"},{"$error":"#REF!"},{"$error":"#REF!"},{"$error":"#REF!"},{"$error":"#REF!"},{"$error":"#REF!"}]
[null,{"$f":"SUM(E22:BR22)","v":{"$error":"#REF!"}},"Kh","BIN Flächen Ta Tg",{"$f":"E$16*E8","v":{"$error":"#REF!"}},{"$error":"#REF!"},{"$error":"#REF!"},{"$error":"#REF!"},{"$error":"#REF!"},{"$error":"#REF!"},{"$error":"#REF!"},{"$error":"#REF!"},{"$error":"#REF!"},{"$error":"#REF!"},{"$error":"#REF!"},{"$error":"#REF!"},{"$error":"#REF!"},{"$error":"#REF!"},{"$error":"#REF!"},{"$error":"#REF!"},{"$error":"#REF!"},{"$error":"#REF!"},{"$error":"#REF!"},{"$error":"#REF!"},{"$error":"#REF!"},{"$error":"#REF!"},{"$error":"#REF!"},{"$error":"#REF!"},{"$error":"#REF!"},{"$error":"#REF!"},{"$error":"#REF!"},{"$error":"#REF!"},{"$error":"#REF!"},{"$error":"#REF!"},{"$error":"#REF!"},{"$error":"#REF!"},{"$f":"AK$16*AK8","v":{"$error":"#REF!"}},{"$error":"#REF!"},{"$error":"#REF!"},{"$error":"#REF!"},{"$error":"#REF!"},{"$error":"#REF!"},{"$error":"#REF!"},{"$error":"#REF!"},{"$error":"#REF!"},{"$error":"#REF!"},{"$error":"#REF!"},{"$error":"#REF!"},{"$error":"#REF!"},{"$error":"#REF!"},{"$error":"#REF!"},{"$error":"#REF!"},{"$error":"#REF!"},{"$error":"#REF!"},{"$error":"#REF!"},{"$error":"#REF!"},{"$error":"#REF!"},{"$error":"#REF!"},{"$error":"#REF!"},{"$error":"#REF!"},{"$error":"#REF!"},{"$error":"#REF!"},{"$error":"#REF!"},{"$error":"#REF!"},{"$error":"#REF!"},{"$error":"#REF!"},{"$error":"#REF!"},{"$error":"#REF!"},{"$error":"#REF!"},{"$error":"#REF!"}]
[null,{"$f":"B21/B22","v":{"$error":"#REF!"}},null,"<-- Differenz Ta h, Ta Tg"]
[]
[null,{"$f":"'WP1'!B3","v":""},null,"Objekt"]
[null,{"$f":"'WP1'!M3","v":0},null,"Gebäudetyp","Intex",{"$f":"Kategorie-1","v":0},null,"Fg, ev",{"$f":"INDEX('WP1'!P5:P17,Kategorie,1)","v":0},"W/m²"]
[null,{"$f":"EBF","v":0},"m²","EBF"]
[null,{"$f":"'WP1'!M30*EBF/3.6","v":{"$error":"#VALUE!"}},"kWh","Gesamtverlust Qtot"]
[null,{"$f":"'WP1'!H9*(1+Verteilverluste)*EBF/3.6","v":0},"kWh","Heizwärmebedarf QH"]
[null,{"$f":"'WP1'!M30*EBF/3.6-B29","v":{"$error":"#VALUE!"}},"kWh","Genutzte freie Wärme Qug"]
[null,{"$f":"TaMin","v":""},"°C","Auslegungstemperatur"]
[null,{"$f":"'WP1'!H6","v":0},null,"Klimastation"]
[null,"Fehler Qev",null,"Wenn Wahr dann Fehler",{"$f":"IF(ISERROR(B50),TRUE,IF((B50<0),TRUE,FALSE))","v":true}]
[null,null,"Abweichung"]
[null,{"$f":"'WP1'!M32/28*(20-TaMin)","v":{"$error":"#VALUE!"}},"kW",{"$f":"'WP1'!B14","v":"Puissance de chauffage nécessaire sans ECS à °C"}]
[{"$f":"IF(Methode_384_3,1,B35/B36)","v":1},{"$f":"B28*(E15-B31)/B21","v":{"$error":"#VALUE!"}},{"$f":"(B36/B35)-1","v":{"$error":"#VALUE!"}},"Heizwärmeleistung Ta h"]
[null,{"$f":"B28*(E15-B31)/B22","v":{"$error":"#VALUE!"}},{"$f":"(B37/B35)-1","v":{"$error":"#VALUE!"}},"Heizwärmeleistung Ta Tg"]
[]
[null,{"$f":"B28/B21","v":{"$error":"#VALUE!"}},"kW/K","Spez. Leistung Ta h"]
[null,{"$f":"B28/B22","v":{"$error":"#VALUE!"}},"kW/K","Spez. Leistung Ta Tg"]
[null,"Kontrollsumme"]
[null,{"$f":"SUM(E42:BR42)","v":{"$error":"#REF!"}},"kWh","BIN Verluste Ta h",{"$f":"E$16*$B39*E7","v":{"$error":"#REF!"}},{"$error":"#REF!"},{"$error":"#REF!"},{"$error":"#REF!"},{"$error":"#REF!"},{"$error":"#REF!"},{"$error":"#REF!"},{"$error":"#REF!"},{"$error":"#REF!"},{"$error":"#REF!"},{"$error":"#REF!"},{"$error":"#REF!"},{"$error":"#REF!"},{"$error":"#REF!"},{"$error":"#REF!"},{"$error":"#REF!"},{"$error":"#REF!"},{"$error":"#REF!"},{"$error":"#REF!"},{"$error":"#REF!"},{"$error":"#REF!"},{"$error":"#REF!"},{"$error":"#REF!"},{"$error":"#REF!"},{"$error":"#REF!"},{"$error":"#REF!"},{"$error":"#REF!"},{"$error":"#REF!"},{"$error":"#REF!"},{"$error":"#REF!"},{"$error":"#REF!"},{"$error":"#REF!"},{"$f":"AK$16*$B39*AK7","v":{"$error":"#REF!"}},{"$error":"#REF!"},{"$error":"#REF!"},{"$error":"#REF!"},{"$error":"#REF!"},{"$error":"#REF!"},{"$error":"#REF!"},{"$error":"#REF!"},{"$error":"#REF!"},{"$error":"#REF!"},{"$error":"#REF!"},{"$error":"#REF!"},{"$error":"#REF!"},{"$error":"#REF!"},{"$error":"#REF!"},{"$error":"#REF!"},{"$error":"#REF!"},{"$error":"#REF!"},{"$error":"#REF!"},{"$error":"#REF!"},{"$error":"#REF!"},{"$error":"#REF!"},{"$error":"#REF!"},{"$error":"#REF!"},{"$error":"#REF!"},{"$error":"#REF!"},{"$error":"#REF!"},{"$error":"#REF!"},{"$error":"#REF!"},{"$error":"#REF!"},{"$error":"#REF!"},{"$error":"#REF!"},{"$error":"#REF!"},{"$error":"#REF!"}]
[null,{"$f":"SUM(E43:BR43)","v":{"$error":"#REF!"}},"kWh","BIN Verluste Ta Tg",{"$f":"E$16*$B40*E8","v":{"$error":"#REF!"}},{"$error":"#REF!"},{"$error":"#REF!"},{"$error":"#REF!"},{"$error":"#REF!"},{"$error":"#REF!"},{"$error":"#REF!"},{"$error":"#REF!"},{"$error":"#REF!"},{"$error":"#REF!"},{"$error":"#REF!"},{"$error":"#REF!"},{"$error":"#REF!"},{"$error":"#REF!"},{"$error":"#REF!"},{"$error":"#REF!"},{"$error":"#REF!"},{"$error":"#REF!"},{"$error":"#REF!"},{"$error":"#REF!"},{"$error":"#REF!"},{"$error":"#REF!"},{"$error":"#REF!"},{"$error":"#REF!"},{"$error":"#REF!"},{"$error":"#REF!"},{"$error":"#REF!"},{"$error":"#REF!"},{"$error":"#REF!"},{"$error":"#REF!"},{"$error":"#REF!"},{"$error":"#REF!"},{"$f":"AK$16*$B40*AK8","v":{"$error":"#REF!"}},{"$error":"#REF!"},{"$error":"#REF!"},{"$error":"#REF!"},{"$error":"#REF!"},{"$error":"#REF!"},{"$error":"#REF!"},{"$error":"#REF!"},{"$error":"#REF!"},{"$error":"#REF!"},{"$error":"#REF!"},{"$error":"#REF!"},{"$error":"#REF!"},{"$error":"#REF!"},{"$error":"#REF!"},{"$error":"#REF!"},{"$error":"#REF!"},{"$error":"#REF!"},{"$error":"#REF!"},{"$error":"#REF!"},{"$error":"#REF!"},{"$error":"#REF!"},{"$error":"#REF!"},{"$error":"#REF!"},{"$error":"#REF!"},{"$error":"#REF!"},{"$error":"#REF!"},{"$error":"#REF!"},{"$error":"#REF!"},{"$error":"#REF!"},{"$error":"#REF!"},{"$error":"#REF!"},{"$error":"#REF!"},{"$error":"#REF!"}]
[null,{"$f":"B27*I26/1000","v":0},"kW","Fg, ev"]
[null,{"$f":"SUM(E45:BR45)","v":{"$error":"#REF!"}},"kWh","Qug,ev Ta h",{"$f":"MIN(E42,($B$44*E7))","v":{"$error":"#REF!"}},{"$error":"#REF!"},{"$error":"#REF!"},{"$error":"#REF!"},{"$error":"#REF!"},{"$error":"#REF!"},{"$error":"#REF!"},{"$error":"#REF!"},{"$error":"#REF!"},{"$error":"#REF!"},{"$error":"#REF!"},{"$error":"#REF!"},{"$error":"#REF!"},{"$error":"#REF!"},{"$error":"#REF!"},{"$error":"#REF!"},{"$error":"#REF!"},{"$error":"#REF!"},{"$error":"#REF!"},{"$error":"#REF!"},{"$error":"#REF!"},{"$error":"#REF!"},{"$error":"#REF!"},{"$error":"#REF!"},{"$error":"#REF!"},{"$error":"#REF!"},{"$error":"#REF!"},{"$error":"#REF!"},{"$error":"#REF!"},{"$error":"#REF!"},{"$error":"#REF!"},{"$error":"#REF!"},{"$f":"MIN(AK42,($B$44*AK7))","v":{"$error":"#REF!"}},{"$error":"#REF!"},{"$error":"#REF!"},{"$error":"#REF!"},{"$error":"#REF!"},{"$error":"#REF!"},{"$error":"#REF!"},{"$error":"#REF!"},{"$error":"#REF!"},{"$error":"#REF!"},{"$error":"#REF!"},{"$error":"#REF!"},{"$error":"#REF!"},{"$error":"#REF!"},{"$error":"#REF!"},{"$error":"#REF!"},{"$error":"#REF!"},{"$error":"#REF!"},{"$error":"#REF!"},{"$error":"#REF!"},{"$error":"#REF!"},{"$error":"#REF!"},{"$error":"#REF!"},{"$error":"#REF!"},{"$error":"#REF!"},{"$error":"#REF!"},{"$error":"#REF!"},{"$error":"#REF!"},{"$error":"#REF!"},{"$error":"#REF!"},{"$error":"#REF!"},{"$error":"#REF!"},{"$error":"#REF!"},{"$error":"#REF!"}]
[null,{"$f":"SUM(E46:BR46)","v":{"$error":"#REF!"}},"kWh","Qug,ev Ta Tg",{"$f":"MIN(E43,($B$44*E8))","v":{"$error":"#REF!"}},{"$error":"#REF!"},{"$error":"#REF!"},{"$error":"#REF!"},{"$error":"#REF!"},{"$error":"#REF!"},{"$error":"#REF!"},{"$error":"#REF!"},{"$error":"#REF!"},{"$error":"#REF!"},{"$error":"#REF!"},{"$error":"#REF!"},{"$error":"#REF!"},{"$error":"#REF!"},{"$error":"#REF!"},{"$error":"#REF!"},{"$error":"#REF!"},{"$error":"#REF!"},{"$error":"#REF!"},{"$error":"#REF!"},{"$error":"#REF!"},{"$error":"#REF!"},{"$error":"#REF!"},{"$error":"#REF!"},{"$error":"#REF!"},{"$error":"#REF!"},{"$error":"#REF!"},{"$error":"#REF!"},{"$error":"#REF!"},{"$error":"#REF!"},{"$error":"#REF!"},{"$error":"#REF!"},{"$f":"MIN(AK43,($B$44*AK8))","v":{"$error":"#REF!"}},{"$error":"#REF!"},{"$error":"#REF!"},{"$error":"#REF!"},{"$error":"#REF!"},{"$error":"#REF!"},{"$error":"#REF!"},{"$error":"#REF!"},{"$error":"#REF!"},{"$error":"#REF!"},{"$error":"#REF!"},{"$error":"#REF!"},{"$error":"#REF!"},{"$error":"#REF!"},{"$error":"#REF!"},{"$error":"#REF!"},{"$error":"#REF!"},{"$error":"#REF!"},{"$error":"#REF!"},{"$error":"#REF!"},{"$error":"#REF!"},{"$error":"#REF!"},{"$error":"#REF!"},{"$error":"#REF!"},{"$error":"#REF!"},{"$error":"#REF!"},{"$error":"#REF!"},{"$error":"#REF!"},{"$error":"#REF!"},{"$error":"#REF!"},{"$error":"#REF!"},{"$error":"#REF!"},{"$error":"#REF!"},{"$error":"#REF!"}]
[null,null,null,"Verbleibende Heizstunden"]
[null,{"$f":"SUM(E48:BR48)","v":{"$error":"#REF!"}},"h","tQtot - Qug,ev Ta h",{"$f":"(E45<>E42)*E7","v":{"$error":"#REF!"}},{"$error":"#REF!"},{"$error":"#REF!"},{"$error":"#REF!"},{"$error":"#REF!"},{"$error":"#REF!"},{"$error":"#REF!"},{"$error":"#REF!"},{"$error":"#REF!"},{"$error":"#REF!"},{"$error":"#REF!"},{"$error":"#REF!"},{"$error":"#REF!"},{"$error":"#REF!"},{"$error":"#REF!"},{"$error":"#REF!"},{"$error":"#REF!"},{"$error":"#REF!"},{"$error":"#REF!"},{"$error":"#REF!"},{"$error":"#REF!"},{"$error":"#REF!"},{"$error":"#REF!"},{"$error":"#REF!"},{"$error":"#REF!"},{"$error":"#REF!"},{"$error":"#REF!"},{"$error":"#REF!"},{"$error":"#REF!"},{"$error":"#REF!"},{"$error":"#REF!"},{"$error":"#REF!"},{"$f":"(AK45<>AK42)*AK7","v":{"$error":"#REF!"}},{"$error":"#REF!"},{"$error":"#REF!"},{"$error":"#REF!"},{"$error":"#REF!"},{"$error":"#REF!"},{"$error":"#REF!"},{"$error":"#REF!"},{"$error":"#REF!"},{"$error":"#REF!"},{"$error":"#REF!"},{"$error":"#REF!"},{"$error":"#REF!"},{"$error":"#REF!"},{"$error":"#REF!"},{"$error":"#REF!"},{"$error":"#REF!"},{"$error":"#REF!"},{"$error":"#REF!"},{"$error":"#REF!"},{"$error":"#REF!"},{"$error":"#REF!"},{"$error":"#REF!"},{"$error":"#REF!"},{"$error":"#REF!"},{"$error":"#REF!"},{"$error":"#REF!"},{"$error":"#REF!"},{"$error":"#REF!"},{"$error":"#REF!"},{"$error":"#REF!"},{"$error":"#REF!"},{"$error":"#REF!"},{"$error":"#REF!"}]
[null,{"$f":"SUM(E49:BR49)","v":{"$error":"#REF!"}},"h","tQtot - Qug,ev Ta Tg",{"$f":"(E46<>E43)*E8","v":{"$error":"#REF!"}},{"$error":"#REF!"},{"$error":"#REF!"},{"$error":"#REF!"},{"$error":"#REF!"},{"$error":"#REF!"},{"$error":"#REF!"},{"$error":"#REF!"},{"$error":"#REF!"},{"$error":"#REF!"},{"$error":"#REF!"},{"$error":"#REF!"},{"$error":"#REF!"},{"$error":"#REF!"},{"$error":"#REF!"},{"$error":"#REF!"},{"$error":"#REF!"},{"$error":"#REF!"},{"$error":"#REF!"},{"$error":"#REF!"},{"$error":"#REF!"},{"$error":"#REF!"},{"$error":"#REF!"},{"$error":"#REF!"},{"$error":"#REF!"},{"$error":"#REF!"},{"$error":"#REF!"},{"$error":"#REF!"},{"$error":"#REF!"},{"$error":"#REF!"},{"$error":"#REF!"},{"$error":"#REF!"},{"$f":"(AK46<>AK43)*AK8","v":{"$error":"#REF!"}},{"$error":"#REF!"},{"$error":"#REF!"},{"$error":"#REF!"},{"$error":"#REF!"},{"$error":"#REF!"},{"$error":"#REF!"},{"$error":"#REF!"},{"$error":"#REF!"},{"$error":"#REF!"},{"$error":"#REF!"},{"$error":"#REF!"},{"$error":"#REF!"},{"$error":"#REF!"},{"$error":"#REF!"},{"$error":"#REF!"},{"$error":"#REF!"},{"$error":"#REF!"},{"$error":"#REF!"},{"$error":"#REF!"},{"$error":"#REF!"},{"$error":"#REF!"},{"$error":"#REF!"},{"$error":"#REF!"},{"$error":"#REF!"},{"$error":"#REF!"},{"$error":"#REF!"},{"$error":"#REF!"},{"$error":"#REF!"},{"$error":"#REF!"},{"$error":"#REF!"},{"$error":"#REF!"},{"$error":"#REF!"},{"$error":"#REF!"}]
[null,{"$f":"B30-B45","v":{"$error":"#VALUE!"}},"kWh","Qug,ue Ta h"]
[null,{"$f":"B30-B46","v":{"$error":"#VALUE!"}},"kWh","Qug,ue Ta Tg"]
[null,{"$f":"B50/B48","v":{"$error":"#VALUE!"}},"kW","Fg, ue Ta h"]
[null,{"$f":"B51/B49","v":{"$error":"#VALUE!"}},"kW","Fg, ue Ta h"]
[null,{"$f":"SUM(E54:BR54)","v":{"$error":"#VALUE!"}},"kWh","Qug,ue Ta h BINs Vorgabe",{"$f":"MIN($B52*E48,(E42-E45))","v":{"$error":"#VALUE!"}},{"$error":"#VALUE!"},{"$error":"#VALUE!"},{"$error":"#VALUE!"},{"$error":"#VALUE!"},{"$error":"#VALUE!"},{"$error":"#VALUE!"},{"$error":"#VALUE!"},{"$error":"#VALUE!"},{"$error":"#VALUE!"},{"$error":"#VALUE!"},{"$error":"#VALUE!"},{"$error":"#VALUE!"},{"$error":"#VALUE!"},{"$error":"#VALUE!"},{"$error":"#VALUE!"},{"$error":"#VALUE!"},{"$error":"#VALUE!"},{"$error":"#VALUE!"},{"$error":"#VALUE!"},{"$error":"#VALUE!"},{"$error":"#VALUE!"},{"$error":"#VALUE!"},{"$error":"#VALUE!"},{"$error":"#VALUE!"},{"$error":"#VALUE!"},{"$error":"#VALUE!"},{"$error":"#VALUE!"},{"$error":"#VALUE!"},{"$error":"#VALUE!"},{"$error":"#VALUE!"},{"$error":"#VALUE!"},{"$f":"MIN($B52*AK48,(AK42-AK45))","v":{"$error":"#VALUE!"}},{"$error":"#VALUE!"},{"$error":"#VALUE!"},{"$error":"#VALUE!"},{"$error":"#VALUE!"},{"$error":"#VALUE!"},{"$error":"#VALUE!"},{"$error":"#VALUE!"},{"$error":"#VALUE!"},{"$error":"#VALUE!"},{"$error":"#VALUE!"},{"$error":"#VALUE!"},{"$error":"#VALUE!"},{"$error":"#VALUE!"},{"$error":"#VALUE!"},{"$error":"#VALUE!"},{"$error":"#VALUE!"},{"$error":"#VALUE!"},{"$error":"#VALUE!"},{"$error":"#VALUE!"},{"$error":"#VALUE!"},{"$error":"#VALUE!"},{"$error":"#VALUE!"},{"$error":"#VALUE!"},{"$error":"#VALUE!"},{"$error":"#VALUE!"},{"$error":"#VALUE!"},{"$error":"#VALUE!"},{"$error":"#VALUE!"},{"$error":"#VALUE!"},{"$error":"#VALUE!"},{"$error":"#VALUE!"},{"$error":"#VALUE!"},{"$error":"#VALUE!"}]
[null,{"$f":"SUM(E55:BR55)","v":{"$error":"#VALUE!"}},"kWh","Qug,ue Ta Tg BINs Vorgabe",{"$f":"MIN($B53*E49,(E43-E46))","v":{"$error":"#VALUE!"}},{"$error":"#VALUE!"},{"$error":"#VALUE!"},{"$error":"#VALUE!"},{"$error":"#VALUE!"},{"$error":"#VALUE!"},{"$error":"#VALUE!"},{"$error":"#VALUE!"},{"$error":"#VALUE!"},{"$error":"#VALUE!"},{"$error":"#VALUE!"},{"$error":"#VALUE!"},{"$error":"#VALUE!"},{"$error":"#VALUE!"},{"$error":"#VALUE!"},{"$error":"#VALUE!"},{"$error":"#VALUE!"},{"$error":"#VALUE!"},{"$error":"#VALUE!"},{"$error":"#VALUE!"},{"$error":"#VALUE!"},{"$error":"#VALUE!"},{"$error":"#VALUE!"},{"$error":"#VALUE!"},{"$error":"#VALUE!"},{"$error":"#VALUE!"},{"$error":"#VALUE!"},{"$error":"#VALUE!"},{"$error":"#VALUE!"},{"$error":"#VALUE!"},{"$error":"#VALUE!"},{"$error":"#VALUE!"},{"$f":"MIN($B53*AK49,(AK43-AK46))","v":{"$error":"#VALUE!"}},{"$error":"#VALUE!"},{"$error":"#VALUE!"},{"$error":"#VALUE!"},{"$error":"#VALUE!"},{"$error":"#VALUE!"},{"$error":"#VALUE!"},{"$error":"#VALUE!"},{"$error":"#VALUE!"},{"$error":"#VALUE!"},{"$error":"#VALUE!"},{"$error":"#VALUE!"},{"$error":"#VALUE!"},{"$error":"#VALUE!"},{"$error":"#VALUE!"},{"$error":"#VALUE!"},{"$error":"#VALUE!"},{"$error":"#VALUE!"},{"$error":"#VALUE!"},{"$error":"#VALUE!"},{"$error":"#VALUE!"},{"$error":"#VALUE!"},{"$error":"#VALUE!"},{"$error":"#VALUE!"},{"$error":"#VALUE!"},{"$error":"#VALUE!"},{"$error":"#VALUE!"},{"$error":"#VALUE!"},{"$error":"#VALUE!"},{"$error":"#VALUE!"},{"$error":"#VALUE!"},{"$error":"#VALUE!"},{"$error":"#VALUE!"},{"$error":"#VALUE!"}]
[null,{"$f":"B50-B54","v":{"$error":"#VALUE!"}},"kWh","Qug,ue Ta h Differenz"]
[null,{"$f":"B51-B55","v":{"$error":"#VALUE!"}},"kWh","Qug,ue Ta Tg  Differenz"]
[null,{"$f":"SUM(E58:BR58)","v":{"$error":"#REF!"}},"h","tQtot - Qug,ev Ta h Differenz",{"$f":"((E42-E45-E54)>0)*E7","v":{"$error":"#REF!"}},{"$error":"#REF!"},{"$error":"#REF!"},{"$error":"#REF!"},{"$error":"#REF!"},{"$error":"#REF!"},{"$error":"#REF!"},{"$error":"#REF!"},{"$error":"#REF!"},{"$error":"#REF!"},{"$error":"#REF!"},{"$error":"#REF!"},{"$error":"#REF!"},{"$error":"#REF!"},{"$error":"#REF!"},{"$error":"#REF!"},{"$error":"#REF!"},{"$error":"#REF!"},{"$error":"#REF!"},{"$error":"#REF!"},{"$error":"#REF!"},{"$error":"#REF!"},{"$error":"#REF!"},{"$error":"#REF!"},{"$error":"#REF!"},{"$error":"#REF!"},{"$error":"#REF!"},{"$error":"#REF!"},{"$error":"#REF!"},{"$error":"#REF!"},{"$error":"#REF!"},{"$error":"#REF!"},{"$f":"((AK42-AK45-AK54)>0)*AK7","v":{"$error":"#REF!"}},{"$error":"#REF!"},{"$error":"#REF!"},{"$error":"#REF!"},{"$error":"#REF!"},{"$error":"#REF!"},{"$error":"#REF!"},{"$error":"#REF!"},{"$error":"#REF!"},{"$error":"#REF!"},{"$error":"#REF!"},{"$error":"#REF!"},{"$error":"#REF!"},{"$error":"#REF!"},{"$error":"#REF!"},{"$error":"#REF!"},{"$error":"#REF!"},{"$error":"#REF!"},{"$error":"#REF!"},{"$error":"#REF!"},{"$error":"#REF!"},{"$error":"#REF!"},{"$error":"#REF!"},{"$error":"#REF!"},{"$error":"#REF!"},{"$error":"#REF!"},{"$error":"#REF!"},{"$error":"#REF!"},{"$error":"#REF!"},{"$error":"#REF!"},{"$error":"#REF!"},{"$error":"#REF!"},{"$error":"#REF!"},{"$error":"#REF!"}]
[null,{"$f":"SUM(E59:BR59)","v":{"$error":"#REF!"}},"h","tQtot - Qug,ev Ta Tg Differenz",{"$f":"((E43-E46-E55)>0)*E8","v":{"$error":"#REF!"}},{"$error":"#REF!"},{"$error":"#REF!"},{"$error":"#REF!"},{"$error":"#REF!"},{"$error":"#REF!"},{"$error":"#REF!"},{"$error":"#REF!"},{"$error":"#REF!"},{"$error":"#REF!"},{"$error":"#REF!"},{"$error":"#REF!"},{"$error":"#REF!"},{"$error":"#REF!"},{"$error":"#REF!"},{"$error":"#REF!"},{"$error":"#REF!"},{"$error":"#REF!"},{"$error":"#REF!"},{"$error":"#REF!"},{"$error":"#REF!"},{"$error":"#REF!"},{"$error":"#REF!"},{"$error":"#REF!"},{"$error":"#REF!"},{"$error":"#REF!"},{"$error":"#REF!"},{"$error":"#REF!"},{"$error":"#REF!"},{"$error":"#REF!"},{"$error":"#REF!"},{"$error":"#REF!"},{"$f":"((AK43-AK46-AK55)>0)*AK8","v":{"$error":"#REF!"}},{"$error":"#REF!"},{"$error":"#REF!"},{"$error":"#REF!"},{"$error":"#REF!"},{"$error":"#REF!"},{"$error":"#REF!"},{"$error":"#REF!"},{"$error":"#REF!"},{"$error":"#REF!"},{"$error":"#REF!"},{"$error":"#REF!"},{"$error":"#REF!"},{"$error":"#REF!"},{"$error":"#REF!"},{"$error":"#REF!"},{"$error":"#REF!"},{"$error":"#REF!"},{"$error":"#REF!"},{"$error":"#REF!"},{"$error":"#REF!"},{"$error":"#REF!"},{"$error":"#REF!"},{"$error":"#REF!"},{"$error":"#REF!"},{"$error":"#REF!"},{"$error":"#REF!"},{"$error":"#REF!"},{"$error":"#REF!"},{"$error":"#REF!"},{"$error":"#REF!"},{"$error":"#REF!"},{"$error":"#REF!"},{"$error":"#REF!"}]
[null,{"$f":"B56/B58","v":{"$error":"#VALUE!"}},"kW","Fg, ue Ta h Differenz"]
[null,{"$f":"B57/B59","v":{"$error":"#VALUE!"}},"kW","Fg, ue Ta Tg Differenz"]
[null,{"$f":"SUM(E62:BR62)","v":{"$error":"#REF!"}},"kWh","Qug,ue Ta h BINs Differenz",{"$f":"MIN(E58*$B60,(E42-E45-E54))","v":{"$error":"#REF!"}},{"$error":"#REF!"},{"$error":"#REF!"},{"$error":"#REF!"},{"$error":"#REF!"},{"$error":"#REF!"},{"$error":"#REF!"},{"$error":"#REF!"},{"$error":"#REF!"},{"$error":"#REF!"},{"$error":"#REF!"},{"$error":"#REF!"},{"$error":"#REF!"},{"$error":"#REF!"},{"$error":"#REF!"},{"$error":"#REF!"},{"$error":"#REF!"},{"$error":"#REF!"},{"$error":"#REF!"},{"$error":"#REF!"},{"$error":"#REF!"},{"$error":"#REF!"},{"$error":"#REF!"},{"$error":"#REF!"},{"$error":"#REF!"},{"$error":"#REF!"},{"$error":"#REF!"},{"$error":"#REF!"},{"$error":"#REF!"},{"$error":"#REF!"},{"$error":"#REF!"},{"$error":"#REF!"},{"$f":"MIN(AK58*$B60,(AK42-AK45-AK54))","v":{"$error":"#REF!"}},{"$error":"#REF!"},{"$error":"#REF!"},{"$error":"#REF!"},{"$error":"#REF!"},{"$error":"#REF!"},{"$error":"#REF!"},{"$error":"#REF!"},{"$error":"#REF!"},{"$error":"#REF!"},{"$error":"#REF!"},{"$error":"#REF!"},{"$error":"#REF!"},{"$error":"#REF!"},{"$error":"#REF!"},{"$error":"#REF!"},{"$error":"#REF!"},{"$error":"#REF!"},{"$error":"#REF!"},{"$error":"#REF!"},{"$error":"#REF!"},{"$error":"#REF!"},{"$error":"#REF!"},{"$error":"#REF!"},{"$error":"#REF!"},{"$error":"#REF!"},{"$error":"#REF!"},{"$error":"#REF!"},{"$error":"#REF!"},{"$error":"#REF!"},{"$error":"#REF!"},{"$error":"#REF!"},{"$error":"#REF!"},{"$error":"#REF!"}]
[null,{"$error":"#REF!"},"kWh","Qug,ue Ta Tg BINs Differenz",{"$f":"MIN(E59*$B61,(E43-E46-E55))","v":{"$error":"#REF!"}},{"$error":"#REF!"},{"$error":"#REF!"},{"$error":"#REF!"},{"$error":"#REF!"},{"$error":"#REF!"},{"$error":"#REF!"},{"$error":"#REF!"},{"$error":"#REF!"},{"$error":"#REF!"},{"$error":"#REF!"},{"$error":"#REF!"},{"$error":"#REF!"},{"$error":"#REF!"},{"$error":"#REF!"},{"$error":"#REF!"},{"$error":"#REF!"},{"$error":"#REF!"},{"$error":"#REF!"},{"$error":"#REF!"},{"$error":"#REF!"},{"$error":"#REF!"},{"$error":"#REF!"},{"$error":"#REF!"},{"$error":"#REF!"},{"$error":"#REF!"},{"$error":"#REF!"},{"$error":"#REF!"},{"$error":"#REF!"},{"$error":"#REF!"},{"$error":"#REF!"},{"$error":"#REF!"},{"$f":"MIN(AK59*$B61,(AK43-AK46-AK55))","v":{"$error":"#REF!"}},{"$error":"#REF!"},{"$error":"#REF!"},{"$error":"#REF!"},{"$error":"#REF!"},{"$error":"#REF!"},{"$error":"#REF!"},{"$error":"#REF!"},{"$error":"#REF!"},{"$error":"#REF!"},{"$error":"#REF!"},{"$error":"#REF!"},{"$error":"#REF!"},{"$error":"#REF!"},{"$error":"#REF!"},{"$error":"#REF!"},{"$error":"#REF!"},{"$error":"#REF!"},{"$error":"#REF!"},{"$error":"#REF!"},{"$error":"#REF!"},{"$error":"#REF!"},{"$error":"#REF!"},{"$error":"#REF!"},{"$error":"#REF!"},{"$error":"#REF!"},{"$error":"#REF!"},{"$error":"#REF!"},{"$error":"#REF!"},{"$error":"#REF!"},{"$error":"#REF!"},{"$error":"#REF!"},{"$error":"#REF!"},{"$error":"#REF!"}]
[null,{"$error":"#VALUE!"},"kWh","Qug,ue Ta h BINs Fehler",{"$f":"$B60*E58-E62","v":{"$error":"#VALUE!"}},{"$error":"#VALUE!"},{"$error":"#VALUE!"},{"$error":"#VALUE!"},{"$error":"#VALUE!"},{"$error":"#VALUE!"},{"$error":"#VALUE!"},{"$error":"#VALUE!"},{"$error":"#VALUE!"},{"$error":"#VALUE!"},{"$error":"#VALUE!"},{"$error":"#VALUE!"},{"$error":"#VALUE!"},{"$error":"#VALUE!"},{"$error":"#VALUE!"},{"$error":"#VALUE!"},{"$error":"#VALUE!"},{"$error":"#VALUE!"},{"$error":"#VALUE!"},{"$error":"#VALUE!"},{"$error":"#VALUE!"},{"$error":"#VALUE!"},{"$error":"#VALUE!"},{"$error":"#VALUE!"},{"$error":"#VALUE!"},{"$error":"#VALUE!"},{"$error":"#VALUE!"},{"$error":"#VALUE!"},{"$error":"#VALUE!"},{"$error":"#VALUE!"},{"$error":"#VALUE!"},{"$error":"#VALUE!"},{"$f":"$B60*AK58-AK62","v":{"$error":"#VALUE!"}},{"$error":"#VALUE!"},{"$error":"#VALUE!"},{"$error":"#VALUE!"},{"$error":"#VALUE!"},{"$error":"#VALUE!"},{"$error":"#VALUE!"},{"$error":"#VALUE!"},{"$error":"#VALUE!"},{"$error":"#VALUE!"},{"$error":"#VALUE!"},{"$error":"#VALUE!"},{"$error":"#VALUE!"},{"$error":"#VALUE!"},{"$error":"#VALUE!"},{"$error":"#VALUE!"},{"$error":"#VALUE!"},{"$error":"#VALUE!"},{"$error":"#VALUE!"},{"$error":"#VALUE!"},{"$error":"#VALUE!"},{"$error":"#VALUE!"},{"$error":"#VALUE!"},{"$error":"#VALUE!"},{"$error":"#VALUE!"},{"$error":"#VALUE!"},{"$error":"#VALUE!"},{"$error":"#VALUE!"},{"$error":"#VALUE!"},{"$error":"#VALUE!"},{"$error":"#VALUE!"},{"$error":"#VALUE!"},{"$error":"#VALUE!"},{"$error":"#VALUE!"}]
[null,{"$error":"#VALUE!"},"kWh","Qug,ue Ta Tg BINs Fehler",{"$f":"$B61*E59-E63","v":{"$error":"#VALUE!"}},{"$error":"#VALUE!"},{"$error":"#VALUE!"},{"$error":"#VALUE!"},{"$error":"#VALUE!"},{"$error":"#VALUE!"},{"$error":"#VALUE!"},{"$error":"#VALUE!"},{"$error":"#VALUE!"},{"$error":"#VALUE!"},{"$error":"#VALUE!"},{"$error":"#VALUE!"},{"$error":"#VALUE!"},{"$error":"#VALUE!"},{"$error":"#VALUE!"},{"$error":"#VALUE!"},{"$error":"#VALUE!"},{"$error":"#VALUE!"},{"$error":"#VALUE!"},{"$error":"#VALUE!"},{"$error":"#VALUE!"},{"$error":"#VALUE!"},{"$error":"#VALUE!"},{"$error":"#VALUE!"},{"$error":"#VALUE!"},{"$error":"#VALUE!"},{"$error":"#VALUE!"},{"$error":"#VALUE!"},{"$error":"#VALUE!"},{"$error":"#VALUE!"},{"$error":"#VALUE!"},{"$error":"#VALUE!"},{"$f":"$B61*AK59-AK63","v":{"$error":"#VALUE!"}},{"$error":"#VALUE!"},{"$error":"#VALUE!"},{"$error":"#VALUE!"},{"$error":"#VALUE!"},{"$error":"#VALUE!"},{"$error":"#VALUE!"},{"$error":"#VALUE!"},{"$error":"#VALUE!"},{"$error":"#VALUE!"},{"$error":"#VALUE!"},{"$error":"#VALUE!"},{"$error":"#VALUE!"},{"$error":"#VALUE!"},{"$error":"#VALUE!"},{"$error":"#VALUE!"},{"$error":"#VALUE!"},{"$error":"#VALUE!"},{"$error":"#VALUE!"},{"$error":"#VALUE!"},{"$error":"#VALUE!"},{"$error":"#VALUE!"},{"$error":"#VALUE!"},{"$error":"#VALUE!"},{"$error":"#VALUE!"},{"$error":"#VALUE!"},{"$error":"#VALUE!"},{"$error":"#VALUE!"},{"$error":"#VALUE!"},{"$error":"#VALUE!"},{"$error":"#VALUE!"},{"$error":"#VALUE!"},{"$error":"#VALUE!"},{"$error":"#VALUE!"}]
[null,{"$error":"#VALUE!"},"kWh","Qug,ue Ta h BINs Umlage",{"$f":"MIN(AVERAGE(F64:O64),E42-E45-E54-E62)","v":{"$error":"#VALUE!"}},{"$error":"#VALUE!"},{"$error":"#VALUE!"},{"$error":"#VALUE!"},{"$error":"#VALUE!"},{"$error":"#VALUE!"},{"$error":"#VALUE!"},{"$error":"#VALUE!"},{"$error":"#VALUE!"},{"$error":"#VALUE!"},{"$f":"MIN(AVERAGE(P64:Y64),O42-O45-O54-O62)","v":{"$error":"#VALUE!"}},{"$error":"#VALUE!"},{"$error":"#VALUE!"},{"$error":"#VALUE!"},{"$error":"#VALUE!"},{"$error":"#VALUE!"},{"$error":"#VALUE!"},{"$error":"#VALUE!"},{"$error":"#VALUE!"},{"$error":"#VALUE!"},{"$f":"MIN(AVERAGE(Z64:AI64),Y42-Y45-Y54-Y62)","v":{"$error":"#VALUE!"}},{"$error":"#VALUE!"},{"$error":"#VALUE!"},{"$error":"#VALUE!"},{"$error":"#VALUE!"},{"$error":"#VALUE!"},{"$error":"#VALUE!"},{"$error":"#VALUE!"},{"$error":"#VALUE!"},{"$error":"#VALUE!"},{"$f":"MIN(AVERAGE(AJ64:AS64),AI42-AI45-AI54-AI62)","v":{"$error":"#VALUE!"}},{"$error":"#VALUE!"},{"$error":"#VALUE!"},{"$error":"#VALUE!"},{"$error":"#VALUE!"},{"$error":"#VALUE!"},{"$error":"#VALUE!"},{"$error":"#VALUE!"},{"$error":"#VALUE!"},{"$error":"#VALUE!"},{"$f":"MIN(AVERAGE(AT64:BC64),AS42-AS45-AS54-AS62)","v":{"$error":"#VALUE!"}},{"$error":"#VALUE!"},{"$error":"#VALUE!"},{"$error":"#VALUE!"},{"$error":"#VALUE!"},{"$error":"#VALUE!"},{"$error":"#VALUE!"},{"$error":"#VALUE!"},{"$error":"#VALUE!"},{"$error":"#VALUE!"},{"$f":"MIN(AVERAGE(BD64:BM64),BC42-BC45-BC54-BC62)","v":{"$error":"#VALUE!"}},{"$error":"#VALUE!"},{"$error":"#VALUE!"},{"$error":"#VALUE!"},{"$error":"#VALUE!"},{"$error":"#VALUE!"},{"$error":"#VALUE!"}]
[null,{"$error":"#VALUE!"},"kWh","Qug,ue Ta Tg BINs Umlage",{"$error":"#VALUE!"},{"$error":"#VALUE!"},{"$error":"#VALUE!"},{"$error":"#VALUE!"},{"$error":"#VALUE!"},{"$error":"#VALUE!"},{"$error":"#VALUE!"},{"$error":"#VALUE!"},{"$error":"#VALUE!"},{"$error":"#VALUE!"},{"$error":"#VALUE!"},{"$error":"#VALUE!"},{"$error":"#VALUE!"},{"$error":"#VALUE!"},{"$error":"#VALUE!"},{"$error":"#VALUE!"},{"$error":"#VALUE!"},{"$error":"#VALUE!"},{"$error":"#VALUE!"},{"$error":"#VALUE!"},{"$error":"#VALUE!"},{"$error":"#VALUE!"},{"$error":"#VALUE!"},{"$error":"#VALUE!"},{"$error":"#VALUE!"},{"$error":"#VALUE!"},{"$error":"#VALUE!"},{"$error":"#VALUE!"},{"$error":"#VALUE!"},{"$error":"#VALUE!"},{"$error":"#VALUE!"},{"$error":"#VALUE!"},{"$error":"#VALUE!"},{"$error":"#VALUE!"},{"$error":"#VALUE!"},{"$error":"#VALUE!"},{"$error":"#VALUE!"},{"$error":"#VALUE!"},{"$error":"#VALUE!"},{"$error":"#VALUE!"},{"$error":"#VALUE!"},{"$error":"#VALUE!"},{"$error":"#VALUE!"},{"$error":"#VALUE!"},{"$error":"#VALUE!"},{"$error":"#VALUE!"},{"$error":"#VALUE!"},{"$error":"#VALUE!"},{"$error":"#VALUE!"},{"$error":"#VALUE!"},{"$error":"#VALUE!"},{"$error":"#VALUE!"},{"$error":"#VALUE!"},{"$error":"#VALUE!"},{"$error":"#VALUE!"},{"$error":"#VALUE!"},{"$error":"#VALUE!"}]
[]
[null,{"$f":"SUM(E69:BR69)","v":{"$error":"#REF!"}},"kWh","Qtot Ta h BINs",{"$f":"E42","v":{"$error":"#REF!"}},{"$error":"#REF!"},{"$error":"#REF!"},{"$error":"#REF!"},{"$error":"#REF!"},{"$error":"#REF!"},{"$error":"#REF!"},{"$error":"#REF!"},{"$error":"#REF!"},{"$error":"#REF!"},{"$error":"#REF!"},{"$error":"#REF!"},{"$error":"#REF!"},{"$error":"#REF!"},{"$error":"#REF!"},{"$error":"#REF!"},{"$error":"#REF!"},{"$error":"#REF!"},{"$error":"#REF!"},{"$error":"#REF!"},{"$error":"#REF!"},{"$error":"#REF!"},{"$error":"#REF!"},{"$error":"#REF!"},{"$error":"#REF!"},{"$error":"#REF!"},{"$error":"#REF!"},{"$error":"#REF!"},{"$error":"#REF!"},{"$error":"#REF!"},{"$error":"#REF!"},{"$error":"#REF!"},{"$f":"AK42","v":{"$error":"#REF!"}},{"$error":"#REF!"},{"$error":"#REF!"},{"$error":"#REF!"},{"$error":"#REF!"},{"$error":"#REF!"},{"$error":"#REF!"},{"$error":"#REF!"},{"$error":"#REF!"},{"$error":"#REF!"},{"$error":"#REF!"},{"$error":"#REF!"},{"$error":"#REF!"},{"$error":"#REF!"},{"$error":"#REF!"},{"$error":"#REF!"},{"$error":"#REF!"},{"$error":"#REF!"},{"$error":"#REF!"},{"$error":"#REF!"},{"$error":"#REF!"},{"$error":"#REF!"},{"$error":"#REF!"},{"$error":"#REF!"},{"$error":"#REF!"},{"$error":"#REF!"},{"$error":"#REF!"},{"$error":"#REF!"},{"$error":"#REF!"},{"$error":"#REF!"},{"$error":"#REF!"},{"$error":"#REF!"},{"$error":"#REF!"},{"$error":"#REF!"}]
[null,{"$error":"#REF!"},"kWh","Qtot Ta Tg BINS",{"$f":"E43","v":{"$error":"#REF!"}},{"$error":"#REF!"},{"$error":"#REF!"},{"$error":"#REF!"},{"$error":"#REF!"},{"$error":"#REF!"},{"$error":"#REF!"},{"$error":"#REF!"},{"$error":"#REF!"},{"$error":"#REF!"},{"$error":"#REF!"},{"$error":"#REF!"},{"$error":"#REF!"},{"$error":"#REF!"},{"$error":"#REF!"},{"$error":"#REF!"},{"$error":"#REF!"},{"$error":"#REF!"},{"$error":"#REF!"},{"$error":"#REF!"},{"$error":"#REF!"},{"$error":"#REF!"},{"$error":"#REF!"},{"$error":"#REF!"},{"$error":"#REF!"},{"$error":"#REF!"},{"$error":"#REF!"},{"$error":"#REF!"},{"$error":"#REF!"},{"$error":"#REF!"},{"$error":"#REF!"},{"$error":"#REF!"},{"$f":"AK43","v":{"$error":"#REF!"}},{"$error":"#REF!"},{"$error":"#REF!"},{"$error":"#REF!"},{"$error":"#REF!"},{"$error":"#REF!"},{"$error":"#REF!"},{"$error":"#REF!"},{"$error":"#REF!"},{"$error":"#REF!"},{"$error":"#REF!"},{"$error":"#REF!"},{"$error":"#REF!"},{"$error":"#REF!"},{"$error":"#REF!"},{"$error":"#REF!"},{"$error":"#REF!"},{"$error":"#REF!"},{"$error":"#REF!"},{"$error":"#REF!"},{"$error":"#REF!"},{"$error":"#REF!"},{"$error":"#REF!"},{"$error":"#REF!"},{"$error":"#REF!"},{"$error":"#REF!"},{"$error":"#REF!"},{"$error":"#REF!"},{"$error":"#REF!"},{"$error":"#REF!"},{"$error":"#REF!"},{"$error":"#REF!"},{"$error":"#REF!"},{"$error":"#REF!"}]
[null,{"$error":"#REF!"},"kWh","Qug,ev Ta h BINs",{"$f":"E45","v":{"$error":"#REF!"}},{"$error":"#REF!"},{"$error":"#REF!"},{"$error":"#REF!"},{"$error":"#REF!"},{"$error":"#REF!"},{"$error":"#REF!"},{"$error":"#REF!"},{"$error":"#REF!"},{"$error":"#REF!"},{"$error":"#REF!"},{"$error":"#REF!"},{"$error":"#REF!"},{"$error":"#REF!"},{"$error":"#REF!"},{"$error":"#REF!"},{"$error":"#REF!"},{"$error":"#REF!"},{"$error":"#REF!"},{"$error":"#REF!"},{"$error":"#REF!"},{"$error":"#REF!"},{"$error":"#REF!"},{"$error":"#REF!"},{"$error":"#REF!"},{"$error":"#REF!"},{"$error":"#REF!"},{"$error":"#REF!"},{"$error":"#REF!"},{"$error":"#REF!"},{"$error":"#REF!"},{"$error":"#REF!"},{"$f":"AK45","v":{"$error":"#REF!"}},{"$error":"#REF!"},{"$error":"#REF!"},{"$error":"#REF!"},{"$error":"#REF!"},{"$error":"#REF!"},{"$error":"#REF!"},{"$error":"#REF!"},{"$error":"#REF!"},{"$error":"#REF!"},{"$error":"#REF!"},{"$error":"#REF!"},{"$error":"#REF!"},{"$error":"#REF!"},{"$error":"#REF!"},{"$error":"#REF!"},{"$error":"#REF!"},{"$error":"#REF!"},{"$error":"#REF!"},{"$error":"#REF!"},{"$error":"#REF!"},{"$error":"#REF!"},{"$error":"#REF!"},{"$error":"#REF!"},{"$error":"#REF!"},{"$error":"#REF!"},{"$error":"#REF!"},{"$error":"#REF!"},{"$error":"#REF!"},{"$error":"#REF!"},{"$error":"#REF!"},{"$error":"#REF!"},{"$error":"#REF!"},{"$error":"#REF!"}]
[null,{"$error":"#REF!"},"kWh","Qug,ev Ta Tg BINS",{"$f":"E46","v":{"$error":"#REF!"}},{"$error":"#REF!"},{"$error":"#REF!"},{"$error":"#REF!"},{"$error":"#REF!"},{"$error":"#REF!"},{"$error":"#REF!"},{"$error":"#REF!"},{"$error":"#REF!"},{"$error":"#REF!"},{"$error":"#REF!"},{"$error":"#REF!"},{"$error":"#REF!"},{"$error":"#REF!"},{"$error":"#REF!"},{"$error":"#REF!"},{"$error":"#REF!"},{"$error":"#REF!"},{"$error":"#REF!"},{"$error":"#REF!"},{"$error":"#REF!"},{"$error":"#REF!"},{"$error":"#REF!"},{"$error":"#REF!"},{"$error":"#REF!"},{"$error":"#REF!"},{"$error":"#REF!"},{"$error":"#REF!"},{"$error":"#REF!"},{"$error":"#REF!"},{"$error":"#REF!"},{"$error":"#REF!"},{"$f":"AK46","v":{"$error":"#REF!"}},{"$error":"#REF!"},{"$error":"#REF!"},{"$error":"#REF!"},{"$error":"#REF!"},{"$error":"#REF!"},{"$error":"#REF!"},{"$error":"#REF!"},{"$error":"#REF!"},{"$error":"#REF!"},{"$error":"#REF!"},{"$error":"#REF!"},{"$error":"#REF!"},{"$error":"#REF!"},{"$error":"#REF!"},{"$error":"#REF!"},{"$error":"#REF!"},{"$error":"#REF!"},{"$error":"#REF!"},{"$error":"#REF!"},{"$error":"#REF!"},{"$error":"#REF!"},{"$error":"#REF!"},{"$error":"#REF!"},{"$error":"#REF!"},{"$error":"#REF!"},{"$error":"#REF!"},{"$error":"#REF!"},{"$error":"#REF!"},{"$error":"#REF!"},{"$error":"#REF!"},{"$error":"#REF!"},{"$error":"#REF!"},{"$error":"#REF!"}]
[null,{"$error":"#VALUE!"},"kWh","Qug,ue Ta h BINs",{"$f":"E66+E62+E54","v":{"$error":"#VALUE!"}},{"$error":"#VALUE!"},{"$error":"#VALUE!"},{"$error":"#VALUE!"},{"$error":"#VALUE!"},{"$error":"#VALUE!"},{"$error":"#VALUE!"},{"$error":"#VALUE!"},{"$error":"#VALUE!"},{"$error":"#VALUE!"},{"$error":"#VALUE!"},{"$error":"#VALUE!"},{"$error":"#VALUE!"},{"$error":"#VALUE!"},{"$error":"#VALUE!"},{"$error":"#VALUE!"},{"$error":"#VALUE!"},{"$error":"#VALUE!"},{"$error":"#VALUE!"},{"$error":"#VALUE!"},{"$error":"#VALUE!"},{"$error":"#VALUE!"},{"$error":"#VALUE!"},{"$error":"#VALUE!"},{"$error":"#VALUE!"},{"$error":"#VALUE!"},{"$error":"#VALUE!"},{"$error":"#VALUE!"},{"$error":"#VALUE!"},{"$error":"#VALUE!"},{"$error":"#VALUE!"},{"$error":"#VALUE!"},{"$f":"AK66+AK62+AK54","v":{"$error":"#VALUE!"}},{"$error":"#VALUE!"},{"$error":"#VALUE!"},{"$error":"#VALUE!"},{"$error":"#VALUE!"},{"$error":"#VALUE!"},{"$error":"#VALUE!"},{"$error":"#VALUE!"},{"$error":"#VALUE!"},{"$error":"#VALUE!"},{"$error":"#VALUE!"},{"$error":"#VALUE!"},{"$error":"#VALUE!"},{"$error":"#VALUE!"},{"$error":"#VALUE!"},{"$error":"#VALUE!"},{"$error":"#VALUE!"},{"$error":"#VALUE!"},{"$error":"#VALUE!"},{"$error":"#VALUE!"},{"$error":"#VALUE!"},{"$error":"#VALUE!"},{"$error":"#VALUE!"},{"$error":"#VALUE!"},{"$error":"#VALUE!"},{"$error":"#REF!"},{"$error":"#REF!"},{"$error":"#REF!"},{"$error":"#REF!"},{"$error":"#REF!"},{"$error":"#REF!"},{"$error":"#REF!"},{"$error":"#REF!"},{"$error":"#REF!"}]
[null,{"$error":"#VALUE!"},"kWh","Qug,ue Ta Tg BINs ",{"$f":"E67+E63+E55","v":{"$error":"#VALUE!"}},{"$error":"#VALUE!"},{"$error":"#VALUE!"},{"$error":"#VALUE!"},{"$error":"#VALUE!"},{"$error":"#VALUE!"},{"$error":"#VALUE!"},{"$error":"#VALUE!"},{"$error":"#VALUE!"},{"$error":"#VALUE!"},{"$error":"#VALUE!"},{"$error":"#VALUE!"},{"$error":"#VALUE!"},{"$error":"#VALUE!"},{"$error":"#VALUE!"},{"$error":"#VALUE!"},{"$error":"#VALUE!"},{"$error":"#VALUE!"},{"$error":"#VALUE!"},{"$error":"#VALUE!"},{"$error":"#VALUE!"},{"$error":"#VALUE!"},{"$error":"#VALUE!"},{"$error":"#VALUE!"},{"$error":"#VALUE!"},{"$error":"#VALUE!"},{"$error":"#VALUE!"},{"$error":"#VALUE!"},{"$error":"#VALUE!"},{"$error":"#VALUE!"},{"$error":"#VALUE!"},{"$error":"#VALUE!"},{"$f":"AK67+AK63+AK55","v":{"$error":"#VALUE!"}},{"$error":"#VALUE!"},{"$error":"#VALUE!"},{"$error":"#VALUE!"},{"$error":"#VALUE!"},{"$error":"#VALUE!"},{"$error":"#VALUE!"},{"$error":"#VALUE!"},{"$error":"#VALUE!"},{"$error":"#VALUE!"},{"$error":"#VALUE!"},{"$error":"#VALUE!"},{"$error":"#VALUE!"},{"$error":"#VALUE!"},{"$error":"#VALUE!"},{"$error":"#VALUE!"},{"$error":"#VALUE!"},{"$error":"#VALUE!"},{"$error":"#VALUE!"},{"$error":"#VALUE!"},{"$error":"#VALUE!"},{"$error":"#VALUE!"},{"$error":"#VALUE!"},{"$error":"#VALUE!"},{"$error":"#VALUE!"},{"$error":"#REF!"},{"$error":"#REF!"},{"$error":"#REF!"},{"$error":"#REF!"},{"$error":"#REF!"},{"$error":"#REF!"},{"$error":"#REF!"},{"$error":"#REF!"},{"$error":"#REF!"}]
[null,{"$error":"#REF!"},"kWh","QH Ta h BINs",{"$f":"E69-E71-E73","v":{"$error":"#REF!"}},{"$error":"#REF!"},{"$error":"#REF!"},{"$error":"#REF!"},{"$error":"#REF!"},{"$error":"#REF!"},{"$error":"#REF!"},{"$error":"#REF!"},{"$error":"#REF!"},{"$error":"#REF!"},{"$error":"#REF!"},{"$error":"#REF!"},{"$error":"#REF!"},{"$error":"#REF!"},{"$error":"#REF!"},{"$error":"#REF!"},{"$error":"#REF!"},{"$error":"#REF!"},{"$error":"#REF!"},{"$error":"#REF!"},{"$error":"#REF!"},{"$error":"#REF!"},{"$error":"#REF!"},{"$error":"#REF!"},{"$error":"#REF!"},{"$error":"#REF!"},{"$error":"#REF!"},{"$error":"#REF!"},{"$error":"#REF!"},{"$error":"#REF!"},{"$error":"#REF!"},{"$error":"#REF!"},{"$f":"AK69-AK71-AK73","v":{"$error":"#REF!"}},{"$error":"#REF!"},{"$error":"#REF!"},{"$error":"#REF!"},{"$error":"#REF!"},{"$error":"#REF!"},{"$error":"#REF!"},{"$error":"#REF!"},{"$error":"#REF!"},{"$error":"#REF!"},{"$error":"#REF!"},{"$error":"#REF!"},{"$error":"#REF!"},{"$error":"#REF!"},{"$error":"#REF!"},{"$error":"#REF!"},{"$error":"#REF!"},{"$error":"#REF!"},{"$error":"#REF!"},{"$error":"#REF!"},{"$error":"#REF!"},{"$error":"#REF!"},{"$error":"#REF!"},{"$error":"#REF!"},{"$error":"#REF!"},{"$error":"#REF!"},{"$error":"#REF!"},{"$error":"#REF!"},{"$error":"#REF!"},{"$error":"#REF!"},{"$error":"#REF!"},{"$error":"#REF!"},{"$error":"#REF!"},{"$error":"#REF!"}]
[null,{"$error":"#REF!"},"kWh","QH Ta Tg BINs ",{"$f":"E70-E72-E74","v":{"$error":"#REF!"}},{"$error":"#REF!"},{"$error":"#REF!"},{"$error":"#REF!"},{"$error":"#REF!"},{"$error":"#REF!"},{"$error":"#REF!"},{"$error":"#REF!"},{"$error":"#REF!"},{"$error":"#REF!"},{"$error":"#REF!"},{"$error":"#REF!"},{"$error":"#REF!"},{"$error":"#REF!"},{"$error":"#REF!"},{"$error":"#REF!"},{"$error":"#REF!"},{"$error":"#REF!"},{"$error":"#REF!"},{"$error":"#REF!"},{"$error":"#REF!"},{"$error":"#REF!"},{"$error":"#REF!"},{"$error":"#REF!"},{"$error":"#REF!"},{"$error":"#REF!"},{"$error":"#REF!"},{"$error":"#REF!"},{"$error":"#REF!"},{"$error":"#REF!"},{"$error":"#REF!"},{"$error":"#REF!"},{"$f":"AK70-AK72-AK74","v":{"$error":"#REF!"}},{"$error":"#REF!"},{"$error":"#REF!"},{"$error":"#REF!"},{"$error":"#REF!"},{"$error":"#REF!"},{"$error":"#REF!"},{"$error":"#REF!"},{"$error":"#REF!"},{"$error":"#REF!"},{"$error":"#REF!"},{"$error":"#REF!"},{"$error":"#REF!"},{"$error":"#REF!"},{"$error":"#REF!"},{"$error":"#REF!"},{"$error":"#REF!"},{"$error":"#REF!"},{"$error":"#REF!"},{"$error":"#REF!"},{"$error":"#REF!"},{"$error":"#REF!"},{"$error":"#REF!"},{"$error":"#REF!"},{"$error":"#REF!"},{"$error":"#REF!"},{"$error":"#REF!"},{"$error":"#REF!"},{"$error":"#REF!"},{"$error":"#REF!"},{"$error":"#REF!"},{"$error":"#REF!"},{"$error":"#REF!"},{"$error":"#REF!"}]
[null,null,null,"Qtot - Qug,ev Ta h BINs",{"$f":"E69-E71","v":{"$error":"#REF!"}},{"$error":"#REF!"},{"$error":"#REF!"},{"$error":"#REF!"},{"$error":"#REF!"},{"$error":"#REF!"},{"$error":"#REF!"},{"$error":"#REF!"},{"$error":"#REF!"},{"$error":"#REF!"},{"$error":"#REF!"},{"$f":"P69-P71","v":{"$error":"#REF!"}},{"$error":"#REF!"},{"$error":"#REF!"},{"$error":"#REF!"},{"$error":"#REF!"},{"$error":"#REF!"},{"$error":"#REF!"},{"$error":"#REF!"},{"$error":"#REF!"},{"$error":"#REF!"},{"$error":"#REF!"},{"$error":"#REF!"},{"$error":"#REF!"},{"$error":"#REF!"},{"$error":"#REF!"},{"$error":"#REF!"},{"$error":"#REF!"},{"$error":"#REF!"},{"$error":"#REF!"},{"$error":"#REF!"},{"$error":"#REF!"},{"$f":"AK69-AK71","v":{"$error":"#REF!"}},{"$error":"#REF!"},{"$error":"#REF!"},{"$error":"#REF!"},{"$error":"#REF!"},{"$error":"#REF!"},{"$error":"#REF!"},{"$error":"#REF!"},{"$error":"#REF!"},{"$error":"#REF!"},{"$error":"#REF!"},{"$error":"#REF!"},{"$error":"#REF!"},{"$error":"#REF!"},{"$error":"#REF!"},{"$error":"#REF!"},{"$error":"#REF!"},{"$error":"#REF!"},{"$error":"#REF!"},{"$error":"#REF!"},{"$error":"#REF!"},{"$error":"#REF!"},{"$error":"#REF!"},{"$error":"#REF!"},{"$error":"#REF!"},{"$error":"#REF!"},{"$error":"#REF!"},{"$error":"#REF!"},{"$error":"#REF!"},{"$error":"#REF!"},{"$error":"#REF!"},{"$error":"#REF!"},{"$error":"#REF!"},{"$error":"#REF!"}]
[null,null,null,"Qtot - Qug,ev Ta Tg BINS",{"$f":"E70-E72","v":{"$error":"#REF!"}},{"$error":"#REF!"},{"$error":"#REF!"},{"$error":"#REF!"},{"$error":"#REF!"},{"$error":"#REF!"},{"$error":"#REF!"},{"$error":"#REF!"},{"$error":"#REF!"},{"$error":"#REF!"},{"$error":"#REF!"},{"$error":"#REF!"},{"$error":"#REF!"},{"$error":"#REF!"},{"$error":"#REF!"},{"$error":"#REF!"},{"$error":"#REF!"},{"$error":"#REF!"},{"$error":"#REF!"},{"$error":"#REF!"},{"$error":"#REF!"},{"$error":"#REF!"},{"$error":"#REF!"},{"$error":"#REF!"},{"$error":"#REF!"},{"$error":"#REF!"},{"$error":"#REF!"},{"$error":"#REF!"},{"$error":"#REF!"},{"$error":"#REF!"},{"$error":"#REF!"},{"$error":"#REF!"},{"$f":"AK70-AK72","v":{"$error":"#REF!"}},{"$error":"#REF!"},{"$error":"#REF!"},{"$error":"#REF!"},{"$error":"#REF!"},{"$error":"#REF!"},{"$error":"#REF!"},{"$error":"#REF!"},{"$error":"#REF!"},{"$error":"#REF!"},{"$error":"#REF!"},{"$error":"#REF!"},{"$error":"#REF!"},{"$error":"#REF!"},{"$error":"#REF!"},{"$error":"#REF!"},{"$error":"#REF!"},{"$error":"#REF!"},{"$error":"#REF!"},{"$error":"#REF!"},{"$error":"#REF!"},{"$error":"#REF!"},{"$error":"#REF!"},{"$error":"#REF!"},{"$error":"#REF!"},{"$error":"#REF!"},{"$error":"#REF!"},{"$error":"#REF!"},{"$error":"#REF!"},{"$error":"#REF!"},{"$error":"#REF!"},{"$error":"#REF!"},{"$error":"#REF!"},{"$error":"#REF!"}]
[null,"Leistungsbedarf","kW","FH Ta h",{"$f":"IF(E7>0,E77/E7,0)","v":{"$error":"#REF!"}},{"$error":"#REF!"},{"$error":"#REF!"},{"$error":"#REF!"},{"$error":"#REF!"},{"$error":"#REF!"},{"$error":"#REF!"},{"$error":"#REF!"},{"$error":"#REF!"},{"$error":"#REF!"},{"$error":"#REF!"},{"$error":"#REF!"},{"$error":"#REF!"},{"$error":"#REF!"},{"$error":"#REF!"},{"$error":"#REF!"},{"$error":"#REF!"},{"$error":"#REF!"},{"$error":"#REF!"},{"$error":"#REF!"},{"$error":"#REF!"},{"$error":"#REF!"},{"$error":"#REF!"},{"$error":"#REF!"},{"$error":"#REF!"},{"$error":"#REF!"},{"$error":"#REF!"},{"$error":"#REF!"},{"$error":"#REF!"},{"$error":"#REF!"},{"$error":"#REF!"},{"$error":"#REF!"},{"$f":"IF(AK7>0,AK77/AK7,0)","v":{"$error":"#REF!"}},{"$error":"#REF!"},{"$error":"#REF!"},{"$error":"#REF!"},{"$error":"#REF!"},{"$error":"#REF!"},{"$error":"#REF!"},{"$error":"#REF!"},{"$error":"#REF!"},{"$error":"#REF!"},{"$error":"#REF!"},{"$error":"#REF!"},{"$error":"#REF!"},{"$error":"#REF!"},{"$error":"#REF!"},{"$error":"#REF!"},{"$error":"#REF!"},{"$error":"#REF!"},{"$error":"#REF!"},{"$error":"#REF!"},{"$error":"#REF!"},{"$error":"#REF!"},{"$error":"#REF!"},{"$error":"#REF!"},{"$error":"#REF!"},{"$error":"#REF!"},{"$error":"#REF!"},{"$error":"#REF!"},{"$error":"#REF!"},{"$error":"#REF!"},{"$error":"#REF!"},{"$error":"#REF!"},{"$error":"#REF!"},{"$error":"#REF!"}]
[null,null,null,"FH Ta Tg",{"$f":"IF(E8>0,E78/E8,0)","v":{"$error":"#REF!"}},{"$error":"#REF!"},{"$error":"#REF!"},{"$error":"#REF!"},{"$error":"#REF!"},{"$error":"#REF!"},{"$error":"#REF!"},{"$error":"#REF!"},{"$error":"#REF!"},{"$error":"#REF!"},{"$error":"#REF!"},{"$error":"#REF!"},{"$error":"#REF!"},{"$error":"#REF!"},{"$error":"#REF!"},{"$error":"#REF!"},{"$error":"#REF!"},{"$error":"#REF!"},{"$error":"#REF!"},{"$error":"#REF!"},{"$error":"#REF!"},{"$error":"#REF!"},{"$error":"#REF!"},{"$error":"#REF!"},{"$error":"#REF!"},{"$error":"#REF!"},{"$error":"#REF!"},{"$error":"#REF!"},{"$error":"#REF!"},{"$error":"#REF!"},{"$error":"#REF!"},{"$error":"#REF!"},{"$f":"IF(AK8>0,AK78/AK8,0)","v":{"$error":"#REF!"}},{"$error":"#REF!"},{"$error":"#REF!"},{"$error":"#REF!"},{"$error":"#REF!"},{"$error":"#REF!"},{"$error":"#REF!"},{"$error":"#REF!"},{"$error":"#REF!"},{"$error":"#REF!"},{"$error":"#REF!"},{"$error":"#REF!"},{"$error":"#REF!"},{"$error":"#REF!"},{"$error":"#REF!"},{"$error":"#REF!"},{"$error":"#REF!"},{"$error":"#REF!"},{"$error":"#REF!"},{"$error":"#REF!"},{"$error":"#REF!"},{"$error":"#REF!"},{"$error":"#REF!"},{"$error":"#REF!"},{"$error":"#REF!"},{"$error":"#REF!"},{"$error":"#REF!"},{"$error":"#REF!"},{"$error":"#REF!"},{"$error":"#REF!"},{"$error":"#REF!"},{"$error":"#REF!"},{"$error":"#REF!"},{"$error":"#REF!"}]
[null,"Verkürzte Bin","h","tBin Korr Qug, ue Ta h",{"$f":"IF(E77>0,(E75/E77)*E7,0)","v":{"$error":"#REF!"}},{"$f":"IF(F77>0,(F75/F77)*F7,0)","v":{"$error":"#REF!"}},{"$error":"#REF!"},{"$error":"#REF!"},{"$error":"#REF!"},{"$error":"#REF!"},{"$error":"#REF!"},{"$error":"#REF!"},{"$error":"#REF!"},{"$error":"#REF!"},{"$error":"#REF!"},{"$error":"#REF!"},{"$error":"#REF!"},{"$error":"#REF!"},{"$error":"#REF!"},{"$error":"#REF!"},{"$error":"#REF!"},{"$error":"#REF!"},{"$error":"#REF!"},{"$error":"#REF!"},{"$error":"#REF!"},{"$error":"#REF!"},{"$error":"#REF!"},{"$error":"#REF!"},{"$error":"#REF!"},{"$error":"#REF!"},{"$error":"#REF!"},{"$error":"#REF!"},{"$error":"#REF!"},{"$error":"#REF!"},{"$error":"#REF!"},{"$error":"#REF!"},{"$error":"#REF!"},{"$error":"#REF!"},{"$error":"#REF!"},{"$error":"#REF!"},{"$error":"#REF!"},{"$error":"#REF!"},{"$error":"#REF!"},{"$error":"#REF!"},{"$error":"#REF!"},{"$error":"#REF!"},{"$error":"#REF!"},{"$error":"#REF!"},{"$error":"#REF!"},{"$error":"#REF!"},{"$error":"#REF!"},{"$error":"#REF!"},{"$error":"#REF!"},{"$error":"#REF!"},{"$error":"#REF!"},{"$error":"#REF!"},{"$error":"#REF!"},{"$error":"#REF!"},{"$error":"#REF!"},{"$error":"#REF!"},{"$error":"#REF!"},{"$error":"#REF!"},{"$error":"#REF!"},{"$error":"#REF!"},{"$error":"#REF!"},{"$error":"#REF!"},{"$error":"#REF!"},{"$error":"#REF!"},{"$error":"#REF!"},{"$f":"IF(BR77>0,(BR75/BR77)*BR7,0)","v":{"$error":"#REF!"}},null,{"$f":"SUM(E81:BR81)","v":{"$error":"#REF!"}}]
[null,null,null,"tBin Korr Qug, ue Ta Tg",{"$f":"IF(E78>0,(E76/E78)*E8,0)","v":{"$error":"#REF!"}},{"$error":"#REF!"},{"$error":"#REF!"},{"$error":"#REF!"},{"$error":"#REF!"},{"$error":"#REF!"},{"$error":"#REF!"},{"$error":"#REF!"},{"$error":"#REF!"},{"$error":"#REF!"},{"$error":"#REF!"},{"$error":"#REF!"},{"$error":"#REF!"},{"$error":"#REF!"},{"$error":"#REF!"},{"$error":"#REF!"},{"$error":"#REF!"},{"$error":"#REF!"},{"$error":"#REF!"},{"$error":"#REF!"},{"$error":"#REF!"},{"$error":"#REF!"},{"$error":"#REF!"},{"$error":"#REF!"},{"$error":"#REF!"},{"$error":"#REF!"},{"$error":"#REF!"},{"$error":"#REF!"},{"$error":"#REF!"},{"$error":"#REF!"},{"$error":"#REF!"},{"$error":"#REF!"},{"$error":"#REF!"},{"$error":"#REF!"},{"$error":"#REF!"},{"$error":"#REF!"},{"$error":"#REF!"},{"$error":"#REF!"},{"$error":"#REF!"},{"$error":"#REF!"},{"$error":"#REF!"},{"$error":"#REF!"},{"$error":"#REF!"},{"$error":"#REF!"},{"$error":"#REF!"},{"$error":"#REF!"},{"$error":"#REF!"},{"$error":"#REF!"},{"$error":"#REF!"},{"$error":"#REF!"},{"$error":"#REF!"},{"$error":"#REF!"},{"$error":"#REF!"},{"$error":"#REF!"},{"$error":"#REF!"},{"$error":"#REF!"},{"$error":"#REF!"},{"$error":"#REF!"},{"$error":"#REF!"},{"$error":"#REF!"},{"$error":"#REF!"},{"$error":"#REF!"},{"$error":"#REF!"},{"$error":"#REF!"},{"$error":"#REF!"},{"$f":"IF(BR78>0,(BR76/BR78)*BR8,0)","v":{"$error":"#REF!"}}]
[]
[null,{"$f":"SUM(E84:BR84)","v":{"$error":"#REF!"}},"kWh",null,{"$f":"E79*E81","v":{"$error":"#REF!"}},{"$f":"F79*F81","v":{"$error":"#REF!"}},{"$error":"#REF!"},{"$error":"#REF!"},{"$error":"#REF!"},{"$error":"#REF!"},{"$error":"#REF!"},{"$error":"#REF!"},{"$error":"#REF!"},{"$error":"#REF!"},{"$error":"#REF!"},{"$error":"#REF!"},{"$error":"#REF!"},{"$error":"#REF!"},{"$error":"#REF!"},{"$error":"#REF!"},{"$error":"#REF!"},{"$error":"#REF!"},{"$error":"#REF!"},{"$error":"#REF!"},{"$error":"#REF!"},{"$error":"#REF!"},{"$error":"#REF!"},{"$error":"#REF!"},{"$error":"#REF!"},{"$error":"#REF!"},{"$error":"#REF!"},{"$error":"#REF!"},{"$error":"#REF!"},{"$error":"#REF!"},{"$error":"#REF!"},{"$error":"#REF!"},{"$error":"#REF!"},{"$error":"#REF!"},{"$error":"#REF!"},{"$error":"#REF!"},{"$error":"#REF!"},{"$error":"#REF!"},{"$error":"#REF!"},{"$error":"#REF!"},{"$error":"#REF!"},{"$error":"#REF!"},{"$error":"#REF!"},{"$error":"#REF!"},{"$error":"#REF!"},{"$error":"#REF!"},{"$error":"#REF!"},{"$error":"#REF!"},{"$error":"#REF!"},{"$error":"#REF!"},{"$error":"#REF!"},{"$error":"#REF!"},{"$error":"#REF!"},{"$error":"#REF!"},{"$error":"#REF!"},{"$error":"#REF!"},{"$error":"#REF!"},{"$error":"#REF!"},{"$error":"#REF!"},{"$error":"#REF!"},{"$error":"#REF!"},{"$error":"#REF!"},{"$error":"#REF!"},{"$error":"#REF!"},{"$error":"#REF!"},{"$f":"BR79*BR81","v":{"$error":"#REF!"}}]
[]
[null,null,null,null,null,null,null,null,null,null,null,null,null,null,{"$f":"SUM(O7:S7)","v":{"$error":"#REF!"}}]
["Gl. Nr.","Modell Solare Wärme",null,"Nur BINs Stundewerte"]
[null,null,"Orientierung Kollektor"]
["input",{"$f":"Azimut","v":0},null,"a Azimut Kollektor"]
["input",{"$f":"Neigung","v":0},null,"n Neigung Kollektor"]
["Konstante",15,null,"b Korrektur (Einfluss BIN Bildung)"]
[]
[null,null,{"$f":"COS(RADIANS(a))","v":1},"COS a (Azimut)"]
[null,null,{"$f":"COS(RADIANS(a-180))","v":-1},"COS(a - 180°)"]
[null,null,{"$f":"SIN(RADIANS(2*v))","v":0},"SIN(2*n)"]
[null,null,{"$f":"COS(RADIANS(a-b))","v":0.96592582628906831},"COS(a - b)"]
["A45/x","x",{"$f":"1+0.16*sin_2v*cos_a_b","v":1},"[1+0.16 sin(2*n)*cos(a-b)]"]
["A45/y","y",{"$f":"B90/90","v":0},"(n/90°)"]
["A45/y2","y2",{"$f":"C98^2","v":0},"(n/90°)2"]
[null,null,"kWh/m²",{"$f":"D11","v":{"$error":"#REF!"}},{"$error":"#REF!"},{"$error":"#REF!"},{"$error":"#REF!"},{"$error":"#REF!"},{"$error":"#REF!"},{"$error":"#REF!"},{"$error":"#REF!"},{"$error":"#REF!"},{"$error":"#REF!"},{"$error":"#REF!"},{"$error":"#REF!"},{"$error":"#REF!"},{"$error":"#REF!"},{"$error":"#REF!"},{"$error":"#REF!"},{"$error":"#REF!"},{"$error":"#REF!"},{"$error":"#REF!"},{"$error":"#REF!"},{"$error":"#REF!"},{"$error":"#REF!"},{"$error":"#REF!"},{"$error":"#REF!"},{"$error":"#REF!"},{"$error":"#REF!"},{"$error":"#REF!"},{"$error":"#REF!"},{"$error":"#REF!"},{"$error":"#REF!"},{"$error":"#REF!"},{"$error":"#REF!"},{"$f":"AJ11","v":{"$error":"#REF!"}},{"$error":"#REF!"},{"$error":"#REF!"},{"$error":"#REF!"},{"$error":"#REF!"},{"$error":"#REF!"},{"$error":"#REF!"},{"$error":"#REF!"},{"$error":"#REF!"},{"$error":"#REF!"},{"$error":"#REF!"},{"$error":"#REF!"},{"$error":"#REF!"},{"$error":"#REF!"},{"$error":"#REF!"},{"$error":"#REF!"},{"$error":"#REF!"},{"$error":"#REF!"},{"$error":"#REF!"},{"$error":"#REF!"},{"$error":"#REF!"},{"$error":"#REF!"},{"$error":"#REF!"},{"$error":"#REF!"},{"$error":"#REF!"},{"$error":"#REF!"},{"$error":"#REF!"},{"$error":"#REF!"},{"$error":"#REF!"},{"$error":"#REF!"},{"$error":"#REF!"},{"$error":"#REF!"},{"$error":"#REF!"},{"$error":"#REF!"},{"$error":"#REF!"}]
[null,{"$f":"(a>0)*2","v":0},"kWh/m²",{"$f":"OFFSET(D10,$B$101,0)","v":{"$error":"#REF!"}},{"$error":"#REF!"},{"$error":"#REF!"},{"$error":"#REF!"},{"$error":"#REF!"},{"$error":"#REF!"},{"$error":"#REF!"},{"$error":"#REF!"},{"$error":"#REF!"},{"$error":"#REF!"},{"$error":"#REF!"},{"$error":"#REF!"},{"$error":"#REF!"},{"$error":"#REF!"},{"$error":"#REF!"},{"$error":"#REF!"},{"$error":"#REF!"},{"$error":"#REF!"},{"$error":"#REF!"},{"$error":"#REF!"},{"$error":"#REF!"},{"$error":"#REF!"},{"$error":"#REF!"},{"$error":"#REF!"},{"$error":"#REF!"},{"$error":"#REF!"},{"$error":"#REF!"},{"$error":"#REF!"},{"$error":"#REF!"},{"$error":"#REF!"},{"$error":"#REF!"},{"$error":"#REF!"},{"$f":"OFFSET(AJ10,$B$101,0)","v":{"$error":"#REF!"}},{"$error":"#REF!"},{"$error":"#REF!"},{"$error":"#REF!"},{"$error":"#REF!"},{"$error":"#REF!"},{"$error":"#REF!"},{"$error":"#REF!"},{"$error":"#REF!"},{"$error":"#REF!"},{"$error":"#REF!"},{"$error":"#REF!"},{"$error":"#REF!"},{"$error":"#REF!"},{"$error":"#REF!"},{"$error":"#REF!"},{"$error":"#REF!"},{"$error":"#REF!"},{"$error":"#REF!"},{"$error":"#REF!"},{"$error":"#REF!"},{"$error":"#REF!"},{"$error":"#REF!"},{"$error":"#REF!"},{"$error":"#REF!"},{"$error":"#REF!"},{"$error":"#REF!"},{"$error":"#REF!"},{"$error":"#REF!"},{"$error":"#REF!"},{"$error":"#REF!"},{"$error":"#REF!"},{"$error":"#REF!"},{"$error":"#REF!"},{"$error":"#REF!"}]
["A41/42",null,"kWh/m²","Hg,90",{"$f":"E101+(E100-E101)*cos_a","v":{"$error":"#REF!"}},{"$error":"#REF!"},{"$error":"#REF!"},{"$error":"#REF!"},{"$error":"#REF!"},{"$error":"#REF!"},{"$error":"#REF!"},{"$error":"#REF!"},{"$error":"#REF!"},{"$error":"#REF!"},{"$error":"#REF!"},{"$error":"#REF!"},{"$error":"#REF!"},{"$error":"#REF!"},{"$error":"#REF!"},{"$error":"#REF!"},{"$error":"#REF!"},{"$error":"#REF!"},{"$error":"#REF!"},{"$error":"#REF!"},{"$error":"#REF!"},{"$error":"#REF!"},{"$error":"#REF!"},{"$error":"#REF!"},{"$error":"#REF!"},{"$error":"#REF!"},{"$error":"#REF!"},{"$error":"#REF!"},{"$error":"#REF!"},{"$error":"#REF!"},{"$error":"#REF!"},{"$error":"#REF!"},{"$f":"AK101+(AK100-AK101)*cos_a","v":{"$error":"#REF!"}},{"$error":"#REF!"},{"$error":"#REF!"},{"$error":"#REF!"},{"$error":"#REF!"},{"$error":"#REF!"},{"$error":"#REF!"},{"$error":"#REF!"},{"$error":"#REF!"},{"$error":"#REF!"},{"$error":"#REF!"},{"$error":"#REF!"},{"$error":"#REF!"},{"$error":"#REF!"},{"$error":"#REF!"},{"$error":"#REF!"},{"$error":"#REF!"},{"$error":"#REF!"},{"$error":"#REF!"},{"$error":"#REF!"},{"$error":"#REF!"},{"$error":"#REF!"},{"$error":"#REF!"},{"$error":"#REF!"},{"$error":"#REF!"},{"$error":"#REF!"},{"$error":"#REF!"},{"$error":"#REF!"},{"$error":"#REF!"},{"$error":"#REF!"},{"$error":"#REF!"},{"$error":"#REF!"},{"$f":"BQ101+(BQ100-BQ101)*cos_a","v":{"$error":"#REF!"}},{"$f":"BR101+(BR100-BR101)*cos_a","v":{"$error":"#REF!"}}]
[]
[null,null,"kWh/m²",{"$f":"D13","v":{"$error":"#REF!"}},{"$error":"#REF!"},{"$error":"#REF!"},{"$error":"#REF!"},{"$error":"#REF!"},{"$error":"#REF!"},{"$error":"#REF!"},{"$error":"#REF!"},{"$error":"#REF!"},{"$error":"#REF!"},{"$error":"#REF!"},{"$error":"#REF!"},{"$error":"#REF!"},{"$error":"#REF!"},{"$error":"#REF!"},{"$error":"#REF!"},{"$error":"#REF!"},{"$error":"#REF!"},{"$error":"#REF!"},{"$error":"#REF!"},{"$error":"#REF!"},{"$error":"#REF!"},{"$error":"#REF!"},{"$error":"#REF!"},{"$error":"#REF!"},{"$error":"#REF!"},{"$error":"#REF!"},{"$error":"#REF!"},{"$error":"#REF!"},{"$error":"#REF!"},{"$error":"#REF!"},{"$error":"#REF!"},{"$f":"AJ13","v":{"$error":"#REF!"}},{"$error":"#REF!"},{"$error":"#REF!"},{"$error":"#REF!"},{"$error":"#REF!"},{"$error":"#REF!"},{"$error":"#REF!"},{"$error":"#REF!"},{"$error":"#REF!"},{"$error":"#REF!"},{"$error":"#REF!"},{"$error":"#REF!"},{"$error":"#REF!"},{"$error":"#REF!"},{"$error":"#REF!"},{"$error":"#REF!"},{"$error":"#REF!"},{"$error":"#REF!"},{"$error":"#REF!"},{"$error":"#REF!"},{"$error":"#REF!"},{"$error":"#REF!"},{"$error":"#REF!"},{"$error":"#REF!"},{"$error":"#REF!"},{"$error":"#REF!"},{"$error":"#REF!"},{"$error":"#REF!"},{"$error":"#REF!"},{"$error":"#REF!"},{"$error":"#REF!"},{"$error":"#REF!"},{"$error":"#REF!"},{"$error":"#REF!"},{"$error":"#REF!"}]
[null,{"$f":"2-B101","v":2},"kWh/m²",{"$f":"OFFSET(D10,$B$105,0)","v":{"$error":"#REF!"}},{"$error":"#REF!"},{"$error":"#REF!"},{"$error":"#REF!"},{"$error":"#REF!"},{"$error":"#REF!"},{"$error":"#REF!"},{"$error":"#REF!"},{"$error":"#REF!"},{"$error":"#REF!"},{"$error":"#REF!"},{"$error":"#REF!"},{"$error":"#REF!"},{"$error":"#REF!"},{"$error":"#REF!"},{"$error":"#REF!"},{"$error":"#REF!"},{"$error":"#REF!"},{"$error":"#REF!"},{"$error":"#REF!"},{"$error":"#REF!"},{"$error":"#REF!"},{"$error":"#REF!"},{"$error":"#REF!"},{"$error":"#REF!"},{"$error":"#REF!"},{"$error":"#REF!"},{"$error":"#REF!"},{"$error":"#REF!"},{"$error":"#REF!"},{"$error":"#REF!"},{"$error":"#REF!"},{"$f":"OFFSET(AJ10,$B$105,0)","v":{"$error":"#REF!"}},{"$error":"#REF!"},{"$error":"#REF!"},{"$error":"#REF!"},{"$error":"#REF!"},{"$error":"#REF!"},{"$error":"#REF!"},{"$error":"#REF!"},{"$error":"#REF!"},{"$error":"#REF!"},{"$error":"#REF!"},{"$error":"#REF!"},{"$error":"#REF!"},{"$error":"#REF!"},{"$error":"#REF!"},{"$error":"#REF!"},{"$error":"#REF!"},{"$error":"#REF!"},{"$error":"#REF!"},{"$error":"#REF!"},{"$error":"#REF!"},{"$error":"#REF!"},{"$error":"#REF!"},{"$error":"#REF!"},{"$error":"#REF!"},{"$error":"#REF!"},{"$error":"#REF!"},{"$error":"#REF!"},{"$error":"#REF!"},{"$error":"#REF!"},{"$error":"#REF!"},{"$error":"#REF!"},{"$error":"#REF!"},{"$error":"#REF!"},{"$error":"#REF!"}]
["A43/44",null,"kWh/m²","Hg,-90",{"$f":"E105+(E105-E104)*cos_a_180","v":{"$error":"#REF!"}},{"$error":"#REF!"},{"$error":"#REF!"},{"$error":"#REF!"},{"$error":"#REF!"},{"$error":"#REF!"},{"$error":"#REF!"},{"$error":"#REF!"},{"$error":"#REF!"},{"$error":"#REF!"},{"$error":"#REF!"},{"$error":"#REF!"},{"$error":"#REF!"},{"$error":"#REF!"},{"$error":"#REF!"},{"$error":"#REF!"},{"$error":"#REF!"},{"$error":"#REF!"},{"$error":"#REF!"},{"$error":"#REF!"},{"$error":"#REF!"},{"$error":"#REF!"},{"$error":"#REF!"},{"$error":"#REF!"},{"$error":"#REF!"},{"$error":"#REF!"},{"$error":"#REF!"},{"$error":"#REF!"},{"$error":"#REF!"},{"$error":"#REF!"},{"$error":"#REF!"},{"$error":"#REF!"},{"$f":"AK105+(AK105-AK104)*cos_a_180","v":{"$error":"#REF!"}},{"$error":"#REF!"},{"$error":"#REF!"},{"$error":"#REF!"},{"$error":"#REF!"},{"$error":"#REF!"},{"$error":"#REF!"},{"$error":"#REF!"},{"$error":"#REF!"},{"$error":"#REF!"},{"$error":"#REF!"},{"$error":"#REF!"},{"$error":"#REF!"},{"$error":"#REF!"},{"$error":"#REF!"},{"$error":"#REF!"},{"$error":"#REF!"},{"$error":"#REF!"},{"$error":"#REF!"},{"$error":"#REF!"},{"$error":"#REF!"},{"$error":"#REF!"},{"$error":"#REF!"},{"$error":"#REF!"},{"$error":"#REF!"},{"$error":"#REF!"},{"$error":"#REF!"},{"$error":"#REF!"},{"$error":"#REF!"},{"$error":"#REF!"},{"$error":"#REF!"},{"$error":"#REF!"},{"$f":"BQ105+(BQ105-BQ104)*cos_a_180","v":{"$error":"#REF!"}},{"$f":"BR105+(BR105-BR104)*cos_a_180","v":{"$error":"#REF!"}}]
[]
["Gl. Nr.",null,"kWh/m²",{"$f":"D9","v":{"$error":"#REF!"}},{"$error":"#REF!"},{"$error":"#REF!"},{"$error":"#REF!"},{"$error":"#REF!"},{"$error":"#REF!"},{"$error":"#REF!"},{"$error":"#REF!"},{"$error":"#REF!"},{"$error":"#REF!"},{"$error":"#REF!"},{"$error":"#REF!"},{"$error":"#REF!"},{"$error":"#REF!"},{"$error":"#REF!"},{"$error":"#REF!"},{"$error":"#REF!"},{"$error":"#REF!"},{"$error":"#REF!"},{"$error":"#REF!"},{"$error":"#REF!"},{"$error":"#REF!"},{"$error":"#REF!"},{"$error":"#REF!"},{"$error":"#REF!"},{"$error":"#REF!"},{"$error":"#REF!"},{"$error":"#REF!"},{"$error":"#REF!"},{"$error":"#REF!"},{"$error":"#REF!"},{"$error":"#REF!"},{"$f":"AJ9","v":{"$error":"#REF!"}},{"$error":"#REF!"},{"$error":"#REF!"},{"$error":"#REF!"},{"$error":"#REF!"},{"$error":"#REF!"},{"$error":"#REF!"},{"$error":"#REF!"},{"$error":"#REF!"},{"$error":"#REF!"},{"$error":"#REF!"},{"$error":"#REF!"},{"$error":"#REF!"},{"$error":"#REF!"},{"$error":"#REF!"},{"$error":"#REF!"},{"$error":"#REF!"},{"$error":"#REF!"},{"$error":"#REF!"},{"$error":"#REF!"},{"$error":"#REF!"},{"$error":"#REF!"},{"$error":"#REF!"},{"$error":"#REF!"},{"$error":"#REF!"},{"$error":"#REF!"},{"$error":"#REF!"},{"$error":"#REF!"},{"$error":"#REF!"},{"$error":"#REF!"},{"$error":"#REF!"},{"$error":"#REF!"},{"$error":"#REF!"},{"$error":"#REF!"},{"$error":"#REF!"}]
["A45","Strahlungswerte auf Kollektor",null,"Hg,C",{"$f":"(((E102+E106-2*E108)/2)*y_2+((E102-E106)/2)*y+E108)*x","v":{"$error":"#REF!"}},{"$error":"#REF!"},{"$error":"#REF!"},{"$error":"#REF!"},{"$error":"#REF!"},{"$error":"#REF!"},{"$error":"#REF!"},{"$error":"#REF!"},{"$error":"#REF!"},{"$error":"#REF!"},{"$error":"#REF!"},{"$error":"#REF!"},{"$error":"#REF!"},{"$error":"#REF!"},{"$error":"#REF!"},{"$error":"#REF!"},{"$error":"#REF!"},{"$error":"#REF!"},{"$error":"#REF!"},{"$error":"#REF!"},{"$error":"#REF!"},{"$error":"#REF!"},{"$error":"#REF!"},{"$error":"#REF!"},{"$error":"#REF!"},{"$error":"#REF!"},{"$error":"#REF!"},{"$error":"#REF!"},{"$error":"#REF!"},{"$error":"#REF!"},{"$error":"#REF!"},{"$error":"#REF!"},{"$f":"(((AK102+AK106-2*AK108)/2)*y_2+((AK102-AK106)/2)*y+AK108)*x","v":{"$error":"#REF!"}},{"$error":"#REF!"},{"$error":"#REF!"},{"$error":"#REF!"},{"$error":"#REF!"},{"$error":"#REF!"},{"$error":"#REF!"},{"$error":"#REF!"},{"$error":"#REF!"},{"$error":"#REF!"},{"$error":"#REF!"},{"$error":"#REF!"},{"$error":"#REF!"},{"$error":"#REF!"},{"$error":"#REF!"},{"$error":"#REF!"},{"$error":"#REF!"},{"$error":"#REF!"},{"$error":"#REF!"},{"$error":"#REF!"},{"$error":"#REF!"},{"$error":"#REF!"},{"$error":"#REF!"},{"$error":"#REF!"},{"$error":"#REF!"},{"$error":"#REF!"},{"$error":"#REF!"},{"$error":"#REF!"},{"$error":"#REF!"},{"$error":"#REF!"},{"$error":"#REF!"},{"$error":"#REF!"},{"$f":"(((BQ102+BQ106-2*BQ108)/2)*y_2+((BQ102-BQ106)/2)*y+BQ108)*x","v":{"$error":"#REF!"}},{"$f":"(((BR102+BR106-2*BR108)/2)*y_2+((BR102-BR106)/2)*y+BR108)*x","v":{"$error":"#REF!"}}]
[]
[null,"Kollektordaten"]
[null,null,"Soltop COBRA Evo 2.0V"]
["input",{"$f":"'WP1'!D52","v":0},null,"h0 Konversionsfaktor"]
["input",{"$f":"'WP1'!F52","v":0},null,"a1 Lin. Verlustbeiwert"]
["input",{"$f":"muM","v":1.0000000000000001E-5},null,"a2 Quadr. Verlustbeiwert"]
["input",{"$f":"'WP1'!H49","v":""},"m²","AA Aperturfläche"]
["A53",null,null,"qC,0,i Stillstandtemp.",{"$f":"E6-0.5*(a_1/a_2)+SQRT((0.25*(a_1/a_2)^2)+((1/a_2)*n_0*400))","v":{"$error":"#REF!"}},{"$f":"$E$117+F6-$E$6","v":{"$error":"#REF!"}},{"$error":"#REF!"},{"$error":"#REF!"},{"$error":"#REF!"},{"$error":"#REF!"},{"$error":"#REF!"},{"$error":"#REF!"},{"$error":"#REF!"},{"$error":"#REF!"},{"$error":"#REF!"},{"$error":"#REF!"},{"$error":"#REF!"},{"$error":"#REF!"},{"$error":"#REF!"},{"$error":"#REF!"},{"$error":"#REF!"},{"$error":"#REF!"},{"$error":"#REF!"},{"$error":"#REF!"},{"$error":"#REF!"},{"$error":"#REF!"},{"$error":"#REF!"},{"$error":"#REF!"},{"$error":"#REF!"},{"$error":"#REF!"},{"$error":"#REF!"},{"$error":"#REF!"},{"$error":"#REF!"},{"$error":"#REF!"},{"$error":"#REF!"},{"$error":"#REF!"},{"$error":"#REF!"},{"$f":"$E$117+AL6-$E$6","v":{"$error":"#REF!"}},{"$error":"#REF!"},{"$error":"#REF!"},{"$error":"#REF!"},{"$error":"#REF!"},{"$error":"#REF!"},{"$error":"#REF!"},{"$error":"#REF!"},{"$error":"#REF!"},{"$error":"#REF!"},{"$error":"#REF!"},{"$error":"#REF!"},{"$error":"#REF!"},{"$error":"#REF!"},{"$error":"#REF!"},{"$error":"#REF!"},{"$error":"#REF!"},{"$error":"#REF!"},{"$error":"#REF!"},{"$error":"#REF!"},{"$error":"#REF!"},{"$error":"#REF!"},{"$error":"#REF!"},{"$error":"#REF!"},{"$error":"#REF!"},{"$error":"#REF!"},{"$error":"#REF!"},{"$error":"#REF!"},{"$error":"#REF!"},{"$error":"#REF!"},{"$error":"#REF!"},{"$error":"#REF!"},{"$error":"#REF!"}]
["berechnet",{"$f":"B130/8760","v":{"$error":"#VALUE!"}},"kW","FW, dis Wärmeleistungsbed WW"]
["A50(WW)",{"$f":"(n_0*0.4*A_A)/(P_W_dis)","v":{"$error":"#VALUE!"}},null,"fF Leistungsverhältnis (nur WW)"]
["A51(WW)",null,"°C","qC,min,i min K. T. (nur WW)",{"$f":"MAX(E6,20)","v":{"$error":"#REF!"}},{"$error":"#REF!"},{"$error":"#REF!"},{"$error":"#REF!"},{"$error":"#REF!"},{"$error":"#REF!"},{"$error":"#REF!"},{"$error":"#REF!"},{"$error":"#REF!"},{"$error":"#REF!"},{"$error":"#REF!"},{"$error":"#REF!"},{"$error":"#REF!"},{"$error":"#REF!"},{"$error":"#REF!"},{"$error":"#REF!"},{"$error":"#REF!"},{"$error":"#REF!"},{"$error":"#REF!"},{"$error":"#REF!"},{"$error":"#REF!"},{"$error":"#REF!"},{"$error":"#REF!"},{"$error":"#REF!"},{"$error":"#REF!"},{"$error":"#REF!"},{"$error":"#REF!"},{"$error":"#REF!"},{"$error":"#REF!"},{"$error":"#REF!"},{"$error":"#REF!"},{"$error":"#REF!"},{"$f":"MAX(AK6,20)","v":{"$error":"#REF!"}},{"$error":"#REF!"},{"$error":"#REF!"},{"$error":"#REF!"},{"$error":"#REF!"},{"$error":"#REF!"},{"$error":"#REF!"},{"$error":"#REF!"},{"$error":"#REF!"},{"$error":"#REF!"},{"$error":"#REF!"},{"$error":"#REF!"},{"$error":"#REF!"},{"$error":"#REF!"},{"$error":"#REF!"},{"$error":"#REF!"},{"$error":"#REF!"},{"$error":"#REF!"},{"$error":"#REF!"},{"$error":"#REF!"},{"$error":"#REF!"},{"$error":"#REF!"},{"$error":"#REF!"},{"$error":"#REF!"},{"$error":"#REF!"},{"$error":"#REF!"},{"$error":"#REF!"},{"$error":"#REF!"},{"$error":"#REF!"},{"$error":"#REF!"},{"$error":"#REF!"},{"$error":"#REF!"},{"$error":"#REF!"},{"$error":"#REF!"}]
["A49(WW)",{"$f":"EXP(-0.17*f_phi)","v":{"$error":"#VALUE!"}},null,"e-k*fF"]
["A49(WW)",null,null,"qC,i Kollektortemp. (nur WW)",{"$f":"E117-(E117-E120)*e_k_f_phi","v":{"$error":"#REF!"}},{"$error":"#REF!"},{"$error":"#REF!"},{"$error":"#REF!"},{"$error":"#REF!"},{"$error":"#REF!"},{"$error":"#REF!"},{"$error":"#REF!"},{"$error":"#REF!"},{"$error":"#REF!"},{"$error":"#REF!"},{"$error":"#REF!"},{"$error":"#REF!"},{"$error":"#REF!"},{"$error":"#REF!"},{"$error":"#REF!"},{"$error":"#REF!"},{"$error":"#REF!"},{"$error":"#REF!"},{"$error":"#REF!"},{"$error":"#REF!"},{"$error":"#REF!"},{"$error":"#REF!"},{"$error":"#REF!"},{"$error":"#REF!"},{"$error":"#REF!"},{"$error":"#REF!"},{"$error":"#REF!"},{"$error":"#REF!"},{"$error":"#REF!"},{"$error":"#REF!"},{"$error":"#REF!"},{"$f":"AK117-(AK117-AK120)*e_k_f_phi","v":{"$error":"#REF!"}},{"$error":"#REF!"},{"$error":"#REF!"},{"$error":"#REF!"},{"$error":"#REF!"},{"$error":"#REF!"},{"$error":"#REF!"},{"$error":"#REF!"},{"$error":"#REF!"},{"$error":"#REF!"},{"$error":"#REF!"},{"$error":"#REF!"},{"$error":"#REF!"},{"$error":"#REF!"},{"$error":"#REF!"},{"$error":"#REF!"},{"$error":"#REF!"},{"$error":"#REF!"},{"$error":"#REF!"},{"$error":"#REF!"},{"$error":"#REF!"},{"$error":"#REF!"},{"$error":"#REF!"},{"$error":"#REF!"},{"$error":"#REF!"},{"$error":"#REF!"},{"$error":"#REF!"},{"$error":"#REF!"},{"$error":"#REF!"},{"$error":"#REF!"},{"$error":"#REF!"},{"$error":"#REF!"},{"$error":"#REF!"},{"$error":"#REF!"}]
[]
[null,"Maximaler Kollektorfeldrertrag (nur WW)"]
[]
["A48(WW)",null,null,"xi",{"$f":"(E122-E6)/400","v":{"$error":"#REF!"}},{"$f":"(F122-F6)/400","v":{"$error":"#REF!"}},{"$error":"#REF!"},{"$error":"#REF!"},{"$error":"#REF!"},{"$error":"#REF!"},{"$error":"#REF!"},{"$error":"#REF!"},{"$error":"#REF!"},{"$error":"#REF!"},{"$error":"#REF!"},{"$error":"#REF!"},{"$error":"#REF!"},{"$error":"#REF!"},{"$error":"#REF!"},{"$error":"#REF!"},{"$error":"#REF!"},{"$error":"#REF!"},{"$error":"#REF!"},{"$error":"#REF!"},{"$error":"#REF!"},{"$error":"#REF!"},{"$error":"#REF!"},{"$error":"#REF!"},{"$error":"#REF!"},{"$error":"#REF!"},{"$error":"#REF!"},{"$error":"#REF!"},{"$error":"#REF!"},{"$error":"#REF!"},{"$error":"#REF!"},{"$error":"#REF!"},{"$error":"#REF!"},{"$error":"#REF!"},{"$error":"#REF!"},{"$error":"#REF!"},{"$error":"#REF!"},{"$error":"#REF!"},{"$error":"#REF!"},{"$error":"#REF!"},{"$error":"#REF!"},{"$error":"#REF!"},{"$error":"#REF!"},{"$error":"#REF!"},{"$error":"#REF!"},{"$error":"#REF!"},{"$error":"#REF!"},{"$error":"#REF!"},{"$error":"#REF!"},{"$error":"#REF!"},{"$error":"#REF!"},{"$error":"#REF!"},{"$error":"#REF!"},{"$error":"#REF!"},{"$error":"#REF!"},{"$error":"#REF!"},{"$error":"#REF!"},{"$error":"#REF!"},{"$error":"#REF!"},{"$error":"#REF!"},{"$error":"#REF!"},{"$error":"#REF!"},{"$error":"#REF!"},{"$error":"#REF!"},{"$error":"#REF!"},{"$f":"(BR122-BR6)/400","v":{"$error":"#REF!"}}]
["A47(WW)",null,null,"hC,i Kollektorwirkungsgrad",{"$f":"n_0-(a_1*E126)-(a_2*(E126^2)*400)","v":{"$error":"#REF!"}},{"$error":"#REF!"},{"$error":"#REF!"},{"$error":"#REF!"},{"$error":"#REF!"},{"$error":"#REF!"},{"$error":"#REF!"},{"$error":"#REF!"},{"$error":"#REF!"},{"$error":"#REF!"},{"$error":"#REF!"},{"$error":"#REF!"},{"$error":"#REF!"},{"$error":"#REF!"},{"$error":"#REF!"},{"$error":"#REF!"},{"$error":"#REF!"},{"$error":"#REF!"},{"$error":"#REF!"},{"$error":"#REF!"},{"$error":"#REF!"},{"$error":"#REF!"},{"$error":"#REF!"},{"$error":"#REF!"},{"$error":"#REF!"},{"$error":"#REF!"},{"$error":"#REF!"},{"$error":"#REF!"},{"$error":"#REF!"},{"$error":"#REF!"},{"$error":"#REF!"},{"$error":"#REF!"},{"$f":"n_0-(a_1*AK126)-(a_2*(AK126^2)*400)","v":{"$error":"#REF!"}},{"$error":"#REF!"},{"$error":"#REF!"},{"$error":"#REF!"},{"$error":"#REF!"},{"$error":"#REF!"},{"$error":"#REF!"},{"$error":"#REF!"},{"$error":"#REF!"},{"$error":"#REF!"},{"$error":"#REF!"},{"$error":"#REF!"},{"$error":"#REF!"},{"$error":"#REF!"},{"$error":"#REF!"},{"$error":"#REF!"},{"$error":"#REF!"},{"$error":"#REF!"},{"$error":"#REF!"},{"$error":"#REF!"},{"$error":"#REF!"},{"$error":"#REF!"},{"$error":"#REF!"},{"$error":"#REF!"},{"$error":"#REF!"},{"$error":"#REF!"},{"$error":"#REF!"},{"$error":"#REF!"},{"$error":"#REF!"},{"$error":"#REF!"},{"$error":"#REF!"},{"$error":"#REF!"},{"$f":"n_0-(a_1*BQ126)-(a_2*(BQ126^2)*400)","v":{"$error":"#REF!"}},{"$f":"n_0-(a_1*BR126)-(a_2*(BR126^2)*400)","v":{"$error":"#REF!"}}]
["A54(WW)",null,null,"Qs,C,i (max Kollektorfeldertrag)",{"$f":"E109*A_A*E127","v":{"$error":"#REF!"}},{"$error":"#REF!"},{"$error":"#REF!"},{"$error":"#REF!"},{"$error":"#REF!"},{"$error":"#REF!"},{"$error":"#REF!"},{"$error":"#REF!"},{"$error":"#REF!"},{"$error":"#REF!"},{"$error":"#REF!"},{"$error":"#REF!"},{"$error":"#REF!"},{"$error":"#REF!"},{"$error":"#REF!"},{"$error":"#REF!"},{"$error":"#REF!"},{"$error":"#REF!"},{"$error":"#REF!"},{"$error":"#REF!"},{"$error":"#REF!"},{"$error":"#REF!"},{"$error":"#REF!"},{"$error":"#REF!"},{"$error":"#REF!"},{"$error":"#REF!"},{"$error":"#REF!"},{"$error":"#REF!"},{"$error":"#REF!"},{"$error":"#REF!"},{"$error":"#REF!"},{"$error":"#REF!"},{"$f":"AK109*A_A*AK127","v":{"$error":"#REF!"}},{"$error":"#REF!"},{"$error":"#REF!"},{"$error":"#REF!"},{"$error":"#REF!"},{"$error":"#REF!"},{"$error":"#REF!"},{"$error":"#REF!"},{"$error":"#REF!"},{"$error":"#REF!"},{"$error":"#REF!"},{"$error":"#REF!"},{"$error":"#REF!"},{"$error":"#REF!"},{"$error":"#REF!"},{"$error":"#REF!"},{"$error":"#REF!"},{"$error":"#REF!"},{"$error":"#REF!"},{"$error":"#REF!"},{"$error":"#REF!"},{"$error":"#REF!"},{"$error":"#REF!"},{"$error":"#REF!"},{"$error":"#REF!"},{"$error":"#REF!"},{"$error":"#REF!"},{"$error":"#REF!"},{"$error":"#REF!"},{"$error":"#REF!"},{"$error":"#REF!"},{"$error":"#REF!"},{"$f":"BQ109*A_A*BQ127","v":{"$error":"#REF!"}},{"$f":"BR109*A_A*BR127","v":{"$error":"#REF!"}}]
[null,"Bruttoertrag (nur WW)"]
["Input",{"$f":"Qww*EBF/3.6","v":{"$error":"#VALUE!"}},"kWh/a","QWW (inkl. Verluste)"]
["berechnet",{"$f":"P_W_dis","v":{"$error":"#VALUE!"}},"kW","FW, dis Wärmeleistungsbed WW"]
[null,{"$f":"SUM(E132:BR132)","v":{"$error":"#VALUE!"}},"kWh","QW,dis,i (inkl. Verluste)",{"$f":"Phi_WW*E7","v":{"$error":"#VALUE!"}},{"$error":"#VALUE!"},{"$error":"#VALUE!"},{"$error":"#VALUE!"},{"$error":"#VALUE!"},{"$error":"#VALUE!"},{"$error":"#VALUE!"},{"$error":"#VALUE!"},{"$error":"#VALUE!"},{"$error":"#VALUE!"},{"$error":"#VALUE!"},{"$error":"#VALUE!"},{"$error":"#VALUE!"},{"$error":"#VALUE!"},{"$error":"#VALUE!"},{"$error":"#VALUE!"},{"$error":"#VALUE!"},{"$error":"#VALUE!"},{"$error":"#VALUE!"},{"$error":"#VALUE!"},{"$error":"#VALUE!"},{"$error":"#VALUE!"},{"$error":"#VALUE!"},{"$error":"#VALUE!"},{"$error":"#VALUE!"},{"$error":"#VALUE!"},{"$error":"#VALUE!"},{"$error":"#VALUE!"},{"$error":"#VALUE!"},{"$error":"#VALUE!"},{"$error":"#VALUE!"},{"$error":"#VALUE!"},{"$f":"Phi_WW*AK7","v":{"$error":"#VALUE!"}},{"$error":"#VALUE!"},{"$error":"#VALUE!"},{"$error":"#VALUE!"},{"$error":"#VALUE!"},{"$error":"#VALUE!"},{"$error":"#VALUE!"},{"$error":"#VALUE!"},{"$error":"#VALUE!"},{"$error":"#VALUE!"},{"$error":"#VALUE!"},{"$error":"#VALUE!"},{"$error":"#VALUE!"},{"$error":"#VALUE!"},{"$error":"#VALUE!"},{"$error":"#VALUE!"},{"$error":"#VALUE!"},{"$error":"#VALUE!"},{"$error":"#VALUE!"},{"$error":"#VALUE!"},{"$error":"#VALUE!"},{"$error":"#VALUE!"},{"$error":"#VALUE!"},{"$error":"#VALUE!"},{"$error":"#VALUE!"},{"$error":"#VALUE!"},{"$error":"#VALUE!"},{"$error":"#VALUE!"},{"$error":"#VALUE!"},{"$error":"#VALUE!"},{"$error":"#VALUE!"},{"$error":"#VALUE!"},{"$error":"#VALUE!"},{"$error":"#VALUE!"}]
["A55(WW)",{"$f":"SUM(E133:BR133)","v":{"$error":"#VALUE!"}},"kWh","QS.brut,i (Bruttoertrag Solar)",{"$f":"MIN(E128,E132*2.5)","v":{"$error":"#VALUE!"}},{"$f":"MIN(F128,F132*2.5)","v":{"$error":"#VALUE!"}},{"$error":"#VALUE!"},{"$error":"#VALUE!"},{"$error":"#VALUE!"},{"$error":"#VALUE!"},{"$error":"#VALUE!"},{"$error":"#VALUE!"},{"$error":"#VALUE!"},{"$error":"#VALUE!"},{"$error":"#VALUE!"},{"$error":"#VALUE!"},{"$error":"#VALUE!"},{"$error":"#VALUE!"},{"$error":"#VALUE!"},{"$error":"#VALUE!"},{"$error":"#VALUE!"},{"$error":"#VALUE!"},{"$error":"#VALUE!"},{"$error":"#VALUE!"},{"$error":"#VALUE!"},{"$error":"#VALUE!"},{"$error":"#VALUE!"},{"$error":"#VALUE!"},{"$error":"#VALUE!"},{"$error":"#VALUE!"},{"$error":"#VALUE!"},{"$error":"#VALUE!"},{"$error":"#VALUE!"},{"$error":"#VALUE!"},{"$error":"#VALUE!"},{"$error":"#VALUE!"},{"$error":"#VALUE!"},{"$error":"#VALUE!"},{"$error":"#VALUE!"},{"$error":"#VALUE!"},{"$error":"#VALUE!"},{"$error":"#VALUE!"},{"$error":"#VALUE!"},{"$error":"#VALUE!"},{"$error":"#VALUE!"},{"$error":"#VALUE!"},{"$error":"#VALUE!"},{"$error":"#VALUE!"},{"$error":"#VALUE!"},{"$error":"#VALUE!"},{"$error":"#VALUE!"},{"$error":"#VALUE!"},{"$error":"#VALUE!"},{"$error":"#VALUE!"},{"$error":"#VALUE!"},{"$error":"#VALUE!"},{"$error":"#VALUE!"},{"$error":"#VALUE!"},{"$error":"#VALUE!"},{"$error":"#VALUE!"},{"$error":"#VALUE!"},{"$error":"#VALUE!"},{"$error":"#VALUE!"},{"$error":"#VALUE!"},{"$error":"#VALUE!"},{"$error":"#VALUE!"},{"$error":"#VALUE!"},{"$error":"#VALUE!"},{"$error":"#VALUE!"},{"$f":"MIN(BR128,BR132*2.5)","v":{"$error":"#VALUE!"}}]
[]
[null,"Nutzbare Solarwärme im BIN"]
["A56(WW)",{"$f":"SUM(E136:BR136)","v":{"$error":"#VALUE!"}},"kWh","QS,i (Basis)",{"$f":"MIN(E133,E132)","v":{"$error":"#VALUE!"}},{"$f":"MIN(F133,F132)","v":{"$error":"#VALUE!"}},{"$error":"#VALUE!"},{"$error":"#VALUE!"},{"$error":"#VALUE!"},{"$error":"#VALUE!"},{"$error":"#VALUE!"},{"$error":"#VALUE!"},{"$error":"#VALUE!"},{"$error":"#VALUE!"},{"$error":"#VALUE!"},{"$error":"#VALUE!"},{"$error":"#VALUE!"},{"$error":"#VALUE!"},{"$error":"#VALUE!"},{"$error":"#VALUE!"},{"$error":"#VALUE!"},{"$error":"#VALUE!"},{"$error":"#VALUE!"},{"$error":"#VALUE!"},{"$error":"#VALUE!"},{"$error":"#VALUE!"},{"$error":"#VALUE!"},{"$error":"#VALUE!"},{"$error":"#VALUE!"},{"$error":"#VALUE!"},{"$error":"#VALUE!"},{"$error":"#VALUE!"},{"$error":"#VALUE!"},{"$error":"#VALUE!"},{"$error":"#VALUE!"},{"$error":"#VALUE!"},{"$error":"#VALUE!"},{"$error":"#VALUE!"},{"$error":"#VALUE!"},{"$error":"#VALUE!"},{"$error":"#VALUE!"},{"$error":"#VALUE!"},{"$error":"#VALUE!"},{"$error":"#VALUE!"},{"$error":"#VALUE!"},{"$error":"#VALUE!"},{"$error":"#VALUE!"},{"$error":"#VALUE!"},{"$error":"#VALUE!"},{"$error":"#VALUE!"},{"$error":"#VALUE!"},{"$error":"#VALUE!"},{"$error":"#VALUE!"},{"$error":"#VALUE!"},{"$error":"#VALUE!"},{"$error":"#VALUE!"},{"$error":"#VALUE!"},{"$error":"#VALUE!"},{"$error":"#VALUE!"},{"$error":"#VALUE!"},{"$error":"#VALUE!"},{"$error":"#VALUE!"},{"$error":"#VALUE!"},{"$error":"#VALUE!"},{"$error":"#VALUE!"},{"$error":"#VALUE!"},{"$error":"#VALUE!"},{"$error":"#VALUE!"},{"$error":"#VALUE!"},{"$f":"MIN(BR133,BR132)","v":{"$error":"#VALUE!"}}]
["A3.6.2(>0°C)",{"$f":"SUM(E137:BR137)","v":{"$error":"#VALUE!"}},"kWh","QS.sur,i (Überschuss Solar Total)",{"$f":"E133-E136","v":{"$error":"#VALUE!"}},{"$f":"F133-F136","v":{"$error":"#VALUE!"}},{"$error":"#VALUE!"},{"$error":"#VALUE!"},{"$error":"#VALUE!"},{"$error":"#VALUE!"},{"$error":"#VALUE!"},{"$error":"#VALUE!"},{"$error":"#VALUE!"},{"$error":"#VALUE!"},{"$error":"#VALUE!"},{"$error":"#VALUE!"},{"$error":"#VALUE!"},{"$error":"#VALUE!"},{"$error":"#VALUE!"},{"$error":"#VALUE!"},{"$error":"#VALUE!"},{"$error":"#VALUE!"},{"$error":"#VALUE!"},{"$error":"#VALUE!"},{"$error":"#VALUE!"},{"$error":"#VALUE!"},{"$error":"#VALUE!"},{"$error":"#VALUE!"},{"$error":"#VALUE!"},{"$error":"#VALUE!"},{"$error":"#VALUE!"},{"$error":"#VALUE!"},{"$error":"#VALUE!"},{"$error":"#VALUE!"},{"$error":"#VALUE!"},{"$error":"#VALUE!"},{"$error":"#VALUE!"},{"$error":"#VALUE!"},{"$error":"#VALUE!"},{"$error":"#VALUE!"},{"$error":"#VALUE!"},{"$error":"#VALUE!"},{"$error":"#VALUE!"},{"$error":"#VALUE!"},{"$error":"#VALUE!"},{"$error":"#VALUE!"},{"$error":"#VALUE!"},{"$error":"#VALUE!"},{"$error":"#VALUE!"},{"$error":"#VALUE!"},{"$error":"#VALUE!"},{"$error":"#VALUE!"},{"$error":"#VALUE!"},{"$error":"#VALUE!"},{"$error":"#VALUE!"},{"$error":"#VALUE!"},{"$error":"#VALUE!"},{"$error":"#VALUE!"},{"$error":"#VALUE!"},{"$error":"#VALUE!"},{"$error":"#VALUE!"},{"$error":"#VALUE!"},{"$error":"#VALUE!"},{"$error":"#VALUE!"},{"$error":"#VALUE!"},{"$error":"#VALUE!"},{"$error":"#VALUE!"},{"$error":"#VALUE!"},{"$error":"#VALUE!"},{"$f":"BR133-BR136","v":{"$error":"#VALUE!"}}]
[null,{"$f":"SUM(E138:BR138)","v":{"$error":"#VALUE!"}},"h","h Unterdeckung >=0°C",null,null,null,null,null,null,null,null,null,null,null,null,null,null,null,null,null,null,null,null,null,null,null,null,null,{"$f":"(AD137=0)*AD7","v":{"$error":"#VALUE!"}},{"$f":"(AE137=0)*AE7","v":{"$error":"#VALUE!"}},{"$error":"#VALUE!"},{"$error":"#VALUE!"},{"$error":"#VALUE!"},{"$error":"#VALUE!"},{"$error":"#VALUE!"},{"$error":"#VALUE!"},{"$error":"#VALUE!"},{"$error":"#VALUE!"},{"$error":"#VALUE!"},{"$error":"#VALUE!"},{"$error":"#VALUE!"},{"$error":"#VALUE!"},{"$error":"#VALUE!"},{"$error":"#VALUE!"},{"$error":"#VALUE!"},{"$error":"#VALUE!"},{"$error":"#VALUE!"},{"$error":"#VALUE!"},{"$error":"#VALUE!"},{"$error":"#VALUE!"},{"$error":"#VALUE!"},{"$error":"#VALUE!"},{"$error":"#VALUE!"},{"$error":"#VALUE!"},{"$error":"#VALUE!"},{"$error":"#VALUE!"},{"$error":"#VALUE!"},{"$error":"#VALUE!"},{"$error":"#VALUE!"},{"$error":"#VALUE!"},{"$error":"#VALUE!"},{"$error":"#VALUE!"},{"$error":"#VALUE!"},{"$error":"#VALUE!"},{"$error":"#VALUE!"},{"$error":"#VALUE!"},{"$error":"#VALUE!"},{"$error":"#VALUE!"},{"$error":"#VALUE!"}]
["A3.6.2(>0°C)",{"$f":"B137/B138","v":{"$error":"#VALUE!"}},"kW","FS  Überschuss Solar WW"]
["A3.6.2(>0°C)",{"$f":"SUM(E140:BR140)","v":{"$error":"#VALUE!"}},"kWh","QS.sur,i (Überschuss Solar im BIN)",null,null,null,null,null,null,null,null,null,null,null,null,null,null,null,null,null,null,null,null,null,null,null,null,null,{"$f":"AD138*Phi_S_Ü","v":{"$error":"#VALUE!"}},{"$error":"#VALUE!"},{"$error":"#VALUE!"},{"$error":"#VALUE!"},{"$error":"#VALUE!"},{"$error":"#VALUE!"},{"$error":"#VALUE!"},{"$error":"#VALUE!"},{"$error":"#VALUE!"},{"$error":"#VALUE!"},{"$error":"#VALUE!"},{"$error":"#VALUE!"},{"$error":"#VALUE!"},{"$error":"#VALUE!"},{"$error":"#VALUE!"},{"$error":"#VALUE!"},{"$error":"#VALUE!"},{"$error":"#VALUE!"},{"$error":"#VALUE!"},{"$error":"#VALUE!"},{"$error":"#VALUE!"},{"$error":"#VALUE!"},{"$error":"#VALUE!"},{"$error":"#VALUE!"},{"$error":"#VALUE!"},{"$error":"#VALUE!"},{"$error":"#VALUE!"},{"$error":"#VALUE!"},{"$error":"#VALUE!"},{"$error":"#VALUE!"},{"$error":"#VALUE!"},{"$error":"#VALUE!"},{"$error":"#VALUE!"},{"$error":"#VALUE!"},{"$error":"#VALUE!"},{"$error":"#VALUE!"},{"$error":"#VALUE!"},{"$error":"#VALUE!"},{"$error":"#VALUE!"},{"$error":"#VALUE!"},{"$error":"#VALUE!"}]
["A58(WW)",{"$f":"SUM(E141:BR141)","v":{"$error":"#VALUE!"}},"kWh","QS,i (Übertrag >=0°C)",null,null,null,null,null,null,null,null,null,null,null,null,null,null,null,null,null,null,null,null,null,null,null,null,null,{"$f":"MIN(AD133+AD140,AD132)","v":{"$error":"#VALUE!"}},{"$f":"MIN(AE133+AE140,AE132)","v":{"$error":"#VALUE!"}},{"$error":"#VALUE!"},{"$error":"#VALUE!"},{"$error":"#VALUE!"},{"$error":"#VALUE!"},{"$error":"#VALUE!"},{"$error":"#VALUE!"},{"$error":"#VALUE!"},{"$error":"#VALUE!"},{"$error":"#VALUE!"},{"$error":"#VALUE!"},{"$error":"#VALUE!"},{"$error":"#VALUE!"},{"$error":"#VALUE!"},{"$error":"#VALUE!"},{"$error":"#VALUE!"},{"$error":"#VALUE!"},{"$error":"#VALUE!"},{"$error":"#VALUE!"},{"$error":"#VALUE!"},{"$error":"#VALUE!"},{"$error":"#VALUE!"},{"$error":"#VALUE!"},{"$error":"#VALUE!"},{"$error":"#VALUE!"},{"$error":"#VALUE!"},{"$error":"#VALUE!"},{"$error":"#VALUE!"},{"$error":"#VALUE!"},{"$error":"#VALUE!"},{"$error":"#VALUE!"},{"$error":"#VALUE!"},{"$error":"#VALUE!"},{"$error":"#VALUE!"},{"$error":"#VALUE!"},{"$error":"#VALUE!"},{"$error":"#VALUE!"},{"$error":"#VALUE!"},{"$error":"#VALUE!"},{"$error":"#VALUE!"}]
["A3.6.2(<0°C)",{"$f":"SUM(E142:BR142)","v":{"$error":"#VALUE!"}},"kWh","QS.sur,i (Überschuss n. 1. Verteilung)",null,null,null,null,null,null,null,null,null,null,null,null,null,null,null,null,null,null,null,null,null,null,null,null,null,{"$f":"MAX(0,AD140-(AD132-AD136))","v":{"$error":"#VALUE!"}},{"$f":"MAX(0,AE140-(AE132-AE136))","v":{"$error":"#VALUE!"}},{"$error":"#VALUE!"},{"$error":"#VALUE!"},{"$error":"#VALUE!"},{"$error":"#VALUE!"},{"$error":"#VALUE!"},{"$error":"#VALUE!"},{"$error":"#VALUE!"},{"$error":"#VALUE!"},{"$error":"#VALUE!"},{"$error":"#VALUE!"},{"$error":"#VALUE!"},{"$error":"#VALUE!"},{"$error":"#VALUE!"},{"$error":"#VALUE!"},{"$error":"#VALUE!"},{"$error":"#VALUE!"},{"$error":"#VALUE!"},{"$error":"#VALUE!"},{"$error":"#VALUE!"},{"$error":"#VALUE!"},{"$error":"#VALUE!"},{"$error":"#VALUE!"},{"$error":"#VALUE!"},{"$error":"#VALUE!"},{"$error":"#VALUE!"},{"$error":"#VALUE!"},{"$error":"#VALUE!"},{"$error":"#VALUE!"},{"$error":"#VALUE!"},{"$error":"#VALUE!"},{"$error":"#VALUE!"},{"$error":"#VALUE!"},{"$error":"#VALUE!"},{"$error":"#VALUE!"},{"$error":"#VALUE!"},{"$error":"#VALUE!"},{"$error":"#VALUE!"},{"$error":"#VALUE!"},{"$error":"#VALUE!"}]
[null,{"$f":"SUM(E143:BR143)","v":{"$error":"#VALUE!"}},"h","h Unterdeckung <0°C",{"$f":"(E137=0)*E7","v":{"$error":"#VALUE!"}},{"$f":"(F137=0)*F7","v":{"$error":"#VALUE!"}},{"$error":"#VALUE!"},{"$error":"#VALUE!"},{"$error":"#VALUE!"},{"$error":"#VALUE!"},{"$error":"#VALUE!"},{"$error":"#VALUE!"},{"$error":"#VALUE!"},{"$error":"#VALUE!"},{"$error":"#VALUE!"},{"$error":"#VALUE!"},{"$error":"#VALUE!"},{"$error":"#VALUE!"},{"$error":"#VALUE!"},{"$error":"#VALUE!"},{"$error":"#VALUE!"},{"$error":"#VALUE!"},{"$error":"#VALUE!"},{"$error":"#VALUE!"},{"$error":"#VALUE!"},{"$error":"#VALUE!"},{"$error":"#VALUE!"},{"$error":"#VALUE!"},{"$error":"#VALUE!"}]
["A3.6.2(<0°C)",{"$f":"B142/B143","v":{"$error":"#VALUE!"}},"kW","FS  Überschuss Solar WW 2. Vert."]
["A3.6.2(<0°C)",{"$f":"SUM(E145:BR145)","v":{"$error":"#VALUE!"}},"kWh","QS.sur,i (Überschuss Solar im BIN)",{"$f":"Phi_S_Ü2*E143","v":{"$error":"#VALUE!"}},{"$error":"#VALUE!"},{"$error":"#VALUE!"},{"$error":"#VALUE!"},{"$error":"#VALUE!"},{"$error":"#VALUE!"},{"$error":"#VALUE!"},{"$error":"#VALUE!"},{"$error":"#VALUE!"},{"$error":"#VALUE!"},{"$error":"#VALUE!"},{"$error":"#VALUE!"},{"$error":"#VALUE!"},{"$error":"#VALUE!"},{"$error":"#VALUE!"},{"$error":"#VALUE!"},{"$error":"#VALUE!"},{"$error":"#VALUE!"},{"$error":"#VALUE!"},{"$error":"#VALUE!"},{"$error":"#VALUE!"},{"$error":"#VALUE!"},{"$error":"#VALUE!"},{"$error":"#VALUE!"},{"$error":"#VALUE!"}]
["A58(WW)",null,null,"QS,i (Übertrag <0°C)",{"$f":"MIN(E133+E145,E132)","v":{"$error":"#VALUE!"}},{"$error":"#VALUE!"},{"$error":"#VALUE!"},{"$error":"#VALUE!"},{"$error":"#VALUE!"},{"$error":"#VALUE!"},{"$error":"#VALUE!"},{"$error":"#VALUE!"},{"$error":"#VALUE!"},{"$error":"#VALUE!"},{"$error":"#VALUE!"},{"$error":"#VALUE!"},{"$error":"#VALUE!"},{"$error":"#VALUE!"},{"$error":"#VALUE!"},{"$error":"#VALUE!"},{"$error":"#VALUE!"},{"$error":"#VALUE!"},{"$error":"#VALUE!"},{"$error":"#VALUE!"},{"$error":"#VALUE!"},{"$error":"#VALUE!"},{"$error":"#VALUE!"},{"$error":"#VALUE!"},{"$error":"#VALUE!"}]
["A58(WW)",{"$f":"SUM(E147:BR147)","v":{"$error":"#VALUE!"}},"kWh","QS,i (total)",{"$f":"E146+E141","v":{"$error":"#VALUE!"}},{"$error":"#VALUE!"},{"$error":"#VALUE!"},{"$error":"#VALUE!"},{"$error":"#VALUE!"},{"$error":"#VALUE!"},{"$error":"#VALUE!"},{"$error":"#VALUE!"},{"$error":"#VALUE!"},{"$error":"#VALUE!"},{"$error":"#VALUE!"},{"$error":"#VALUE!"},{"$error":"#VALUE!"},{"$error":"#VALUE!"},{"$error":"#VALUE!"},{"$error":"#VALUE!"},{"$error":"#VALUE!"},{"$error":"#VALUE!"},{"$error":"#VALUE!"},{"$error":"#VALUE!"},{"$error":"#VALUE!"},{"$error":"#VALUE!"},{"$error":"#VALUE!"},{"$error":"#VALUE!"},{"$error":"#VALUE!"},{"$error":"#VALUE!"},{"$error":"#VALUE!"},{"$error":"#VALUE!"},{"$error":"#VALUE!"},{"$error":"#VALUE!"},{"$error":"#VALUE!"},{"$error":"#VALUE!"},{"$f":"AK146+AK141","v":{"$error":"#VALUE!"}},{"$error":"#VALUE!"},{"$error":"#VALUE!"},{"$error":"#VALUE!"},{"$error":"#VALUE!"},{"$error":"#VALUE!"},{"$error":"#VALUE!"},{"$error":"#VALUE!"},{"$error":"#VALUE!"},{"$error":"#VALUE!"},{"$error":"#VALUE!"},{"$error":"#VALUE!"},{"$error":"#VALUE!"},{"$error":"#VALUE!"},{"$error":"#VALUE!"},{"$error":"#VALUE!"},{"$error":"#VALUE!"},{"$error":"#VALUE!"},{"$error":"#VALUE!"},{"$error":"#VALUE!"},{"$error":"#VALUE!"},{"$error":"#VALUE!"},{"$error":"#VALUE!"},{"$error":"#VALUE!"},{"$error":"#VALUE!"},{"$error":"#VALUE!"},{"$error":"#VALUE!"},{"$error":"#VALUE!"},{"$error":"#VALUE!"},{"$error":"#VALUE!"},{"$error":"#VALUE!"},{"$error":"#VALUE!"},{"$f":"BQ146+BQ141","v":{"$error":"#VALUE!"}},{"$f":"BR146+BR141","v":{"$error":"#VALUE!"}}]
[null,{"$f":"B147/B130","v":{"$error":"#VALUE!"}},null,"Deckungsgrad WW"]
[]
[null,"Berechnungen Heizung und WW"]
[null,null,"kW","FW, dis Wärmeleistungsbed WW",{"$f":"Phi_WW","v":{"$error":"#VALUE!"}},{"$error":"#VALUE!"},{"$error":"#VALUE!"},{"$error":"#VALUE!"},{"$error":"#VALUE!"},{"$error":"#VALUE!"},{"$error":"#VALUE!"},{"$error":"#VALUE!"},{"$error":"#VALUE!"},{"$error":"#VALUE!"},{"$error":"#VALUE!"},{"$error":"#VALUE!"},{"$error":"#VALUE!"},{"$error":"#VALUE!"},{"$error":"#VALUE!"},{"$error":"#VALUE!"},{"$error":"#VALUE!"},{"$error":"#VALUE!"},{"$error":"#VALUE!"},{"$error":"#VALUE!"},{"$error":"#VALUE!"},{"$error":"#VALUE!"},{"$error":"#VALUE!"},{"$error":"#VALUE!"},{"$error":"#VALUE!"},{"$error":"#VALUE!"},{"$error":"#VALUE!"},{"$error":"#VALUE!"},{"$error":"#VALUE!"},{"$error":"#VALUE!"},{"$error":"#VALUE!"},{"$error":"#VALUE!"},{"$f":"Phi_WW","v":{"$error":"#VALUE!"}},{"$error":"#VALUE!"},{"$error":"#VALUE!"},{"$error":"#VALUE!"},{"$error":"#VALUE!"},{"$error":"#VALUE!"},{"$error":"#VALUE!"},{"$error":"#VALUE!"},{"$error":"#VALUE!"},{"$error":"#VALUE!"},{"$error":"#VALUE!"},{"$error":"#VALUE!"},{"$error":"#VALUE!"},{"$error":"#VALUE!"},{"$error":"#VALUE!"},{"$error":"#VALUE!"},{"$error":"#VALUE!"},{"$error":"#VALUE!"},{"$error":"#VALUE!"},{"$error":"#VALUE!"},{"$error":"#VALUE!"},{"$error":"#VALUE!"},{"$error":"#VALUE!"},{"$error":"#VALUE!"},{"$error":"#VALUE!"},{"$error":"#VALUE!"},{"$error":"#VALUE!"},{"$error":"#VALUE!"},{"$error":"#VALUE!"},{"$error":"#VALUE!"},{"$error":"#VALUE!"},{"$error":"#VALUE!"},{"$error":"#VALUE!"},{"$error":"#VALUE!"}]
[null,null,null,"FH, dis,i Wärmelstg. bed. Heizung",{"$f":"E79*(E75>0)","v":{"$error":"#REF!"}},{"$f":"F79*(F75>0)","v":{"$error":"#REF!"}},{"$error":"#REF!"},{"$error":"#REF!"},{"$error":"#REF!"},{"$error":"#REF!"},{"$error":"#REF!"},{"$error":"#REF!"},{"$error":"#REF!"},{"$error":"#REF!"},{"$error":"#REF!"},{"$error":"#REF!"},{"$error":"#REF!"},{"$error":"#REF!"},{"$error":"#REF!"},{"$error":"#REF!"},{"$error":"#REF!"},{"$error":"#REF!"},{"$error":"#REF!"},{"$error":"#REF!"},{"$error":"#REF!"},{"$error":"#REF!"},{"$error":"#REF!"},{"$error":"#REF!"},{"$error":"#REF!"},{"$error":"#REF!"},{"$error":"#REF!"},{"$error":"#REF!"},{"$error":"#REF!"},{"$error":"#REF!"},{"$error":"#REF!"},{"$error":"#REF!"},{"$error":"#REF!"},{"$error":"#REF!"},{"$error":"#REF!"},{"$error":"#REF!"},{"$error":"#REF!"},{"$error":"#REF!"},{"$error":"#REF!"},{"$error":"#REF!"},{"$error":"#REF!"},{"$error":"#REF!"},{"$error":"#REF!"},{"$error":"#REF!"},{"$error":"#REF!"},{"$error":"#REF!"},{"$error":"#REF!"},{"$error":"#REF!"},{"$error":"#REF!"},{"$error":"#REF!"},{"$error":"#REF!"},{"$error":"#REF!"},{"$error":"#REF!"},{"$error":"#REF!"},{"$error":"#REF!"},{"$error":"#REF!"},{"$error":"#REF!"},{"$error":"#REF!"},{"$error":"#REF!"},{"$error":"#REF!"},{"$error":"#REF!"},{"$error":"#REF!"},{"$error":"#REF!"},{"$error":"#REF!"},{"$error":"#REF!"},{"$f":"BR79*(BR75>0)","v":{"$error":"#REF!"}}]
[null,null,null,"fF Leistungsverhältnis (H + WW)",{"$f":"(n_0*0.4*A_A)/(E151+E152)","v":{"$error":"#VALUE!"}},{"$error":"#VALUE!"},{"$error":"#VALUE!"},{"$error":"#VALUE!"},{"$error":"#VALUE!"},{"$error":"#VALUE!"},{"$error":"#VALUE!"},{"$error":"#VALUE!"},{"$error":"#VALUE!"},{"$error":"#VALUE!"},{"$error":"#VALUE!"},{"$error":"#VALUE!"},{"$error":"#VALUE!"},{"$error":"#VALUE!"},{"$error":"#VALUE!"},{"$error":"#VALUE!"},{"$error":"#VALUE!"},{"$error":"#VALUE!"},{"$error":"#VALUE!"},{"$error":"#VALUE!"},{"$error":"#VALUE!"},{"$error":"#VALUE!"},{"$error":"#VALUE!"},{"$error":"#VALUE!"},{"$error":"#VALUE!"},{"$error":"#VALUE!"},{"$error":"#VALUE!"},{"$error":"#VALUE!"},{"$error":"#VALUE!"},{"$error":"#VALUE!"},{"$error":"#VALUE!"},{"$error":"#VALUE!"},{"$f":"(n_0*0.4*A_A)/(AK151+AK152)","v":{"$error":"#VALUE!"}},{"$error":"#VALUE!"},{"$error":"#VALUE!"},{"$error":"#VALUE!"},{"$error":"#VALUE!"},{"$error":"#VALUE!"},{"$error":"#VALUE!"},{"$error":"#VALUE!"},{"$error":"#VALUE!"},{"$error":"#VALUE!"},{"$error":"#VALUE!"},{"$error":"#VALUE!"},{"$error":"#VALUE!"},{"$error":"#VALUE!"},{"$error":"#VALUE!"},{"$error":"#VALUE!"},{"$error":"#VALUE!"},{"$error":"#VALUE!"},{"$error":"#VALUE!"},{"$error":"#VALUE!"},{"$error":"#VALUE!"},{"$error":"#VALUE!"},{"$error":"#VALUE!"},{"$error":"#VALUE!"},{"$error":"#VALUE!"},{"$error":"#VALUE!"},{"$error":"#VALUE!"},{"$error":"#VALUE!"},{"$error":"#VALUE!"},{"$error":"#VALUE!"},{"$error":"#VALUE!"},{"$error":"#VALUE!"},{"$f":"(n_0*0.4*A_A)/(BQ151+BQ152)","v":{"$error":"#VALUE!"}},{"$f":"(n_0*0.4*A_A)/(BR151+BR152)","v":{"$error":"#VALUE!"}}]
[null,null,null,"e-k*fF",{"$f":"EXP(-0.17*E153)","v":{"$error":"#VALUE!"}},{"$f":"EXP(-0.17*F153)","v":{"$error":"#VALUE!"}},{"$error":"#VALUE!"},{"$error":"#VALUE!"},{"$error":"#VALUE!"},{"$error":"#VALUE!"},{"$error":"#VALUE!"},{"$error":"#VALUE!"},{"$error":"#VALUE!"},{"$error":"#VALUE!"},{"$error":"#VALUE!"},{"$error":"#VALUE!"},{"$error":"#VALUE!"},{"$error":"#VALUE!"},{"$error":"#VALUE!"},{"$error":"#VALUE!"},{"$error":"#VALUE!"},{"$error":"#VALUE!"},{"$error":"#VALUE!"},{"$error":"#VALUE!"},{"$error":"#VALUE!"},{"$error":"#VALUE!"},{"$error":"#VALUE!"},{"$error":"#VALUE!"},{"$error":"#VALUE!"},{"$error":"#VALUE!"},{"$error":"#VALUE!"},{"$error":"#VALUE!"},{"$error":"#VALUE!"},{"$error":"#VALUE!"},{"$error":"#VALUE!"},{"$error":"#VALUE!"},{"$error":"#VALUE!"},{"$error":"#VALUE!"},{"$error":"#VALUE!"},{"$error":"#VALUE!"},{"$error":"#VALUE!"},{"$error":"#VALUE!"},{"$error":"#VALUE!"},{"$error":"#VALUE!"},{"$error":"#VALUE!"},{"$error":"#VALUE!"},{"$error":"#VALUE!"},{"$error":"#VALUE!"},{"$error":"#VALUE!"},{"$error":"#VALUE!"},{"$error":"#VALUE!"},{"$error":"#VALUE!"},{"$error":"#VALUE!"},{"$error":"#VALUE!"},{"$error":"#VALUE!"},{"$error":"#VALUE!"},{"$error":"#VALUE!"},{"$error":"#VALUE!"},{"$error":"#VALUE!"},{"$error":"#VALUE!"},{"$error":"#VALUE!"},{"$error":"#VALUE!"},{"$error":"#VALUE!"},{"$error":"#VALUE!"},{"$error":"#VALUE!"},{"$error":"#VALUE!"},{"$error":"#VALUE!"},{"$error":"#VALUE!"},{"$error":"#VALUE!"},{"$f":"EXP(-0.17*BR153)","v":{"$error":"#VALUE!"}}]
["Aus WP-Leistungewerte",null,null,"qH,ret,i T RL Heizung im Bin",{"$f":"WP_BIN!T78","v":29.21428571428574},{"$f":"WP_BIN!U78","v":29.142857142857167},{"$f":"WP_BIN!V78","v":29.071428571428594},{"$f":"WP_BIN!W78","v":29.000000000000021},{"$f":"WP_BIN!X78","v":28.928571428571448},{"$f":"WP_BIN!Y78","v":28.857142857142875},{"$f":"WP_BIN!Z78","v":28.785714285714302},{"$f":"WP_BIN!AA78","v":28.71428571428573},{"$f":"WP_BIN!AB78","v":28.642857142857157},{"$f":"WP_BIN!AC78","v":28.571428571428584},{"$f":"WP_BIN!AD78","v":28.500000000000011},{"$f":"WP_BIN!AE78","v":28.428571428571438},{"$f":"WP_BIN!AF78","v":28.357142857142865},{"$f":"WP_BIN!AG78","v":28.285714285714292},{"$f":"WP_BIN!AH78","v":28.214285714285719},{"$f":"WP_BIN!AI78","v":28.142857142857146},{"$f":"WP_BIN!AJ78","v":28.071428571428573},{"$f":"WP_BIN!AK78","v":28},{"$f":"WP_BIN!AL78","v":27.92857142857147},{"$f":"WP_BIN!AM78","v":27.857142857142897},{"$f":"WP_BIN!AN78","v":27.785714285714324},{"$f":"WP_BIN!AO78","v":27.714285714285751},{"$f":"WP_BIN!AP78","v":27.642857142857178},{"$f":"WP_BIN!AQ78","v":27.571428571428605},{"$f":"WP_BIN!AR78","v":27.500000000000032},{"$f":"WP_BIN!AS78","v":27.428571428571459},{"$f":"WP_BIN!AT78","v":27.357142857142886},{"$f":"WP_BIN!AU78","v":27.285714285714313},{"$f":"WP_BIN!AV78","v":27.21428571428574},{"$f":"WP_BIN!AW78","v":27.142857142857167},{"$f":"WP_BIN!AX78","v":27.071428571428594},{"$f":"WP_BIN!AY78","v":27.000000000000021},{"$f":"WP_BIN!AZ78","v":26.928571428571448},{"$f":"WP_BIN!BA78","v":26.857142857142875},{"$f":"WP_BIN!BB78","v":26.785714285714302},{"$f":"WP_BIN!BC78","v":26.71428571428573},{"$f":"WP_BIN!BD78","v":26.642857142857157},{"$f":"WP_BIN!BE78","v":26.571428571428584},{"$f":"WP_BIN!BF78","v":26.500000000000011},{"$f":"WP_BIN!BG78","v":26.428571428571438},{"$f":"WP_BIN!BH78","v":26.357142857142865},{"$f":"WP_BIN!BI78","v":26.285714285714292},{"$f":"WP_BIN!BJ78","v":26.214285714285719},{"$f":"WP_BIN!BK78","v":26.142857142857146},{"$f":"WP_BIN!BL78","v":26.071428571428573},{"$f":"WP_BIN!BM78","v":26},{"$f":"WP_BIN!BN78","v":26},{"$f":"WP_BIN!BO78","v":26},{"$f":"WP_BIN!BP78","v":26},{"$f":"WP_BIN!BQ78","v":26},{"$f":"WP_BIN!BR78","v":26},{"$f":"WP_BIN!BS78","v":26},{"$f":"WP_BIN!BT78","v":26},{"$f":"WP_BIN!BU78","v":26},{"$f":"WP_BIN!BV78","v":26},{"$f":"WP_BIN!BW78","v":26},{"$f":"WP_BIN!BX78","v":26},{"$f":"WP_BIN!BY78","v":26},{"$f":"WP_BIN!BZ78","v":26},{"$f":"WP_BIN!CA78","v":26},{"$f":"WP_BIN!CB78","v":26},{"$f":"WP_BIN!CC78","v":26},{"$f":"WP_BIN!CD78","v":26},{"$f":"WP_BIN!CE78","v":26},{"$f":"WP_BIN!CF78","v":26},{"$f":"WP_BIN!CG78","v":26}]
["Aus WP-Leistungewerte",null,null,"qH,su,i T VL Heizung im Bin",{"$f":"WP_BIN!T77","v":{"$error":"#DIV/0!"}},{"$f":"WP_BIN!U77","v":{"$error":"#DIV/0!"}},{"$f":"WP_BIN!V77","v":{"$error":"#DIV/0!"}},{"$f":"WP_BIN!W77","v":{"$error":"#DIV/0!"}},{"$f":"WP_BIN!X77","v":{"$error":"#DIV/0!"}},{"$f":"WP_BIN!Y77","v":{"$error":"#DIV/0!"}},{"$f":"WP_BIN!Z77","v":{"$error":"#DIV/0!"}},{"$f":"WP_BIN!AA77","v":{"$error":"#DIV/0!"}},{"$f":"WP_BIN!AB77","v":{"$error":"#DIV/0!"}},{"$f":"WP_BIN!AC77","v":{"$error":"#DIV/0!"}},{"$f":"WP_BIN!AD77","v":{"$error":"#DIV/0!"}},{"$f":"WP_BIN!AE77","v":{"$error":"#DIV/0!"}},{"$f":"WP_BIN!AF77","v":{"$error":"#DIV/0!"}},{"$f":"WP_BIN!AG77","v":{"$error":"#DIV/0!"}},{"$f":"WP_BIN!AH77","v":{"$error":"#DIV/0!"}},{"$f":"WP_BIN!AI77","v":{"$error":"#DIV/0!"}},{"$f":"WP_BIN!AJ77","v":{"$error":"#DIV/0!"}},{"$f":"WP_BIN!AK77","v":33},{"$f":"WP_BIN!AL77","v":{"$error":"#DIV/0!"}},{"$f":"WP_BIN!AM77","v":{"$error":"#DIV/0!"}},{"$f":"WP_BIN!AN77","v":{"$error":"#DIV/0!"}},{"$f":"WP_BIN!AO77","v":{"$error":"#DIV/0!"}},{"$f":"WP_BIN!AP77","v":{"$error":"#DIV/0!"}},{"$f":"WP_BIN!AQ77","v":{"$error":"#DIV/0!"}},{"$f":"WP_BIN!AR77","v":{"$error":"#DIV/0!"}},{"$f":"WP_BIN!AS77","v":{"$error":"#DIV/0!"}},{"$f":"WP_BIN!AT77","v":{"$error":"#DIV/0!"}},{"$f":"WP_BIN!AU77","v":{"$error":"#DIV/0!"}},{"$f":"WP_BIN!AV77","v":{"$error":"#DIV/0!"}},{"$f":"WP_BIN!AW77","v":{"$error":"#DIV/0!"}},{"$f":"WP_BIN!AX77","v":{"$error":"#DIV/0!"}},{"$f":"WP_BIN!AY77","v":{"$error":"#DIV/0!"}},{"$f":"WP_BIN!AZ77","v":{"$error":"#DIV/0!"}},{"$f":"WP_BIN!BA77","v":{"$error":"#DIV/0!"}},{"$f":"WP_BIN!BB77","v":{"$error":"#DIV/0!"}},{"$f":"WP_BIN!BC77","v":{"$error":"#DIV/0!"}},{"$f":"WP_BIN!BD77","v":{"$error":"#DIV/0!"}},{"$f":"WP_BIN!BE77","v":{"$error":"#DIV/0!"}},{"$f":"WP_BIN!BF77","v":{"$error":"#DIV/0!"}},{"$f":"WP_BIN!BG77","v":{"$error":"#DIV/0!"}},{"$f":"WP_BIN!BH77","v":{"$error":"#DIV/0!"}},{"$f":"WP_BIN!BI77","v":{"$error":"#DIV/0!"}},{"$f":"WP_BIN!BJ77","v":{"$error":"#DIV/0!"}},{"$f":"WP_BIN!BK77","v":{"$error":"#DIV/0!"}},{"$f":"WP_BIN!BL77","v":{"$error":"#DIV/0!"}},{"$f":"WP_BIN!BM77","v":{"$error":"#DIV/0!"}},{"$f":"WP_BIN!BN77","v":{"$error":"#DIV/0!"}},{"$f":"WP_BIN!BO77","v":{"$error":"#DIV/0!"}},{"$f":"WP_BIN!BP77","v":{"$error":"#DIV/0!"}},{"$f":"WP_BIN!BQ77","v":{"$error":"#DIV/0!"}},{"$f":"WP_BIN!BR77","v":{"$error":"#DIV/0!"}},{"$f":"WP_BIN!BS77","v":{"$error":"#DIV/0!"}},{"$f":"WP_BIN!BT77","v":{"$error":"#DIV/0!"}},{"$f":"WP_BIN!BU77","v":{"$error":"#DIV/0!"}},{"$f":"WP_BIN!BV77","v":{"$error":"#DIV/0!"}},{"$f":"WP_BIN!BW77","v":{"$error":"#DIV/0!"}},{"$f":"WP_BIN!BX77","v":{"$error":"#DIV/0!"}},{"$f":"WP_BIN!BY77","v":{"$error":"#DIV/0!"}},{"$f":"WP_BIN!BZ77","v":{"$error":"#DIV/0!"}},{"$f":"WP_BIN!CA77","v":{"$error":"#DIV/0!"}},{"$f":"WP_BIN!CB77","v":{"$error":"#DIV/0!"}},{"$f":"WP_BIN!CC77","v":{"$error":"#DIV/0!"}},{"$f":"WP_BIN!CD77","v":{"$error":"#DIV/0!"}},{"$f":"WP_BIN!CE77","v":{"$error":"#DIV/0!"}},{"$f":"WP_BIN!CF77","v":{"$error":"#DIV/0!"}},{"$f":"WP_BIN!CG77","v":{"$error":"#DIV/0!"}}]
["A52(Heizg)",null,null,"qC,min,i min K. T. (Heizung)",{"$f":"MAX(E6,(E155-5))","v":{"$error":"#REF!"}},{"$f":"MAX(F6,(F155-5))","v":{"$error":"#REF!"}},{"$error":"#REF!"},{"$error":"#REF!"},{"$error":"#REF!"},{"$error":"#REF!"},{"$error":"#REF!"},{"$error":"#REF!"},{"$error":"#REF!"},{"$error":"#REF!"},{"$error":"#REF!"},{"$error":"#REF!"},{"$error":"#REF!"},{"$error":"#REF!"},{"$error":"#REF!"},{"$error":"#REF!"},{"$error":"#REF!"},{"$error":"#REF!"},{"$error":"#REF!"},{"$error":"#REF!"},{"$error":"#REF!"},{"$error":"#REF!"},{"$error":"#REF!"},{"$error":"#REF!"},{"$error":"#REF!"},{"$error":"#REF!"},{"$error":"#REF!"},{"$error":"#REF!"},{"$error":"#REF!"},{"$error":"#REF!"},{"$error":"#REF!"},{"$error":"#REF!"},{"$error":"#REF!"},{"$error":"#REF!"},{"$error":"#REF!"},{"$error":"#REF!"},{"$error":"#REF!"},{"$error":"#REF!"},{"$error":"#REF!"},{"$error":"#REF!"},{"$error":"#REF!"},{"$error":"#REF!"},{"$error":"#REF!"},{"$error":"#REF!"},{"$error":"#REF!"},{"$error":"#REF!"},{"$error":"#REF!"},{"$error":"#REF!"},{"$error":"#REF!"},{"$error":"#REF!"},{"$error":"#REF!"},{"$error":"#REF!"},{"$error":"#REF!"},{"$error":"#REF!"},{"$error":"#REF!"},{"$error":"#REF!"},{"$error":"#REF!"},{"$error":"#REF!"},{"$error":"#REF!"},{"$error":"#REF!"},{"$error":"#REF!"},{"$error":"#REF!"},{"$error":"#REF!"},{"$error":"#REF!"},{"$error":"#REF!"},{"$f":"MAX(BR6,(BR155-5))","v":{"$error":"#REF!"}}]
["A52/A51",null,null,"qC,min,i min K. T. (H+WW)",{"$f":"E157*(E152>0)+E120*(E152=0)","v":{"$error":"#REF!"}},{"$f":"F157*(F152>0)+F120*(F152=0)","v":{"$error":"#REF!"}},{"$error":"#REF!"},{"$error":"#REF!"},{"$error":"#REF!"},{"$error":"#REF!"},{"$error":"#REF!"},{"$error":"#REF!"},{"$error":"#REF!"},{"$error":"#REF!"},{"$error":"#REF!"},{"$error":"#REF!"},{"$error":"#REF!"},{"$error":"#REF!"},{"$error":"#REF!"},{"$error":"#REF!"},{"$error":"#REF!"},{"$error":"#REF!"},{"$error":"#REF!"},{"$error":"#REF!"},{"$error":"#REF!"},{"$error":"#REF!"},{"$error":"#REF!"},{"$error":"#REF!"},{"$error":"#REF!"},{"$error":"#REF!"},{"$error":"#REF!"},{"$error":"#REF!"},{"$error":"#REF!"},{"$error":"#REF!"},{"$error":"#REF!"},{"$error":"#REF!"},{"$error":"#REF!"},{"$error":"#REF!"},{"$error":"#REF!"},{"$error":"#REF!"},{"$error":"#REF!"},{"$error":"#REF!"},{"$error":"#REF!"},{"$error":"#REF!"},{"$error":"#REF!"},{"$error":"#REF!"},{"$error":"#REF!"},{"$error":"#REF!"},{"$error":"#REF!"},{"$error":"#REF!"},{"$error":"#REF!"},{"$error":"#REF!"},{"$error":"#REF!"},{"$error":"#REF!"},{"$error":"#REF!"},{"$error":"#REF!"},{"$error":"#REF!"},{"$error":"#REF!"},{"$error":"#REF!"},{"$error":"#REF!"},{"$error":"#REF!"},{"$error":"#REF!"},{"$error":"#REF!"},{"$error":"#REF!"},{"$error":"#REF!"},{"$error":"#REF!"},{"$error":"#REF!"},{"$error":"#REF!"},{"$error":"#REF!"},{"$f":"BR157*(BR152>0)+BR120*(BR152=0)","v":{"$error":"#REF!"}}]
["A54(H+WW)",null,null,"qC,i Kollektortemp. (H + WW)",{"$f":"E117-((E117-E158)*E154)","v":{"$error":"#REF!"}},{"$f":"F117-((F117-F158)*F154)","v":{"$error":"#REF!"}},{"$error":"#REF!"},{"$error":"#REF!"},{"$error":"#REF!"},{"$error":"#REF!"},{"$error":"#REF!"},{"$error":"#REF!"},{"$error":"#REF!"},{"$error":"#REF!"},{"$error":"#REF!"},{"$error":"#REF!"},{"$error":"#REF!"},{"$error":"#REF!"},{"$error":"#REF!"},{"$error":"#REF!"},{"$error":"#REF!"},{"$error":"#REF!"},{"$error":"#REF!"},{"$error":"#REF!"},{"$error":"#REF!"},{"$error":"#REF!"},{"$error":"#REF!"},{"$error":"#REF!"},{"$error":"#REF!"},{"$error":"#REF!"},{"$error":"#REF!"},{"$error":"#REF!"},{"$error":"#REF!"},{"$error":"#REF!"},{"$error":"#REF!"},{"$error":"#REF!"},{"$error":"#REF!"},{"$error":"#REF!"},{"$error":"#REF!"},{"$error":"#REF!"},{"$error":"#REF!"},{"$error":"#REF!"},{"$error":"#REF!"},{"$error":"#REF!"},{"$error":"#REF!"},{"$error":"#REF!"},{"$error":"#REF!"},{"$error":"#REF!"},{"$error":"#REF!"},{"$error":"#REF!"},{"$error":"#REF!"},{"$error":"#REF!"},{"$error":"#REF!"},{"$error":"#REF!"},{"$error":"#REF!"},{"$error":"#REF!"},{"$error":"#REF!"},{"$error":"#REF!"},{"$error":"#REF!"},{"$error":"#REF!"},{"$error":"#REF!"},{"$error":"#REF!"},{"$error":"#REF!"},{"$error":"#REF!"},{"$error":"#REF!"},{"$error":"#REF!"},{"$error":"#REF!"},{"$error":"#REF!"},{"$error":"#REF!"},{"$f":"BR117-((BR117-BR158)*BR154)","v":{"$error":"#REF!"}}]
["A48(H+WW)",null,null,"xi",{"$f":"(E159-E6)/400","v":{"$error":"#REF!"}},{"$f":"(F159-F6)/400","v":{"$error":"#REF!"}},{"$error":"#REF!"},{"$error":"#REF!"},{"$error":"#REF!"},{"$error":"#REF!"},{"$error":"#REF!"},{"$error":"#REF!"},{"$error":"#REF!"},{"$error":"#REF!"},{"$error":"#REF!"},{"$error":"#REF!"},{"$error":"#REF!"},{"$error":"#REF!"},{"$error":"#REF!"},{"$error":"#REF!"},{"$error":"#REF!"},{"$error":"#REF!"},{"$error":"#REF!"},{"$error":"#REF!"},{"$error":"#REF!"},{"$error":"#REF!"},{"$error":"#REF!"},{"$error":"#REF!"},{"$error":"#REF!"},{"$error":"#REF!"},{"$error":"#REF!"},{"$error":"#REF!"},{"$error":"#REF!"},{"$error":"#REF!"},{"$error":"#REF!"},{"$error":"#REF!"},{"$error":"#REF!"},{"$error":"#REF!"},{"$error":"#REF!"},{"$error":"#REF!"},{"$error":"#REF!"},{"$error":"#REF!"},{"$error":"#REF!"},{"$error":"#REF!"},{"$error":"#REF!"},{"$error":"#REF!"},{"$error":"#REF!"},{"$error":"#REF!"},{"$error":"#REF!"},{"$error":"#REF!"},{"$error":"#REF!"},{"$error":"#REF!"},{"$error":"#REF!"},{"$error":"#REF!"},{"$error":"#REF!"},{"$error":"#REF!"},{"$error":"#REF!"},{"$error":"#REF!"},{"$error":"#REF!"},{"$error":"#REF!"},{"$error":"#REF!"},{"$error":"#REF!"},{"$error":"#REF!"},{"$error":"#REF!"},{"$error":"#REF!"},{"$error":"#REF!"},{"$error":"#REF!"},{"$error":"#REF!"},{"$error":"#REF!"},{"$f":"(BR159-BR6)/400","v":{"$error":"#REF!"}}]
["A47(H+WW)",null,null,"hC,i Kollektorwirkungsgrad",{"$f":"n_0-(a_1*E160)-(a_2*(E160^2)*400)","v":{"$error":"#REF!"}},{"$error":"#REF!"},{"$error":"#REF!"},{"$error":"#REF!"},{"$error":"#REF!"},{"$error":"#REF!"},{"$error":"#REF!"},{"$error":"#REF!"},{"$error":"#REF!"},{"$error":"#REF!"},{"$error":"#REF!"},{"$error":"#REF!"},{"$error":"#REF!"},{"$error":"#REF!"},{"$error":"#REF!"},{"$error":"#REF!"},{"$error":"#REF!"},{"$error":"#REF!"},{"$error":"#REF!"},{"$error":"#REF!"},{"$error":"#REF!"},{"$error":"#REF!"},{"$error":"#REF!"},{"$error":"#REF!"},{"$error":"#REF!"},{"$error":"#REF!"},{"$error":"#REF!"},{"$error":"#REF!"},{"$error":"#REF!"},{"$error":"#REF!"},{"$error":"#REF!"},{"$error":"#REF!"},{"$error":"#REF!"},{"$error":"#REF!"},{"$error":"#REF!"},{"$error":"#REF!"},{"$error":"#REF!"},{"$error":"#REF!"},{"$error":"#REF!"},{"$error":"#REF!"},{"$error":"#REF!"},{"$error":"#REF!"},{"$error":"#REF!"},{"$error":"#REF!"},{"$error":"#REF!"},{"$error":"#REF!"},{"$error":"#REF!"},{"$error":"#REF!"},{"$error":"#REF!"},{"$error":"#REF!"},{"$error":"#REF!"},{"$error":"#REF!"},{"$error":"#REF!"},{"$error":"#REF!"},{"$error":"#REF!"},{"$error":"#REF!"},{"$error":"#REF!"},{"$error":"#REF!"},{"$error":"#REF!"},{"$error":"#REF!"},{"$error":"#REF!"},{"$error":"#REF!"},{"$error":"#REF!"},{"$error":"#REF!"},{"$f":"n_0-(a_1*BQ160)-(a_2*(BQ160^2)*400)","v":{"$error":"#REF!"}},{"$f":"n_0-(a_1*BR160)-(a_2*(BR160^2)*400)","v":{"$error":"#REF!"}}]
["A54(H+WW)",null,null,"Qs,C,i (max Kollektorfeldertrag)",{"$f":"E109*A_A*E161","v":{"$error":"#REF!"}},{"$error":"#REF!"},{"$error":"#REF!"},{"$error":"#REF!"},{"$error":"#REF!"},{"$error":"#REF!"},{"$error":"#REF!"},{"$error":"#REF!"},{"$error":"#REF!"},{"$error":"#REF!"},{"$error":"#REF!"},{"$error":"#REF!"},{"$error":"#REF!"},{"$error":"#REF!"},{"$error":"#REF!"},{"$error":"#REF!"},{"$error":"#REF!"},{"$error":"#REF!"},{"$error":"#REF!"},{"$error":"#REF!"},{"$error":"#REF!"},{"$error":"#REF!"},{"$error":"#REF!"},{"$error":"#REF!"},{"$error":"#REF!"},{"$error":"#REF!"},{"$error":"#REF!"},{"$error":"#REF!"},{"$error":"#REF!"},{"$error":"#REF!"},{"$error":"#REF!"},{"$error":"#REF!"},{"$f":"AK109*A_A*AK161","v":{"$error":"#REF!"}},{"$error":"#REF!"},{"$error":"#REF!"},{"$error":"#REF!"},{"$error":"#REF!"},{"$error":"#REF!"},{"$error":"#REF!"},{"$error":"#REF!"},{"$error":"#REF!"},{"$error":"#REF!"},{"$error":"#REF!"},{"$error":"#REF!"},{"$error":"#REF!"},{"$error":"#REF!"},{"$error":"#REF!"},{"$error":"#REF!"},{"$error":"#REF!"},{"$error":"#REF!"},{"$error":"#REF!"},{"$error":"#REF!"},{"$error":"#REF!"},{"$error":"#REF!"},{"$error":"#REF!"},{"$error":"#REF!"},{"$error":"#REF!"},{"$error":"#REF!"},{"$error":"#REF!"},{"$error":"#REF!"},{"$error":"#REF!"},{"$error":"#REF!"},{"$error":"#REF!"},{"$error":"#REF!"},{"$f":"BQ109*A_A*BQ161","v":{"$error":"#REF!"}},{"$f":"BR109*A_A*BR161","v":{"$error":"#REF!"}}]
[]
[null,"Bruttoertrag (Heizung und WW)"]
[null,{"$f":"SUM(E165:BR165)","v":{"$error":"#VALUE!"}},"kWh","QW,dis,i (inkl. Verluste)",{"$f":"E132","v":{"$error":"#VALUE!"}},{"$f":"F132","v":{"$error":"#VALUE!"}},{"$error":"#VALUE!"},{"$error":"#VALUE!"},{"$error":"#VALUE!"},{"$error":"#VALUE!"},{"$error":"#VALUE!"},{"$error":"#VALUE!"},{"$error":"#VALUE!"},{"$error":"#VALUE!"},{"$error":"#VALUE!"},{"$error":"#VALUE!"},{"$error":"#VALUE!"},{"$error":"#VALUE!"},{"$error":"#VALUE!"},{"$error":"#VALUE!"},{"$error":"#VALUE!"},{"$error":"#VALUE!"},{"$error":"#VALUE!"},{"$error":"#VALUE!"},{"$error":"#VALUE!"},{"$error":"#VALUE!"},{"$error":"#VALUE!"},{"$error":"#VALUE!"},{"$error":"#VALUE!"},{"$error":"#VALUE!"},{"$error":"#VALUE!"},{"$error":"#VALUE!"},{"$error":"#VALUE!"},{"$error":"#VALUE!"},{"$error":"#VALUE!"},{"$error":"#VALUE!"},{"$error":"#VALUE!"},{"$error":"#VALUE!"},{"$error":"#VALUE!"},{"$error":"#VALUE!"},{"$error":"#VALUE!"},{"$error":"#VALUE!"},{"$error":"#VALUE!"},{"$error":"#VALUE!"},{"$error":"#VALUE!"},{"$error":"#VALUE!"},{"$error":"#VALUE!"},{"$error":"#VALUE!"},{"$error":"#VALUE!"},{"$error":"#VALUE!"},{"$error":"#VALUE!"},{"$error":"#VALUE!"},{"$error":"#VALUE!"},{"$error":"#VALUE!"},{"$error":"#VALUE!"},{"$error":"#VALUE!"},{"$error":"#VALUE!"},{"$error":"#VALUE!"},{"$error":"#VALUE!"},{"$error":"#VALUE!"},{"$error":"#VALUE!"},{"$error":"#VALUE!"},{"$error":"#VALUE!"},{"$error":"#VALUE!"},{"$error":"#VALUE!"},{"$error":"#VALUE!"},{"$error":"#VALUE!"},{"$error":"#VALUE!"},{"$error":"#VALUE!"},{"$f":"BR132","v":{"$error":"#VALUE!"}}]
[null,{"$f":"SUM(E166:BR166)","v":{"$error":"#REF!"}},"kWh","QH,dis,i (inkl. Verluste?)",{"$f":"E75","v":{"$error":"#REF!"}},{"$f":"F75","v":{"$error":"#REF!"}},{"$error":"#REF!"},{"$error":"#REF!"},{"$error":"#REF!"},{"$error":"#REF!"},{"$error":"#REF!"},{"$error":"#REF!"},{"$error":"#REF!"},{"$error":"#REF!"},{"$error":"#REF!"},{"$error":"#REF!"},{"$error":"#REF!"},{"$error":"#REF!"},{"$error":"#REF!"},{"$error":"#REF!"},{"$error":"#REF!"},{"$error":"#REF!"},{"$error":"#REF!"},{"$error":"#REF!"},{"$error":"#REF!"},{"$error":"#REF!"},{"$error":"#REF!"},{"$error":"#REF!"},{"$error":"#REF!"},{"$error":"#REF!"},{"$error":"#REF!"},{"$error":"#REF!"},{"$error":"#REF!"},{"$error":"#REF!"},{"$error":"#REF!"},{"$error":"#REF!"},{"$error":"#REF!"},{"$error":"#REF!"},{"$error":"#REF!"},{"$error":"#REF!"},{"$error":"#REF!"},{"$error":"#REF!"},{"$error":"#REF!"},{"$error":"#REF!"},{"$error":"#REF!"},{"$error":"#REF!"},{"$error":"#REF!"},{"$error":"#REF!"},{"$error":"#REF!"},{"$error":"#REF!"},{"$error":"#REF!"},{"$error":"#REF!"},{"$error":"#REF!"},{"$error":"#REF!"},{"$error":"#REF!"},{"$error":"#REF!"},{"$error":"#REF!"},{"$error":"#REF!"},{"$error":"#REF!"},{"$error":"#REF!"},{"$error":"#REF!"},{"$error":"#REF!"},{"$error":"#REF!"},{"$error":"#REF!"},{"$error":"#REF!"},{"$error":"#REF!"},{"$error":"#REF!"},{"$error":"#REF!"},{"$error":"#REF!"},{"$f":"BR75","v":{"$error":"#REF!"}}]
["A55(H+WW)",{"$f":"SUM(E167:BR167)","v":{"$error":"#VALUE!"}},"kWh","QS.brut,i (Bruttoertrag Solar)",{"$f":"MIN(E162,(E165*2.5+E166*2.5))","v":{"$error":"#VALUE!"}},{"$f":"MIN(F162,(F165*2.5+F166*2.5))","v":{"$error":"#VALUE!"}},{"$error":"#VALUE!"},{"$error":"#VALUE!"},{"$error":"#VALUE!"},{"$error":"#VALUE!"},{"$error":"#VALUE!"},{"$error":"#VALUE!"},{"$error":"#VALUE!"},{"$error":"#VALUE!"},{"$error":"#VALUE!"},{"$error":"#VALUE!"},{"$error":"#VALUE!"},{"$error":"#VALUE!"},{"$error":"#VALUE!"},{"$error":"#VALUE!"},{"$error":"#VALUE!"},{"$error":"#VALUE!"},{"$error":"#VALUE!"},{"$error":"#VALUE!"},{"$error":"#VALUE!"},{"$error":"#VALUE!"},{"$error":"#VALUE!"},{"$error":"#VALUE!"},{"$error":"#VALUE!"},{"$error":"#VALUE!"},{"$error":"#VALUE!"},{"$error":"#VALUE!"},{"$error":"#VALUE!"},{"$error":"#VALUE!"},{"$error":"#VALUE!"},{"$error":"#VALUE!"},{"$error":"#VALUE!"},{"$error":"#VALUE!"},{"$error":"#VALUE!"},{"$error":"#VALUE!"},{"$error":"#VALUE!"},{"$error":"#VALUE!"},{"$error":"#VALUE!"},{"$error":"#VALUE!"},{"$error":"#VALUE!"},{"$error":"#VALUE!"},{"$error":"#VALUE!"},{"$error":"#VALUE!"},{"$error":"#VALUE!"},{"$error":"#VALUE!"},{"$error":"#VALUE!"},{"$error":"#VALUE!"},{"$error":"#VALUE!"},{"$error":"#VALUE!"},{"$error":"#VALUE!"},{"$error":"#VALUE!"},{"$error":"#VALUE!"},{"$error":"#VALUE!"},{"$error":"#VALUE!"},{"$error":"#VALUE!"},{"$error":"#VALUE!"},{"$error":"#VALUE!"},{"$error":"#VALUE!"},{"$error":"#VALUE!"},{"$error":"#VALUE!"},{"$error":"#VALUE!"},{"$error":"#VALUE!"},{"$error":"#VALUE!"},{"$error":"#VALUE!"},{"$f":"MIN(BR162,(BR165*2.5+BR166*2.5))","v":{"$error":"#VALUE!"}}]
[]
[null,"Nutzbare Solarwärme im BIN"]
["A57",{"$f":"SUM(E170:BR170)","v":{"$error":"#REF!"}},"kWh","QS,i (Basis)",{"$f":"MIN(E167,E166+E165)","v":{"$error":"#REF!"}},{"$f":"MIN(F167,F166+F165)","v":{"$error":"#REF!"}},{"$error":"#REF!"},{"$error":"#REF!"},{"$error":"#REF!"},{"$error":"#REF!"},{"$error":"#REF!"},{"$error":"#REF!"},{"$error":"#REF!"},{"$error":"#REF!"},{"$error":"#REF!"},{"$error":"#REF!"},{"$error":"#REF!"},{"$error":"#REF!"},{"$error":"#REF!"},{"$error":"#REF!"},{"$error":"#REF!"},{"$error":"#REF!"},{"$error":"#REF!"},{"$error":"#REF!"},{"$error":"#REF!"},{"$error":"#REF!"},{"$error":"#REF!"},{"$error":"#REF!"},{"$error":"#REF!"},{"$error":"#REF!"},{"$error":"#REF!"},{"$error":"#REF!"},{"$error":"#REF!"},{"$error":"#REF!"},{"$error":"#REF!"},{"$error":"#REF!"},{"$error":"#REF!"},{"$error":"#REF!"},{"$error":"#REF!"},{"$error":"#REF!"},{"$error":"#REF!"},{"$error":"#REF!"},{"$error":"#REF!"},{"$error":"#REF!"},{"$error":"#REF!"},{"$error":"#REF!"},{"$error":"#REF!"},{"$error":"#REF!"},{"$error":"#REF!"},{"$error":"#REF!"},{"$error":"#REF!"},{"$error":"#REF!"},{"$error":"#REF!"},{"$error":"#REF!"},{"$error":"#REF!"},{"$error":"#REF!"},{"$error":"#REF!"},{"$error":"#REF!"},{"$error":"#REF!"},{"$error":"#REF!"},{"$error":"#REF!"},{"$error":"#REF!"},{"$error":"#REF!"},{"$error":"#REF!"},{"$error":"#REF!"},{"$error":"#REF!"},{"$error":"#REF!"},{"$error":"#REF!"},{"$error":"#REF!"},{"$f":"MIN(BR167,BR166+BR165)","v":{"$error":"#REF!"}}]
[null,{"$f":"SUM(E171:BR171)","v":{"$error":"#VALUE!"}},"kWh","QS.sur,i (Überschuss Solar Total)",{"$f":"E167-E170","v":{"$error":"#VALUE!"}},{"$f":"F167-F170","v":{"$error":"#VALUE!"}},{"$error":"#VALUE!"},{"$error":"#VALUE!"},{"$error":"#VALUE!"},{"$error":"#VALUE!"},{"$error":"#VALUE!"},{"$error":"#VALUE!"},{"$error":"#VALUE!"},{"$error":"#VALUE!"},{"$error":"#VALUE!"},{"$error":"#VALUE!"},{"$error":"#VALUE!"},{"$error":"#VALUE!"},{"$error":"#VALUE!"},{"$error":"#VALUE!"},{"$error":"#VALUE!"},{"$error":"#VALUE!"},{"$error":"#VALUE!"},{"$error":"#VALUE!"},{"$error":"#VALUE!"},{"$error":"#VALUE!"},{"$error":"#VALUE!"},{"$error":"#VALUE!"},{"$error":"#VALUE!"},{"$error":"#VALUE!"},{"$error":"#VALUE!"},{"$error":"#VALUE!"},{"$error":"#VALUE!"},{"$error":"#VALUE!"},{"$error":"#VALUE!"},{"$error":"#VALUE!"},{"$error":"#VALUE!"},{"$error":"#VALUE!"},{"$error":"#VALUE!"},{"$error":"#VALUE!"},{"$error":"#VALUE!"},{"$error":"#VALUE!"},{"$error":"#VALUE!"},{"$error":"#VALUE!"},{"$error":"#VALUE!"},{"$error":"#VALUE!"},{"$error":"#VALUE!"},{"$error":"#VALUE!"},{"$error":"#VALUE!"},{"$error":"#VALUE!"},{"$error":"#VALUE!"},{"$error":"#VALUE!"},{"$error":"#VALUE!"},{"$error":"#VALUE!"},{"$error":"#VALUE!"},{"$error":"#VALUE!"},{"$error":"#VALUE!"},{"$error":"#VALUE!"},{"$error":"#VALUE!"},{"$error":"#VALUE!"},{"$error":"#VALUE!"},{"$error":"#VALUE!"},{"$error":"#VALUE!"},{"$error":"#VALUE!"},{"$error":"#VALUE!"},{"$error":"#VALUE!"},{"$error":"#VALUE!"},{"$error":"#VALUE!"},{"$error":"#VALUE!"},{"$f":"BR167-BR170","v":{"$error":"#VALUE!"}}]
[null,{"$f":"SUM(E172:BR172)","v":{"$error":"#VALUE!"}},"h","h Unterdeckung >=0°C",null,null,null,null,null,null,null,null,null,null,null,null,null,null,null,null,null,null,null,null,null,null,null,null,null,{"$f":"(AD171=0)*AD7","v":{"$error":"#VALUE!"}},{"$f":"(AE171=0)*AE7","v":{"$error":"#VALUE!"}},{"$error":"#VALUE!"},{"$error":"#VALUE!"},{"$error":"#VALUE!"},{"$error":"#VALUE!"},{"$error":"#VALUE!"},{"$error":"#VALUE!"},{"$error":"#VALUE!"},{"$error":"#VALUE!"},{"$error":"#VALUE!"},{"$error":"#VALUE!"},{"$error":"#VALUE!"},{"$error":"#VALUE!"},{"$error":"#VALUE!"},{"$error":"#VALUE!"},{"$error":"#VALUE!"},{"$error":"#VALUE!"},{"$error":"#VALUE!"},{"$error":"#VALUE!"},{"$error":"#VALUE!"},{"$error":"#VALUE!"},{"$error":"#VALUE!"},{"$error":"#VALUE!"},{"$error":"#VALUE!"},{"$error":"#VALUE!"},{"$error":"#VALUE!"},{"$error":"#VALUE!"},{"$error":"#VALUE!"},{"$error":"#VALUE!"},{"$error":"#VALUE!"},{"$error":"#VALUE!"},{"$error":"#VALUE!"},{"$error":"#VALUE!"},{"$error":"#VALUE!"},{"$error":"#VALUE!"},{"$error":"#VALUE!"},{"$error":"#VALUE!"},{"$error":"#VALUE!"},{"$error":"#VALUE!"},{"$error":"#VALUE!"}]
["A3.6.2(>0°C)",{"$f":"B171/B172","v":{"$error":"#VALUE!"}},"kW","FS  Überschuss Solar WW"]
["A3.6.2(>0°C)",{"$f":"SUM(E174:BR174)","v":{"$error":"#VALUE!"}},"kWh","QS.sur,i (Überschuss Solar im BIN)",null,null,null,null,null,null,null,null,null,null,null,null,null,null,null,null,null,null,null,null,null,null,null,null,null,{"$f":"AD172*$B$173","v":{"$error":"#VALUE!"}},{"$f":"AE172*$B$173","v":{"$error":"#VALUE!"}},{"$error":"#VALUE!"},{"$error":"#VALUE!"},{"$error":"#VALUE!"},{"$error":"#VALUE!"},{"$error":"#VALUE!"},{"$error":"#VALUE!"},{"$error":"#VALUE!"},{"$error":"#VALUE!"},{"$error":"#VALUE!"},{"$error":"#VALUE!"},{"$error":"#VALUE!"},{"$error":"#VALUE!"},{"$error":"#VALUE!"},{"$error":"#VALUE!"},{"$error":"#VALUE!"},{"$error":"#VALUE!"},{"$error":"#VALUE!"},{"$error":"#VALUE!"},{"$error":"#VALUE!"},{"$error":"#VALUE!"},{"$error":"#VALUE!"},{"$error":"#VALUE!"},{"$error":"#VALUE!"},{"$error":"#VALUE!"},{"$error":"#VALUE!"},{"$error":"#VALUE!"},{"$error":"#VALUE!"},{"$error":"#VALUE!"},{"$error":"#VALUE!"},{"$error":"#VALUE!"},{"$error":"#VALUE!"},{"$error":"#VALUE!"},{"$error":"#VALUE!"},{"$error":"#VALUE!"},{"$error":"#VALUE!"},{"$error":"#VALUE!"},{"$error":"#VALUE!"},{"$error":"#VALUE!"},{"$error":"#VALUE!"}]
["A59",{"$f":"SUM(E175:BR175)","v":{"$error":"#VALUE!"}},"kWh","QS,i (Übertrag >=0°C)",null,null,null,null,null,null,null,null,null,null,null,null,null,null,null,null,null,null,null,null,null,null,null,null,null,{"$f":"MIN(AD167+AD174,AD166+AD165)","v":{"$error":"#VALUE!"}},{"$f":"MIN(AE167+AE174,AE166+AE165)","v":{"$error":"#VALUE!"}},{"$error":"#VALUE!"},{"$error":"#VALUE!"},{"$error":"#VALUE!"},{"$error":"#VALUE!"},{"$error":"#VALUE!"},{"$error":"#VALUE!"},{"$error":"#VALUE!"},{"$error":"#VALUE!"},{"$error":"#VALUE!"},{"$error":"#VALUE!"},{"$error":"#VALUE!"},{"$error":"#VALUE!"},{"$error":"#VALUE!"},{"$error":"#VALUE!"},{"$error":"#VALUE!"},{"$error":"#VALUE!"},{"$error":"#VALUE!"},{"$error":"#VALUE!"},{"$error":"#VALUE!"},{"$error":"#VALUE!"},{"$error":"#VALUE!"},{"$error":"#VALUE!"},{"$error":"#VALUE!"},{"$error":"#VALUE!"},{"$error":"#VALUE!"},{"$error":"#VALUE!"},{"$error":"#VALUE!"},{"$error":"#VALUE!"},{"$error":"#VALUE!"},{"$error":"#VALUE!"},{"$error":"#VALUE!"},{"$error":"#VALUE!"},{"$error":"#VALUE!"},{"$error":"#VALUE!"},{"$error":"#VALUE!"},{"$error":"#VALUE!"},{"$error":"#VALUE!"},{"$error":"#VALUE!"},{"$error":"#VALUE!"}]
["A3.6.2(<0°C)",{"$f":"SUM(E176:BR176)","v":{"$error":"#VALUE!"}},"kWh","QS.sur,i (Überschuss n. 1. Verteilung)",null,null,null,null,null,null,null,null,null,null,null,null,null,null,null,null,null,null,null,null,null,null,null,null,null,{"$f":"MAX(0,AD174-(AD165+AD166-AD170))","v":{"$error":"#VALUE!"}},{"$f":"MAX(0,AE174-(AE165+AE166-AE170))","v":{"$error":"#VALUE!"}},{"$error":"#VALUE!"},{"$error":"#VALUE!"},{"$error":"#VALUE!"},{"$error":"#VALUE!"},{"$error":"#VALUE!"},{"$error":"#VALUE!"},{"$error":"#VALUE!"},{"$error":"#VALUE!"},{"$error":"#VALUE!"},{"$error":"#VALUE!"},{"$error":"#VALUE!"},{"$error":"#VALUE!"},{"$error":"#VALUE!"},{"$error":"#VALUE!"},{"$error":"#VALUE!"},{"$error":"#VALUE!"},{"$error":"#VALUE!"},{"$error":"#VALUE!"},{"$error":"#VALUE!"},{"$error":"#VALUE!"},{"$error":"#VALUE!"},{"$error":"#VALUE!"},{"$error":"#VALUE!"},{"$error":"#VALUE!"},{"$error":"#VALUE!"},{"$error":"#VALUE!"},{"$error":"#VALUE!"},{"$error":"#VALUE!"},{"$error":"#VALUE!"},{"$error":"#VALUE!"},{"$error":"#VALUE!"},{"$error":"#VALUE!"},{"$error":"#VALUE!"},{"$error":"#VALUE!"},{"$error":"#VALUE!"},{"$error":"#VALUE!"},{"$error":"#VALUE!"},{"$error":"#VALUE!"},{"$error":"#VALUE!"}]
[null,{"$f":"SUM(E177:BR177)","v":{"$error":"#VALUE!"}},"h","h Unterdeckung <0°C",{"$f":"(E171=0)*E7","v":{"$error":"#VALUE!"}},{"$f":"(F171=0)*F7","v":{"$error":"#VALUE!"}},{"$error":"#VALUE!"},{"$error":"#VALUE!"},{"$error":"#VALUE!"},{"$error":"#VALUE!"},{"$error":"#VALUE!"},{"$error":"#VALUE!"},{"$error":"#VALUE!"},{"$error":"#VALUE!"},{"$error":"#VALUE!"},{"$error":"#VALUE!"},{"$error":"#VALUE!"},{"$error":"#VALUE!"},{"$error":"#VALUE!"},{"$error":"#VALUE!"},{"$error":"#VALUE!"},{"$error":"#VALUE!"},{"$error":"#VALUE!"},{"$error":"#VALUE!"},{"$error":"#VALUE!"},{"$error":"#VALUE!"},{"$error":"#VALUE!"},{"$error":"#VALUE!"},{"$error":"#VALUE!"}]
["A3.6.2(<0°C)",{"$f":"B176/B177","v":{"$error":"#VALUE!"}},"kW","FS  Überschuss Solar WW 2. Vert."]
["A3.6.2(<0°C)",{"$f":"SUM(E179:BR179)","v":{"$error":"#VALUE!"}},"kWh","QS.sur,i (Überschuss Solar im BIN)",{"$f":"$B$178*E177","v":{"$error":"#VALUE!"}},{"$f":"$B$178*F177","v":{"$error":"#VALUE!"}},{"$error":"#VALUE!"},{"$error":"#VALUE!"},{"$error":"#VALUE!"},{"$error":"#VALUE!"},{"$error":"#VALUE!"},{"$error":"#VALUE!"},{"$error":"#VALUE!"},{"$error":"#VALUE!"},{"$error":"#VALUE!"},{"$error":"#VALUE!"},{"$error":"#VALUE!"},{"$error":"#VALUE!"},{"$error":"#VALUE!"},{"$error":"#VALUE!"},{"$error":"#VALUE!"},{"$error":"#VALUE!"},{"$error":"#VALUE!"},{"$error":"#VALUE!"},{"$error":"#VALUE!"},{"$error":"#VALUE!"},{"$error":"#VALUE!"},{"$error":"#VALUE!"},{"$error":"#VALUE!"}]
["A59",null,null,"QS,i (Übertrag <0°C)",{"$f":"MIN(E167+E179,E165+E166)","v":{"$error":"#VALUE!"}},{"$f":"MIN(F167+F179,F165+F166)","v":{"$error":"#VALUE!"}},{"$error":"#VALUE!"},{"$error":"#VALUE!"},{"$error":"#VALUE!"},{"$error":"#VALUE!"},{"$error":"#VALUE!"},{"$error":"#VALUE!"},{"$error":"#VALUE!"},{"$error":"#VALUE!"},{"$error":"#VALUE!"},{"$error":"#VALUE!"},{"$error":"#VALUE!"},{"$error":"#VALUE!"},{"$error":"#VALUE!"},{"$error":"#VALUE!"},{"$error":"#VALUE!"},{"$error":"#VALUE!"},{"$error":"#VALUE!"},{"$error":"#VALUE!"},{"$error":"#VALUE!"},{"$error":"#VALUE!"},{"$error":"#VALUE!"},{"$error":"#VALUE!"},{"$error":"#VALUE!"}]
["A58(H+WW)",{"$f":"SUM(E181:BR181)","v":{"$error":"#VALUE!"}},"kWh","QS,i (total)",{"$f":"E180+E175","v":{"$error":"#VALUE!"}},{"$error":"#VALUE!"},{"$error":"#VALUE!"},{"$error":"#VALUE!"},{"$error":"#VALUE!"},{"$error":"#VALUE!"},{"$error":"#VALUE!"},{"$error":"#VALUE!"},{"$error":"#VALUE!"},{"$error":"#VALUE!"},{"$error":"#VALUE!"},{"$error":"#VALUE!"},{"$error":"#VALUE!"},{"$error":"#VALUE!"},{"$error":"#VALUE!"},{"$error":"#VALUE!"},{"$error":"#VALUE!"},{"$error":"#VALUE!"},{"$error":"#VALUE!"},{"$error":"#VALUE!"},{"$error":"#VALUE!"},{"$error":"#VALUE!"},{"$error":"#VALUE!"},{"$error":"#VALUE!"},{"$error":"#VALUE!"},{"$error":"#VALUE!"},{"$error":"#VALUE!"},{"$error":"#VALUE!"},{"$error":"#VALUE!"},{"$error":"#VALUE!"},{"$error":"#VALUE!"},{"$error":"#VALUE!"},{"$f":"AK180+AK175","v":{"$error":"#VALUE!"}},{"$error":"#VALUE!"},{"$error":"#VALUE!"},{"$error":"#VALUE!"},{"$error":"#VALUE!"},{"$error":"#VALUE!"},{"$error":"#VALUE!"},{"$error":"#VALUE!"},{"$error":"#VALUE!"},{"$error":"#VALUE!"},{"$error":"#VALUE!"},{"$error":"#VALUE!"},{"$error":"#VALUE!"},{"$error":"#VALUE!"},{"$error":"#VALUE!"},{"$error":"#VALUE!"},{"$error":"#VALUE!"},{"$error":"#VALUE!"},{"$error":"#VALUE!"},{"$error":"#VALUE!"},{"$error":"#VALUE!"},{"$error":"#VALUE!"},{"$error":"#VALUE!"},{"$error":"#VALUE!"},{"$error":"#VALUE!"},{"$error":"#VALUE!"},{"$error":"#VALUE!"},{"$error":"#VALUE!"},{"$error":"#VALUE!"},{"$error":"#VALUE!"},{"$error":"#VALUE!"},{"$error":"#VALUE!"},{"$f":"BQ180+BQ175","v":{"$error":"#VALUE!"}},{"$f":"BR180+BR175","v":{"$error":"#VALUE!"}}]
[null,"Nutzbare Solarwärme Aufteilung auf Heizung und Warmwasser"]
["A60 Therm 1",null,null,null,{"$f":"MIN(((E159-E155)/(E156-E155)),1)","v":{"$error":"#REF!"}},{"$f":"MIN(((F159-F155)/(F156-F155)),1)","v":{"$error":"#REF!"}},{"$error":"#REF!"},{"$error":"#REF!"},{"$error":"#REF!"},{"$error":"#REF!"},{"$error":"#REF!"},{"$error":"#REF!"},{"$error":"#REF!"},{"$error":"#REF!"},{"$error":"#REF!"},{"$error":"#REF!"},{"$error":"#REF!"},{"$error":"#REF!"},{"$error":"#REF!"},{"$error":"#REF!"},{"$error":"#REF!"},{"$error":"#REF!"},{"$error":"#REF!"},{"$error":"#REF!"},{"$error":"#REF!"},{"$error":"#REF!"},{"$error":"#REF!"},{"$error":"#REF!"},{"$error":"#REF!"},{"$error":"#REF!"},{"$error":"#REF!"},{"$error":"#REF!"},{"$error":"#REF!"},{"$error":"#REF!"},{"$error":"#REF!"},{"$error":"#REF!"},{"$error":"#REF!"},{"$error":"#REF!"},{"$error":"#REF!"},{"$error":"#REF!"},{"$error":"#REF!"},{"$error":"#REF!"},{"$error":"#REF!"},{"$error":"#REF!"},{"$error":"#REF!"},{"$error":"#REF!"},{"$error":"#REF!"},{"$error":"#REF!"},{"$error":"#REF!"},{"$error":"#REF!"},{"$error":"#REF!"},{"$error":"#REF!"},{"$error":"#REF!"},{"$error":"#REF!"},{"$error":"#REF!"},{"$error":"#REF!"},{"$error":"#REF!"},{"$error":"#REF!"},{"$error":"#REF!"},{"$error":"#REF!"},{"$error":"#REF!"},{"$error":"#REF!"},{"$error":"#REF!"},{"$error":"#REF!"},{"$error":"#REF!"},{"$error":"#REF!"},{"$error":"#REF!"},{"$error":"#REF!"},{"$error":"#REF!"},{"$f":"MIN(((BR159-BR155)/(BR156-BR155)),1)","v":{"$error":"#REF!"}}]
["A60 ",null,null,"QH,S,i (Roh)",{"$f":"E181*MAX(E183,0)","v":{"$error":"#VALUE!"}},{"$f":"F181*MAX(F183,0)","v":{"$error":"#VALUE!"}},{"$error":"#VALUE!"},{"$error":"#VALUE!"},{"$error":"#VALUE!"},{"$error":"#VALUE!"},{"$error":"#VALUE!"},{"$error":"#VALUE!"},{"$error":"#VALUE!"},{"$error":"#VALUE!"},{"$error":"#VALUE!"},{"$error":"#VALUE!"},{"$error":"#VALUE!"},{"$error":"#VALUE!"},{"$error":"#VALUE!"},{"$error":"#VALUE!"},{"$error":"#VALUE!"},{"$error":"#VALUE!"},{"$error":"#VALUE!"},{"$error":"#VALUE!"},{"$error":"#VALUE!"},{"$error":"#VALUE!"},{"$error":"#VALUE!"},{"$error":"#VALUE!"},{"$error":"#VALUE!"},{"$error":"#VALUE!"},{"$error":"#VALUE!"},{"$error":"#VALUE!"},{"$error":"#VALUE!"},{"$error":"#VALUE!"},{"$error":"#VALUE!"},{"$error":"#VALUE!"},{"$error":"#VALUE!"},{"$error":"#VALUE!"},{"$error":"#VALUE!"},{"$error":"#VALUE!"},{"$error":"#VALUE!"},{"$error":"#VALUE!"},{"$error":"#VALUE!"},{"$error":"#VALUE!"},{"$error":"#VALUE!"},{"$error":"#VALUE!"},{"$error":"#VALUE!"},{"$error":"#VALUE!"},{"$error":"#VALUE!"},{"$error":"#VALUE!"},{"$error":"#VALUE!"},{"$error":"#VALUE!"},{"$error":"#VALUE!"},{"$error":"#VALUE!"},{"$error":"#VALUE!"},{"$error":"#VALUE!"},{"$error":"#VALUE!"},{"$error":"#VALUE!"},{"$error":"#VALUE!"},{"$error":"#VALUE!"},{"$error":"#VALUE!"},{"$error":"#VALUE!"},{"$error":"#VALUE!"},{"$error":"#VALUE!"},{"$error":"#VALUE!"},{"$error":"#VALUE!"},{"$error":"#VALUE!"},{"$error":"#VALUE!"},{"$error":"#VALUE!"},{"$f":"BR181*MAX(BR183,0)","v":{"$error":"#VALUE!"}}]
["eigene Korr.",{"$f":"SUM(E185:BR185)","v":{"$error":"#VALUE!"}},"kWh","QH,S,i (korr)  MIN(QH,i ; QH,S,i)",{"$f":"MIN(E184,E166)","v":{"$error":"#VALUE!"}},{"$f":"MIN(F184,F166)","v":{"$error":"#VALUE!"}},{"$error":"#VALUE!"},{"$error":"#VALUE!"},{"$error":"#VALUE!"},{"$error":"#VALUE!"},{"$error":"#VALUE!"},{"$error":"#VALUE!"},{"$error":"#VALUE!"},{"$error":"#VALUE!"},{"$error":"#VALUE!"},{"$error":"#VALUE!"},{"$error":"#VALUE!"},{"$error":"#VALUE!"},{"$error":"#VALUE!"},{"$error":"#VALUE!"},{"$error":"#VALUE!"},{"$error":"#VALUE!"},{"$error":"#VALUE!"},{"$error":"#VALUE!"},{"$error":"#VALUE!"},{"$error":"#VALUE!"},{"$error":"#VALUE!"},{"$error":"#VALUE!"},{"$error":"#VALUE!"},{"$error":"#VALUE!"},{"$error":"#VALUE!"},{"$error":"#VALUE!"},{"$error":"#VALUE!"},{"$error":"#VALUE!"},{"$error":"#VALUE!"},{"$error":"#VALUE!"},{"$error":"#VALUE!"},{"$error":"#VALUE!"},{"$error":"#VALUE!"},{"$error":"#VALUE!"},{"$error":"#VALUE!"},{"$error":"#VALUE!"},{"$error":"#VALUE!"},{"$error":"#VALUE!"},{"$error":"#VALUE!"},{"$error":"#VALUE!"},{"$error":"#VALUE!"},{"$error":"#VALUE!"},{"$error":"#VALUE!"},{"$error":"#VALUE!"},{"$error":"#VALUE!"},{"$error":"#VALUE!"},{"$error":"#VALUE!"},{"$error":"#VALUE!"},{"$error":"#VALUE!"},{"$error":"#VALUE!"},{"$error":"#VALUE!"},{"$error":"#VALUE!"},{"$error":"#VALUE!"},{"$error":"#VALUE!"},{"$error":"#VALUE!"},{"$error":"#VALUE!"},{"$error":"#VALUE!"},{"$error":"#VALUE!"},{"$error":"#VALUE!"},{"$error":"#VALUE!"},{"$error":"#VALUE!"},{"$error":"#VALUE!"},{"$error":"#VALUE!"},{"$f":"MIN(BR184,BR166)","v":{"$error":"#VALUE!"}}]
["A61",{"$f":"SUM(E186:BR186)","v":{"$error":"#VALUE!"}},"kWh","QW,S,i ",{"$f":"E181-E185","v":{"$error":"#VALUE!"}},{"$f":"F181-F185","v":{"$error":"#VALUE!"}},{"$error":"#VALUE!"},{"$error":"#VALUE!"},{"$error":"#VALUE!"},{"$error":"#VALUE!"},{"$error":"#VALUE!"},{"$error":"#VALUE!"},{"$error":"#VALUE!"},{"$error":"#VALUE!"},{"$error":"#VALUE!"},{"$error":"#VALUE!"},{"$error":"#VALUE!"},{"$error":"#VALUE!"},{"$error":"#VALUE!"},{"$error":"#VALUE!"},{"$error":"#VALUE!"},{"$error":"#VALUE!"},{"$error":"#VALUE!"},{"$error":"#VALUE!"},{"$error":"#VALUE!"},{"$error":"#VALUE!"},{"$error":"#VALUE!"},{"$error":"#VALUE!"},{"$error":"#VALUE!"},{"$error":"#VALUE!"},{"$error":"#VALUE!"},{"$error":"#VALUE!"},{"$error":"#VALUE!"},{"$error":"#VALUE!"},{"$error":"#VALUE!"},{"$error":"#VALUE!"},{"$error":"#VALUE!"},{"$error":"#VALUE!"},{"$error":"#VALUE!"},{"$error":"#VALUE!"},{"$error":"#VALUE!"},{"$error":"#VALUE!"},{"$error":"#VALUE!"},{"$error":"#VALUE!"},{"$error":"#VALUE!"},{"$error":"#VALUE!"},{"$error":"#VALUE!"},{"$error":"#VALUE!"},{"$error":"#VALUE!"},{"$error":"#VALUE!"},{"$error":"#VALUE!"},{"$error":"#VALUE!"},{"$error":"#VALUE!"},{"$error":"#VALUE!"},{"$error":"#VALUE!"},{"$error":"#VALUE!"},{"$error":"#VALUE!"},{"$error":"#VALUE!"},{"$error":"#VALUE!"},{"$error":"#VALUE!"},{"$error":"#VALUE!"},{"$error":"#VALUE!"},{"$error":"#VALUE!"},{"$error":"#VALUE!"},{"$error":"#VALUE!"},{"$error":"#VALUE!"},{"$error":"#VALUE!"},{"$error":"#VALUE!"},{"$error":"#VALUE!"},{"$f":"BR181-BR185","v":{"$error":"#VALUE!"}}]
[null,{"$f":"SUM(B185:B186)","v":{"$error":"#VALUE!"}}]
[null,{"$f":"IF(KollFlaeche>0,B187/KollFlaeche,0)","v":0},"kWh/m2"]
[]
[null,{"$f":"B186/B165","v":{"$error":"#VALUE!"}},null,"Deckungsgrad WW"]
[null,{"$f":"B185/B166","v":{"$error":"#VALUE!"}},null,"Deckungsgrad Heizung"]
[]
[]
[]
[]
[]
[]
[]
[]
[]
[]
[]
[]
[]
[]
[]
[]
[]
[]
[]
[]
[]
[]
[]
[]
[null,null,null,null,null,"T Bin","delta","Stunden Ta h",null,null,"x Ta h","y Ta h",null,"Stunden Ta Tg",null,"x Ta Tg","y Ta Tg"]
[]
[null,null,null,null,null,null,null,null,null,null,0,0,null,null,null,0,0]
[null,null,null,null,null,-25,{"$f":"MAX($E$15-MAX(F219,$E$14),0)","v":{"$error":"#VALUE!"}},{"$f":"HLOOKUP($F219,$E$6:$BR$8,2,FALSE)","v":{"$error":"#N/A"}},null,null,0,{"$f":"G219","v":{"$error":"#VALUE!"}},null,{"$f":"HLOOKUP($F219,$E$6:$BR$8,3,FALSE)","v":{"$error":"#N/A"}},null,{"$f":"P218","v":0},{"$f":"G219","v":{"$error":"#VALUE!"}}]
[null,null,null,null,null,null,null,null,null,null,{"$f":"K218+H219","v":{"$error":"#N/A"}},{"$f":"L219","v":{"$error":"#VALUE!"}},null,null,null,{"$f":"P218+N219","v":{"$error":"#N/A"}},{"$f":"Q219","v":{"$error":"#VALUE!"}}]
[null,null,null,null,null,null,null,null,null,null,{"$f":"K220","v":{"$error":"#N/A"}},0,null,null,null,{"$f":"P220","v":{"$error":"#N/A"}},0]
[null,null,null,null,null,{"$f":"F219+1","v":-24},{"$f":"MAX($E$15-MAX(F222,$E$14),0)","v":{"$error":"#VALUE!"}},{"$f":"HLOOKUP($F222,$E$6:$BR$8,2,FALSE)","v":{"$error":"#N/A"}},null,null,{"$f":"K221","v":{"$error":"#N/A"}},{"$f":"G222","v":{"$error":"#VALUE!"}},null,{"$f":"HLOOKUP($F222,$E$6:$BR$8,3,FALSE)","v":{"$error":"#N/A"}},null,{"$f":"P221","v":{"$error":"#N/A"}},{"$f":"G222","v":{"$error":"#VALUE!"}}]
[null,null,null,null,null,null,null,null,null,null,{"$f":"K222+H222","v":{"$error":"#N/A"}},{"$f":"L222","v":{"$error":"#VALUE!"}},null,null,null,{"$f":"P221+N222","v":{"$error":"#N/A"}},{"$f":"Q222","v":{"$error":"#VALUE!"}}]
[null,null,null,null,null,null,null,null,null,null,{"$f":"K223","v":{"$error":"#N/A"}},0,null,null,null,{"$f":"P223","v":{"$error":"#N/A"}},0]
[null,null,null,null,null,{"$f":"F222+1","v":-23},{"$f":"MAX($E$15-MAX(F225,$E$14),0)","v":{"$error":"#VALUE!"}},{"$f":"HLOOKUP($F225,$E$6:$BR$8,2,FALSE)","v":{"$error":"#N/A"}},null,null,{"$f":"K224","v":{"$error":"#N/A"}},{"$f":"G225","v":{"$error":"#VALUE!"}},null,{"$f":"HLOOKUP($F225,$E$6:$BR$8,3,FALSE)","v":{"$error":"#N/A"}},null,{"$f":"P224","v":{"$error":"#N/A"}},{"$f":"G225","v":{"$error":"#VALUE!"}}]
[null,null,null,null,null,null,null,null,null,null,{"$f":"K225+H225","v":{"$error":"#N/A"}},{"$f":"L225","v":{"$error":"#VALUE!"}},null,null,null,{"$f":"P224+N225","v":{"$error":"#N/A"}},{"$f":"Q225","v":{"$error":"#VALUE!"}}]
[null,null,null,null,null,null,null,null,null,null,{"$f":"K226","v":{"$error":"#N/A"}},0,null,null,null,{"$f":"P226","v":{"$error":"#N/A"}},0]
[null,null,null,null,null,{"$f":"F225+1","v":-22},{"$f":"MAX($E$15-MAX(F228,$E$14),0)","v":{"$error":"#VALUE!"}},{"$f":"HLOOKUP($F228,$E$6:$BR$8,2,FALSE)","v":{"$error":"#N/A"}},null,null,{"$f":"K227","v":{"$error":"#N/A"}},{"$f":"G228","v":{"$error":"#VALUE!"}},null,{"$f":"HLOOKUP($F228,$E$6:$BR$8,3,FALSE)","v":{"$error":"#N/A"}},null,{"$f":"P227","v":{"$error":"#N/A"}},{"$f":"G228","v":{"$error":"#VALUE!"}}]
[null,null,null,null,null,null,null,null,null,null,{"$f":"K228+H228","v":{"$error":"#N/A"}},{"$f":"L228","v":{"$error":"#VALUE!"}},null,null,null,{"$f":"P227+N228","v":{"$error":"#N/A"}},{"$f":"Q228","v":{"$error":"#VALUE!"}}]
[null,null,null,null,null,null,null,null,null,null,{"$f":"K229","v":{"$error":"#N/A"}},0,null,null,null,{"$f":"P229","v":{"$error":"#N/A"}},0]
[null,null,null,null,null,{"$f":"F228+1","v":-21},{"$f":"MAX($E$15-MAX(F231,$E$14),0)","v":{"$error":"#VALUE!"}},{"$f":"HLOOKUP($F231,$E$6:$BR$8,2,FALSE)","v":{"$error":"#N/A"}},null,null,{"$f":"K230","v":{"$error":"#N/A"}},{"$f":"G231","v":{"$error":"#VALUE!"}},null,{"$f":"HLOOKUP($F231,$E$6:$BR$8,3,FALSE)","v":{"$error":"#N/A"}},null,{"$f":"P230","v":{"$error":"#N/A"}},{"$f":"G231","v":{"$error":"#VALUE!"}}]
[null,null,null,null,null,null,null,null,null,null,{"$f":"K231+H231","v":{"$error":"#N/A"}},{"$f":"L231","v":{"$error":"#VALUE!"}},null,null,null,{"$f":"P230+N231","v":{"$error":"#N/A"}},{"$f":"Q231","v":{"$error":"#VALUE!"}}]
[null,null,null,null,null,null,null,null,null,null,{"$f":"K232","v":{"$error":"#N/A"}},0,null,null,null,{"$f":"P232","v":{"$error":"#N/A"}},0]
[null,null,null,null,null,{"$f":"F231+1","v":-20},{"$f":"MAX($E$15-MAX(F234,$E$14),0)","v":{"$error":"#VALUE!"}},{"$f":"HLOOKUP($F234,$E$6:$BR$8,2,FALSE)","v":{"$error":"#N/A"}},null,null,{"$f":"K233","v":{"$error":"#N/A"}},{"$f":"G234","v":{"$error":"#VALUE!"}},null,{"$f":"HLOOKUP($F234,$E$6:$BR$8,3,FALSE)","v":{"$error":"#N/A"}},null,{"$f":"P233","v":{"$error":"#N/A"}},{"$f":"G234","v":{"$error":"#VALUE!"}}]
[null,null,null,null,null,null,null,null,null,null,{"$f":"K234+H234","v":{"$error":"#N/A"}},{"$f":"L234","v":{"$error":"#VALUE!"}},null,null,null,{"$f":"P233+N234","v":{"$error":"#N/A"}},{"$f":"Q234","v":{"$error":"#VALUE!"}}]
[null,null,null,null,null,null,null,null,null,null,{"$f":"K235","v":{"$error":"#N/A"}},0,null,null,null,{"$f":"P235","v":{"$error":"#N/A"}},0]
[null,null,null,null,null,{"$f":"F234+1","v":-19},{"$f":"MAX($E$15-MAX(F237,$E$14),0)","v":{"$error":"#VALUE!"}},{"$f":"HLOOKUP($F237,$E$6:$BR$8,2,FALSE)","v":{"$error":"#N/A"}},null,null,{"$f":"K236","v":{"$error":"#N/A"}},{"$f":"G237","v":{"$error":"#VALUE!"}},null,{"$f":"HLOOKUP($F237,$E$6:$BR$8,3,FALSE)","v":{"$error":"#N/A"}},null,{"$f":"P236","v":{"$error":"#N/A"}},{"$f":"G237","v":{"$error":"#VALUE!"}}]
[null,null,null,null,null,null,null,null,null,null,{"$f":"K237+H237","v":{"$error":"#N/A"}},{"$f":"L237","v":{"$error":"#VALUE!"}},null,null,null,{"$f":"P236+N237","v":{"$error":"#N/A"}},{"$f":"Q237","v":{"$error":"#VALUE!"}}]
[null,null,null,null,null,null,null,null,null,null,{"$f":"K238","v":{"$error":"#N/A"}},0,null,null,null,{"$f":"P238","v":{"$error":"#N/A"}},0]
[null,null,null,null,null,{"$f":"F237+1","v":-18},{"$f":"MAX($E$15-MAX(F240,$E$14),0)","v":{"$error":"#VALUE!"}},{"$f":"HLOOKUP($F240,$E$6:$BR$8,2,FALSE)","v":{"$error":"#N/A"}},null,null,{"$f":"K239","v":{"$error":"#N/A"}},{"$f":"G240","v":{"$error":"#VALUE!"}},null,{"$f":"HLOOKUP($F240,$E$6:$BR$8,3,FALSE)","v":{"$error":"#N/A"}},null,{"$f":"P239","v":{"$error":"#N/A"}},{"$f":"G240","v":{"$error":"#VALUE!"}}]
[null,null,null,null,null,null,null,null,null,null,{"$f":"K240+H240","v":{"$error":"#N/A"}},{"$f":"L240","v":{"$error":"#VALUE!"}},null,null,null,{"$f":"P239+N240","v":{"$error":"#N/A"}},{"$f":"Q240","v":{"$error":"#VALUE!"}}]
[null,null,null,null,null,null,null,null,null,null,{"$f":"K241","v":{"$error":"#N/A"}},0,null,null,null,{"$f":"P241","v":{"$error":"#N/A"}},0]
[null,null,null,null,null,{"$f":"F240+1","v":-17},{"$f":"MAX($E$15-MAX(F243,$E$14),0)","v":{"$error":"#VALUE!"}},{"$f":"HLOOKUP($F243,$E$6:$BR$8,2,FALSE)","v":{"$error":"#N/A"}},null,null,{"$f":"K242","v":{"$error":"#N/A"}},{"$f":"G243","v":{"$error":"#VALUE!"}},null,{"$f":"HLOOKUP($F243,$E$6:$BR$8,3,FALSE)","v":{"$error":"#N/A"}},null,{"$f":"P242","v":{"$error":"#N/A"}},{"$f":"G243","v":{"$error":"#VALUE!"}}]
[null,null,null,null,null,null,null,null,null,null,{"$f":"K243+H243","v":{"$error":"#N/A"}},{"$f":"L243","v":{"$error":"#VALUE!"}},null,null,null,{"$f":"P242+N243","v":{"$error":"#N/A"}},{"$f":"Q243","v":{"$error":"#VALUE!"}}]
[null,null,null,null,null,null,null,null,null,null,{"$f":"K244","v":{"$error":"#N/A"}},0,null,null,null,{"$f":"P244","v":{"$error":"#N/A"}},0]
[null,null,null,null,null,{"$f":"F243+1","v":-16},{"$f":"MAX($E$15-MAX(F246,$E$14),0)","v":{"$error":"#VALUE!"}},{"$f":"HLOOKUP($F246,$E$6:$BR$8,2,FALSE)","v":{"$error":"#N/A"}},null,null,{"$f":"K245","v":{"$error":"#N/A"}},{"$f":"G246","v":{"$error":"#VALUE!"}},null,{"$f":"HLOOKUP($F246,$E$6:$BR$8,3,FALSE)","v":{"$error":"#N/A"}},null,{"$f":"P245","v":{"$error":"#N/A"}},{"$f":"G246","v":{"$error":"#VALUE!"}}]
[null,null,null,null,null,null,null,null,null,null,{"$f":"K246+H246","v":{"$error":"#N/A"}},{"$f":"L246","v":{"$error":"#VALUE!"}},null,null,null,{"$f":"P245+N246","v":{"$error":"#N/A"}},{"$f":"Q246","v":{"$error":"#VALUE!"}}]
[null,null,null,null,null,null,null,null,null,null,{"$f":"K247","v":{"$error":"#N/A"}},0,null,null,null,{"$f":"P247","v":{"$error":"#N/A"}},0]
[null,null,null,null,null,{"$f":"F246+1","v":-15},{"$f":"MAX($E$15-MAX(F249,$E$14),0)","v":{"$error":"#VALUE!"}},{"$f":"HLOOKUP($F249,$E$6:$BR$8,2,FALSE)","v":{"$error":"#N/A"}},null,null,{"$f":"K248","v":{"$error":"#N/A"}},{"$f":"G249","v":{"$error":"#VALUE!"}},null,{"$f":"HLOOKUP($F249,$E$6:$BR$8,3,FALSE)","v":{"$error":"#N/A"}},null,{"$f":"P248","v":{"$error":"#N/A"}},{"$f":"G249","v":{"$error":"#VALUE!"}}]
[null,null,null,null,null,null,null,null,null,null,{"$f":"K249+H249","v":{"$error":"#N/A"}},{"$f":"L249","v":{"$error":"#VALUE!"}},null,null,null,{"$f":"P248+N249","v":{"$error":"#N/A"}},{"$f":"Q249","v":{"$error":"#VALUE!"}}]
[null,null,null,null,null,null,null,null,null,null,{"$f":"K250","v":{"$error":"#N/A"}},0,null,null,null,{"$f":"P250","v":{"$error":"#N/A"}},0]
[null,null,null,null,null,{"$f":"F249+1","v":-14},{"$f":"MAX($E$15-MAX(F252,$E$14),0)","v":{"$error":"#VALUE!"}},{"$f":"HLOOKUP($F252,$E$6:$BR$8,2,FALSE)","v":{"$error":"#N/A"}},null,null,{"$f":"K251","v":{"$error":"#N/A"}},{"$f":"G252","v":{"$error":"#VALUE!"}},null,{"$f":"HLOOKUP($F252,$E$6:$BR$8,3,FALSE)","v":{"$error":"#N/A"}},null,{"$f":"P251","v":{"$error":"#N/A"}},{"$f":"G252","v":{"$error":"#VALUE!"}}]
[null,null,null,null,null,null,null,null,null,null,{"$f":"K252+H252","v":{"$error":"#N/A"}},{"$f":"L252","v":{"$error":"#VALUE!"}},null,null,null,{"$f":"P251+N252","v":{"$error":"#N/A"}},{"$f":"Q252","v":{"$error":"#VALUE!"}}]
[null,null,null,null,null,null,null,null,null,null,{"$f":"K253","v":{"$error":"#N/A"}},0,null,null,null,{"$f":"P253","v":{"$error":"#N/A"}},0]
[null,null,null,null,null,{"$f":"F252+1","v":-13},{"$f":"MAX($E$15-MAX(F255,$E$14),0)","v":{"$error":"#VALUE!"}},{"$f":"HLOOKUP($F255,$E$6:$BR$8,2,FALSE)","v":{"$error":"#N/A"}},null,null,{"$f":"K254","v":{"$error":"#N/A"}},{"$f":"G255","v":{"$error":"#VALUE!"}},null,{"$f":"HLOOKUP($F255,$E$6:$BR$8,3,FALSE)","v":{"$error":"#N/A"}},null,{"$f":"P254","v":{"$error":"#N/A"}},{"$f":"G255","v":{"$error":"#VALUE!"}}]
[null,null,null,null,null,null,null,null,null,null,{"$f":"K255+H255","v":{"$error":"#N/A"}},{"$f":"L255","v":{"$error":"#VALUE!"}},null,null,null,{"$f":"P254+N255","v":{"$error":"#N/A"}},{"$f":"Q255","v":{"$error":"#VALUE!"}}]
[null,null,null,null,null,null,null,null,null,null,{"$f":"K256","v":{"$error":"#N/A"}},0,null,null,null,{"$f":"P256","v":{"$error":"#N/A"}},0]
[null,null,null,null,null,{"$f":"F255+1","v":-12},{"$f":"MAX($E$15-MAX(F258,$E$14),0)","v":{"$error":"#VALUE!"}},{"$f":"HLOOKUP($F258,$E$6:$BR$8,2,FALSE)","v":{"$error":"#N/A"}},null,null,{"$f":"K257","v":{"$error":"#N/A"}},{"$f":"G258","v":{"$error":"#VALUE!"}},null,{"$f":"HLOOKUP($F258,$E$6:$BR$8,3,FALSE)","v":{"$error":"#N/A"}},null,{"$f":"P257","v":{"$error":"#N/A"}},{"$f":"G258","v":{"$error":"#VALUE!"}}]
[null,null,null,null,null,null,null,null,null,null,{"$f":"K258+H258","v":{"$error":"#N/A"}},{"$f":"L258","v":{"$error":"#VALUE!"}},null,null,null,{"$f":"P257+N258","v":{"$error":"#N/A"}},{"$f":"Q258","v":{"$error":"#VALUE!"}}]
[null,null,null,null,null,null,null,null,null,null,{"$f":"K259","v":{"$error":"#N/A"}},0,null,null,null,{"$f":"P259","v":{"$error":"#N/A"}},0]
[null,null,null,null,null,{"$f":"F258+1","v":-11},{"$f":"MAX($E$15-MAX(F261,$E$14),0)","v":{"$error":"#VALUE!"}},{"$f":"HLOOKUP($F261,$E$6:$BR$8,2,FALSE)","v":{"$error":"#N/A"}},null,null,{"$f":"K260","v":{"$error":"#N/A"}},{"$f":"G261","v":{"$error":"#VALUE!"}},null,{"$f":"HLOOKUP($F261,$E$6:$BR$8,3,FALSE)","v":{"$error":"#N/A"}},null,{"$f":"P260","v":{"$error":"#N/A"}},{"$f":"G261","v":{"$error":"#VALUE!"}}]
[null,null,null,null,null,null,null,null,null,null,{"$f":"K261+H261","v":{"$error":"#N/A"}},{"$f":"L261","v":{"$error":"#VALUE!"}},null,null,null,{"$f":"P260+N261","v":{"$error":"#N/A"}},{"$f":"Q261","v":{"$error":"#VALUE!"}}]
[null,null,null,null,null,null,null,null,null,null,{"$f":"K262","v":{"$error":"#N/A"}},0,null,null,null,{"$f":"P262","v":{"$error":"#N/A"}},0]
[null,null,null,null,null,{"$f":"F261+1","v":-10},{"$f":"MAX($E$15-MAX(F264,$E$14),0)","v":{"$error":"#VALUE!"}},{"$f":"HLOOKUP($F264,$E$6:$BR$8,2,FALSE)","v":{"$error":"#N/A"}},null,null,{"$f":"K263","v":{"$error":"#N/A"}},{"$f":"G264","v":{"$error":"#VALUE!"}},null,{"$f":"HLOOKUP($F264,$E$6:$BR$8,3,FALSE)","v":{"$error":"#N/A"}},null,{"$f":"P263","v":{"$error":"#N/A"}},{"$f":"G264","v":{"$error":"#VALUE!"}}]
[null,null,null,null,null,null,null,null,null,null,{"$f":"K264+H264","v":{"$error":"#N/A"}},{"$f":"L264","v":{"$error":"#VALUE!"}},null,null,null,{"$f":"P263+N264","v":{"$error":"#N/A"}},{"$f":"Q264","v":{"$error":"#VALUE!"}}]
[null,null,null,null,null,null,null,null,null,null,{"$f":"K265","v":{"$error":"#N/A"}},0,null,null,null,{"$f":"P265","v":{"$error":"#N/A"}},0]
[null,null,null,null,null,{"$f":"F264+1","v":-9},{"$f":"MAX($E$15-MAX(F267,$E$14),0)","v":{"$error":"#VALUE!"}},{"$f":"HLOOKUP($F267,$E$6:$BR$8,2,FALSE)","v":{"$error":"#N/A"}},null,null,{"$f":"K266","v":{"$error":"#N/A"}},{"$f":"G267","v":{"$error":"#VALUE!"}},null,{"$f":"HLOOKUP($F267,$E$6:$BR$8,3,FALSE)","v":{"$error":"#N/A"}},null,{"$f":"P266","v":{"$error":"#N/A"}},{"$f":"G267","v":{"$error":"#VALUE!"}}]
[null,null,null,null,null,null,null,null,null,null,{"$f":"K267+H267","v":{"$error":"#N/A"}},{"$f":"L267","v":{"$error":"#VALUE!"}},null,null,null,{"$f":"P266+N267","v":{"$error":"#N/A"}},{"$f":"Q267","v":{"$error":"#VALUE!"}}]
[null,null,null,null,null,null,null,null,null,null,{"$f":"K268","v":{"$error":"#N/A"}},0,null,null,null,{"$f":"P268","v":{"$error":"#N/A"}},0]
[null,null,null,null,null,{"$f":"F267+1","v":-8},{"$f":"MAX($E$15-MAX(F270,$E$14),0)","v":{"$error":"#VALUE!"}},{"$f":"HLOOKUP($F270,$E$6:$BR$8,2,FALSE)","v":{"$error":"#N/A"}},null,null,{"$f":"K269","v":{"$error":"#N/A"}},{"$f":"G270","v":{"$error":"#VALUE!"}},null,{"$f":"HLOOKUP($F270,$E$6:$BR$8,3,FALSE)","v":{"$error":"#N/A"}},null,{"$f":"P269","v":{"$error":"#N/A"}},{"$f":"G270","v":{"$error":"#VALUE!"}}]
[null,null,null,null,null,null,null,null,null,null,{"$f":"K270+H270","v":{"$error":"#N/A"}},{"$f":"L270","v":{"$error":"#VALUE!"}},null,null,null,{"$f":"P269+N270","v":{"$error":"#N/A"}},{"$f":"Q270","v":{"$error":"#VALUE!"}}]
[null,null,null,null,null,null,null,null,null,null,{"$f":"K271","v":{"$error":"#N/A"}},0,null,null,null,{"$f":"P271","v":{"$error":"#N/A"}},0]
[null,null,null,null,null,{"$f":"F270+1","v":-7},{"$f":"MAX($E$15-MAX(F273,$E$14),0)","v":{"$error":"#VALUE!"}},{"$f":"HLOOKUP($F273,$E$6:$BR$8,2,FALSE)","v":{"$error":"#N/A"}},null,null,{"$f":"K272","v":{"$error":"#N/A"}},{"$f":"G273","v":{"$error":"#VALUE!"}},null,{"$f":"HLOOKUP($F273,$E$6:$BR$8,3,FALSE)","v":{"$error":"#N/A"}},null,{"$f":"P272","v":{"$error":"#N/A"}},{"$f":"G273","v":{"$error":"#VALUE!"}}]
[null,null,null,null,null,null,null,null,null,null,{"$f":"K273+H273","v":{"$error":"#N/A"}},{"$f":"L273","v":{"$error":"#VALUE!"}},null,null,null,{"$f":"P272+N273","v":{"$error":"#N/A"}},{"$f":"Q273","v":{"$error":"#VALUE!"}}]
[null,null,null,null,null,null,null,null,null,null,{"$f":"K274","v":{"$error":"#N/A"}},0,null,null,null,{"$f":"P274","v":{"$error":"#N/A"}},0]
[null,null,null,null,null,{"$f":"F273+1","v":-6},{"$f":"MAX($E$15-MAX(F276,$E$14),0)","v":{"$error":"#VALUE!"}},{"$f":"HLOOKUP($F276,$E$6:$BR$8,2,FALSE)","v":{"$error":"#N/A"}},null,null,{"$f":"K275","v":{"$error":"#N/A"}},{"$f":"G276","v":{"$error":"#VALUE!"}},null,{"$f":"HLOOKUP($F276,$E$6:$BR$8,3,FALSE)","v":{"$error":"#N/A"}},null,{"$f":"P275","v":{"$error":"#N/A"}},{"$f":"G276","v":{"$error":"#VALUE!"}}]
[null,null,null,null,null,null,null,null,null,null,{"$f":"K276+H276","v":{"$error":"#N/A"}},{"$f":"L276","v":{"$error":"#VALUE!"}},null,null,null,{"$f":"P275+N276","v":{"$error":"#N/A"}},{"$f":"Q276","v":{"$error":"#VALUE!"}}]
[null,null,null,null,null,null,null,null,null,null,{"$f":"K277","v":{"$error":"#N/A"}},0,null,null,null,{"$f":"P277","v":{"$error":"#N/A"}},0]
[null,null,null,null,null,{"$f":"F276+1","v":-5},{"$f":"MAX($E$15-MAX(F279,$E$14),0)","v":{"$error":"#VALUE!"}},{"$f":"HLOOKUP($F279,$E$6:$BR$8,2,FALSE)","v":{"$error":"#N/A"}},null,null,{"$f":"K278","v":{"$error":"#N/A"}},{"$f":"G279","v":{"$error":"#VALUE!"}},null,{"$f":"HLOOKUP($F279,$E$6:$BR$8,3,FALSE)","v":{"$error":"#N/A"}},null,{"$f":"P278","v":{"$error":"#N/A"}},{"$f":"G279","v":{"$error":"#VALUE!"}}]
[null,null,null,null,null,null,null,null,null,null,{"$f":"K279+H279","v":{"$error":"#N/A"}},{"$f":"L279","v":{"$error":"#VALUE!"}},null,null,null,{"$f":"P278+N279","v":{"$error":"#N/A"}},{"$f":"Q279","v":{"$error":"#VALUE!"}}]
[null,null,null,null,null,null,null,null,null,null,{"$f":"K280","v":{"$error":"#N/A"}},0,null,null,null,{"$f":"P280","v":{"$error":"#N/A"}},0]
[null,null,null,null,null,{"$f":"F279+1","v":-4},{"$f":"MAX($E$15-MAX(F282,$E$14),0)","v":{"$error":"#VALUE!"}},{"$f":"HLOOKUP($F282,$E$6:$BR$8,2,FALSE)","v":{"$error":"#N/A"}},null,null,{"$f":"K281","v":{"$error":"#N/A"}},{"$f":"G282","v":{"$error":"#VALUE!"}},null,{"$f":"HLOOKUP($F282,$E$6:$BR$8,3,FALSE)","v":{"$error":"#N/A"}},null,{"$f":"P281","v":{"$error":"#N/A"}},{"$f":"G282","v":{"$error":"#VALUE!"}}]
[null,null,null,null,null,null,null,null,null,null,{"$f":"K282+H282","v":{"$error":"#N/A"}},{"$f":"L282","v":{"$error":"#VALUE!"}},null,null,null,{"$f":"P281+N282","v":{"$error":"#N/A"}},{"$f":"Q282","v":{"$error":"#VALUE!"}}]
[null,null,null,null,null,null,null,null,null,null,{"$f":"K283","v":{"$error":"#N/A"}},0,null,null,null,{"$f":"P283","v":{"$error":"#N/A"}},0]
[null,null,null,null,null,{"$f":"F282+1","v":-3},{"$f":"MAX($E$15-MAX(F285,$E$14),0)","v":{"$error":"#VALUE!"}},{"$f":"HLOOKUP($F285,$E$6:$BR$8,2,FALSE)","v":{"$error":"#N/A"}},null,null,{"$f":"K284","v":{"$error":"#N/A"}},{"$f":"G285","v":{"$error":"#VALUE!"}},null,{"$f":"HLOOKUP($F285,$E$6:$BR$8,3,FALSE)","v":{"$error":"#N/A"}},null,{"$f":"P284","v":{"$error":"#N/A"}},{"$f":"G285","v":{"$error":"#VALUE!"}}]
[null,null,null,null,null,null,null,null,null,null,{"$f":"K285+H285","v":{"$error":"#N/A"}},{"$f":"L285","v":{"$error":"#VALUE!"}},null,null,null,{"$f":"P284+N285","v":{"$error":"#N/A"}},{"$f":"Q285","v":{"$error":"#VALUE!"}}]
[null,null,null,null,null,null,null,null,null,null,{"$f":"K286","v":{"$error":"#N/A"}},0,null,null,null,{"$f":"P286","v":{"$error":"#N/A"}},0]
[null,null,null,null,null,{"$f":"F285+1","v":-2},{"$f":"MAX($E$15-MAX(F288,$E$14),0)","v":{"$error":"#VALUE!"}},{"$f":"HLOOKUP($F288,$E$6:$BR$8,2,FALSE)","v":{"$error":"#N/A"}},null,null,{"$f":"K287","v":{"$error":"#N/A"}},{"$f":"G288","v":{"$error":"#VALUE!"}},null,{"$f":"HLOOKUP($F288,$E$6:$BR$8,3,FALSE)","v":{"$error":"#N/A"}},null,{"$f":"P287","v":{"$error":"#N/A"}},{"$f":"G288","v":{"$error":"#VALUE!"}}]
[null,null,null,null,null,null,null,null,null,null,{"$f":"K288+H288","v":{"$error":"#N/A"}},{"$f":"L288","v":{"$error":"#VALUE!"}},null,null,null,{"$f":"P287+N288","v":{"$error":"#N/A"}},{"$f":"Q288","v":{"$error":"#VALUE!"}}]
[null,null,null,null,null,null,null,null,null,null,{"$f":"K289","v":{"$error":"#N/A"}},0,null,null,null,{"$f":"P289","v":{"$error":"#N/A"}},0]
[null,null,null,null,null,{"$f":"F288+1","v":-1},{"$f":"MAX($E$15-MAX(F291,$E$14),0)","v":{"$error":"#VALUE!"}},{"$f":"HLOOKUP($F291,$E$6:$BR$8,2,FALSE)","v":{"$error":"#N/A"}},null,null,{"$f":"K290","v":{"$error":"#N/A"}},{"$f":"G291","v":{"$error":"#VALUE!"}},null,{"$f":"HLOOKUP($F291,$E$6:$BR$8,3,FALSE)","v":{"$error":"#N/A"}},null,{"$f":"P290","v":{"$error":"#N/A"}},{"$f":"G291","v":{"$error":"#VALUE!"}}]
[null,null,null,null,null,null,null,null,null,null,{"$f":"K291+H291","v":{"$error":"#N/A"}},{"$f":"L291","v":{"$error":"#VALUE!"}},null,null,null,{"$f":"P290+N291","v":{"$error":"#N/A"}},{"$f":"Q291","v":{"$error":"#VALUE!"}}]
[null,null,null,null,null,null,null,null,null,null,{"$f":"K292","v":{"$error":"#N/A"}},0,null,null,null,{"$f":"P292","v":{"$error":"#N/A"}},0]
[null,null,null,null,null,{"$f":"F291+1","v":0},{"$f":"MAX($E$15-MAX(F294,$E$14),0)","v":{"$error":"#VALUE!"}},{"$f":"HLOOKUP($F294,$E$6:$BR$8,2,FALSE)","v":{"$error":"#N/A"}},null,null,{"$f":"K293","v":{"$error":"#N/A"}},{"$f":"G294","v":{"$error":"#VALUE!"}},null,{"$f":"HLOOKUP($F294,$E$6:$BR$8,3,FALSE)","v":{"$error":"#N/A"}},null,{"$f":"P293","v":{"$error":"#N/A"}},{"$f":"G294","v":{"$error":"#VALUE!"}}]
[null,null,null,null,null,null,null,null,null,null,{"$f":"K294+H294","v":{"$error":"#N/A"}},{"$f":"L294","v":{"$error":"#VALUE!"}},null,null,null,{"$f":"P293+N294","v":{"$error":"#N/A"}},{"$f":"Q294","v":{"$error":"#VALUE!"}}]
[null,null,null,null,null,null,null,null,null,null,{"$f":"K295","v":{"$error":"#N/A"}},0,null,null,null,{"$f":"P295","v":{"$error":"#N/A"}},0]
[null,null,null,null,null,{"$f":"F294+1","v":1},{"$f":"MAX($E$15-MAX(F297,$E$14),0)","v":{"$error":"#VALUE!"}},{"$f":"HLOOKUP($F297,$E$6:$BR$8,2,FALSE)","v":{"$error":"#N/A"}},null,null,{"$f":"K296","v":{"$error":"#N/A"}},{"$f":"G297","v":{"$error":"#VALUE!"}},null,{"$f":"HLOOKUP($F297,$E$6:$BR$8,3,FALSE)","v":{"$error":"#N/A"}},null,{"$f":"P296","v":{"$error":"#N/A"}},{"$f":"G297","v":{"$error":"#VALUE!"}}]
[null,null,null,null,null,null,null,null,null,null,{"$f":"K297+H297","v":{"$error":"#N/A"}},{"$f":"L297","v":{"$error":"#VALUE!"}},null,null,null,{"$f":"P296+N297","v":{"$error":"#N/A"}},{"$f":"Q297","v":{"$error":"#VALUE!"}}]
[null,null,null,null,null,null,null,null,null,null,{"$f":"K298","v":{"$error":"#N/A"}},0,null,null,null,{"$f":"P298","v":{"$error":"#N/A"}},0]
[null,null,null,null,null,{"$f":"F297+1","v":2},{"$f":"MAX($E$15-MAX(F300,$E$14),0)","v":{"$error":"#VALUE!"}},{"$f":"HLOOKUP($F300,$E$6:$BR$8,2,FALSE)","v":{"$error":"#N/A"}},null,null,{"$f":"K299","v":{"$error":"#N/A"}},{"$f":"G300","v":{"$error":"#VALUE!"}},null,{"$f":"HLOOKUP($F300,$E$6:$BR$8,3,FALSE)","v":{"$error":"#N/A"}},null,{"$f":"P299","v":{"$error":"#N/A"}},{"$f":"G300","v":{"$error":"#VALUE!"}}]
[null,null,null,null,null,null,null,null,null,null,{"$f":"K300+H300","v":{"$error":"#N/A"}},{"$f":"L300","v":{"$error":"#VALUE!"}},null,null,null,{"$f":"P299+N300","v":{"$error":"#N/A"}},{"$f":"Q300","v":{"$error":"#VALUE!"}}]
[null,null,null,null,null,null,null,null,null,null,{"$f":"K301","v":{"$error":"#N/A"}},0,null,null,null,{"$f":"P301","v":{"$error":"#N/A"}},0]
[null,null,null,null,null,{"$f":"F300+1","v":3},{"$f":"MAX($E$15-MAX(F303,$E$14),0)","v":{"$error":"#VALUE!"}},{"$f":"HLOOKUP($F303,$E$6:$BR$8,2,FALSE)","v":{"$error":"#N/A"}},null,null,{"$f":"K302","v":{"$error":"#N/A"}},{"$f":"G303","v":{"$error":"#VALUE!"}},null,{"$f":"HLOOKUP($F303,$E$6:$BR$8,3,FALSE)","v":{"$error":"#N/A"}},null,{"$f":"P302","v":{"$error":"#N/A"}},{"$f":"G303","v":{"$error":"#VALUE!"}}]
[null,null,null,null,null,null,null,null,null,null,{"$f":"K303+H303","v":{"$error":"#N/A"}},{"$f":"L303","v":{"$error":"#VALUE!"}},null,null,null,{"$f":"P302+N303","v":{"$error":"#N/A"}},{"$f":"Q303","v":{"$error":"#VALUE!"}}]
[null,null,null,null,null,null,null,null,null,null,{"$f":"K304","v":{"$error":"#N/A"}},0,null,null,null,{"$f":"P304","v":{"$error":"#N/A"}},0]
[null,null,null,null,null,{"$f":"F303+1","v":4},{"$f":"MAX($E$15-MAX(F306,$E$14),0)","v":{"$error":"#VALUE!"}},{"$f":"HLOOKUP($F306,$E$6:$BR$8,2,FALSE)","v":{"$error":"#N/A"}},null,null,{"$f":"K305","v":{"$error":"#N/A"}},{"$f":"G306","v":{"$error":"#VALUE!"}},null,{"$f":"HLOOKUP($F306,$E$6:$BR$8,3,FALSE)","v":{"$error":"#N/A"}},null,{"$f":"P305","v":{"$error":"#N/A"}},{"$f":"G306","v":{"$error":"#VALUE!"}}]
[null,null,null,null,null,null,null,null,null,null,{"$f":"K306+H306","v":{"$error":"#N/A"}},{"$f":"L306","v":{"$error":"#VALUE!"}},null,null,null,{"$f":"P305+N306","v":{"$error":"#N/A"}},{"$f":"Q306","v":{"$error":"#VALUE!"}}]
[null,null,null,null,null,null,null,null,null,null,{"$f":"K307","v":{"$error":"#N/A"}},0,null,null,null,{"$f":"P307","v":{"$error":"#N/A"}},0]
[null,null,null,null,null,{"$f":"F306+1","v":5},{"$f":"MAX($E$15-MAX(F309,$E$14),0)","v":{"$error":"#VALUE!"}},{"$f":"HLOOKUP($F309,$E$6:$BR$8,2,FALSE)","v":{"$error":"#N/A"}},null,null,{"$f":"K308","v":{"$error":"#N/A"}},{"$f":"G309","v":{"$error":"#VALUE!"}},null,{"$f":"HLOOKUP($F309,$E$6:$BR$8,3,FALSE)","v":{"$error":"#N/A"}},null,{"$f":"P308","v":{"$error":"#N/A"}},{"$f":"G309","v":{"$error":"#VALUE!"}}]
[null,null,null,null,null,null,null,null,null,null,{"$f":"K309+H309","v":{"$error":"#N/A"}},{"$f":"L309","v":{"$error":"#VALUE!"}},null,null,null,{"$f":"P308+N309","v":{"$error":"#N/A"}},{"$f":"Q309","v":{"$error":"#VALUE!"}}]
[null,null,null,null,null,null,null,null,null,null,{"$f":"K310","v":{"$error":"#N/A"}},0,null,null,null,{"$f":"P310","v":{"$error":"#N/A"}},0]
[null,null,null,null,null,{"$f":"F309+1","v":6},{"$f":"MAX($E$15-MAX(F312,$E$14),0)","v":{"$error":"#VALUE!"}},{"$f":"HLOOKUP($F312,$E$6:$BR$8,2,FALSE)","v":{"$error":"#N/A"}},null,null,{"$f":"K311","v":{"$error":"#N/A"}},{"$f":"G312","v":{"$error":"#VALUE!"}},null,{"$f":"HLOOKUP($F312,$E$6:$BR$8,3,FALSE)","v":{"$error":"#N/A"}},null,{"$f":"P311","v":{"$error":"#N/A"}},{"$f":"G312","v":{"$error":"#VALUE!"}}]
[null,null,null,null,null,null,null,null,null,null,{"$f":"K312+H312","v":{"$error":"#N/A"}},{"$f":"L312","v":{"$error":"#VALUE!"}},null,null,null,{"$f":"P311+N312","v":{"$error":"#N/A"}},{"$f":"Q312","v":{"$error":"#VALUE!"}}]
[null,null,null,null,null,null,null,null,null,null,{"$f":"K313","v":{"$error":"#N/A"}},0,null,null,null,{"$f":"P313","v":{"$error":"#N/A"}},0]
[null,null,null,null,null,{"$f":"F312+1","v":7},{"$f":"MAX($E$15-MAX(F315,$E$14),0)","v":{"$error":"#VALUE!"}},{"$f":"HLOOKUP($F315,$E$6:$BR$8,2,FALSE)","v":{"$error":"#N/A"}},null,null,{"$f":"K314","v":{"$error":"#N/A"}},{"$f":"G315","v":{"$error":"#VALUE!"}},null,{"$f":"HLOOKUP($F315,$E$6:$BR$8,3,FALSE)","v":{"$error":"#N/A"}},null,{"$f":"P314","v":{"$error":"#N/A"}},{"$f":"G315","v":{"$error":"#VALUE!"}}]
[null,null,null,null,null,null,null,null,null,null,{"$f":"K315+H315","v":{"$error":"#N/A"}},{"$f":"L315","v":{"$error":"#VALUE!"}},null,null,null,{"$f":"P314+N315","v":{"$error":"#N/A"}},{"$f":"Q315","v":{"$error":"#VALUE!"}}]
[null,null,null,null,null,null,null,null,null,null,{"$f":"K316","v":{"$error":"#N/A"}},0,null,null,null,{"$f":"P316","v":{"$error":"#N/A"}},0]
[null,null,null,null,null,{"$f":"F315+1","v":8},{"$f":"MAX($E$15-MAX(F318,$E$14),0)","v":{"$error":"#VALUE!"}},{"$f":"HLOOKUP($F318,$E$6:$BR$8,2,FALSE)","v":{"$error":"#N/A"}},null,null,{"$f":"K317","v":{"$error":"#N/A"}},{"$f":"G318","v":{"$error":"#VALUE!"}},null,{"$f":"HLOOKUP($F318,$E$6:$BR$8,3,FALSE)","v":{"$error":"#N/A"}},null,{"$f":"P317","v":{"$error":"#N/A"}},{"$f":"G318","v":{"$error":"#VALUE!"}}]
[null,null,null,null,null,null,null,null,null,null,{"$f":"K318+H318","v":{"$error":"#N/A"}},{"$f":"L318","v":{"$error":"#VALUE!"}},null,null,null,{"$f":"P317+N318","v":{"$error":"#N/A"}},{"$f":"Q318","v":{"$error":"#VALUE!"}}]
[null,null,null,null,null,null,null,null,null,null,{"$f":"K319","v":{"$error":"#N/A"}},0,null,null,null,{"$f":"P319","v":{"$error":"#N/A"}},0]
[null,null,null,null,null,{"$f":"F318+1","v":9},{"$f":"MAX($E$15-MAX(F321,$E$14),0)","v":{"$error":"#VALUE!"}},{"$f":"HLOOKUP($F321,$E$6:$BR$8,2,FALSE)","v":{"$error":"#N/A"}},null,null,{"$f":"K320","v":{"$error":"#N/A"}},{"$f":"G321","v":{"$error":"#VALUE!"}},null,{"$f":"HLOOKUP($F321,$E$6:$BR$8,3,FALSE)","v":{"$error":"#N/A"}},null,{"$f":"P320","v":{"$error":"#N/A"}},{"$f":"G321","v":{"$error":"#VALUE!"}}]
[null,null,null,null,null,null,null,null,null,null,{"$f":"K321+H321","v":{"$error":"#N/A"}},{"$f":"L321","v":{"$error":"#VALUE!"}},null,null,null,{"$f":"P320+N321","v":{"$error":"#N/A"}},{"$f":"Q321","v":{"$error":"#VALUE!"}}]
[null,null,null,null,null,null,null,null,null,null,{"$f":"K322","v":{"$error":"#N/A"}},0,null,null,null,{"$f":"P322","v":{"$error":"#N/A"}},0]
[null,null,null,null,null,{"$f":"F321+1","v":10},{"$f":"MAX($E$15-MAX(F324,$E$14),0)","v":{"$error":"#VALUE!"}},{"$f":"HLOOKUP($F324,$E$6:$BR$8,2,FALSE)","v":{"$error":"#N/A"}},null,null,{"$f":"K323","v":{"$error":"#N/A"}},{"$f":"G324","v":{"$error":"#VALUE!"}},null,{"$f":"HLOOKUP($F324,$E$6:$BR$8,3,FALSE)","v":{"$error":"#N/A"}},null,{"$f":"P323","v":{"$error":"#N/A"}},{"$f":"G324","v":{"$error":"#VALUE!"}}]
[null,null,null,null,null,null,null,null,null,null,{"$f":"K324+H324","v":{"$error":"#N/A"}},{"$f":"L324","v":{"$error":"#VALUE!"}},null,null,null,{"$f":"P323+N324","v":{"$error":"#N/A"}},{"$f":"Q324","v":{"$error":"#VALUE!"}}]
[null,null,null,null,null,null,null,null,null,null,{"$f":"K325","v":{"$error":"#N/A"}},0,null,null,null,{"$f":"P325","v":{"$error":"#N/A"}},0]
[null,null,null,null,null,{"$f":"F324+1","v":11},{"$f":"MAX($E$15-MAX(F327,$E$14),0)","v":{"$error":"#VALUE!"}},{"$f":"HLOOKUP($F327,$E$6:$BR$8,2,FALSE)","v":{"$error":"#N/A"}},null,null,{"$f":"K326","v":{"$error":"#N/A"}},{"$f":"G327","v":{"$error":"#VALUE!"}},null,{"$f":"HLOOKUP($F327,$E$6:$BR$8,3,FALSE)","v":{"$error":"#N/A"}},null,{"$f":"P326","v":{"$error":"#N/A"}},{"$f":"G327","v":{"$error":"#VALUE!"}}]
[null,null,null,null,null,null,null,null,null,null,{"$f":"K327+H327","v":{"$error":"#N/A"}},{"$f":"L327","v":{"$error":"#VALUE!"}},null,null,null,{"$f":"P326+N327","v":{"$error":"#N/A"}},{"$f":"Q327","v":{"$error":"#VALUE!"}}]
[null,null,null,null,null,null,null,null,null,null,{"$f":"K328","v":{"$error":"#N/A"}},0,null,null,null,{"$f":"P328","v":{"$error":"#N/A"}},0]
[null,null,null,null,null,{"$f":"F327+1","v":12},{"$f":"MAX($E$15-MAX(F330,$E$14),0)","v":{"$error":"#VALUE!"}},{"$f":"HLOOKUP($F330,$E$6:$BR$8,2,FALSE)","v":{"$error":"#N/A"}},null,null,{"$f":"K329","v":{"$error":"#N/A"}},{"$f":"G330","v":{"$error":"#VALUE!"}},null,{"$f":"HLOOKUP($F330,$E$6:$BR$8,3,FALSE)","v":{"$error":"#N/A"}},null,{"$f":"P329","v":{"$error":"#N/A"}},{"$f":"G330","v":{"$error":"#VALUE!"}}]
[null,null,null,null,null,null,null,null,null,null,{"$f":"K330+H330","v":{"$error":"#N/A"}},{"$f":"L330","v":{"$error":"#VALUE!"}},null,null,null,{"$f":"P329+N330","v":{"$error":"#N/A"}},{"$f":"Q330","v":{"$error":"#VALUE!"}}]
[null,null,null,null,null,null,null,null,null,null,{"$f":"K331","v":{"$error":"#N/A"}},0,null,null,null,{"$f":"P331","v":{"$error":"#N/A"}},0]
[null,null,null,null,null,{"$f":"F330+1","v":13},{"$f":"MAX($E$15-MAX(F333,$E$14),0)","v":{"$error":"#VALUE!"}},{"$f":"HLOOKUP($F333,$E$6:$BR$8,2,FALSE)","v":{"$error":"#N/A"}},null,null,{"$f":"K332","v":{"$error":"#N/A"}},{"$f":"G333","v":{"$error":"#VALUE!"}},null,{"$f":"HLOOKUP($F333,$E$6:$BR$8,3,FALSE)","v":{"$error":"#N/A"}},null,{"$f":"P332","v":{"$error":"#N/A"}},{"$f":"G333","v":{"$error":"#VALUE!"}}]
[null,null,null,null,null,null,null,null,null,null,{"$f":"K333+H333","v":{"$error":"#N/A"}},{"$f":"L333","v":{"$error":"#VALUE!"}},null,null,null,{"$f":"P332+N333","v":{"$error":"#N/A"}},{"$f":"Q333","v":{"$error":"#VALUE!"}}]
[null,null,null,null,null,null,null,null,null,null,{"$f":"K334","v":{"$error":"#N/A"}},0,null,null,null,{"$f":"P334","v":{"$error":"#N/A"}},0]
[null,null,null,null,null,{"$f":"F333+1","v":14},{"$f":"MAX($E$15-MAX(F336,$E$14),0)","v":{"$error":"#VALUE!"}},{"$f":"HLOOKUP($F336,$E$6:$BR$8,2,FALSE)","v":{"$error":"#N/A"}},null,null,{"$f":"K335","v":{"$error":"#N/A"}},{"$f":"G336","v":{"$error":"#VALUE!"}},null,{"$f":"HLOOKUP($F336,$E$6:$BR$8,3,FALSE)","v":{"$error":"#N/A"}},null,{"$f":"P335","v":{"$error":"#N/A"}},{"$f":"G336","v":{"$error":"#VALUE!"}}]
[null,null,null,null,null,null,null,null,null,null,{"$f":"K336+H336","v":{"$error":"#N/A"}},{"$f":"L336","v":{"$error":"#VALUE!"}},null,null,null,{"$f":"P335+N336","v":{"$error":"#N/A"}},{"$f":"Q336","v":{"$error":"#VALUE!"}}]
[null,null,null,null,null,null,null,null,null,null,{"$f":"K337","v":{"$error":"#N/A"}},0,null,null,null,{"$f":"P337","v":{"$error":"#N/A"}},0]
[null,null,null,null,null,{"$f":"F336+1","v":15},{"$f":"MAX($E$15-MAX(F339,$E$14),0)","v":{"$error":"#VALUE!"}},{"$f":"HLOOKUP($F339,$E$6:$BR$8,2,FALSE)","v":{"$error":"#N/A"}},null,null,{"$f":"K338","v":{"$error":"#N/A"}},{"$f":"G339","v":{"$error":"#VALUE!"}},null,{"$f":"HLOOKUP($F339,$E$6:$BR$8,3,FALSE)","v":{"$error":"#N/A"}},null,{"$f":"P338","v":{"$error":"#N/A"}},{"$f":"G339","v":{"$error":"#VALUE!"}}]
[null,null,null,null,null,null,null,null,null,null,{"$f":"K339+H339","v":{"$error":"#N/A"}},{"$f":"L339","v":{"$error":"#VALUE!"}},null,null,null,{"$f":"P338+N339","v":{"$error":"#N/A"}},{"$f":"Q339","v":{"$error":"#VALUE!"}}]
[null,null,null,null,null,null,null,null,null,null,{"$f":"K340","v":{"$error":"#N/A"}},0,null,null,null,{"$f":"P340","v":{"$error":"#N/A"}},0]
[null,null,null,null,null,{"$f":"F339+1","v":16},{"$f":"MAX($E$15-MAX(F342,$E$14),0)","v":{"$error":"#VALUE!"}},{"$f":"HLOOKUP($F342,$E$6:$BR$8,2,FALSE)","v":{"$error":"#N/A"}},null,null,{"$f":"K341","v":{"$error":"#N/A"}},{"$f":"G342","v":{"$error":"#VALUE!"}},null,{"$f":"HLOOKUP($F342,$E$6:$BR$8,3,FALSE)","v":{"$error":"#N/A"}},null,{"$f":"P341","v":{"$error":"#N/A"}},{"$f":"G342","v":{"$error":"#VALUE!"}}]
[null,null,null,null,null,null,null,null,null,null,{"$f":"K342+H342","v":{"$error":"#N/A"}},{"$f":"L342","v":{"$error":"#VALUE!"}},null,null,null,{"$f":"P341+N342","v":{"$error":"#N/A"}},{"$f":"Q342","v":{"$error":"#VALUE!"}}]
[null,null,null,null,null,null,null,null,null,null,{"$f":"K343","v":{"$error":"#N/A"}},0,null,null,null,{"$f":"P343","v":{"$error":"#N/A"}},0]
[null,null,null,null,null,{"$f":"F342+1","v":17},{"$f":"MAX($E$15-MAX(F345,$E$14),0)","v":{"$error":"#VALUE!"}},{"$f":"HLOOKUP($F345,$E$6:$BR$8,2,FALSE)","v":{"$error":"#N/A"}},null,null,{"$f":"K344","v":{"$error":"#N/A"}},{"$f":"G345","v":{"$error":"#VALUE!"}},null,{"$f":"HLOOKUP($F345,$E$6:$BR$8,3,FALSE)","v":{"$error":"#N/A"}},null,{"$f":"P344","v":{"$error":"#N/A"}},{"$f":"G345","v":{"$error":"#VALUE!"}}]
[null,null,null,null,null,null,null,null,null,null,{"$f":"K345+H345","v":{"$error":"#N/A"}},{"$f":"L345","v":{"$error":"#VALUE!"}},null,null,null,{"$f":"P344+N345","v":{"$error":"#N/A"}},{"$f":"Q345","v":{"$error":"#VALUE!"}}]
[null,null,null,null,null,null,null,null,null,null,{"$f":"K346","v":{"$error":"#N/A"}},0,null,null,null,{"$f":"P346","v":{"$error":"#N/A"}},0]
[null,null,null,null,null,{"$f":"F345+1","v":18},{"$f":"MAX($E$15-MAX(F348,$E$14),0)","v":{"$error":"#VALUE!"}},{"$f":"HLOOKUP($F348,$E$6:$BR$8,2,FALSE)","v":{"$error":"#N/A"}},null,null,{"$f":"K347","v":{"$error":"#N/A"}},{"$f":"G348","v":{"$error":"#VALUE!"}},null,{"$f":"HLOOKUP($F348,$E$6:$BR$8,3,FALSE)","v":{"$error":"#N/A"}},null,{"$f":"P347","v":{"$error":"#N/A"}},{"$f":"G348","v":{"$error":"#VALUE!"}}]
[null,null,null,null,null,null,null,null,null,null,{"$f":"K348+H348","v":{"$error":"#N/A"}},{"$f":"L348","v":{"$error":"#VALUE!"}},null,null,null,{"$f":"P347+N348","v":{"$error":"#N/A"}},{"$f":"Q348","v":{"$error":"#VALUE!"}}]
[null,null,null,null,null,null,null,null,null,null,{"$f":"K349","v":{"$error":"#N/A"}},0,null,null,null,{"$f":"P349","v":{"$error":"#N/A"}},0]
[null,null,null,null,null,{"$f":"F348+1","v":19},{"$f":"MAX($E$15-MAX(F351,$E$14),0)","v":{"$error":"#VALUE!"}},{"$f":"HLOOKUP($F351,$E$6:$BR$8,2,FALSE)","v":{"$error":"#N/A"}},null,null,{"$f":"K350","v":{"$error":"#N/A"}},{"$f":"G351","v":{"$error":"#VALUE!"}},null,{"$f":"HLOOKUP($F351,$E$6:$BR$8,3,FALSE)","v":{"$error":"#N/A"}},null,{"$f":"P350","v":{"$error":"#N/A"}},{"$f":"G351","v":{"$error":"#VALUE!"}}]
[null,null,null,null,null,null,null,null,null,null,{"$f":"K351+H351","v":{"$error":"#N/A"}},{"$f":"L351","v":{"$error":"#VALUE!"}},null,null,null,{"$f":"P350+N351","v":{"$error":"#N/A"}},{"$f":"Q351","v":{"$error":"#VALUE!"}}]
[null,null,null,null,null,null,null,null,null,null,{"$f":"K352","v":{"$error":"#N/A"}},0,null,null,null,{"$f":"P352","v":{"$error":"#N/A"}},0]
[null,null,null,null,null,{"$f":"F351+1","v":20},{"$f":"MAX($E$15-MAX(F354,$E$14),0)","v":{"$error":"#VALUE!"}},{"$f":"HLOOKUP($F354,$E$6:$BR$8,2,FALSE)","v":{"$error":"#N/A"}},null,null,{"$f":"K353","v":{"$error":"#N/A"}},{"$f":"G354","v":{"$error":"#VALUE!"}},null,{"$f":"HLOOKUP($F354,$E$6:$BR$8,3,FALSE)","v":{"$error":"#N/A"}},null,{"$f":"P353","v":{"$error":"#N/A"}},{"$f":"G354","v":{"$error":"#VALUE!"}}]
[null,null,null,null,null,null,null,null,null,null,{"$f":"K354+H354","v":{"$error":"#N/A"}},{"$f":"L354","v":{"$error":"#VALUE!"}},null,null,null,{"$f":"P353+N354","v":{"$error":"#N/A"}},{"$f":"Q354","v":{"$error":"#VALUE!"}}]
[null,null,null,null,null,null,null,null,null,null,{"$f":"K355","v":{"$error":"#N/A"}},0,null,null,null,{"$f":"P355","v":{"$error":"#N/A"}},0]
[null,null,null,null,null,{"$f":"F354+1","v":21},{"$f":"MAX($E$15-MAX(F357,$E$14),0)","v":{"$error":"#VALUE!"}},{"$f":"HLOOKUP($F357,$E$6:$BR$8,2,FALSE)","v":{"$error":"#N/A"}},null,null,{"$f":"K356","v":{"$error":"#N/A"}},{"$f":"G357","v":{"$error":"#VALUE!"}},null,{"$f":"HLOOKUP($F357,$E$6:$BR$8,3,FALSE)","v":{"$error":"#N/A"}},null,{"$f":"P356","v":{"$error":"#N/A"}},{"$f":"G357","v":{"$error":"#VALUE!"}}]
[null,null,null,null,null,null,null,null,null,null,{"$f":"K357+H357","v":{"$error":"#N/A"}},{"$f":"L357","v":{"$error":"#VALUE!"}},null,null,null,{"$f":"P356+N357","v":{"$error":"#N/A"}},{"$f":"Q357","v":{"$error":"#VALUE!"}}]
[null,null,null,null,null,null,null,null,null,null,{"$f":"K358","v":{"$error":"#N/A"}},0,null,null,null,{"$f":"P358","v":{"$error":"#N/A"}},0]
[null,null,null,null,null,{"$f":"F357+1","v":22},{"$f":"MAX($E$15-MAX(F360,$E$14),0)","v":{"$error":"#VALUE!"}},{"$f":"HLOOKUP($F360,$E$6:$BR$8,2,FALSE)","v":{"$error":"#N/A"}},null,null,{"$f":"K359","v":{"$error":"#N/A"}},{"$f":"G360","v":{"$error":"#VALUE!"}},null,{"$f":"HLOOKUP($F360,$E$6:$BR$8,3,FALSE)","v":{"$error":"#N/A"}},null,{"$f":"P359","v":{"$error":"#N/A"}},{"$f":"G360","v":{"$error":"#VALUE!"}}]
[null,null,null,null,null,null,null,null,null,null,{"$f":"K360+H360","v":{"$error":"#N/A"}},{"$f":"L360","v":{"$error":"#VALUE!"}},null,null,null,{"$f":"P359+N360","v":{"$error":"#N/A"}},{"$f":"Q360","v":{"$error":"#VALUE!"}}]
[null,null,null,null,null,null,null,null,null,null,{"$f":"K361","v":{"$error":"#N/A"}},0,null,null,null,{"$f":"P361","v":{"$error":"#N/A"}},0]
[null,null,null,null,null,{"$f":"F360+1","v":23},{"$f":"MAX($E$15-MAX(F363,$E$14),0)","v":{"$error":"#VALUE!"}},{"$f":"HLOOKUP($F363,$E$6:$BR$8,2,FALSE)","v":{"$error":"#N/A"}},null,null,{"$f":"K362","v":{"$error":"#N/A"}},{"$f":"G363","v":{"$error":"#VALUE!"}},null,{"$f":"HLOOKUP($F363,$E$6:$BR$8,3,FALSE)","v":{"$error":"#N/A"}},null,{"$f":"P362","v":{"$error":"#N/A"}},{"$f":"G363","v":{"$error":"#VALUE!"}}]
[null,null,null,null,null,null,null,null,null,null,{"$f":"K363+H363","v":{"$error":"#N/A"}},{"$f":"L363","v":{"$error":"#VALUE!"}},null,null,null,{"$f":"P362+N363","v":{"$error":"#N/A"}},{"$f":"Q363","v":{"$error":"#VALUE!"}}]
[null,null,null,null,null,null,null,null,null,null,{"$f":"K364","v":{"$error":"#N/A"}},0,null,null,null,{"$f":"P364","v":{"$error":"#N/A"}},0]
[null,null,null,null,null,{"$f":"F363+1","v":24},{"$f":"MAX($E$15-MAX(F366,$E$14),0)","v":{"$error":"#VALUE!"}},{"$f":"HLOOKUP($F366,$E$6:$BR$8,2,FALSE)","v":{"$error":"#N/A"}},null,null,{"$f":"K365","v":{"$error":"#N/A"}},{"$f":"G366","v":{"$error":"#VALUE!"}},null,{"$f":"HLOOKUP($F366,$E$6:$BR$8,3,FALSE)","v":{"$error":"#N/A"}},null,{"$f":"P365","v":{"$error":"#N/A"}},{"$f":"G366","v":{"$error":"#VALUE!"}}]
[null,null,null,null,null,null,null,null,null,null,{"$f":"K366+H366","v":{"$error":"#N/A"}},{"$f":"L366","v":{"$error":"#VALUE!"}},null,null,null,{"$f":"P365+N366","v":{"$error":"#N/A"}},{"$f":"Q366","v":{"$error":"#VALUE!"}}]
[null,null,null,null,null,null,null,null,null,null,{"$f":"K367","v":{"$error":"#N/A"}},0,null,null,null,{"$f":"P367","v":{"$error":"#N/A"}},0]
[null,null,null,null,null,{"$f":"F366+1","v":25},{"$f":"MAX($E$15-MAX(F369,$E$14),0)","v":{"$error":"#VALUE!"}},{"$f":"HLOOKUP($F369,$E$6:$BR$8,2,FALSE)","v":{"$error":"#N/A"}},null,null,{"$f":"K368","v":{"$error":"#N/A"}},{"$f":"G369","v":{"$error":"#VALUE!"}},null,{"$f":"HLOOKUP($F369,$E$6:$BR$8,3,FALSE)","v":{"$error":"#N/A"}},null,{"$f":"P368","v":{"$error":"#N/A"}},{"$f":"G369","v":{"$error":"#VALUE!"}}]
[null,null,null,null,null,null,null,null,null,null,{"$f":"K369+H369","v":{"$error":"#N/A"}},{"$f":"L369","v":{"$error":"#VALUE!"}},null,null,null,{"$f":"P368+N369","v":{"$error":"#N/A"}},{"$f":"Q369","v":{"$error":"#VALUE!"}}]
[null,null,null,null,null,null,null,null,null,null,{"$f":"K370","v":{"$error":"#N/A"}},0,null,null,null,{"$f":"P370","v":{"$error":"#N/A"}},0]
[null,null,null,null,null,{"$f":"F369+1","v":26},{"$f":"MAX($E$15-MAX(F372,$E$14),0)","v":{"$error":"#VALUE!"}},{"$f":"HLOOKUP($F372,$E$6:$BR$8,2,FALSE)","v":{"$error":"#N/A"}},null,null,{"$f":"K371","v":{"$error":"#N/A"}},{"$f":"G372","v":{"$error":"#VALUE!"}},null,{"$f":"HLOOKUP($F372,$E$6:$BR$8,3,FALSE)","v":{"$error":"#N/A"}},null,{"$f":"P371","v":{"$error":"#N/A"}},{"$f":"G372","v":{"$error":"#VALUE!"}}]
[null,null,null,null,null,null,null,null,null,null,{"$f":"K372+H372","v":{"$error":"#N/A"}},{"$f":"L372","v":{"$error":"#VALUE!"}},null,null,null,{"$f":"P371+N372","v":{"$error":"#N/A"}},{"$f":"Q372","v":{"$error":"#VALUE!"}}]
[null,null,null,null,null,null,null,null,null,null,{"$f":"K373","v":{"$error":"#N/A"}},0,null,null,null,{"$f":"P373","v":{"$error":"#N/A"}},0]
[null,null,null,null,null,{"$f":"F372+1","v":27},{"$f":"MAX($E$15-MAX(F375,$E$14),0)","v":{"$error":"#VALUE!"}},{"$f":"HLOOKUP($F375,$E$6:$BR$8,2,FALSE)","v":{"$error":"#N/A"}},null,null,{"$f":"K374","v":{"$error":"#N/A"}},{"$f":"G375","v":{"$error":"#VALUE!"}},null,{"$f":"HLOOKUP($F375,$E$6:$BR$8,3,FALSE)","v":{"$error":"#N/A"}},null,{"$f":"P374","v":{"$error":"#N/A"}},{"$f":"G375","v":{"$error":"#VALUE!"}}]
[null,null,null,null,null,null,null,null,null,null,{"$f":"K375+H375","v":{"$error":"#N/A"}},{"$f":"L375","v":{"$error":"#VALUE!"}},null,null,null,{"$f":"P374+N375","v":{"$error":"#N/A"}},{"$f":"Q375","v":{"$error":"#VALUE!"}}]
[null,null,null,null,null,null,null,null,null,null,{"$f":"K376","v":{"$error":"#N/A"}},0,null,null,null,{"$f":"P376","v":{"$error":"#N/A"}},0]
[null,null,null,null,null,{"$f":"F375+1","v":28},{"$f":"MAX($E$15-MAX(F378,$E$14),0)","v":{"$error":"#VALUE!"}},{"$f":"HLOOKUP($F378,$E$6:$BR$8,2,FALSE)","v":{"$error":"#N/A"}},null,null,{"$f":"K377","v":{"$error":"#N/A"}},{"$f":"G378","v":{"$error":"#VALUE!"}},null,{"$f":"HLOOKUP($F378,$E$6:$BR$8,3,FALSE)","v":{"$error":"#N/A"}},null,{"$f":"P377","v":{"$error":"#N/A"}},{"$f":"G378","v":{"$error":"#VALUE!"}}]
[null,null,null,null,null,null,null,null,null,null,{"$f":"K378+H378","v":{"$error":"#N/A"}},{"$f":"L378","v":{"$error":"#VALUE!"}},null,null,null,{"$f":"P377+N378","v":{"$error":"#N/A"}},{"$f":"Q378","v":{"$error":"#VALUE!"}}]
[null,null,null,null,null,null,null,null,null,null,{"$f":"K379","v":{"$error":"#N/A"}},0,null,null,null,{"$f":"P379","v":{"$error":"#N/A"}},0]
[null,null,null,null,null,{"$f":"F378+1","v":29},{"$f":"MAX($E$15-MAX(F381,$E$14),0)","v":{"$error":"#VALUE!"}},{"$f":"HLOOKUP($F381,$E$6:$BR$8,2,FALSE)","v":{"$error":"#N/A"}},null,null,{"$f":"K380","v":{"$error":"#N/A"}},{"$f":"G381","v":{"$error":"#VALUE!"}},null,{"$f":"HLOOKUP($F381,$E$6:$BR$8,3,FALSE)","v":{"$error":"#N/A"}},null,{"$f":"P380","v":{"$error":"#N/A"}},{"$f":"G381","v":{"$error":"#VALUE!"}}]
[null,null,null,null,null,null,null,null,null,null,{"$f":"K381+H381","v":{"$error":"#N/A"}},{"$f":"L381","v":{"$error":"#VALUE!"}},null,null,null,{"$f":"P380+N381","v":{"$error":"#N/A"}},{"$f":"Q381","v":{"$error":"#VALUE!"}}]
[null,null,null,null,null,null,null,null,null,null,{"$f":"K382","v":{"$error":"#N/A"}},0,null,null,null,{"$f":"P382","v":{"$error":"#N/A"}},0]
[null,null,null,null,null,{"$f":"F381+1","v":30},{"$f":"MAX($E$15-MAX(F384,$E$14),0)","v":{"$error":"#VALUE!"}},{"$f":"HLOOKUP($F384,$E$6:$BR$8,2,FALSE)","v":{"$error":"#N/A"}},null,null,{"$f":"K383","v":{"$error":"#N/A"}},{"$f":"G384","v":{"$error":"#VALUE!"}},null,{"$f":"HLOOKUP($F384,$E$6:$BR$8,3,FALSE)","v":{"$error":"#N/A"}},null,{"$f":"P383","v":{"$error":"#N/A"}},{"$f":"G384","v":{"$error":"#VALUE!"}}]
[null,null,null,null,null,null,null,null,null,null,{"$f":"K384+H384","v":{"$error":"#N/A"}},{"$f":"L384","v":{"$error":"#VALUE!"}},null,null,null,{"$f":"P383+N384","v":{"$error":"#N/A"}},{"$f":"Q384","v":{"$error":"#VALUE!"}}]
[null,null,null,null,null,null,null,null,null,null,{"$f":"K385","v":{"$error":"#N/A"}},0,null,null,null,{"$f":"P385","v":{"$error":"#N/A"}},0]
[null,null,null,null,null,{"$f":"F384+1","v":31},{"$f":"MAX($E$15-MAX(F387,$E$14),0)","v":{"$error":"#VALUE!"}},{"$f":"HLOOKUP($F387,$E$6:$BR$8,2,FALSE)","v":{"$error":"#N/A"}},null,null,{"$f":"K386","v":{"$error":"#N/A"}},{"$f":"G387","v":{"$error":"#VALUE!"}},null,{"$f":"HLOOKUP($F387,$E$6:$BR$8,3,FALSE)","v":{"$error":"#N/A"}},null,{"$f":"P386","v":{"$error":"#N/A"}},{"$f":"G387","v":{"$error":"#VALUE!"}}]
[null,null,null,null,null,null,null,null,null,null,{"$f":"K387+H387","v":{"$error":"#N/A"}},{"$f":"L387","v":{"$error":"#VALUE!"}},null,null,null,{"$f":"P386+N387","v":{"$error":"#N/A"}},{"$f":"Q387","v":{"$error":"#VALUE!"}}]
[null,null,null,null,null,null,null,null,null,null,{"$f":"K388","v":{"$error":"#N/A"}},0,null,null,null,{"$f":"P388","v":{"$error":"#N/A"}},0]
[null,null,null,null,null,{"$f":"F387+1","v":32},{"$f":"MAX($E$15-MAX(F390,$E$14),0)","v":{"$error":"#VALUE!"}},{"$f":"HLOOKUP($F390,$E$6:$BR$8,2,FALSE)","v":{"$error":"#N/A"}},null,null,{"$f":"K389","v":{"$error":"#N/A"}},{"$f":"G390","v":{"$error":"#VALUE!"}},null,{"$f":"HLOOKUP($F390,$E$6:$BR$8,3,FALSE)","v":{"$error":"#N/A"}},null,{"$f":"P389","v":{"$error":"#N/A"}},{"$f":"G390","v":{"$error":"#VALUE!"}}]
[null,null,null,null,null,null,null,null,null,null,{"$f":"K390+H390","v":{"$error":"#N/A"}},{"$f":"L390","v":{"$error":"#VALUE!"}},null,null,null,{"$f":"P389+N390","v":{"$error":"#N/A"}},{"$f":"Q390","v":{"$error":"#VALUE!"}}]
[null,null,null,null,null,null,null,null,null,null,{"$f":"K391","v":{"$error":"#N/A"}},0,null,null,null,{"$f":"P391","v":{"$error":"#N/A"}},0]
[null,null,null,null,null,{"$f":"F390+1","v":33},{"$f":"MAX($E$15-MAX(F393,$E$14),0)","v":{"$error":"#VALUE!"}},{"$f":"HLOOKUP($F393,$E$6:$BR$8,2,FALSE)","v":{"$error":"#N/A"}},null,null,{"$f":"K392","v":{"$error":"#N/A"}},{"$f":"G393","v":{"$error":"#VALUE!"}},null,{"$f":"HLOOKUP($F393,$E$6:$BR$8,3,FALSE)","v":{"$error":"#N/A"}},null,{"$f":"P392","v":{"$error":"#N/A"}},{"$f":"G393","v":{"$error":"#VALUE!"}}]
[null,null,null,null,null,null,null,null,null,null,{"$f":"K393+H393","v":{"$error":"#N/A"}},{"$f":"L393","v":{"$error":"#VALUE!"}},null,null,null,{"$f":"P392+N393","v":{"$error":"#N/A"}},{"$f":"Q393","v":{"$error":"#VALUE!"}}]
[null,null,null,null,null,null,null,null,null,null,{"$f":"K394","v":{"$error":"#N/A"}},0,null,null,null,{"$f":"P394","v":{"$error":"#N/A"}},0]
[null,null,null,null,null,{"$f":"F393+1","v":34},{"$f":"MAX($E$15-MAX(F396,$E$14),0)","v":{"$error":"#VALUE!"}},{"$f":"HLOOKUP($F396,$E$6:$BR$8,2,FALSE)","v":{"$error":"#N/A"}},null,null,{"$f":"K395","v":{"$error":"#N/A"}},{"$f":"G396","v":{"$error":"#VALUE!"}},null,{"$f":"HLOOKUP($F396,$E$6:$BR$8,3,FALSE)","v":{"$error":"#N/A"}},null,{"$f":"P395","v":{"$error":"#N/A"}},{"$f":"G396","v":{"$error":"#VALUE!"}}]
[null,null,null,null,null,null,null,null,null,null,{"$f":"K396+H396","v":{"$error":"#N/A"}},{"$f":"L396","v":{"$error":"#VALUE!"}},null,null,null,{"$f":"P395+N396","v":{"$error":"#N/A"}},{"$f":"Q396","v":{"$error":"#VALUE!"}}]
[null,null,null,null,null,null,null,null,null,null,{"$f":"K397","v":{"$error":"#N/A"}},0,null,null,null,{"$f":"P397","v":{"$error":"#N/A"}},0]
[null,null,null,null,null,{"$f":"F396+1","v":35},{"$f":"MAX($E$15-MAX(F399,$E$14),0)","v":{"$error":"#VALUE!"}},{"$f":"HLOOKUP($F399,$E$6:$BR$8,2,FALSE)","v":{"$error":"#N/A"}},null,null,{"$f":"K398","v":{"$error":"#N/A"}},{"$f":"G399","v":{"$error":"#VALUE!"}},null,{"$f":"HLOOKUP($F399,$E$6:$BR$8,3,FALSE)","v":{"$error":"#N/A"}},null,{"$f":"P398","v":{"$error":"#N/A"}},{"$f":"G399","v":{"$error":"#VALUE!"}}]
[null,null,null,null,null,null,null,null,null,null,{"$f":"K399+H399","v":{"$error":"#N/A"}},{"$f":"L399","v":{"$error":"#VALUE!"}},null,null,null,{"$f":"P398+N399","v":{"$error":"#N/A"}},{"$f":"Q399","v":{"$error":"#VALUE!"}}]
[null,null,null,null,null,null,null,null,null,null,{"$f":"K400","v":{"$error":"#N/A"}},0,null,null,null,{"$f":"P400","v":{"$error":"#N/A"}},0]
[null,null,null,null,null,{"$f":"F399+1","v":36},{"$f":"MAX($E$15-MAX(F402,$E$14),0)","v":{"$error":"#VALUE!"}},{"$f":"HLOOKUP($F402,$E$6:$BR$8,2,FALSE)","v":{"$error":"#N/A"}},null,null,{"$f":"K401","v":{"$error":"#N/A"}},{"$f":"G402","v":{"$error":"#VALUE!"}},null,{"$f":"HLOOKUP($F402,$E$6:$BR$8,3,FALSE)","v":{"$error":"#N/A"}},null,{"$f":"P401","v":{"$error":"#N/A"}},{"$f":"G402","v":{"$error":"#VALUE!"}}]
[null,null,null,null,null,null,null,null,null,null,{"$f":"K402+H402","v":{"$error":"#N/A"}},{"$f":"L402","v":{"$error":"#VALUE!"}},null,null,null,{"$f":"P401+N402","v":{"$error":"#N/A"}},{"$f":"Q402","v":{"$error":"#VALUE!"}}]
[null,null,null,null,null,null,null,null,null,null,{"$f":"K403","v":{"$error":"#N/A"}},0,null,null,null,{"$f":"P403","v":{"$error":"#N/A"}},0]
[null,null,null,null,null,{"$f":"F402+1","v":37},{"$f":"MAX($E$15-MAX(F405,$E$14),0)","v":{"$error":"#VALUE!"}},{"$f":"HLOOKUP($F405,$E$6:$BR$8,2,FALSE)","v":{"$error":"#N/A"}},null,null,{"$f":"K404","v":{"$error":"#N/A"}},{"$f":"G405","v":{"$error":"#VALUE!"}},null,{"$f":"HLOOKUP($F405,$E$6:$BR$8,3,FALSE)","v":{"$error":"#N/A"}},null,{"$f":"P404","v":{"$error":"#N/A"}},{"$f":"G405","v":{"$error":"#VALUE!"}}]
[null,null,null,null,null,null,null,null,null,null,{"$f":"K405+H405","v":{"$error":"#N/A"}},{"$f":"L405","v":{"$error":"#VALUE!"}},null,null,null,{"$f":"P404+N405","v":{"$error":"#N/A"}},{"$f":"Q405","v":{"$error":"#VALUE!"}}]
[null,null,null,null,null,null,null,null,null,null,{"$f":"K406","v":{"$error":"#N/A"}},0,null,null,null,{"$f":"P406","v":{"$error":"#N/A"}},0]
[null,null,null,null,null,{"$f":"F405+1","v":38},{"$f":"MAX($E$15-MAX(F408,$E$14),0)","v":{"$error":"#VALUE!"}},{"$f":"HLOOKUP($F408,$E$6:$BR$8,2,FALSE)","v":{"$error":"#N/A"}},null,null,{"$f":"K407","v":{"$error":"#N/A"}},{"$f":"G408","v":{"$error":"#VALUE!"}},null,{"$f":"HLOOKUP($F408,$E$6:$BR$8,3,FALSE)","v":{"$error":"#N/A"}},null,{"$f":"P407","v":{"$error":"#N/A"}},{"$f":"G408","v":{"$error":"#VALUE!"}}]
[null,null,null,null,null,null,null,null,null,null,{"$f":"K408+H408","v":{"$error":"#N/A"}},{"$f":"L408","v":{"$error":"#VALUE!"}},null,null,null,{"$f":"P407+N408","v":{"$error":"#N/A"}},{"$f":"Q408","v":{"$error":"#VALUE!"}}]
[null,null,null,null,null,null,null,null,null,null,{"$f":"K409","v":{"$error":"#N/A"}},0,null,null,null,{"$f":"P409","v":{"$error":"#N/A"}},0]
[null,null,null,null,null,{"$f":"F408+1","v":39},{"$f":"MAX($E$15-MAX(F411,$E$14),0)","v":{"$error":"#VALUE!"}},{"$f":"HLOOKUP($F411,$E$6:$BR$8,2,FALSE)","v":{"$error":"#N/A"}},null,null,{"$f":"K410","v":{"$error":"#N/A"}},{"$f":"G411","v":{"$error":"#VALUE!"}},null,{"$f":"HLOOKUP($F411,$E$6:$BR$8,3,FALSE)","v":{"$error":"#N/A"}},null,{"$f":"P410","v":{"$error":"#N/A"}},{"$f":"G411","v":{"$error":"#VALUE!"}}]
[null,null,null,null,null,null,null,null,null,null,{"$f":"K411+H411","v":{"$error":"#N/A"}},{"$f":"L411","v":{"$error":"#VALUE!"}},null,null,null,{"$f":"P410+N411","v":{"$error":"#N/A"}},{"$f":"Q411","v":{"$error":"#VALUE!"}}]
[null,null,null,null,null,null,null,null,null,null,{"$f":"K412","v":{"$error":"#N/A"}},0,null,null,null,{"$f":"P412","v":{"$error":"#N/A"}},0]
[null,null,null,null,null,{"$f":"F411+1","v":40},{"$f":"MAX($E$15-MAX(F414,$E$14),0)","v":{"$error":"#VALUE!"}},{"$f":"HLOOKUP($F414,$E$6:$BR$8,2,FALSE)","v":{"$error":"#N/A"}},null,null,{"$f":"K413","v":{"$error":"#N/A"}},{"$f":"G414","v":{"$error":"#VALUE!"}},null,{"$f":"HLOOKUP($F414,$E$6:$BR$8,3,FALSE)","v":{"$error":"#N/A"}},null,{"$f":"P413","v":{"$error":"#N/A"}},{"$f":"G414","v":{"$error":"#VALUE!"}}]
[null,null,null,null,null,null,null,null,null,null,{"$f":"K414+H414","v":{"$error":"#N/A"}},{"$f":"L414","v":{"$error":"#VALUE!"}},null,null,null,{"$f":"P413+N414","v":{"$error":"#N/A"}},{"$f":"Q414","v":{"$error":"#VALUE!"}}]
[null,null,null,null,null,null,null,null,null,null,{"$f":"K415","v":{"$error":"#N/A"}},0,null,null,null,{"$f":"P415","v":{"$error":"#N/A"}},0]

{"sheet":"log","index":13,"n_rows":99,"n_cols":5,"rows_kept":99,"cut":false,"hidden":true,"merged":[]}
[]
["Anpassungen am Programm WPesti"]
[]
["Nr.","Beschreibung","Datum","Version","geändert durch"]
[1,"Neue Version 7.0 unter Berücksichtigung des Entwurfs SIA 384/3","2012-12-21","8.0.2","AH"]
[2,"Blatt \"WP1\", Zelle H39: Bivalenzpunkt nicht berücksichtigt, falscher Bezug auf J24 statt J23. Fehler behoben","2013-01-14","8.0.3","AH"]
[3,"Blatt \"WP1\", Zelle M49: WW-Temperatur mit wöchtentlicher Legionellenschaltung falsch berechnet. Fehler behoben","2013-01-14","8.0.3","AH"]
[4,"Blatt \"WP1\", Zelle V40-AB40: Formeln für dezentrale Wassererwärmung gemäss Handbuch angepasst","2013-01-20","8.0.3","AH"]
[5,"Blatt \"WP1\", Zelle V37: Fehler bei Eingaben in Spez-Blatt. Fehler behoben","2013-01-21","8.0.3","AH"]
[6,"Blatt \"Spez\", Grafik COP für Warmwasser: falscher Bezug auf x-Achse. Fehler behoben.","2013-01-22","8.0.3","AH"]
[7,"Bei Zusatzenergie Verteilverlustedoppelt eingerechnet. Blatt \"WP1\", Zellen AD60-AD127 / AF60-AF127 angepasst","2013-02-08","8.0.4","AH"]
[8,"Blatt \"Berecnungen\", Zelle A36: Korrekturfaktor Leistung bei manueller Leistungsvorgabe eingeführt","2013-02-08","8.0.4","AH"]
[9,"Blatt \"WP1\", Zelle Y60-Y127: BIN-Stunden mit Korrekturfaktor reduziert bei manueller Eingabe der Heizleistung","2013-02-08","8.0.4","AH"]
[10,"Heizleistungsbedarf Gebäude unterhalb Auslegungstemp. nicht mehr erhöht. Blatt WP1, Zellen Z60-Z127 angepasst.","2013-02-08","8.0.4","AH"]
[11,"Blatt \"WP\", Zelle E60: Umschaltung für Berechnung JAZ mit und ohne Elektro-Zusatzheizung eingeführt.","2013-02-08","8.0.4","AH"]
[12,"Blatt \"WP\", Zelle B53-E53: Lila Warnmeldung, sobald neu Leistungsbedarf 1% über WP-Leistung bei Auslegung","2013-02-08","8.0.4","AH"]
[13,"Blatt \"WP1\", Zelle Y130 und T130: Fehler bei Berechnung Anteil freie Wärme (Solaranteil). Fehler behoben","2013-02-12","8.0.5","AH"]
[14,"Gemäss Norm SIA 384/3 ist Leistungsbedarf keine Eingabegrösse: Blatt \"WP1\", Zelle H14 angepasst.","2013-02-12","8.0.5","AH"]
[15,"Blatt \"WP1\", Zelle Z60 - Z125, Leistungsbedarf neu von Blatt Berechnung SIA 384/3 übernommen.","2013-02-12","8.0.5","AH"]
[16,"Blatt \"Grafik\". Berechnung entsprechend Anpassung 15 angepasst.","2013-02-12","8.0.5","AH"]
[17,"Blatt \"WP1\", Zelle D68, neue Variable Zuschlag_A (tiefere Auslegung Österreich) eingeführt und auf 0 gesetzt","2013-02-16","8.0.5","AH"]
[18,"Blatt \"WP1\", Zelle H68, neue Variable Zuschlag_CH (minimal Auslegungstemp. Schweiz) eingeführt und auf 2 gesetzt","2013-02-16","8.0.5","AH"]
[19,"Blatt \"Berechnung\", Zelle E14, TGrenz um Zuschlag_CH reduziert","2013-02-16","8.0.5","AH"]
[20,"Bei JAZ Div 0, wenn auf Spez-Blatt nur eine Kurve eingegeben. Blatt \"WP_BIN\", Zellen T19 bis CG20, Div 0 abgefangen.","2013-02-16","8.0.5","AH"]
[21,"Wenn kein El.-Heizstab für WW angewählt, dann ist Tww-Soll 60°C. Blatt \"WP1\", Zelle M49: Formel angepasst","2013-03-29","8.0.6","AH"]
[22,"Blatt \"WP\", Zellen E60 und H60: ausblenden bei bivalentem Betrieb","2013-03-29","8.0.6","AH"]
[23,"Bei bivalenten Anlagen wird für die Zusatzheizung Wert für Heizung + WW angegeben. Blatt \"WP1\", Zelle H57 angepasst","2013-03-29","8.0.6","AH"]
[24,"Blatt \"JAZcalc\", Anzeige \"Frostgefahr\" ohne Eingabe auf I36. Formel L35 angepasst.","2013-03-29","8.0.6","AH"]
[25,"Blatt \"JAZcalc\", Zelle B63: falscher Bezug auf G49 statt L47","2013-03-29","8.0.6","AH"]
[26,"Blatt \"JAZcalc\", Zelle B63: Text geändert, JAZ immer ohne Solaranlage","2013-03-29","8.0.6","AH"]
[27,"Blatt \"JAZcalc\", Zelle I35: Bedingte Formatierung angepasst","2013-03-29","8.0.6","AH"]
[28,"Neu Unterscheidung fossil bivalent paralleler Betrieb und fossil bivalent alternativer Betrieb","2013-03-29","8.0.6","AH"]
["28a","Zelle zum Umsschalten auf kWh ist gesperrt. --> Sperrung aufgehoben","2013-06-17","8.0.6a","MS"]
["28b","Bei WW-WP werden Daten nicht aus Blatt \"WP_Daten\" übernommen.\nBlatt \"WP1\",  W50 - W53 ergänzt. ","2013-06-17","8.0.6a","AH"]
["28c","Blatt \"WP\", B4: Fehlermeldung nur deutsch. Formel angepasst und Übersetzung auf \"Sprache\", Zeile 337","2013-06-17","8.0.6a","AH"]
["28d","Blatt \"WP\", B27-B30: Text bei WW-WP angepasst, neue Übersetzungstext auf \"Sprache\", Zeilen 335-336","2013-06-17","8.0.6a","AH"]
["28e","Bei Sole- & WW-WP wird beim Deckungsgrad der Anteil Begleitheizband nicht abgezogen. Blatt \"WP1\", X35, Z35, AB35 anpepasst.","2013-07-22","8.0.6b","AH"]
["28f","Blatt \"WP\", B27-H30: Bei Luft-Wasser-WP werden für die Berechnung des COP auch bei reinem Heizungsbetrieb oder bei reinem Warmwasserbetrieb alle Werte bei einer Vorlauftemperatur von 55°C und 35°C benötigt ->einblenden","2013-10-16","8.0.6c","AH"]
["28g","Blatt \"Spez\", C14, L14: T Vorlauf (Warmwasser): Wenn keine Eingabe auf C14, dann wird T Vorlauf (Warmwasser) auf 60°C gesetzt.","2013-10-17","8.0.6c","AH"]
["28h","Blatt \"JAZcalc\", B30-I33: Bei Luft-Wasser-WP werden für die Berechnung des COP auch bei reinem Heizungsbetrieb oder bei reinem Warmwasserbetrieb alle Werte bei einer Vorlauftemperatur von 55°C und 35°C benötigt ->einblenden","2013-10-18","8.0.6c","AH"]
["28i","Deckungsgrad Zusatzheizung WW zu gering. Blatt \"WP1\", Zelllen AM60-AM127 angepasst (Bezug Y durch W ersetzt)","2014-01-28","8.0.6d","AH"]
["28j","falsche Berechnung JAZ bei negativer Temperatur Wärmequelle (s/w und w/w). Blatt \"WP1\", Zelle H33 angepasst.","2014-04-01","8.1.0","AH"]
["28k","Blatt \"WP1\": Minimaltemperatur ohne Eingabe des Bivalenzpunktes von -20 auf -30 reduziert.","2015-11-26","8.1.3","AH"]
["28l","Blatt \"WP_Daten, Zelle AJ38: Bereich erweitert  bis AI239 für mehr Lieferanten","2016-07-21","8.1.3","AH"]
["28m","Blatt \"WP_Daten, Zelle AH25: Bereich erweitert  bis AN239 für mehr Produkte / Neue WP-Daten","2016-10-13","8.1.5","AH"]
["28n","Blatt \"Spez\", Hilfsenergie falsch einbezogen bei LW-WP. Zellen X9-AB9 / X13-AB13, Formel/Bezug angepasst.","2017-07-01","8.2.8","AH"]
["28o","Blatt \"Spez\", Hilfsenergie falsch einbezogen, Formeln Zellen N28 - R51  / N4-N5 angepasst.","2017-07-01","8.3.8","AH"]
["28p","Blatt \"WP_BIN\", Fehler in Offsetberechnung korrigiert.  T37-CG37, T40+CG40, T46-CG46, T53-CG53 angepasst.","2017-07-01","8.3.8","AH"]
[29,"Versionsnummerierung angepasst: X.Y.Z wobei X = Hauptversion, Y = wichtige unterversion, anpassen bei Änderung mit Einfluss auf Resultat, Z = andere Anpassung, z.B. Gerätedaten. Für Y und Z gleich 0 bei Testversionen einsetzen (0, 0a, 0b, 0c …)","2017-07-03","8.2.1","AH/CG"]
[30,"Neue Gerätedaten gem. FWS 1.2.2018 aktuell seit 31.7.17. WP_Daten Zelle C334 korrigiert. Alle Zellen auf Blatt Sprache geschützt. Gültigkeitsdatum angepasst auf 31.12.18","2018-02-09","8.2.2","CG"]
[31,"Neue Gerätedaten gem. FWS Juni 2018. Alle Blätter: Blattschutz neu gesetzt.","2018-06-04","8.2.3","CG"]
[32,"Neue Gerätedaten gem. FWS 3.12.2018. Gültigkeitsdatum angepasst auf 31.12.2019. Es gibt keine V8.2.4 ","2018-12-03","8.2.5","CG"]
[33,"Blatt \"WP1\": X20,Z20,AB20 angepasst. Strom Pumpe Verdampfer = 4% Kompressor, schon in COP, Sondenteil >= 0","2019-04-02","8.3.1","AH"]
[34,"Blatt \"WP_Daten\": Ergänzung Datenbank bis 1991 WPs möglich","2019-04-02","8.3.1","AH"]
[35,"Daten der WP's von FWS erneuert. Publikation als Version 8.3.1","2019-04-08","8.3.1","CG"]
[36,"Daten der WP's von FWS erneuert. Publikation als Version 8.3.2","2019-05-06","8.3.2","CG"]
[37,"Bei Datenerneuerung wurden Felder H18, F21, F22 und F23 vorausgefüllt. Bereinigt","2019-05-27","8.3.6","AH/CG"]
[38,"Daten der WP's von FWS erneuert. Publikation als Version 8.3.3","2019-10-14","8.3.3","FWS"]
[39,"Bei Datenerneuerung wurden Felder H18, F21, F22 und F23 vorausgefüllt. Bereinigt. Gültigkeit 31.12.2020","2019-10-17","8.3.7","SGe/CG"]
[40,"Blatt \"WP_Daten\": Anpassung Feld AH7, Bereich neu von AJ40:AJ239","2019-10-24","8.3.8","AH"]
[41,"WP-Daten von Faivre und Viessmann erneuert","2019-11-19","8.3.9","FWS"]
[42,"WP-Daten Vaillant erneuert","2019-11-20","8.3.10","FWS"]
[43,"WP-Daten Hoval + Faivre erneuert","2019-12-17","8.3.11","FWS"]
[44,"WP-Daten Vaillant + Meier-Tobler + Weishaupt erneuert","2020-05-26","8.3.12","FWS"]
[45,"WP-Daten erneuert (Datum = Eingang Daten AWEL)","2020-09-03","8.3.13","FWS"]
[46,"WP-Daten erneuert (Datum = Eingang Daten AWEL)","2020-11-03","8.3.14","FWS"]
[47,"Solewasser WP AIT geändert","2020-12-03","8.3.15","FWS"]
[48,"WP-Daten erneuert (CTA,Buderus, Dimplex, Meier Tobler, Elcothem, Faivre)","2021-03-11","8.3.16","FWS"]
[49,"WP-Daten erneuert (Meier Tobler)","2021-03-16","8.3.17","FWS"]
[50,"neu FDS-Distribution und Samsung; Änderungen:Vaillant, Faivre, Weishaupt\n","2021-07-09","8.3.18","FWS"]
[51,"WP-Daten erneuert (AIT, Nibe)","2021-12-20","8.3.19","FWS"]
[52,"neue FDS-Distribution, Viessmann, Dimplex, Hoval","2022-02-08","8.3.20","FWS"]
[53,"neue FDS-Distrubution, CTA, Buderus, Viessmann","2022-04-29","8.3.21","FWS"]
[54,"neue FDS-Distrubution, TCA, Buderus, Alpha Innotec","2022-06-24","8.3.22","FWS"]
[55,"neue FDS-Distrubution, TCA, Buderus, Alpha Innotec","2022-07-15","8.3.23","FWS"]
[56,"Verbessung der Daten der Version ","2022-08-02","8.3.24","FWS"]
[57,"Firmen Elcotherm und Meier Tobler/Dimplex","2022-09-01","8.3.25","FWS"]
[58,"neue FDS-Distribution, COP korrigiert, Heim alte gelöscht, Viessmann div. ergänzt.","2023-01-03","8.3.26","FWS"]
[59,"Korrekturen bei Elcotherm, TCA. TCA-Produkte wie bei Daikin-Hoval.","2023-04-06","8.3.27","FWS"]
[60,"neue Daten von CTC, Heim, Vaillant und FDS.","2023-07-05","8.3.28","FWS"]
[61,"Änderungen von Elco, Dimplex, Meier Tobler, Kibernetik und Faivre ","2023-09-28","8.3.29","FWS"]
[62,"Korrekturen AIT, Viessmann und Faivre sowie neue LG Solexis","2023-12-20","8.3.30","FWS"]
[63,"Bosch-Buderus, CTA, Hoval, HSB und MHG-Schweiz","2024-03-28","8.3.31","FWS"]
[64,"neue Daten von Viessmann, Elco, Stiebel Eltron und Heim","2024-07-05","8.3.32","FWS"]
[65,"Korrigierte Daten von Ochsner, AIT, Strieble Eltron, Iseli, Buderus und Heim","2024-10-15","8.3.33","FWS"]
[null,null,null,"8.3.34"]
[null,null,null,"8.3.35"]
[null,null,null,"8.3.36"]
[null,null,null,"8.3.37"]
[null,null,null,"8.3.38"]
[null,null,null,"8.3.39"]
[null,null,null,"8.3.40"]
[null,null,null,"8.3.41"]
[null,null,null,"8.3.42"]
[null,null,null,"8.3.43"]
[null,null,null,"8.3.44"]
[null,null,null,"8.3.45"]
[null,null,null,"8.3.46"]
[null,null,null,"8.3.47"]

{"sheet":"Summendiagramm","index":14,"n_rows":16,"n_cols":68,"rows_kept":16,"cut":false,"hidden":true,"merged":[]}
[]
[null,null,"Ta",{"$f":"Berechnungen!E6","v":{"$error":"#REF!"}},{"$f":"Berechnungen!F6","v":{"$error":"#REF!"}},{"$f":"Berechnungen!G6","v":{"$error":"#REF!"}},{"$f":"Berechnungen!H6","v":{"$error":"#REF!"}},{"$f":"Berechnungen!I6","v":{"$error":"#REF!"}},{"$f":"Berechnungen!J6","v":{"$error":"#REF!"}},{"$f":"Berechnungen!K6","v":{"$error":"#REF!"}},{"$f":"Berechnungen!L6","v":{"$error":"#REF!"}},{"$f":"Berechnungen!M6","v":{"$error":"#REF!"}},{"$f":"Berechnungen!N6","v":{"$error":"#REF!"}},{"$f":"Berechnungen!O6","v":{"$error":"#REF!"}},{"$f":"Berechnungen!P6","v":{"$error":"#REF!"}},{"$f":"Berechnungen!Q6","v":{"$error":"#REF!"}},{"$f":"Berechnungen!R6","v":{"$error":"#REF!"}},{"$f":"Berechnungen!S6","v":{"$error":"#REF!"}},{"$f":"Berechnungen!T6","v":{"$error":"#REF!"}},{"$f":"Berechnungen!U6","v":{"$error":"#REF!"}},{"$f":"Berechnungen!V6","v":{"$error":"#REF!"}},{"$f":"Berechnungen!W6","v":{"$error":"#REF!"}},{"$f":"Berechnungen!X6","v":{"$error":"#REF!"}},{"$f":"Berechnungen!Y6","v":{"$error":"#REF!"}},{"$f":"Berechnungen!Z6","v":{"$error":"#REF!"}},{"$f":"Berechnungen!AA6","v":{"$error":"#REF!"}},{"$f":"Berechnungen!AB6","v":{"$error":"#REF!"}},{"$f":"Berechnungen!AC6","v":{"$error":"#REF!"}},{"$f":"Berechnungen!AD6","v":{"$error":"#REF!"}},{"$f":"Berechnungen!AE6","v":{"$error":"#REF!"}},{"$f":"Berechnungen!AF6","v":{"$error":"#REF!"}},{"$f":"Berechnungen!AG6","v":{"$error":"#REF!"}},{"$f":"Berechnungen!AH6","v":{"$error":"#REF!"}},{"$f":"Berechnungen!AI6","v":{"$error":"#REF!"}},{"$f":"Berechnungen!AJ6","v":{"$error":"#REF!"}},{"$f":"Berechnungen!AK6","v":{"$error":"#REF!"}},{"$f":"Berechnungen!AL6","v":{"$error":"#REF!"}},{"$f":"Berechnungen!AM6","v":{"$error":"#REF!"}},{"$f":"Berechnungen!AN6","v":{"$error":"#REF!"}},{"$f":"Berechnungen!AO6","v":{"$error":"#REF!"}},{"$f":"Berechnungen!AP6","v":{"$error":"#REF!"}},{"$f":"Berechnungen!AQ6","v":{"$error":"#REF!"}},{"$f":"Berechnungen!AR6","v":{"$error":"#REF!"}},{"$f":"Berechnungen!AS6","v":{"$error":"#REF!"}},{"$f":"Berechnungen!AT6","v":{"$error":"#REF!"}},{"$f":"Berechnungen!AU6","v":{"$error":"#REF!"}},{"$f":"Berechnungen!AV6","v":{"$error":"#REF!"}},{"$f":"Berechnungen!AW6","v":{"$error":"#REF!"}},{"$f":"Berechnungen!AX6","v":{"$error":"#REF!"}},{"$f":"Berechnungen!AY6","v":{"$error":"#REF!"}},{"$f":"Berechnungen!AZ6","v":{"$error":"#REF!"}},{"$f":"Berechnungen!BA6","v":{"$error":"#REF!"}},{"$f":"Berechnungen!BB6","v":{"$error":"#REF!"}},{"$f":"Berechnungen!BC6","v":{"$error":"#REF!"}},{"$f":"Berechnungen!BD6","v":{"$error":"#REF!"}},{"$f":"Berechnungen!BE6","v":{"$error":"#REF!"}},{"$f":"Berechnungen!BF6","v":{"$error":"#REF!"}},{"$f":"Berechnungen!BG6","v":{"$error":"#REF!"}},{"$f":"Berechnungen!BH6","v":{"$error":"#REF!"}},{"$f":"Berechnungen!BI6","v":{"$error":"#REF!"}},{"$f":"Berechnungen!BJ6","v":{"$error":"#REF!"}},{"$f":"Berechnungen!BK6","v":{"$error":"#REF!"}},{"$f":"Berechnungen!BL6","v":{"$error":"#REF!"}},{"$f":"Berechnungen!BM6","v":{"$error":"#REF!"}},{"$f":"Berechnungen!BN6","v":{"$error":"#REF!"}},{"$f":"Berechnungen!BO6","v":{"$error":"#REF!"}},{"$f":"Berechnungen!BP6","v":{"$error":"#REF!"}},{"$f":"Berechnungen!BQ6","v":{"$error":"#REF!"}}]
[null,null,"h",{"$f":"Berechnungen!E7","v":{"$error":"#REF!"}},{"$f":"Berechnungen!F7","v":{"$error":"#REF!"}},{"$f":"Berechnungen!G7","v":{"$error":"#REF!"}},{"$f":"Berechnungen!H7","v":{"$error":"#REF!"}},{"$f":"Berechnungen!I7","v":{"$error":"#REF!"}},{"$f":"Berechnungen!J7","v":{"$error":"#REF!"}},{"$f":"Berechnungen!K7","v":{"$error":"#REF!"}},{"$f":"Berechnungen!L7","v":{"$error":"#REF!"}},{"$f":"Berechnungen!M7","v":{"$error":"#REF!"}},{"$f":"Berechnungen!N7","v":{"$error":"#REF!"}},{"$f":"Berechnungen!O7","v":{"$error":"#REF!"}},{"$f":"Berechnungen!P7","v":{"$error":"#REF!"}},{"$f":"Berechnungen!Q7","v":{"$error":"#REF!"}},{"$f":"Berechnungen!R7","v":{"$error":"#REF!"}},{"$f":"Berechnungen!S7","v":{"$error":"#REF!"}},{"$f":"Berechnungen!T7","v":{"$error":"#REF!"}},{"$f":"Berechnungen!U7","v":{"$error":"#REF!"}},{"$f":"Berechnungen!V7","v":{"$error":"#REF!"}},{"$f":"Berechnungen!W7","v":{"$error":"#REF!"}},{"$f":"Berechnungen!X7","v":{"$error":"#REF!"}},{"$f":"Berechnungen!Y7","v":{"$error":"#REF!"}},{"$f":"Berechnungen!Z7","v":{"$error":"#REF!"}},{"$f":"Berechnungen!AA7","v":{"$error":"#REF!"}},{"$f":"Berechnungen!AB7","v":{"$error":"#REF!"}},{"$f":"Berechnungen!AC7","v":{"$error":"#REF!"}},{"$f":"Berechnungen!AD7","v":{"$error":"#REF!"}},{"$f":"Berechnungen!AE7","v":{"$error":"#REF!"}},{"$f":"Berechnungen!AF7","v":{"$error":"#REF!"}},{"$f":"Berechnungen!AG7","v":{"$error":"#REF!"}},{"$f":"Berechnungen!AH7","v":{"$error":"#REF!"}},{"$f":"Berechnungen!AI7","v":{"$error":"#REF!"}},{"$f":"Berechnungen!AJ7","v":{"$error":"#REF!"}},{"$f":"Berechnungen!AK7","v":{"$error":"#REF!"}},{"$f":"Berechnungen!AL7","v":{"$error":"#REF!"}},{"$f":"Berechnungen!AM7","v":{"$error":"#REF!"}},{"$f":"Berechnungen!AN7","v":{"$error":"#REF!"}},{"$f":"Berechnungen!AO7","v":{"$error":"#REF!"}},{"$f":"Berechnungen!AP7","v":{"$error":"#REF!"}},{"$f":"Berechnungen!AQ7","v":{"$error":"#REF!"}},{"$f":"Berechnungen!AR7","v":{"$error":"#REF!"}},{"$f":"Berechnungen!AS7","v":{"$error":"#REF!"}},{"$f":"Berechnungen!AT7","v":{"$error":"#REF!"}},{"$f":"Berechnungen!AU7","v":{"$error":"#REF!"}},{"$f":"Berechnungen!AV7","v":{"$error":"#REF!"}},{"$f":"Berechnungen!AW7","v":{"$error":"#REF!"}},{"$f":"Berechnungen!AX7","v":{"$error":"#REF!"}},{"$f":"Berechnungen!AY7","v":{"$error":"#REF!"}},{"$f":"Berechnungen!AZ7","v":{"$error":"#REF!"}},{"$f":"Berechnungen!BA7","v":{"$error":"#REF!"}},{"$f":"Berechnungen!BB7","v":{"$error":"#REF!"}},{"$f":"Berechnungen!BC7","v":{"$error":"#REF!"}},{"$f":"Berechnungen!BD7","v":{"$error":"#REF!"}},{"$f":"Berechnungen!BE7","v":{"$error":"#REF!"}},{"$f":"Berechnungen!BF7","v":{"$error":"#REF!"}},{"$f":"Berechnungen!BG7","v":{"$error":"#REF!"}},{"$f":"Berechnungen!BH7","v":{"$error":"#REF!"}},{"$f":"Berechnungen!BI7","v":{"$error":"#REF!"}},{"$f":"Berechnungen!BJ7","v":{"$error":"#REF!"}},{"$f":"Berechnungen!BK7","v":{"$error":"#REF!"}},{"$f":"Berechnungen!BL7","v":{"$error":"#REF!"}},{"$f":"Berechnungen!BM7","v":{"$error":"#REF!"}},{"$f":"Berechnungen!BN7","v":{"$error":"#REF!"}},{"$f":"Berechnungen!BO7","v":{"$error":"#REF!"}},{"$f":"Berechnungen!BP7","v":{"$error":"#REF!"}},{"$f":"Berechnungen!BQ7","v":{"$error":"#REF!"}}]
[{"$f":"SUM(D4:BP4)","v":{"$error":"#REF!"}},null,"Qtot",{"$f":"Berechnungen!E69","v":{"$error":"#REF!"}},{"$f":"Berechnungen!F69","v":{"$error":"#REF!"}},{"$f":"Berechnungen!G69","v":{"$error":"#REF!"}},{"$f":"Berechnungen!H69","v":{"$error":"#REF!"}},{"$f":"Berechnungen!I69","v":{"$error":"#REF!"}},{"$f":"Berechnungen!J69","v":{"$error":"#REF!"}},{"$f":"Berechnungen!K69","v":{"$error":"#REF!"}},{"$f":"Berechnungen!L69","v":{"$error":"#REF!"}},{"$f":"Berechnungen!M69","v":{"$error":"#REF!"}},{"$f":"Berechnungen!N69","v":{"$error":"#REF!"}},{"$f":"Berechnungen!O69","v":{"$error":"#REF!"}},{"$f":"Berechnungen!P69","v":{"$error":"#REF!"}},{"$f":"Berechnungen!Q69","v":{"$error":"#REF!"}},{"$f":"Berechnungen!R69","v":{"$error":"#REF!"}},{"$f":"Berechnungen!S69","v":{"$error":"#REF!"}},{"$f":"Berechnungen!T69","v":{"$error":"#REF!"}},{"$f":"Berechnungen!U69","v":{"$error":"#REF!"}},{"$f":"Berechnungen!V69","v":{"$error":"#REF!"}},{"$f":"Berechnungen!W69","v":{"$error":"#REF!"}},{"$f":"Berechnungen!X69","v":{"$error":"#REF!"}},{"$f":"Berechnungen!Y69","v":{"$error":"#REF!"}},{"$f":"Berechnungen!Z69","v":{"$error":"#REF!"}},{"$f":"Berechnungen!AA69","v":{"$error":"#REF!"}},{"$f":"Berechnungen!AB69","v":{"$error":"#REF!"}},{"$f":"Berechnungen!AC69","v":{"$error":"#REF!"}},{"$f":"Berechnungen!AD69","v":{"$error":"#REF!"}},{"$f":"Berechnungen!AE69","v":{"$error":"#REF!"}},{"$f":"Berechnungen!AF69","v":{"$error":"#REF!"}},{"$f":"Berechnungen!AG69","v":{"$error":"#REF!"}},{"$f":"Berechnungen!AH69","v":{"$error":"#REF!"}},{"$f":"Berechnungen!AI69","v":{"$error":"#REF!"}},{"$f":"Berechnungen!AJ69","v":{"$error":"#REF!"}},{"$f":"Berechnungen!AK69","v":{"$error":"#REF!"}},{"$f":"Berechnungen!AL69","v":{"$error":"#REF!"}},{"$f":"Berechnungen!AM69","v":{"$error":"#REF!"}},{"$f":"Berechnungen!AN69","v":{"$error":"#REF!"}},{"$f":"Berechnungen!AO69","v":{"$error":"#REF!"}},{"$f":"Berechnungen!AP69","v":{"$error":"#REF!"}},{"$f":"Berechnungen!AQ69","v":{"$error":"#REF!"}},{"$f":"Berechnungen!AR69","v":{"$error":"#REF!"}},{"$f":"Berechnungen!AS69","v":{"$error":"#REF!"}},{"$f":"Berechnungen!AT69","v":{"$error":"#REF!"}},{"$f":"Berechnungen!AU69","v":{"$error":"#REF!"}},{"$f":"Berechnungen!AV69","v":{"$error":"#REF!"}},{"$f":"Berechnungen!AW69","v":{"$error":"#REF!"}},{"$f":"Berechnungen!AX69","v":{"$error":"#REF!"}},{"$f":"Berechnungen!AY69","v":{"$error":"#REF!"}},{"$f":"Berechnungen!AZ69","v":{"$error":"#REF!"}},{"$f":"Berechnungen!BA69","v":{"$error":"#REF!"}},{"$f":"Berechnungen!BB69","v":{"$error":"#REF!"}},{"$f":"Berechnungen!BC69","v":{"$error":"#REF!"}},{"$f":"Berechnungen!BD69","v":{"$error":"#REF!"}},{"$f":"Berechnungen!BE69","v":{"$error":"#REF!"}},{"$f":"Berechnungen!BF69","v":{"$error":"#REF!"}},{"$f":"Berechnungen!BG69","v":{"$error":"#REF!"}},{"$f":"Berechnungen!BH69","v":{"$error":"#REF!"}},{"$f":"Berechnungen!BI69","v":{"$error":"#REF!"}},{"$f":"Berechnungen!BJ69","v":{"$error":"#REF!"}},{"$f":"Berechnungen!BK69","v":{"$error":"#REF!"}},{"$f":"Berechnungen!BL69","v":{"$error":"#REF!"}},{"$f":"Berechnungen!BM69","v":{"$error":"#REF!"}},{"$f":"Berechnungen!BN69","v":{"$error":"#REF!"}},{"$f":"Berechnungen!BO69","v":{"$error":"#REF!"}},{"$f":"Berechnungen!BP69","v":{"$error":"#REF!"}},{"$f":"Berechnungen!BQ69","v":{"$error":"#REF!"}}]
[{"$f":"SUM(D5:BP5)","v":{"$error":"#REF!"}},null,"Qtot-Qug, ev",{"$f":"Berechnungen!E77","v":{"$error":"#REF!"}},{"$f":"Berechnungen!F77","v":{"$error":"#REF!"}},{"$f":"Berechnungen!G77","v":{"$error":"#REF!"}},{"$f":"Berechnungen!H77","v":{"$error":"#REF!"}},{"$f":"Berechnungen!I77","v":{"$error":"#REF!"}},{"$f":"Berechnungen!J77","v":{"$error":"#REF!"}},{"$f":"Berechnungen!K77","v":{"$error":"#REF!"}},{"$f":"Berechnungen!L77","v":{"$error":"#REF!"}},{"$f":"Berechnungen!M77","v":{"$error":"#REF!"}},{"$f":"Berechnungen!N77","v":{"$error":"#REF!"}},{"$f":"Berechnungen!O77","v":{"$error":"#REF!"}},{"$f":"Berechnungen!P77","v":{"$error":"#REF!"}},{"$f":"Berechnungen!Q77","v":{"$error":"#REF!"}},{"$f":"Berechnungen!R77","v":{"$error":"#REF!"}},{"$f":"Berechnungen!S77","v":{"$error":"#REF!"}},{"$f":"Berechnungen!T77","v":{"$error":"#REF!"}},{"$f":"Berechnungen!U77","v":{"$error":"#REF!"}},{"$f":"Berechnungen!V77","v":{"$error":"#REF!"}},{"$f":"Berechnungen!W77","v":{"$error":"#REF!"}},{"$f":"Berechnungen!X77","v":{"$error":"#REF!"}},{"$f":"Berechnungen!Y77","v":{"$error":"#REF!"}},{"$f":"Berechnungen!Z77","v":{"$error":"#REF!"}},{"$f":"Berechnungen!AA77","v":{"$error":"#REF!"}},{"$f":"Berechnungen!AB77","v":{"$error":"#REF!"}},{"$f":"Berechnungen!AC77","v":{"$error":"#REF!"}},{"$f":"Berechnungen!AD77","v":{"$error":"#REF!"}},{"$f":"Berechnungen!AE77","v":{"$error":"#REF!"}},{"$f":"Berechnungen!AF77","v":{"$error":"#REF!"}},{"$f":"Berechnungen!AG77","v":{"$error":"#REF!"}},{"$f":"Berechnungen!AH77","v":{"$error":"#REF!"}},{"$f":"Berechnungen!AI77","v":{"$error":"#REF!"}},{"$f":"Berechnungen!AJ77","v":{"$error":"#REF!"}},{"$f":"Berechnungen!AK77","v":{"$error":"#REF!"}},{"$f":"Berechnungen!AL77","v":{"$error":"#REF!"}},{"$f":"Berechnungen!AM77","v":{"$error":"#REF!"}},{"$f":"Berechnungen!AN77","v":{"$error":"#REF!"}},{"$f":"Berechnungen!AO77","v":{"$error":"#REF!"}},{"$f":"Berechnungen!AP77","v":{"$error":"#REF!"}},{"$f":"Berechnungen!AQ77","v":{"$error":"#REF!"}},{"$f":"Berechnungen!AR77","v":{"$error":"#REF!"}},{"$f":"Berechnungen!AS77","v":{"$error":"#REF!"}},{"$f":"Berechnungen!AT77","v":{"$error":"#REF!"}},{"$f":"Berechnungen!AU77","v":{"$error":"#REF!"}},{"$f":"Berechnungen!AV77","v":{"$error":"#REF!"}},{"$f":"Berechnungen!AW77","v":{"$error":"#REF!"}},{"$f":"Berechnungen!AX77","v":{"$error":"#REF!"}},{"$f":"Berechnungen!AY77","v":{"$error":"#REF!"}},{"$f":"Berechnungen!AZ77","v":{"$error":"#REF!"}},{"$f":"Berechnungen!BA77","v":{"$error":"#REF!"}},{"$f":"Berechnungen!BB77","v":{"$error":"#REF!"}},{"$f":"Berechnungen!BC77","v":{"$error":"#REF!"}},{"$f":"Berechnungen!BD77","v":{"$error":"#REF!"}},{"$f":"Berechnungen!BE77","v":{"$error":"#REF!"}},{"$f":"Berechnungen!BF77","v":{"$error":"#REF!"}},{"$f":"Berechnungen!BG77","v":{"$error":"#REF!"}},{"$f":"Berechnungen!BH77","v":{"$error":"#REF!"}},{"$f":"Berechnungen!BI77","v":{"$error":"#REF!"}},{"$f":"Berechnungen!BJ77","v":{"$error":"#REF!"}},{"$f":"Berechnungen!BK77","v":{"$error":"#REF!"}},{"$f":"Berechnungen!BL77","v":{"$error":"#REF!"}},{"$f":"Berechnungen!BM77","v":{"$error":"#REF!"}},{"$f":"Berechnungen!BN77","v":{"$error":"#REF!"}},{"$f":"Berechnungen!BO77","v":{"$error":"#REF!"}},{"$f":"Berechnungen!BP77","v":{"$error":"#REF!"}},{"$f":"Berechnungen!BQ77","v":{"$error":"#REF!"}}]
[{"$f":"SUM(D6:BP6)","v":{"$error":"#REF!"}},"kWh","QH",{"$f":"Berechnungen!E75","v":{"$error":"#REF!"}},{"$f":"Berechnungen!F75","v":{"$error":"#REF!"}},{"$f":"Berechnungen!G75","v":{"$error":"#REF!"}},{"$f":"Berechnungen!H75","v":{"$error":"#REF!"}},{"$f":"Berechnungen!I75","v":{"$error":"#REF!"}},{"$f":"Berechnungen!J75","v":{"$error":"#REF!"}},{"$f":"Berechnungen!K75","v":{"$error":"#REF!"}},{"$f":"Berechnungen!L75","v":{"$error":"#REF!"}},{"$f":"Berechnungen!M75","v":{"$error":"#REF!"}},{"$f":"Berechnungen!N75","v":{"$error":"#REF!"}},{"$f":"Berechnungen!O75","v":{"$error":"#REF!"}},{"$f":"Berechnungen!P75","v":{"$error":"#REF!"}},{"$f":"Berechnungen!Q75","v":{"$error":"#REF!"}},{"$f":"Berechnungen!R75","v":{"$error":"#REF!"}},{"$f":"Berechnungen!S75","v":{"$error":"#REF!"}},{"$f":"Berechnungen!T75","v":{"$error":"#REF!"}},{"$f":"Berechnungen!U75","v":{"$error":"#REF!"}},{"$f":"Berechnungen!V75","v":{"$error":"#REF!"}},{"$f":"Berechnungen!W75","v":{"$error":"#REF!"}},{"$f":"Berechnungen!X75","v":{"$error":"#REF!"}},{"$f":"Berechnungen!Y75","v":{"$error":"#REF!"}},{"$f":"Berechnungen!Z75","v":{"$error":"#REF!"}},{"$f":"Berechnungen!AA75","v":{"$error":"#REF!"}},{"$f":"Berechnungen!AB75","v":{"$error":"#REF!"}},{"$f":"Berechnungen!AC75","v":{"$error":"#REF!"}},{"$f":"Berechnungen!AD75","v":{"$error":"#REF!"}},{"$f":"Berechnungen!AE75","v":{"$error":"#REF!"}},{"$f":"Berechnungen!AF75","v":{"$error":"#REF!"}},{"$f":"Berechnungen!AG75","v":{"$error":"#REF!"}},{"$f":"Berechnungen!AH75","v":{"$error":"#REF!"}},{"$f":"Berechnungen!AI75","v":{"$error":"#REF!"}},{"$f":"Berechnungen!AJ75","v":{"$error":"#REF!"}},{"$f":"Berechnungen!AK75","v":{"$error":"#REF!"}},{"$f":"Berechnungen!AL75","v":{"$error":"#REF!"}},{"$f":"Berechnungen!AM75","v":{"$error":"#REF!"}},{"$f":"Berechnungen!AN75","v":{"$error":"#REF!"}},{"$f":"Berechnungen!AO75","v":{"$error":"#REF!"}},{"$f":"Berechnungen!AP75","v":{"$error":"#REF!"}},{"$f":"Berechnungen!AQ75","v":{"$error":"#REF!"}},{"$f":"Berechnungen!AR75","v":{"$error":"#REF!"}},{"$f":"Berechnungen!AS75","v":{"$error":"#REF!"}},{"$f":"Berechnungen!AT75","v":{"$error":"#REF!"}},{"$f":"Berechnungen!AU75","v":{"$error":"#REF!"}},{"$f":"Berechnungen!AV75","v":{"$error":"#REF!"}},{"$f":"Berechnungen!AW75","v":{"$error":"#REF!"}},{"$f":"Berechnungen!AX75","v":{"$error":"#REF!"}},{"$f":"Berechnungen!AY75","v":{"$error":"#REF!"}},{"$f":"Berechnungen!AZ75","v":{"$error":"#REF!"}},{"$f":"Berechnungen!BA75","v":{"$error":"#REF!"}},{"$f":"Berechnungen!BB75","v":{"$error":"#REF!"}},{"$f":"Berechnungen!BC75","v":{"$error":"#REF!"}},{"$f":"Berechnungen!BD75","v":{"$error":"#REF!"}},{"$f":"Berechnungen!BE75","v":{"$error":"#REF!"}},{"$f":"Berechnungen!BF75","v":{"$error":"#REF!"}},{"$f":"Berechnungen!BG75","v":{"$error":"#REF!"}},{"$f":"Berechnungen!BH75","v":{"$error":"#REF!"}},{"$f":"Berechnungen!BI75","v":{"$error":"#REF!"}},{"$f":"Berechnungen!BJ75","v":{"$error":"#REF!"}},{"$f":"Berechnungen!BK75","v":{"$error":"#REF!"}},{"$f":"Berechnungen!BL75","v":{"$error":"#REF!"}},{"$f":"Berechnungen!BM75","v":{"$error":"#REF!"}},{"$f":"Berechnungen!BN75","v":{"$error":"#REF!"}},{"$f":"Berechnungen!BO75","v":{"$error":"#REF!"}},{"$f":"Berechnungen!BP75","v":{"$error":"#REF!"}},{"$f":"Berechnungen!BQ75","v":{"$error":"#REF!"}}]
[null,null,"tPtot",{"$f":"(D4>0)*D3","v":{"$error":"#REF!"}},{"$f":"(E4>0)*E3","v":{"$error":"#REF!"}},{"$error":"#REF!"},{"$error":"#REF!"},{"$error":"#REF!"},{"$error":"#REF!"},{"$error":"#REF!"},{"$error":"#REF!"},{"$error":"#REF!"},{"$error":"#REF!"},{"$error":"#REF!"},{"$error":"#REF!"},{"$error":"#REF!"},{"$error":"#REF!"},{"$error":"#REF!"},{"$error":"#REF!"},{"$error":"#REF!"},{"$error":"#REF!"},{"$error":"#REF!"},{"$error":"#REF!"},{"$error":"#REF!"},{"$error":"#REF!"},{"$error":"#REF!"},{"$error":"#REF!"},{"$error":"#REF!"},{"$error":"#REF!"},{"$error":"#REF!"},{"$error":"#REF!"},{"$error":"#REF!"},{"$error":"#REF!"},{"$error":"#REF!"},{"$error":"#REF!"},{"$error":"#REF!"},{"$error":"#REF!"},{"$error":"#REF!"},{"$error":"#REF!"},{"$error":"#REF!"},{"$error":"#REF!"},{"$error":"#REF!"},{"$error":"#REF!"},{"$error":"#REF!"},{"$error":"#REF!"},{"$error":"#REF!"},{"$error":"#REF!"},{"$error":"#REF!"},{"$error":"#REF!"},{"$error":"#REF!"},{"$error":"#REF!"},{"$error":"#REF!"},{"$error":"#REF!"},{"$error":"#REF!"},{"$error":"#REF!"},{"$error":"#REF!"},{"$error":"#REF!"},{"$error":"#REF!"},{"$error":"#REF!"},{"$error":"#REF!"},{"$error":"#REF!"},{"$error":"#REF!"},{"$error":"#REF!"},{"$error":"#REF!"},{"$error":"#REF!"},{"$error":"#REF!"},{"$error":"#REF!"},{"$error":"#REF!"}]
[null,null,"tPtot Summe",{"$f":"D7","v":{"$error":"#REF!"}},{"$f":"D8+E7","v":{"$error":"#REF!"}},{"$f":"E8+F7","v":{"$error":"#REF!"}},{"$error":"#REF!"},{"$error":"#REF!"},{"$error":"#REF!"},{"$error":"#REF!"},{"$error":"#REF!"},{"$error":"#REF!"},{"$error":"#REF!"},{"$error":"#REF!"},{"$error":"#REF!"},{"$error":"#REF!"},{"$error":"#REF!"},{"$error":"#REF!"},{"$error":"#REF!"},{"$error":"#REF!"},{"$error":"#REF!"},{"$error":"#REF!"},{"$error":"#REF!"},{"$error":"#REF!"},{"$error":"#REF!"},{"$error":"#REF!"},{"$error":"#REF!"},{"$error":"#REF!"},{"$error":"#REF!"},{"$error":"#REF!"},{"$error":"#REF!"},{"$error":"#REF!"},{"$error":"#REF!"},{"$error":"#REF!"},{"$error":"#REF!"},{"$error":"#REF!"},{"$error":"#REF!"},{"$error":"#REF!"},{"$error":"#REF!"},{"$error":"#REF!"},{"$error":"#REF!"},{"$error":"#REF!"},{"$error":"#REF!"},{"$error":"#REF!"},{"$error":"#REF!"},{"$error":"#REF!"},{"$error":"#REF!"},{"$error":"#REF!"},{"$error":"#REF!"},{"$error":"#REF!"},{"$error":"#REF!"},{"$error":"#REF!"},{"$error":"#REF!"},{"$error":"#REF!"},{"$error":"#REF!"},{"$error":"#REF!"},{"$error":"#REF!"},{"$error":"#REF!"},{"$error":"#REF!"},{"$error":"#REF!"},{"$error":"#REF!"},{"$error":"#REF!"},{"$error":"#REF!"},{"$error":"#REF!"},{"$error":"#REF!"},{"$error":"#REF!"},{"$error":"#REF!"},{"$error":"#REF!"}]
[null,null,"Ptot",{"$f":"IF(D4>0,D4/D3,0)","v":{"$error":"#REF!"}},{"$f":"IF(E4>0,E4/E3,0)","v":{"$error":"#REF!"}},{"$error":"#REF!"},{"$error":"#REF!"},{"$error":"#REF!"},{"$error":"#REF!"},{"$error":"#REF!"},{"$error":"#REF!"},{"$error":"#REF!"},{"$error":"#REF!"},{"$error":"#REF!"},{"$error":"#REF!"},{"$error":"#REF!"},{"$error":"#REF!"},{"$error":"#REF!"},{"$error":"#REF!"},{"$error":"#REF!"},{"$error":"#REF!"},{"$error":"#REF!"},{"$error":"#REF!"},{"$error":"#REF!"},{"$error":"#REF!"},{"$error":"#REF!"},{"$error":"#REF!"},{"$error":"#REF!"},{"$error":"#REF!"},{"$error":"#REF!"},{"$error":"#REF!"},{"$error":"#REF!"},{"$error":"#REF!"},{"$error":"#REF!"},{"$error":"#REF!"},{"$error":"#REF!"},{"$error":"#REF!"},{"$error":"#REF!"},{"$error":"#REF!"},{"$error":"#REF!"},{"$error":"#REF!"},{"$error":"#REF!"},{"$error":"#REF!"},{"$error":"#REF!"},{"$error":"#REF!"},{"$error":"#REF!"},{"$error":"#REF!"},{"$error":"#REF!"},{"$error":"#REF!"},{"$error":"#REF!"},{"$error":"#REF!"},{"$error":"#REF!"},{"$error":"#REF!"},{"$error":"#REF!"},{"$error":"#REF!"},{"$error":"#REF!"},{"$error":"#REF!"},{"$error":"#REF!"},{"$error":"#REF!"},{"$error":"#REF!"},{"$error":"#REF!"},{"$error":"#REF!"},{"$error":"#REF!"},{"$error":"#REF!"},{"$error":"#REF!"},{"$error":"#REF!"},{"$error":"#REF!"},{"$error":"#REF!"}]
[null,null,"Ptot - Pug,ev",{"$f":"IF(D5>0,D5/D3,0)","v":{"$error":"#REF!"}},{"$f":"IF(E5>0,E5/E3,0)","v":{"$error":"#REF!"}},{"$error":"#REF!"},{"$error":"#REF!"},{"$error":"#REF!"},{"$error":"#REF!"},{"$error":"#REF!"},{"$error":"#REF!"},{"$error":"#REF!"},{"$error":"#REF!"},{"$error":"#REF!"},{"$error":"#REF!"},{"$error":"#REF!"},{"$error":"#REF!"},{"$error":"#REF!"},{"$error":"#REF!"},{"$error":"#REF!"},{"$error":"#REF!"},{"$error":"#REF!"},{"$error":"#REF!"},{"$error":"#REF!"},{"$error":"#REF!"},{"$error":"#REF!"},{"$error":"#REF!"},{"$error":"#REF!"},{"$error":"#REF!"},{"$error":"#REF!"},{"$error":"#REF!"},{"$error":"#REF!"},{"$error":"#REF!"},{"$error":"#REF!"},{"$error":"#REF!"},{"$error":"#REF!"},{"$error":"#REF!"},{"$error":"#REF!"},{"$error":"#REF!"},{"$error":"#REF!"},{"$error":"#REF!"},{"$error":"#REF!"},{"$error":"#REF!"},{"$error":"#REF!"},{"$error":"#REF!"},{"$error":"#REF!"},{"$error":"#REF!"},{"$error":"#REF!"},{"$error":"#REF!"},{"$error":"#REF!"},{"$error":"#REF!"},{"$error":"#REF!"},{"$error":"#REF!"},{"$error":"#REF!"},{"$error":"#REF!"},{"$error":"#REF!"},{"$error":"#REF!"},{"$error":"#REF!"},{"$error":"#REF!"},{"$error":"#REF!"},{"$error":"#REF!"},{"$error":"#REF!"},{"$error":"#REF!"},{"$error":"#REF!"},{"$error":"#REF!"},{"$error":"#REF!"},{"$error":"#REF!"},{"$error":"#REF!"}]
[null,"h","tPH",{"$f":"Berechnungen!E81","v":{"$error":"#REF!"}},{"$f":"Berechnungen!F81","v":{"$error":"#REF!"}},{"$f":"Berechnungen!G81","v":{"$error":"#REF!"}},{"$f":"Berechnungen!H81","v":{"$error":"#REF!"}},{"$f":"Berechnungen!I81","v":{"$error":"#REF!"}},{"$f":"Berechnungen!J81","v":{"$error":"#REF!"}},{"$f":"Berechnungen!K81","v":{"$error":"#REF!"}},{"$f":"Berechnungen!L81","v":{"$error":"#REF!"}},{"$f":"Berechnungen!M81","v":{"$error":"#REF!"}},{"$f":"Berechnungen!N81","v":{"$error":"#REF!"}},{"$f":"Berechnungen!O81","v":{"$error":"#REF!"}},{"$f":"Berechnungen!P81","v":{"$error":"#REF!"}},{"$f":"Berechnungen!Q81","v":{"$error":"#REF!"}},{"$f":"Berechnungen!R81","v":{"$error":"#REF!"}},{"$f":"Berechnungen!S81","v":{"$error":"#REF!"}},{"$f":"Berechnungen!T81","v":{"$error":"#REF!"}},{"$f":"Berechnungen!U81","v":{"$error":"#REF!"}},{"$f":"Berechnungen!V81","v":{"$error":"#REF!"}},{"$f":"Berechnungen!W81","v":{"$error":"#REF!"}},{"$f":"Berechnungen!X81","v":{"$error":"#REF!"}},{"$f":"Berechnungen!Y81","v":{"$error":"#REF!"}},{"$f":"Berechnungen!Z81","v":{"$error":"#REF!"}},{"$f":"Berechnungen!AA81","v":{"$error":"#REF!"}},{"$f":"Berechnungen!AB81","v":{"$error":"#REF!"}},{"$f":"Berechnungen!AC81","v":{"$error":"#REF!"}},{"$f":"Berechnungen!AD81","v":{"$error":"#REF!"}},{"$f":"Berechnungen!AE81","v":{"$error":"#REF!"}},{"$f":"Berechnungen!AF81","v":{"$error":"#REF!"}},{"$f":"Berechnungen!AG81","v":{"$error":"#REF!"}},{"$f":"Berechnungen!AH81","v":{"$error":"#REF!"}},{"$f":"Berechnungen!AI81","v":{"$error":"#REF!"}},{"$f":"Berechnungen!AJ81","v":{"$error":"#REF!"}},{"$f":"Berechnungen!AK81","v":{"$error":"#REF!"}},{"$f":"Berechnungen!AL81","v":{"$error":"#REF!"}},{"$f":"Berechnungen!AM81","v":{"$error":"#REF!"}},{"$f":"Berechnungen!AN81","v":{"$error":"#REF!"}},{"$f":"Berechnungen!AO81","v":{"$error":"#REF!"}},{"$f":"Berechnungen!AP81","v":{"$error":"#REF!"}},{"$f":"Berechnungen!AQ81","v":{"$error":"#REF!"}},{"$f":"Berechnungen!AR81","v":{"$error":"#REF!"}},{"$f":"Berechnungen!AS81","v":{"$error":"#REF!"}},{"$f":"Berechnungen!AT81","v":{"$error":"#REF!"}},{"$f":"Berechnungen!AU81","v":{"$error":"#REF!"}},{"$f":"Berechnungen!AV81","v":{"$error":"#REF!"}},{"$f":"Berechnungen!AW81","v":{"$error":"#REF!"}},{"$f":"Berechnungen!AX81","v":{"$error":"#REF!"}},{"$f":"Berechnungen!AY81","v":{"$error":"#REF!"}},{"$f":"Berechnungen!AZ81","v":{"$error":"#REF!"}},{"$f":"Berechnungen!BA81","v":{"$error":"#REF!"}},{"$f":"Berechnungen!BB81","v":{"$error":"#REF!"}},{"$f":"Berechnungen!BC81","v":{"$error":"#REF!"}},{"$f":"Berechnungen!BD81","v":{"$error":"#REF!"}},{"$f":"Berechnungen!BE81","v":{"$error":"#REF!"}},{"$f":"Berechnungen!BF81","v":{"$error":"#REF!"}},{"$f":"Berechnungen!BG81","v":{"$error":"#REF!"}},{"$f":"Berechnungen!BH81","v":{"$error":"#REF!"}},{"$f":"Berechnungen!BI81","v":{"$error":"#REF!"}},{"$f":"Berechnungen!BJ81","v":{"$error":"#REF!"}},{"$f":"Berechnungen!BK81","v":{"$error":"#REF!"}},{"$f":"Berechnungen!BL81","v":{"$error":"#REF!"}},{"$f":"Berechnungen!BM81","v":{"$error":"#REF!"}},{"$f":"Berechnungen!BN81","v":{"$error":"#REF!"}},{"$f":"Berechnungen!BO81","v":{"$error":"#REF!"}},{"$f":"Berechnungen!BP81","v":{"$error":"#REF!"}},{"$f":"Berechnungen!BQ81","v":{"$error":"#REF!"}}]
[null,null,"tPH Summe",{"$f":"D11","v":{"$error":"#REF!"}},{"$f":"D12+E11","v":{"$error":"#REF!"}},{"$f":"E12+F11","v":{"$error":"#REF!"}},{"$error":"#REF!"},{"$error":"#REF!"},{"$error":"#REF!"},{"$error":"#REF!"},{"$error":"#REF!"},{"$error":"#REF!"},{"$error":"#REF!"},{"$error":"#REF!"},{"$error":"#REF!"},{"$error":"#REF!"},{"$error":"#REF!"},{"$error":"#REF!"},{"$error":"#REF!"},{"$error":"#REF!"},{"$error":"#REF!"},{"$error":"#REF!"},{"$error":"#REF!"},{"$error":"#REF!"},{"$error":"#REF!"},{"$error":"#REF!"},{"$error":"#REF!"},{"$error":"#REF!"},{"$error":"#REF!"},{"$error":"#REF!"},{"$f":"AD12+AE11","v":{"$error":"#REF!"}},{"$error":"#REF!"},{"$error":"#REF!"},{"$error":"#REF!"},{"$error":"#REF!"},{"$error":"#REF!"},{"$error":"#REF!"},{"$error":"#REF!"},{"$error":"#REF!"},{"$error":"#REF!"},{"$error":"#REF!"},{"$error":"#REF!"},{"$error":"#REF!"},{"$error":"#REF!"},{"$error":"#REF!"},{"$error":"#REF!"},{"$error":"#REF!"},{"$error":"#REF!"},{"$error":"#REF!"},{"$error":"#REF!"},{"$error":"#REF!"},{"$error":"#REF!"},{"$error":"#REF!"},{"$error":"#REF!"},{"$error":"#REF!"},{"$error":"#REF!"},{"$error":"#REF!"},{"$error":"#REF!"},{"$error":"#REF!"},{"$error":"#REF!"},{"$error":"#REF!"},{"$error":"#REF!"},{"$error":"#REF!"},{"$error":"#REF!"},{"$error":"#REF!"},{"$error":"#REF!"},{"$error":"#REF!"},{"$error":"#REF!"}]
[null,"kW","PH",{"$f":"Berechnungen!E79","v":{"$error":"#REF!"}},{"$f":"Berechnungen!F79","v":{"$error":"#REF!"}},{"$f":"Berechnungen!G79","v":{"$error":"#REF!"}},{"$f":"Berechnungen!H79","v":{"$error":"#REF!"}},{"$f":"Berechnungen!I79","v":{"$error":"#REF!"}},{"$f":"Berechnungen!J79","v":{"$error":"#REF!"}},{"$f":"Berechnungen!K79","v":{"$error":"#REF!"}},{"$f":"Berechnungen!L79","v":{"$error":"#REF!"}},{"$f":"Berechnungen!M79","v":{"$error":"#REF!"}},{"$f":"Berechnungen!N79","v":{"$error":"#REF!"}},{"$f":"Berechnungen!O79","v":{"$error":"#REF!"}},{"$f":"Berechnungen!P79","v":{"$error":"#REF!"}},{"$f":"Berechnungen!Q79","v":{"$error":"#REF!"}},{"$f":"Berechnungen!R79","v":{"$error":"#REF!"}},{"$f":"Berechnungen!S79","v":{"$error":"#REF!"}},{"$f":"Berechnungen!T79","v":{"$error":"#REF!"}},{"$f":"Berechnungen!U79","v":{"$error":"#REF!"}},{"$f":"Berechnungen!V79","v":{"$error":"#REF!"}},{"$f":"Berechnungen!W79","v":{"$error":"#REF!"}},{"$f":"Berechnungen!X79","v":{"$error":"#REF!"}},{"$f":"Berechnungen!Y79","v":{"$error":"#REF!"}},{"$f":"Berechnungen!Z79","v":{"$error":"#REF!"}},{"$f":"Berechnungen!AA79","v":{"$error":"#REF!"}},{"$f":"Berechnungen!AB79","v":{"$error":"#REF!"}},{"$f":"Berechnungen!AC79","v":{"$error":"#REF!"}},{"$f":"Berechnungen!AD79","v":{"$error":"#REF!"}},{"$f":"Berechnungen!AE79","v":{"$error":"#REF!"}},{"$f":"Berechnungen!AF79","v":{"$error":"#REF!"}},{"$f":"Berechnungen!AG79","v":{"$error":"#REF!"}},{"$f":"Berechnungen!AH79","v":{"$error":"#REF!"}},{"$f":"Berechnungen!AI79","v":{"$error":"#REF!"}},{"$f":"Berechnungen!AJ79","v":{"$error":"#REF!"}},{"$f":"Berechnungen!AK79","v":{"$error":"#REF!"}},{"$f":"Berechnungen!AL79","v":{"$error":"#REF!"}},{"$f":"Berechnungen!AM79","v":{"$error":"#REF!"}},{"$f":"Berechnungen!AN79","v":{"$error":"#REF!"}},{"$f":"Berechnungen!AO79","v":{"$error":"#REF!"}},{"$f":"Berechnungen!AP79","v":{"$error":"#REF!"}},{"$f":"Berechnungen!AQ79","v":{"$error":"#REF!"}},{"$f":"Berechnungen!AR79","v":{"$error":"#REF!"}},{"$f":"Berechnungen!AS79","v":{"$error":"#REF!"}},{"$f":"Berechnungen!AT79","v":{"$error":"#REF!"}},{"$f":"Berechnungen!AU79","v":{"$error":"#REF!"}},{"$f":"Berechnungen!AV79","v":{"$error":"#REF!"}},{"$f":"Berechnungen!AW79","v":{"$error":"#REF!"}},{"$f":"Berechnungen!AX79","v":{"$error":"#REF!"}},{"$f":"Berechnungen!AY79","v":{"$error":"#REF!"}},{"$f":"Berechnungen!AZ79","v":{"$error":"#REF!"}},{"$f":"Berechnungen!BA79","v":{"$error":"#REF!"}},{"$f":"Berechnungen!BB79","v":{"$error":"#REF!"}},{"$f":"Berechnungen!BC79","v":{"$error":"#REF!"}},{"$f":"Berechnungen!BD79","v":{"$error":"#REF!"}},{"$f":"Berechnungen!BE79","v":{"$error":"#REF!"}},{"$f":"Berechnungen!BF79","v":{"$error":"#REF!"}},{"$f":"Berechnungen!BG79","v":{"$error":"#REF!"}},{"$f":"Berechnungen!BH79","v":{"$error":"#REF!"}},{"$f":"Berechnungen!BI79","v":{"$error":"#REF!"}},{"$f":"Berechnungen!BJ79","v":{"$error":"#REF!"}},{"$f":"Berechnungen!BK79","v":{"$error":"#REF!"}},{"$f":"Berechnungen!BL79","v":{"$error":"#REF!"}},{"$f":"Berechnungen!BM79","v":{"$error":"#REF!"}},{"$f":"Berechnungen!BN79","v":{"$error":"#REF!"}},{"$f":"Berechnungen!BO79","v":{"$error":"#REF!"}},{"$f":"Berechnungen!BP79","v":{"$error":"#REF!"}},{"$f":"Berechnungen!BQ79","v":{"$error":"#REF!"}}]
[]
[]
[{"$f":"SUM(D16:BP16)","v":{"$error":"#REF!"}},null,"Ph* tPh",{"$f":"D13*D11","v":{"$error":"#REF!"}},{"$f":"E13*E11","v":{"$error":"#REF!"}},{"$error":"#REF!"},{"$error":"#REF!"},{"$error":"#REF!"},{"$error":"#REF!"},{"$error":"#REF!"},{"$error":"#REF!"},{"$error":"#REF!"},{"$error":"#REF!"},{"$error":"#REF!"},{"$error":"#REF!"},{"$error":"#REF!"},{"$error":"#REF!"},{"$error":"#REF!"},{"$error":"#REF!"},{"$error":"#REF!"},{"$error":"#REF!"},{"$error":"#REF!"},{"$error":"#REF!"},{"$error":"#REF!"},{"$error":"#REF!"},{"$error":"#REF!"},{"$error":"#REF!"},{"$error":"#REF!"},{"$error":"#REF!"},{"$error":"#REF!"},{"$error":"#REF!"},{"$error":"#REF!"},{"$error":"#REF!"},{"$error":"#REF!"},{"$error":"#REF!"},{"$error":"#REF!"},{"$error":"#REF!"},{"$error":"#REF!"},{"$error":"#REF!"},{"$error":"#REF!"},{"$error":"#REF!"},{"$error":"#REF!"},{"$error":"#REF!"},{"$error":"#REF!"},{"$error":"#REF!"},{"$error":"#REF!"},{"$error":"#REF!"},{"$error":"#REF!"},{"$error":"#REF!"},{"$error":"#REF!"},{"$error":"#REF!"},{"$error":"#REF!"},{"$error":"#REF!"},{"$error":"#REF!"},{"$error":"#REF!"},{"$error":"#REF!"},{"$error":"#REF!"},{"$error":"#REF!"},{"$error":"#REF!"},{"$error":"#REF!"},{"$error":"#REF!"},{"$error":"#REF!"},{"$error":"#REF!"},{"$error":"#REF!"},{"$error":"#REF!"},{"$error":"#REF!"},{"$error":"#REF!"},{"$error":"#REF!"}]